{"text_format":"1","workbook":"xlsx","n_sheets":5,"sheets":["Notes","Regional Summary","STP","Practices","BS"],"not_rendered":{"charts":0,"images":0,"macros":1,"external_links":1,"defined_names":14,"comments":0,"pivot_tables":0},"unopened":[],"bounds":{"document_bytes":16777216,"sheet_cells":100000,"rows_first":2000,"rows_last":500,"rows_between":2000,"halvings":0,"cell_chars":16384,"cell_head_chars":4096},"cells_cut":0,"cells_raw":0,"read":"whole","date_system":"1900"}

{"sheet":"Notes","index":0,"n_rows":2,"n_cols":9,"rows_kept":2,"cut":false,"hidden":false,"merged":[]}
[]
["Dental Friends and Family Test (FFT) data - November 2021",null,null,null,null,null,null,null,"   Show data for:"]

{"sheet":"Regional Summary","index":1,"n_rows":16,"n_cols":12,"rows_kept":16,"cut":false,"hidden":false,"merged":[[3,1,4,1],[3,2,3,9]]}
[]
[]
[]
[null,"Dental FFT","2021-11-01",null,null,null,null,null,null,null,null,"2021-10-31"]
[null,null,"England","London (Y56)","North East & Yorkshire (Y63)","North West (Y62)","Midlands (Y60)","East of England (Y61)","South West\n(Y58)","South East\n(Y59)",null,"England"]
[null,"Practices submitting",2010,251,317,281,476,208,152,325,null,1939]
[null,"Practices expected to submit",6993,1174,1016,933,1253,746,652,1219,null,7040]
[null,"Percentage Recommend",0.96753321779318313,0.9744287268770403,0.96355775169857938,0.97242444297374808,0.96510011123470518,0.96107226107226107,0.94506048387096775,0.97536,null,0.96529734080425966]
[null,"Percentage Not Recommend",9.5320623916811086E-3,5.4406964091403701E-3,1.1529750875025736E-2,4.8532980366203394E-3,1.7519466073414907E-2,7.4592074592074592E-3,1.1592741935483871E-2,6.5599999999999999E-3,null,1.1949354549113085E-2]
[null,"Total Responses",34620,5514,4857,4533,7192,4290,1984,6250,null,32303]
[null,"Of practices that submitted data"]
[null,"Practices whose data has been suppressed due to low numbers",405,36,76,62,114,38,24,55,null,379]
[]
[null,"Number of invalid Location ID codes submitted1",78,"-","-","-","-","-","-","-",null,"93"]
[]
[null,"1(please see 'Invalid codes' section in the 'Notes' for further explanation)"]

{"sheet":"STP","index":2,"n_rows":52,"n_cols":13,"rows_kept":52,"cut":false,"hidden":false,"merged":[[6,6,7,6],[6,7,6,12],[6,0,7,0],[6,1,7,1],[6,2,7,2],[6,3,7,3],[6,4,7,4],[6,5,7,5]]}
[]
[]
[]
[]
[]
[]
["Region Code","STP Code","STP Name","Patients treated November 2020 to October 2021","Total Responses","Percentage Positive","Percentage Negative","Breakdown of Responses"]
[null,null,null,null,null,null,null,"Very Good","Good","Neither Good nor Poor","Poor","Very Poor","Don't Know"]
[null,null,"England",15741364,34620,0.96753321779318313,9.5320623916811086E-3,27799,5697,600,169,161,194]
[null,null,"Selection (excluding supressed data)",{"$f":"SUBTOTAL(9,D11:D52)","v":15741364},{"$f":"SUBTOTAL(9,E11:E52)","v":34620},{"$f":"IFERROR((H10+I10)/SUM(H10:M10), \"-\")","v":0.96753321779318313},{"$f":"IFERROR((K10+L10)/SUM(H10:M10), \"-\")","v":9.5320623916811086E-3},{"$f":"SUBTOTAL(9,H11:H52)","v":27799},{"$f":"SUBTOTAL(9,I11:I52)","v":5697},600,169,161,194]
["Y62","QE1","Healthier Lancashire and South Cumbria",461806,533,0.9587242026266416,1.3133208255159476E-2,432,79,13,2,5,2]
["Y63","QF7","South Yorkshire and Bassetlaw STP",502250,1320,0.96666666666666667,1.2878787878787878E-2,1121,155,22,11,6,5]
["Y60","QGH","Herefordshire and Worcestershire STP",203662,637,0.93406593406593408,1.2558869701726845E-2,431,164,13,3,5,21]
["Y61","QH8","Mid and South Essex STP",362364,1374,0.94832605531295489,2.1834061135371178E-3,1107,196,39,2,1,29]
["Y61","QHG","Bedfordshire, Luton and Milton Keynes STP",268867,485,0.97525773195876286,6.1855670103092781E-3,410,63,7,3,0,2]
["Y60","QHL","Birmingham and Solihull STP",317750,802,0.96758104738154616,1.8703241895261846E-2,641,135,10,14,1,1]
["Y63","QHM","Cumbria and North East STP",948795,1048,0.97519083969465647,8.5877862595419852E-3,894,128,15,5,4,2]
["Y60","QJ2","Joined Up Care Derbyshire STP",313786,1231,0.98456539398862708,8.1234768480909821E-3,1128,84,5,5,5,4]
["Y61","QJG","Suffolk and North East Essex STP",275444,643,0.97200622083981336,1.3996889580093312E-2,463,162,9,5,4,0]
["Y58","QJK","Devon STP",316630,565,0.95752212389380531,1.9469026548672566E-2,470,71,13,7,4,0]
["Y60","QJM","Lincolnshire STP",228309,176,0.96590909090909094,1.1363636363636364E-2,135,35,4,1,1,0]
["Y60","QK1","Leicester, Leicestershire and Rutland STP",356928,1173,0.98465473145780047,8.5251491901108273E-3,972,183,7,10,0,1]
["Y56","QKK","Our Healthier South East London STP",458450,1262,0.96988906497622818,1.1093502377179081E-2,1017,207,17,6,8,7]
["Y59","QKS","Kent and Medway STP",410350,1715,0.97900874635568513,4.6647230320699708E-3,1390,289,25,4,4,3]
["Y61","QM7","Hertfordshire and West Essex STP",462663,1214,0.96622734761120266,6.5897858319604614E-3,938,235,27,3,5,6]
["Y56","QMF","East London Health & Care Partnership (STP)",461986,1062,0.97645951035781542,9.4161958568738226E-4,892,145,15,0,1,9]
["Y56","QMJ","North London Partners in Health & Care (STP)",366994,755,0.96821192052980132,1.0596026490066225E-2,625,106,12,5,3,4]
["Y61","QMM","Norfolk and Waveney Health & Care Partnership (STP)",282648,255,0.97647058823529409,1.5686274509803921E-2,221,28,2,4,0,0]
["Y60","QNC","Staffordshire & Stoke on Trent STP",363775,363,0.96418732782369143,1.6528925619834711E-2,295,55,5,0,6,2]
["Y59","QNQ","Frimley Health & Care (STP)",188797,710,0.99295774647887325,1.4084507042253522E-3,511,194,2,1,0,2]
["Y59","QNX","Sussex Health and Care Partnership STP",471020,1140,0.96491228070175439,9.6491228070175444E-3,873,227,25,5,6,4]
["Y60","QOC","Shropshire and Telford and Wrekin STP",164305,585,0.97264957264957264,0,446,123,9,0,0,7]
["Y62","QOP","Greater Manchester Health & Social Care Partnership",866178,2533,0.96920647453612319,3.5530990919857876E-3,2036,419,57,5,4,12]
["Y63","QOQ","Humber, Coast and Vale STP",507086,891,0.96184062850729513,1.3468013468013467E-2,706,151,11,5,7,11]
["Y58","QOX","Bath and North East Somerset, Swindon and Wiltshire STP",225439,413,0.96125907990314774,1.2106537530266344E-2,318,79,11,3,2,0]
["Y60","QPM","Northamptonshire STP",206428,268,0.93283582089552242,4.4776119402985072E-2,185,65,6,5,7,0]
["Y58","QR1","Gloucestershire STP",145342,57,0.96491228070175439,0,36,19,1,0,0,1]
["Y59","QRL","Hampshire and the Isle of Wight STP",486026,1084,0.97878228782287824,6.4575645756457566E-3,869,192,13,4,3,3]
["Y56","QRV","North West London Health & Care Partnership (STP)",535731,1798,0.97552836484983318,2.7808676307007787E-3,1496,258,29,4,1,10]
["Y58","QSL","Somerset STP",153728,212,0.79716981132075471,0,85,84,43,0,0,0]
["Y60","QT1","Nottingham and Nottinghamshire Health and Care STP",340534,710,0.9830985915492958,5.6338028169014088E-3,627,71,6,3,1,2]
["Y58","QT6","Cornwall and the Isles of Scilly Health & Social Care Partnership (STP)",133646,175,0.97142857142857142,5.7142857142857143E-3,141,29,3,1,0,1]
["Y59","QU9","Buckinghamshire, Oxfordshire and Berkshire West STP",464538,1015,0.95960591133004924,9.852216748768473E-3,749,225,23,8,2,8]
["Y60","QUA","The Black Country and West Birmingham STP",360103,465,0.967741935483871,8.6021505376344086E-3,393,57,9,4,0,2]
["Y61","QUE","Cambridgeshire and Peterborough STP",251780,319,0.94043887147335425,1.5673981191222569E-2,216,84,12,1,4,2]
["Y58","QUY","Bristol, North Somerset and South Gloucestershire STP",272402,274,0.98905109489051091,1.0948905109489052E-2,220,51,0,3,0,0]
["Y58","QVV","Dorset STP",224290,288,0.94444444444444442,1.0416666666666666E-2,182,90,6,2,1,7]
["Y56","QWE","South West London Health & Care Partnership (STP)",351035,637,0.98430141287284145,3.1397174254317113E-3,501,126,6,2,0,2]
["Y63","QWO","West Yorkshire and Harrogate Health & Care Partnership (STP)",695610,1598,0.95431789737171469,1.1264080100125156E-2,1276,249,39,6,12,16]
["Y60","QWU","Coventry and Warwickshire STP",275057,782,0.9156010230179028,7.0332480818414325E-2,630,86,9,11,44,2]
["Y59","QXU","Surrey Heartlands Health & Care Partnership (STP)",260730,586,0.98464163822525597,6.8259385665529011E-3,471,106,4,3,1,1]
["Y62","QYG","Cheshire and Merseyside STP",798102,1467,0.98295841854124066,4.0899795501022499E-3,1250,192,16,3,3,3]

{"sheet":"Practices","index":3,"n_rows":7003,"n_cols":24,"rows_kept":2250,"cut":true,"hidden":false,"merged":[[6,5,7,5],[6,0,7,0],[6,1,7,1],[6,2,7,2],[6,3,7,3],[6,4,7,4],[6,12,6,17],[6,18,6,23],[6,6,7,6],[6,7,7,7],[6,8,7,8],[6,9,7,9],[6,10,7,10],[6,11,7,11]],"bounds":{"rows_first":1000,"rows_last":250,"rows_between":1000,"halvings":1}}
[]
[]
[]
[]
[]
[]
["Region Code","STP Code","CCG Code","Location ID","Contract Code","Name or Company Name","Address","Postcode","Patients treated November 2020 to October 2021","Total Responses","Percentage Positive","Percentage Negative","Breakdown of Responses",null,null,null,null,null,"Mode of Collection"]
[null,null,null,null,null,null,null,null,null,null,null,null,"Very Good","Good","Neither Good nor Poor","Poor","Very Poor","Don't Know","Handwritten","Telephone Call","Tablet/\nKiosk","SMS/Text Message","Smartphone App/Online","Other"]
[null,null,null,null,null,null,null,"England",15741364,34620,0.96753321779318313,9.5320623916811086E-3,27799,5697,600,169,161,194,15990,1406,6877,4855,4889,603]
[null,null,null,null,null,null,null,"Selection (excluding supressed data)",{"$f":"SUBTOTAL(9,I11:I9999)","v":15741364},{"$f":"SUBTOTAL(9,J11:J9999)","v":34620},{"$f":"IFERROR((M10+N10)/SUM(M10:R10), \"-\")","v":0.96851258309591648},{"$f":"IFERROR((P10+Q10)/SUM(M10:R10), \"-\")","v":8.6063627730294402E-3},{"$f":"SUBTOTAL(9,M11:M9999)","v":27065},{"$f":"SUBTOTAL(9,N11:N9999)","v":5570},579,146,144,192,15430,1341,6824,4805,4736,560]
["Y56","QKK","36L","V233168",null,null,"HMP Wandsworth, Heathfield Rd, London, SW18 3HU","SW18 3HU",250,"No data","","","","","","","","","","","","","",""]
["Y56","QKK","72Q","V000063",null,null,"Crofton Park Dental Practice, 18 Brockley Grove, Crofton Park, London, SE4 1QY","SE4 1QY",2126,"No data","","","","","","","","","","","","","",""]
["Y56","QKK","72Q","V000180",null,null,"Dental Surgery, 24 Acre Lane, LONDON, SW2 5SG","SW2 5SG",752,"No data","","","","","","","","","","","","","",""]
["Y56","QKK","72Q","V000223",3403830001,"MR NC RODRIGUES","Dental Surgery, 234 Kennington Park Road, LONDON, SE11 4DA","SE11 4DA",1668,13,1,0,12,1,0,0,0,0,0,0,0,0,0,13]
["Y56","QKK","72Q","V000224",null,null,"The Dental Practice, 167 Camberwell New Road, LONDON, SE5 0TJ","SE5 0TJ",1232,"No data","","","","","","","","","","","","","",""]
["Y56","QKK","72Q","V000225",null,null,"Dental Surgery, 25 Tower Bridge Road, LONDON, SE1 4TL","SE1 4TL",2180,"No data","","","","","","","","","","","","","",""]
["Y56","QKK","72Q","V000228",null,null,"Dental Surgery, 302 - 304 Kennington Road, LONDON, SE11 4LD","SE11 4LD",2193,"No data","","","","","","","","","","","","","",""]
["Y56","QKK","72Q","V000232",null,null,"Dental Surgery, 184 Peckham High Street, LONDON, SE15 5EG","SE15 5EG",2114,"No data","","","","","","","","","","","","","",""]
["Y56","QKK","72Q","V000235",null,null,"Colegrove Dental Care, 2 - 4 Colegrove Road, LONDON, SE15 6ND","SE15 6ND",2606,"No data","","","","","","","","","","","","","",""]
["Y56","QKK","72Q","V000238",null,null,"Hillview Dental Centre, 299 Brownhill Road, LONDON, SE6 1AG","SE6 1AG",2548,"No data","","","","","","","","","","","","","",""]
["Y56","QKK","72Q","V000239",null,null,"Southside Dental Care, 4 & 5 Leigham Hall Parade, Streatham High Road, LONDON, SW16 1DR","SW16 1DR",2202,"No data","","","","","","","","","","","","","",""]
["Y56","QKK","72Q","V000459",1992140001,"L. Ziman & Associates","L Ziman & Associates Ltd, 349-351 Brockley Road, Crofton Park, London, SE4 2AQ","SE4 2AQ",7906,90,1,0,85,5,0,0,0,0,90,0,0,0,0,0]
["Y56","QKK","72Q","V000460",1648440001,"Creekside Dental Practice","Creekside Dental, Anaesthetic Clinic, 176 Deptford High Street, LOndon, SE8 3PR","SE8 3PR",3177,38,0.94736842105263153,0,28,8,2,0,0,0,0,0,0,38,0,0]
["Y56","QKK","72Q","V000461",null,null,"Dental Surgery, 49 Lewisham Way, LONDON, SE14 6QD","SE14 6QD",6129,"No data","","","","","","","","","","","","","",""]
["Y56","QKK","72Q","V000463",null,null,"DEPTFORD DENTAL PRACTICE, 343 Evelyn Street, LONDON, SE8 5QW","SE8 5QW",3578,"No data","","","","","","","","","","","","","",""]
["Y56","QKK","72Q","V000464",1170480001,"Mr F Arbabi /Dental Care Centre Limited","Dental Care Centre, 195 New Cross Road, LONDON, SE14 5DG","SE14 5DG",4699,33,1,0,33,0,0,0,0,0,0,0,33,0,0,0]
["Y56","QKK","72Q","V000465",null,null,"Dental Surgery, 54 Micheldever Road, LONDON, SE12 8LU","SE12 8LU",2578,"No data","","","","","","","","","","","","","",""]
["Y56","QKK","72Q","V000466",1939840001,"Jayesh Kotecha","Dental Surgery, First and Second Floors, 8 12 Lee High Road, LONDON, SE13 5LQ","SE13 5LQ",5646,22,1,0,15,7,0,0,0,0,22,0,0,0,0,0]
["Y56","QKK","72Q","V000471",null,null,"Dental Surgery, 4 Belmont Park, LONDON, SE13 5BJ","SE13 5BJ",661,"No data","","","","","","","","","","","","","",""]
["Y56","QKK","72Q","V000475",8015180001,"David H Keen, Thanusha Raajanathan & Rajeswan S Raajanathan","Dental Surgery, 134 Burnt Ash Road, LONDON, SE12 8PU","SE12 8PU",830,13,1,0,10,3,0,0,0,0,13,0,0,0,0,0]
["Y56","QKK","72Q","V000477",null,null,"Dental Surgery, 7 Montpelier Row, LONDON, SE3 0RL","SE3 0RL",877,"No data","","","","","","","","","","","","","",""]
["Y56","QKK","72Q","V000478",null,null,"Dental Surgery, 3 Lewis Grove, LONDON, SE13 6BG","SE13 6BG",915,"No data","","","","","","","","","","","","","",""]
["Y56","QKK","72Q","V000482",null,null,"Dental Surgery, 71 Jevington Way, LONDON, SE12 9NG","SE12 9NG",1574,"No data","","","","","","","","","","","","","",""]
["Y56","QKK","72Q","V000488",null,null,"Dental Surgery, 23 Catford Broadway, LONDON, SE6 4SN","SE6 4SN",2537,"No data","","","","","","","","","","","","","",""]
["Y56","QKK","72Q","V000490",null,null,"Denticare Group, 8 Penerley Road, LONDON, SE6 2LQ","SE6 2LQ",2890,"No data","","","","","","","","","","","","","",""]
["Y56","QKK","72Q","V000492",null,null,"Dental Surgery, 455 Bromley Road, BROMLEY, Kent, BR1 4PH","BR1 4PH",1418,"No data","","","","","","","","","","","","","",""]
["Y56","QKK","72Q","V000494",7536100003,"MRS MC HASOON","First Dental Grove Park, 139 Marvels Lane, LONDON, SE12 9PP","SE12 9PP",1893,12,0.91666666666666663,0,10,1,1,0,0,0,12,0,0,0,0,0]
["Y56","QKK","72Q","V000500",null,null,"Maxident Clinic, 161 Bromley Road, LONDON, SE6 2NZ","SE6 2NZ",3716,"No data","","","","","","","","","","","","","",""]
["Y56","QKK","72Q","V000501",6749150001,"MISS P AKHAVAN-TABIB","Dental Surgery, 59A Dartmouth Road, Forest Hill, London, SE23 3HN","SE23 3HN",2235,59,0.96610169491525422,0,35,22,0,0,0,2,59,0,0,0,0,0]
["Y56","QKK","72Q","V000503",null,null,"Vass Dental Practice, 22A London Road, LONDON, SE23 3HF","SE23 3HF",0,"No data","","","","","","","","","","","","","",""]
["Y56","QKK","72Q","V000504",null,null,"IDH Ltd, 201 Sydenham Road, LONDON, SE26 5HF","SE26 5HF",1280,"No data","","","","","","","","","","","","","",""]
["Y56","QKK","72Q","V000505",null,null,"Stanstead Road Dental Practice, 138 Stanstead Road, LONDON, SE23 1BX","SE23 1BX",1266,"No data","","","","","","","","","","","","","",""]
["Y56","QKK","72Q","V000506",null,null,"Dental Surgery, 16 Bellingham Green, LONDON, SE6 3HQ","SE6 3HQ",1402,"No data","","","","","","","","","","","","","",""]
["Y56","QKK","72Q","V000508",null,null,"Dental Surgery, 158 Perry Vale, LONDON, SE23 2LR","SE23 2LR",4595,"No data","","","","","","","","","","","","","",""]
["Y56","QKK","72Q","V000513",null,null,"Dental Surgery, 263 Clapham Road, LONDON, SW9 9BQ","SW9 9BQ",1580,"No data","","","","","","","","","","","","","",""]
["Y56","QKK","72Q","V000514",6821440001,"Reza Khan and Nawaf Kharalah","Wandsworth Dental Care Partnership, 258 Wandsworth Road, LONDON, SW8 2JS","SW8 2JS",3807,1,"*","*","*","*","*","*","*","*","*","*","*","*","*","*"]
["Y56","QKK","72Q","V000517",null,null,"Dental Surgery, 41 Clapham Road, LONDON, SW9 0JD","SW9 0JD",5569,"No data","","","","","","","","","","","","","",""]
["Y56","QKK","72Q","V000519",8259480006,"MR JK KOTECHA","J P Osullivan And Associates, Stockwell Dental Practice, 9 Stockwell Road, LONDON, SW9 9AU","SW9 9AU",5848,38,1,0,31,7,0,0,0,0,27,0,11,0,0,0]
["Y56","QKK","72Q","V000521",1718320001,"S Cowley, R Ingham and J Angelo","Dental Surgery, 330 Kennington Park Road, LONDON, SE11 4PP","SE11 4PP",2173,27,0.96296296296296291,3.7037037037037035E-2,15,11,0,1,0,0,0,0,0,27,0,0]
["Y56","QKK","72Q","V000523",null,null,"Dental Surgery, 5 Gipsy Hill, LONDON, SE19 1QG","SE19 1QG",2184,"No data","","","","","","","","","","","","","",""]
["Y56","QKK","72Q","V000526",null,null,"Dental Surgery, Saunders House, Tulse Hill, LONDON, SW2 3PJ","SW2 3PJ",876,"No data","","","","","","","","","","","","","",""]
["Y56","QKK","72Q","V000528",null,null,"M Kanani & E Harunani & Assoc., Brixton Dental Care, 35 Gresham Road, LONDON, SW9 7NU","SW9 7NU",1933,"No data","","","","","","","","","","","","","",""]
["Y56","QKK","72Q","V000529",null,null,"Dental Surgery, 132 Knights Hill, LONDON, SE27 0SR","SE27 0SR",2372,"No data","","","","","","","","","","","","","",""]
["Y56","QKK","72Q","V000531",null,null,"Dental Surgery, 221 Brixton Hill, LONDON, SW2 1NP","SW2 1NP",3235,"No data","","","","","","","","","","","","","",""]
["Y56","QKK","72Q","V000532",null,null,"170A Denmark Hill, LONDON, SE5 8EE","SE5 8EE",405,"No data","","","","","","","","","","","","","",""]
["Y56","QKK","72Q","V000533",null,null,"409 Norwood Road, LONDON, SE27 9BU","SE27 9BU",3177,"No data","","","","","","","","","","","","","",""]
["Y56","QKK","72Q","V000534",1251800001,"Haynes Dental Ltd","Dental Surgery, 9 Thurlow Park Road, LONDON, SE21 8JB","SE21 8JB",631,15,1,0,14,1,0,0,0,0,15,0,0,0,0,0]
["Y56","QKK","72Q","V000535",1154280001,"S Cowley, R Ingham and J Angelo","Norwood Dental Surgery, 99 Norwood High Street, LONDON, SE27 9JF","SE27 9JF",1649,33,0.84848484848484851,9.0909090909090912E-2,19,9,1,1,2,1,0,0,0,33,0,0]
["Y56","QKK","72Q","V000605",null,null,"Dental Surgery, 1A Picardy Street, BELVEDERE, Kent, DA17 5QQ","DA17 5QQ",2323,"No data","","","","","","","","","","","","","",""]
["Y56","QKK","72Q","V000632",null,null,"Arkh-View Dental Centre, 3 Station Rise, LONDON, SE27 9BW","SE27 9BW",626,"No data","","","","","","","","","","","","","",""]
["Y56","QKK","72Q","V000633",null,null,"Confidental Clinic Dental Surgery, 19 New Park Road, LONDON, SW2 4DU","SW2 4DU",1986,"No data","","","","","","","","","","","","","",""]
["Y56","QKK","72Q","V000636",null,null,"Brixton Dental Clinic, 232 Stockwell Road, LONDON, SW9 9SU","SW9 9SU",3413,"No data","","","","","","","","","","","","","",""]
["Y56","QKK","72Q","V000638",2201320001,"MR WC YEAP","Wai C Yeap And Associates, 4 Hannen Road, LONDON, SE27 0DT","SE27 0DT",800,5,1,0,4,1,0,0,0,0,0,0,0,1,0,4]
["Y56","QKK","72Q","V000639",null,null,"PEARL DENTAL, 14 Streatham Road, LONDON, SW16 1DB","SW16 1DB",1040,"No data","","","","","","","","","","","","","",""]
["Y56","QKK","72Q","V000640",null,null,"Dental Surgery, 40 Streatham Vale, LONDON, SW16 5TD","SW16 5TD",696,"No data","","","","","","","","","","","","","",""]
["Y56","QKK","72Q","V000641",null,null,"Dental Surgery, 17 Prentis Road, LONDON, SW16 1QB","SW16 1QB",2734,"No data","","","","","","","","","","","","","",""]
["Y56","QKK","72Q","V000642",null,null,"Streatham Common DentalSurgery, 202 Eardley Road, Streatham, London, SW16 5TF","SW16 5TF",1469,"No data","","","","","","","","","","","","","",""]
["Y56","QKK","72Q","V000644",null,null,"Infinity Dental Care, 2nd Floor, Streatham Health Centre, 41A-C Streatham Hill, London, SW2 4TP","SW2 4TP",3294,"No data","","","","","","","","","","","","","",""]
["Y56","QKK","72Q","V000645",null,null,"Dental Surgery, 9 Gracefield Gardens, LONDON, SW16 2SZ","SW16 2SZ",1412,"No data","","","","","","","","","","","","","",""]
["Y56","QKK","72Q","V000646",null,null,"Dental Surgery, 393 - 395 Streatham High Road, LONDON, SW16 3PE","SW16 3PE",4318,"No data","","","","","","","","","","","","","",""]
["Y56","QKK","72Q","V000648",null,null,"Dental Surgery, 142 Streatham High Road, LONDON, SW16 1BJ","SW16 1BJ",2427,"No data","","","","","","","","","","","","","",""]
["Y56","QKK","72Q","V000650",1737030001,"Surrey Quays Dental Practice","Surrey Quays Dental Practice, 204 Lower Road, LONDON, SE8 5DJ","SE8 5DJ",1350,15,1,0,13,2,0,0,0,0,0,0,0,0,0,15]
["Y56","QKK","72Q","V000651",1132710001,"Amritpal Marway & Divyash Patel","M P Dental Practice, 186-188 Jamaica Road, LONDON, SE16 4RT","SE16 4RT",2200,0,"NA","NA",0,0,0,0,0,0,0,0,0,0,0,0]
["Y56","QKK","72Q","V000653",null,null,"Dental Surgery, 36 Brunel Road, LONDON, SE16 6HZ","SE16 6HZ",2525,"No data","","","","","","","","","","","","","",""]
["Y56","QKK","72Q","V000654",2341410001,"Harpinder Singh Dhamu and Geo Vellapany Mathew","Dental Surgery, 164 Jamaica Road, LONDON, SE16 4RT","SE16 4RT",2960,10,0.8,0,5,3,2,0,0,0,10,0,0,0,0,0]
["Y56","QKK","72Q","V000661",null,null,"Dental Surgery, 223 Waterloo Road, LONDON, SE1 8XH","SE1 8XH",570,"No data","","","","","","","","","","","","","",""]
["Y56","QKK","72Q","V000662",1929530001,"S Cowley, R Ingham and J Angelo","Dental Surgery, 296 Walworth Road, LONDON, SE17 2TE","SE17 2TE",5071,64,0.828125,7.8125E-2,43,10,2,0,5,4,0,0,0,64,0,0]
["Y56","QKK","72Q","V000663",null,null,"Dental Surgery, 156 Old Kent Road, LONDON, SE1 5TY","SE1 5TY",569,"No data","","","","","","","","","","","","","",""]
["Y56","QKK","72Q","V000671",1513350001,"Peckham Dental Care","71 - 79 Peckham High Street, LONDON, SE15 5RS","SE15 5RS",3560,23,0.86956521739130432,4.3478260869565216E-2,14,6,2,1,0,0,0,0,0,23,0,0]
["Y56","QKK","72Q","V000674",1186640001,"Drs P Pakzad & E Harunani","Dental Surgery, 10 Station Way, LONDON, SE15 4RX","SE15 4RX",4045,17,1,0,16,1,0,0,0,0,17,0,0,0,0,0]
["Y56","QKK","72Q","V000675",null,null,"Dental Surgery, 82 Camberwell Church Street, LONDON, SE5 8QZ","SE5 8QZ",1209,"No data","","","","","","","","","","","","","",""]
["Y56","QKK","72Q","V000676",null,null,"The Lacey Dental Practice, 591 Old Kent Road, LONDON, SE15 1LA","SE15 1LA",1991,"No data","","","","","","","","","","","","","",""]
["Y56","QKK","72Q","V000677",null,null,"Dental Surgery, 276B Camberwell Road, LONDON, SE5 0DL","SE5 0DL",970,"No data","","","","","","","","","","","","","",""]
["Y56","QKK","72Q","V000678",null,null,"Half Moon Dental Centre, 1 3 Half Moon Lane, LONDON, SE24 9JU","SE24 9JU",2957,"No data","","","","","","","","","","","","","",""]
["Y56","QKK","72Q","V000679",null,null,"Dental Surgery, 1 Townley Road, LONDON, SE22 8SW","SE22 8SW",1898,"No data","","","","","","","","","","","","","",""]
["Y56","QKK","72Q","V000685",null,null,"Dental Surgery, 42 Linden Grove, LONDON, SE15 3LF","SE15 3LF",1188,"No data","","","","","","","","","","","","","",""]
["Y56","QKK","72Q","V000688",null,null,"Smile@SE22, 43 - 45 North Cross Road, LONDON, SE22 9ET","SE22 9ET",2928,"No data","","","","","","","","","","","","","",""]
["Y56","QKK","72Q","V000689",null,null,"Dental Surgery, 78 Lordship Lane, LONDON, SE22 8HF","SE22 8HF",3894,"No data","","","","","","","","","","","","","",""]
["Y56","QKK","72Q","V000690",null,null,"The Dental Surgery Denmark Hill, 179 Denmark Hill, LONDON, SE5 8DX","SE5 8DX",491,"No data","","","","","","","","","","","","","",""]
["Y56","QKK","72Q","V000693",null,null,"Dental Surgery, 142 Gipsy Hill, LONDON, SE19 1PW","SE19 1PW",383,"No data","","","","","","","","","","","","","",""]
["Y56","QKK","72Q","V000695",null,null,"Dulwich Orthodontic Centre, 82 Park Hall Road, LONDON, SE21 8BW","SE21 8BW",2228,"No data","","","","","","","","","","","","","",""]
["Y56","QKK","72Q","V000932",null,null,"The White House Dental Surgery, 52 High Street, LONDON, SE20 7HB","SE20 7HB",1498,"No data","","","","","","","","","","","","","",""]
["Y56","QKK","72Q","V000957",null,null,"Jenner Health Centre, Dental Surgery, 14 St Germans Road, LONDON, SE23 1RJ","SE23 1RJ",0,"No data","","","","","","","","","","","","","",""]
["Y56","QKK","72Q","V001797",null,null,"12 Joyce Dawson Way, Thamesmead, London, SE28 8RA","SE28 8RA",1611,"No data","","","","","","","","","","","","","",""]
["Y56","QKK","72Q","V001860",null,null,"Dental Surgery, Bolney Court, 3 Lawrie Park Road, LONDON, SE26 6DP","SE26 6DP",2713,"No data","","","","","","","","","","","","","",""]
["Y56","QKK","72Q","V002791",null,null,"Dental Surgery, 305 - 307 Borough High Street, LONDON, SE1 1JH","SE1 1JH",4809,"No data","","","","","","","","","","","","","",""]
["Y56","QKK","72Q","V004331",null,null,"Camberwell Dental Care, 6 Camberwell Church Street, LONDON, SE5 8QU","SE5 8QU",5968,"No data","","","","","","","","","","","","","",""]
["Y56","QKK","72Q","V004527",null,null,"Pavilion Dental Centre, 9 Brighton Terrace, LONDON, SW9 8DJ","SW9 8DJ",1803,"No data","","","","","","","","","","","","","",""]
["Y56","QKK","72Q","V004587",null,null,"Forest Hill Dental Surgery, 3 Dartmouth Road, Forest Hill, London, SE23 3HN","SE23 3HN",3636,"No data","","","","","","","","","","","","","",""]
["Y56","QKK","72Q","V004794",null,null,"335 Stanstead Road, LONDON, SE6 4UE","SE6 4UE",856,"No data","","","","","","","","","","","","","",""]
["Y56","QKK","72Q","V004815",null,null,"2nd Floor Akerman Health Centre, 60 Patmos Road, LONDON, SW9 6AF","SW9 6AF",1,"No data","","","","","","","","","","","","","",""]
["Y56","QKK","72Q","V005459",null,null,"Dental Surgery, 171 Sunningvale Avenue, Biggin Hill, WESTERHAM, Kent, TN16 3TL","TN16 3TL",1266,"No data","","","","","","","","","","","","","",""]
["Y56","QKK","72Q","V005468",3352230001,"MISS LJ LYNCH","Dental Surgery, 284 Croydon Road, BECKENHAM, Kent, BR3 4DA","BR3 4DA",341,16,1,0,15,1,0,0,0,0,0,0,0,0,16,0]
["Y56","QKK","72Q","V005470",null,null,"MFA Dental Practice, 91A High Street, ORPINGTON, Kent, BR6 0LF","BR6 0LF",1404,"No data","","","","","","","","","","","","","",""]
["Y56","QKK","72Q","V005613",null,null,"Chatterton Dental Surgery, 51 Chatterton Road, BROMLEY, Kent, BR2 9QQ","BR2 9QQ",1105,"No data","","","","","","","","","","","","","",""]
["Y56","QKK","72Q","V005625",null,null,"Dental Surgery, 11 Kelsey Park Road, BECKENHAM, Kent, BR3 6LH","BR3 6LH",804,"No data","","","","","","","","","","","","","",""]
["Y56","QKK","72Q","V005632",null,null,"K J Brophy Dental Surgery, 63 Tweedy Road, BROMLEY, Kent, BR1 3NH","BR1 3NH",1071,"No data","","","","","","","","","","","","","",""]
["Y56","QKK","72Q","V005664",null,null,"Dental Surgery, 18 Blyth Road, BROMLEY, Kent, BR1 3RX","BR1 3RX",1354,"No data","","","","","","","","","","","","","",""]
["Y56","QKK","72Q","V005920",null,null,"7 Sevenoaks Road, ORPINGTON, Kent, BR6 9JH","BR6 9JH",2567,"No data","","","","","","","","","","","","","",""]
["Y56","QKK","72Q","V005924",null,null,"Chelsfield Dental Practice, 17 Windsor Drive, CHELSFIELD, BR6 6EY","BR6 6EY",327,"No data","","","","","","","","","","","","","",""]
["Y56","QKK","72Q","V006494",null,null,"Ferndale House Dental Practice, 250 Bromley Road, Shortlands, BROMLEY, Kent, BR2 0BW","BR2 0BW",1898,"No data","","","","","","","","","","","","","",""]
["Y56","QKK","72Q","V006520",null,null,"Shortlands Dental Practice, 98 Martins Road, BROMLEY, Kent, BR2 0EF","BR2 0EF",687,"No data","","","","","","","","","","","","","",""]
["Y56","QKK","72Q","V006523",null,null,"Confidental Care, 207 Southborough Lane, BROMLEY, Kent, BR2 8AR","BR2 8AR",3163,"No data","","","","","","","","","","","","","",""]
["Y56","QKK","72Q","V006552",1014310000,"Oasis Dental Care Limited","Total Orthodontics, 18 Beckenham Road, BECKENHAM, Kent, BR3 4LS","BR3 4LS",859,8,1,0,8,0,0,0,0,0,8,0,0,0,0,0]
["Y56","QKK","72Q","V006676",null,null,"H Bs Dental Practice, 117 Burnt Ash Lane, BROMLEY, Kent, BR1 5AB","BR1 5AB",2638,"No data","","","","","","","","","","","","","",""]
["Y56","QKK","72Q","V006680",null,null,"Dental Surgery, 1 Beckenham Road, WEST WICKHAM, Kent, BR4 0QR","BR4 0QR",760,"No data","","","","","","","","","","","","","",""]
["Y56","QKK","72Q","V006686",null,null,"Dental Surgery, 322 High Street, St Mary Cray, ORPINGTON, Kent, BR5 4AR","BR5 4AR",2739,"No data","","","","","","","","","","","","","",""]
["Y56","QKK","72Q","V006693",null,null,"Beaconsfield Dental Practice, 9 - 10 Beaconsfield Parade, LONDON, SE9 4EA","SE9 4EA",2414,"No data","","","","","","","","","","","","","",""]
["Y56","QKK","72Q","V006707",null,null,"Dental Surgery, 180 Beckenham Road, BECKENHAM, Kent, BR3 4RJ","BR3 4RJ",2477,"No data","","","","","","","","","","","","","",""]
["Y56","QKK","72Q","V006722",1953160002,"MISS AR PATEL","Dental Surgery, 88 Manor Park Road, WEST WICKHAM, Kent, BR4 0JZ","BR4 0JZ",5931,11,1,0,6,5,0,0,0,0,0,0,11,0,0,0]
["Y56","QKK","72Q","V006735",null,null,"Dental Surgery, 52 Cotmandene Crescent, ORPINGTON, Kent, BR5 2RG","BR5 2RG",1509,"No data","","","","","","","","","","","","","",""]
["Y56","QKK","72Q","V006738",null,null,"Green Lane Dental Centre, 17 Green Lane, LONDON, SE20 7JA","SE20 7JA",2413,"No data","","","","","","","","","","","","","",""]
["Y56","QKK","72Q","V006745",null,null,"Dental Surgery, Prince Imperial Road, CHISLEHURST, Kent, BR7 5LX","BR7 5LX",1525,"No data","","","","","","","","","","","","","",""]
["Y56","QKK","72Q","V007224",null,null,"Rochester Lodge Dental Practice, 14 Rochester Avenue, BROMLEY, Kent, BR1 3DD","BR1 3DD",445,"No data","","","","","","","","","","","","","",""]
["Y56","QKK","72Q","V007375",null,null,"Lister Primary Care Centre, 101 Peckham Road, LONDON, SE15 5LJ","SE15 5LJ",2257,"No data","","","","","","","","","","","","","",""]
["Y56","QKK","72Q","V007526",null,null,"Dental Surgery, 259 High Street, Plumstead, LONDON, SE18 1HF","SE18 1HF",447,"No data","","","","","","","","","","","","","",""]
["Y56","QKK","72Q","V007528",null,null,"Dental Surgery, 92 Ampleforth Road, LONDON, SE2 9BH","SE2 9BH",1902,"No data","","","","","","","","","","","","","",""]
["Y56","QKK","72Q","V007529",null,null,"Lakeside Dental Practice, Lakeside Health Centre, Yarnton Way, Thamesmead, SE2 9LH","SE2 9LH",5,"No data","","","","","","","","","","","","","",""]
["Y56","QKK","72Q","V007531",null,null,"Herons Gate Dental Centre, 1B Goosander Way, LONDON, SE28 0ER","SE28 0ER",1967,"No data","","","","","","","","","","","","","",""]
["Y56","QKK","72Q","V007535",null,null,"Gallions Reach Dental Clinic, Gallions Reach Health Centre, Bentham Road, LONDON, SE28 8BE","SE28 8BE",3450,"No data","","","","","","","","","","","","","",""]
["Y56","QKK","72Q","V007543",6248960003,"Dentaria","Dental Surgery, 19 Glenshiel Road, LONDON, SE9 1AQ","SE9 1AQ",6128,2,"*","*","*","*","*","*","*","*","*","*","*","*","*","*"]
["Y56","QKK","72Q","V007554",9330740001,"MR M MAZAHERI","Sunnydent Dental Practice, 188 Bexley Road, LONDON, SE9 2PH","SE9 2PH",1047,6,1,0,5,1,0,0,0,0,6,0,0,0,0,0]
["Y56","QKK","72Q","V007555",null,null,"Green Lane Dental Practice, 377 Green Lane, LONDON, SE9 3TE","SE9 3TE",3689,"No data","","","","","","","","","","","","","",""]
["Y56","QKK","72Q","V007560",null,null,"78 Dunvegan Road, LONDON, SE9 1SB","SE9 1SB",1389,"No data","","","","","","","","","","","","","",""]
["Y56","QKK","72Q","V007567",1716620001,"Mr R Cutts & Miss A Patel","Dental Surgery, 13 Station Crescent, LONDON, SE3 7EQ","SE3 7EQ",5513,162,0.98765432098765427,0,124,36,2,0,0,0,0,0,162,0,0,0]
["Y56","QKK","72Q","V007573",null,null,"Dental Surgery, 72 Eastbrook Road, LONDON, SE3 8BT","SE3 8BT",329,"No data","","","","","","","","","","","","","",""]
["Y56","QKK","72Q","V007576",null,null,"The Dental Surgery, 1 Cleveley Close, LONDON, SE7 8DP","SE7 8DP",2324,"No data","","","","","","","","","","","","","",""]
["Y56","QKK","72Q","V007580",1584020001,"Charlton Dental Care Ltd","Charlton Dental Practice, 88 Charlton Road, Charlton, LONDON, SE7 7EY","SE7 7EY",2280,23,0.95652173913043481,4.3478260869565216E-2,17,5,0,1,0,0,0,0,0,23,0,0]
["Y56","QKK","72Q","V007585",null,null,"Greenwich Dental Practice, 207 Greenwich High Road, LONDON, SE10 8NB","SE10 8NB",1841,"No data","","","","","","","","","","","","","",""]
["Y56","QKK","72Q","V007591",null,null,"Woolwich Dental Practice, 7 - 9 Woolwich New Road, LONDON, SE18 6EX","SE18 6EX",1867,"No data","","","","","","","","","","","","","",""]
["Y56","QKK","72Q","V007593",1368160001,"Harpinder Singh Dhamu and Geo Vellappany Mathew","Woolwich Gentle Dental Care, 37 - 39 Powis Street, LONDON, SE18 6HZ","SE18 6HZ",2397,10,0.9,0,5,4,1,0,0,0,10,0,0,0,0,0]
["Y56","QKK","72Q","V007594",null,null,"J H Patel & Partners, Dental Surgery, 81A Powis Street, London, SE18 6JB","SE18 6JB",2799,"No data","","","","","","","","","","","","","",""]
["Y56","QKK","72Q","V007595",null,null,"Plumstead Dental Surgery Limited, 8 - 14 Herbert Road, Plumstead, LONDON, SE18 3SH","SE18 3SH",4256,"No data","","","","","","","","","","","","","",""]
["Y56","QKK","72Q","V007596",null,null,"J K S Dental Care, 108 - 110 Plumstead High Street, LONDON, SE18 1SJ","SE18 1SJ",887,"No data","","","","","","","","","","","","","",""]
["Y56","QKK","72Q","V007612",null,null,"V K Dhanda's Dental Surgery, 257 Shooters Hill Road, London, LONDON, SE3 8UN","SE3 8UN",918,"No data","","","","","","","","","","","","","",""]
["Y56","QKK","72Q","V007643",1181250001,"S Cowley, R Ingham and J Angelo","Honor Oak Dental Clinic, 76 St Norbert Road, LONDON, SE4 2EY","SE4 2EY",1595,4,"*","*","*","*","*","*","*","*","*","*","*","*","*","*"]
["Y56","QKK","72Q","V007753",null,null,"Riverside Dental Surgery, 30 Lakedale Road, Plumstead, London, SE18 1PP","SE18 1PP",1599,"No data","","","","","","","","","","","","","",""]
["Y56","QKK","72Q","V007884",2570010001,"MR DS MATHEW","Dental Practice, 220 High Street, BROMLEY, Kent, BR1 1PW","BR1 1PW",3818,1,"*","*","*","*","*","*","*","*","*","*","*","*","*","*"]
["Y56","QKK","72Q","V008286",1936740001,"Mr Nicholas Patsias, Ms Alexandra Sayer and Ms Abby Leigh","Dental Surgery, 14 Bromley Road, BECKENHAM, Kent, BR3 5JE","BR3 5JE",3474,7,0.8571428571428571,0,4,2,1,0,0,0,0,0,0,0,7,0]
["Y56","QKK","72Q","V008442",null,null,"Bromley PCT, Eldred Drive Clinic, Eldred Drive, ORPINGTON, Kent, BR5 4PE","BR5 4PE",1931,"No data","","","","","","","","","","","","","",""]
["Y56","QKK","72Q","V008500",3331820001,"MR K TSE","Smile Family, Dental Health Practice, 196 - 198 Main Road, Biggin Hill, WESTERHAM, Kent, TN16 3BB","TN16 3BB",5862,109,1,0,107,2,0,0,0,0,0,0,0,109,0,0]
["Y56","QKK","72Q","V008501",null,null,"Dental Surgery, 81 Crofton Road, ORPINGTON, Kent, BR6 8HU","BR6 8HU",784,"No data","","","","","","","","","","","","","",""]
["Y56","QKK","72Q","V008578",2745260001,"O'Connors Partnership","Dental Surgery, 153 Anerley Road, LONDON, SE20 8EF","SE20 8EF",2251,13,0.92307692307692313,0,8,4,1,0,0,0,0,0,0,0,0,13]
["Y56","QKK","72Q","V008580",null,null,"Dental Surgery, Stock Hill, Biggin Hill, WESTERHAM, Kent, TN16 3TJ","TN16 3TJ",251,"No data","","","","","","","","","","","","","",""]
["Y56","QKK","72Q","V008598",7412990002,"MISS DH QUIGLEY","Dental Surgery, 88B Sidcup High Street, SIDCUP, Kent, DA14 6DS","DA14 6DS",1385,0,"NA","NA",0,0,0,0,0,0,0,0,0,0,0,0]
["Y56","QKK","72Q","V008608",null,null,"S3 Dental, 72 Well Hall Road, LONDON, SE9 6SL","SE9 6SL",2745,"No data","","","","","","","","","","","","","",""]
["Y56","QKK","72Q","V008641",null,null,"Creek Road Dental Practice, 20 Creek Road, London, SE8 3BN","SE8 3BN",1494,"No data","","","","","","","","","","","","","",""]
["Y56","QKK","72Q","V008679",null,null,"Mottingham Dental Practice, 102 William Barefoot Drive, Mottingham, London, SE9 3BB","SE9 3BB",1721,"No data","","","","","","","","","","","","","",""]
["Y56","QKK","72Q","V008697",null,null,"Dental Surgery, 150 Halfway Street, SIDCUP, Kent, DA15 8DG","DA15 8DG",3848,"No data","","","","","","","","","","","","","",""]
["Y56","QKK","72Q","V008698",null,null,"Dental Surgery, 10A Sidcup Hill, SIDCUP, Kent, DA14 6HH","DA14 6HH",1520,"No data","","","","","","","","","","","","","",""]
["Y56","QKK","72Q","V008701",null,null,"Dental Surgery, 201 Bellegrove Road, WELLING, Kent, DA16 3RA","DA16 3RA",3182,"No data","","","","","","","","","","","","","",""]
["Y56","QKK","72Q","V008702",7523040002,"Shadi Abou-Deeb","180 - 184 Upper Wickham Lane, Welling, Kent, DA16 3EB","DA16 3EB",4847,125,0.99199999999999999,0,118,6,1,0,0,0,0,0,125,0,0,0]
["Y56","QKK","72Q","V008706",8086010001,"MR GM BURR","Dental Surgery, 101A Welling High Street, WELLING, Kent, DA16 1TY","DA16 1TY",889,24,1,0,23,1,0,0,0,0,24,0,0,0,0,0]
["Y56","QKK","72Q","V008708",7465840004,"MR N KARIA","Dental Surgery, 61 65 Hadlow Road, WELLING, Kent, DA16 1AX","DA16 1AX",2727,9,1,0,9,0,0,0,0,0,0,0,9,0,0,0]
["Y56","QKK","72Q","V008709",null,null,"Dent Cross Dental Surgery, 11 Falconwood Parade, WELLING, Kent, DA16 2PL","DA16 2PL",468,"No data","","","","","","","","","","","","","",""]
["Y56","QKK","72Q","V008710",null,null,"Dental Surgery, 24 Wellington Avenue, SIDCUP, Kent, DA15 9HG","DA15 9HG",4105,"No data","","","","","","","","","","","","","",""]
["Y56","QKK","72Q","V008712",null,null,"Days Lane Dental, 268-270 Days Lane, SIDCUP, Kent, DA15 8PG","DA15 8PG",582,"No data","","","","","","","","","","","","","",""]
["Y56","QKK","72Q","V008716",null,null,"8 Vicarage Road, BEXLEY, Kent, DA5 2AL","DA5 2AL",78,"No data","","","","","","","","","","","","","",""]
["Y56","QKK","72Q","V008717",2198510001,"MR DN COGGER","Dental Surgery, 318 Erith Road, BEXLEYHEATH, Kent, DA7 6HJ","DA7 6HJ",1136,47,1,0,37,10,0,0,0,0,47,0,0,0,0,0]
["Y56","QKK","72Q","V008719",null,null,"Bexleyheath Dental Practice, 306 Broadway, BEXLEYHEATH, Kent, DA6 8AA","DA6 8AA",556,"No data","","","","","","","","","","","","","",""]
["Y56","QKK","72Q","V008720",null,null,"Dental Surgery, 144 Long Lane, BEXLEYHEATH, Kent, DA7 5AH","DA7 5AH",626,"No data","","","","","","","","","","","","","",""]
["Y56","QKK","72Q","V008721",null,null,"Dental Surgery, 42 Crook Log, BEXLEYHEATH, Kent, DA6 8BS","DA6 8BS",3182,"No data","","","","","","","","","","","","","",""]
["Y56","QKK","72Q","V008723",null,null,"Chapel Road Orthodontics, 39 Chapel Road, BEXLEYHEATH, Kent, DA7 4HW","DA7 4HW",1713,"No data","","","","","","","","","","","","","",""]
["Y56","QKK","72Q","V008725",null,null,"Dental Surgery, 2 Green Walk, DARTFORD, Kent, DA1 4JL","DA1 4JL",3158,"No data","","","","","","","","","","","","","",""]
["Y56","QKK","72Q","V008728",1188260001,"Mr R Siddique & Mr I Khaliq","Dental Surgery, 184 Bexley Road, ERITH, Kent, DA8 3HF","DA8 3HF",4242,5,0.6,0.2,1,2,1,1,0,0,5,0,0,0,0,0]
["Y56","QKK","72Q","V008749",null,null,"Orpington Dental Care Centre, 342 High Street, ORPINGTON, Kent, BR6 0NQ","BR6 0NQ",950,"No data","","","","","","","","","","","","","",""]
["Y56","QKK","72Q","V008756",1097970001,"The Buckley Practice Ltd","The Buckley Dental Practice, 31 Tweedy Road, BROMLEY, Kent, BR1 3PR","BR1 3PR",475,6,1,0,6,0,0,0,0,0,6,0,0,0,0,0]
["Y56","QKK","72Q","V008758",null,null,"Dental Surgery, 419 Crofton Road, ORPINGTON, Kent, BR6 8NL","BR6 8NL",58,"No data","","","","","","","","","","","","","",""]
["Y56","QKK","72Q","V008781",null,null,"13 - 15 Picardy Road, BELVEDERE, Kent, DA17 5QH","DA17 5QH",1218,"No data","","","","","","","","","","","","","",""]
["Y56","QKK","72Q","V008789",null,null,"The Dental Surgery, 416 Well Hall Road, Eltham, London, SE9 6UD","SE9 6UD",2991,"No data","","","","","","","","","","","","","",""]
["Y56","QKK","72Q","V008791",null,null,"Orchard House Dental Practice, 61 South Eden Park Road, BECKENHAM, Kent, BR3 3BQ","BR3 3BQ",1467,"No data","","","","","","","","","","","","","",""]
["Y56","QKK","72Q","V008805",null,null,"Smile Dental Practice Bromley, 155 Hastings Road, BROMLEY, Kent, BR2 8NQ","BR2 8NQ",855,"No data","","","","","","","","","","","","","",""]
["Y56","QKK","72Q","V008806",null,null,"Dental Surgery, 9 Crofton Road, ORPINGTON, Kent, BR6 8AE","BR6 8AE",1790,"No data","","","","","","","","","","","","","",""]
["Y56","QKK","72Q","V008822",null,null,"Dental Surgery, 29 Station Road, ORPINGTON, Kent, BR6 0RZ","BR6 0RZ",188,"No data","","","","","","","","","","","","","",""]
["Y56","QKK","72Q","V008842",9084950001,"Mark Howard Hamburger and Rebecca Peta Sadler","Hayes Dental Surgery, 33 Pickhurst Lane, Bromley, Kent, BR2 7JE","BR2 7JE",1414,14,1,0,13,1,0,0,0,0,14,0,0,0,0,0]
["Y56","QKK","72Q","V009401",null,null,"Dulwich Oak Dental Practice, 3a Fellbridge House, Dog Kennel Hill, LONDON, SE22 8BQ","SE22 8BQ",360,"No data","","","","","","","","","","","","","",""]
["Y56","QKK","72Q","V009490",7465840001,"MR N KARIA","23 Calderwood Street, Woolwich, London, SE18 6QW","SE18 6QW",2797,10,1,0,9,1,0,0,0,0,0,0,10,0,0,0]
["Y56","QKK","72Q","V009988",null,null,"H M Prison, Brixton, Jebb Avenue, LONDON, SW2 5XF","SW2 5XF",89,"No data","","","","","","","","","","","","","",""]
["Y56","QKK","72Q","V010471",null,null,"Pickhurst Dental Care, 317 Pickhurst Lane, West Wickham, Kent, BR4 0HW","BR4 0HW",112,"No data","","","","","","","","","","","","","",""]
["Y56","QKK","72Q","V010679",7536100002,"MRS MC HASOON","328 Baring Road, LONDON, SE12 0DU","SE12 0DU",931,9,1,0,8,1,0,0,0,0,9,0,0,0,0,0]
["Y56","QKK","72Q","V011514",null,null,"140 Clapham Park Road, Clapham Common, London, SW4 7DE","SW4 7DE",2874,"No data","","","","","","","","","","","","","",""]
["Y56","QKK","72Q","V011539",null,null,"Rushey Green Dental Practice, 87A Rushey Green, LONDON, SE6 4AF","SE6 4AF",4616,"No data","","","","","","","","","","","","","",""]
["Y56","QKK","72Q","V012111",null,null,"P.S.Ellisdon Ortho Surgery, Suite B, Victory House, 131 Queensway, Petts Wood, Orpington, Kent, BR5 1DG","BR5 1DG",127,"No data","","","","","","","","","","","","","",""]
["Y56","QKK","72Q","V012511",null,null,"Eltham Park Dental Practice Ltd, 5 Westmount Road, Eltham, London, SE9 1JB","SE9 1JB",1172,"No data","","","","","","","","","","","","","",""]
["Y56","QKK","72Q","V012522",null,null,"Beckenham Beacon, 379 Croydon Road, BECKENHAM, Kent, BR3 3QL","BR3 3QL",176,"No data","","","","","","","","","","","","","",""]
["Y56","QKK","72Q","V012600",6100700001,"MR DV PATEL","Streatham Dental Care, Ground Floor, 11 Becmead Avenue, London, SW16 1UN","SW16 1UN",1978,15,1,0,10,5,0,0,0,0,15,0,0,0,0,0]
["Y56","QKK","72Q","V013079",null,null,"Dental Beauty Bexleyheath, 70 Pickford Lane, BEXLEYHEATH, DA7 4QX","DA7 4QX",598,"No data","","","","","","","","","","","","","",""]
["Y56","QKK","72Q","V013126",null,null,"Mobile Dental Unit, Kings College Hospital, Denmark Hill, London, SE5 9RS","SE5 9RS",66,"No data","","","","","","","","","","","","","",""]
["Y56","QKK","72Q","V013162",null,null,"10 Belmont Parade, Green Lane, Chislehurst, Kent, BR7 6AN","BR7 6AN",2565,"No data","","","","","","","","","","","","","",""]
["Y56","QKK","72Q","V013217",null,null,"Charlton Village Dental Practice, 20 The Village, LONDON, SE7 8UD","SE7 8UD",3142,"No data","","","","","","","","","","","","","",""]
["Y56","QKK","72Q","V013252",null,null,"The Grange Dental Surgery, 134 Grange Road, London, SE1 3GF","SE1 3GF",1928,"No data","","","","","","","","","","","","","",""]
["Y56","QKK","72Q","V013525",null,null,"Canada Water Dental Health, Toronto House, Surrey Quays Road, London, SE16 7AJ","SE16 7AJ",4458,"No data","","","","","","","","","","","","","",""]
["Y56","QKK","72Q","V013731",null,null,"SmileShines Beckenham, 233-235 High Street, Beckenham, Kent, BR3 1BN","BR3 1BN",3478,"No data","","","","","","","","","","","","","",""]
["Y56","QKK","72Q","V014462",1247960001,"Progenics Ltd","Clapham South Dental Centre, 15 Balham Hill, London, SW12 9DY","SW12 9DY",9600,19,1,0,17,2,0,0,0,0,0,0,19,0,0,0]
["Y56","QKK","72Q","V018528",null,null,"44b The Gardens, East Dulwich, London, SE22 9QQ","SE22 9QQ",2032,"No data","","","","","","","","","","","","","",""]
["Y56","QKK","72Q","V020413",null,null,"Dr Pourreza, Dental Surgery, 3 Elford Close, Kidbrooke, London, SE3 9FA","SE3 9FA",1054,"No data","","","","","","","","","","","","","",""]
["Y56","QKK","72Q","V023237",null,null,"Beaconsfield Dental Practice, 86 High Street, Orpington, BR6 0LZ","BR6 0LZ",2038,"No data","","","","","","","","","","","","","",""]
["Y56","QKK","72Q","V025103",null,null,"East Dulwich Dental Care, 4 Forest Hill Road, London, SE22 0RR","SE22 0RR",2359,"No data","","","","","","","","","","","","","",""]
["Y56","QKK","72Q","V026454",null,null,"172 Bexley Road, Erith, Kent, DA8 3HG","DA8 3HG",1790,"No data","","","","","","","","","","","","","",""]
["Y56","QKK","72Q","V028149",null,null,"Downtown Health Centre, 11 Blondin Way, London, SE16 6AE","SE16 6AE",934,"No data","","","","","","","","","","","","","",""]
["Y56","QKK","72Q","V029381",null,null,"1-3, Garland Road, London, SE18 2RU","SE18 2RU",2298,"No data","","","","","","","","","","","","","",""]
["Y56","QKK","72Q","V029986",null,null,"Habashi Dental Practice, 176 Eynsham Drive, Abbey Wood, London, SE2 9PT","SE2 9PT",4658,"No data","","","","","","","","","","","","","",""]
["Y56","QKK","72Q","V030186",null,null,"10 - 12 Crayford High Street, Crayford, Dartford, DA1 4HG, DA1 4HG","DA1 4HG",1795,"No data","","","","","","","","","","","","","",""]
["Y56","QKK","72Q","V031351",null,null,"Griffin Manor Way, London, SE28 0FJ","SE28 0FJ",398,"No data","","","","","","","","","","","","","",""]
["Y56","QKK","72Q","V031352",null,null,"Belmarsh, 1 Belmarsh Road, London, SE28 0EB","SE28 0EB",519,"No data","","","","","","","","","","","","","",""]
["Y56","QKK","72Q","V031364",null,null,"HMP/YOI Isis, Western Way, Thamesmead, SE28 0NZ","SE28 0NZ",288,"No data","","","","","","","","","","","","","",""]
["Y56","QKK","72Q","V032643",null,null,"15 HOOK LANE, WELLING, KENT, DA16 2DH","DA16 2DH",3621,"No data","","","","","","","","","","","","","",""]
["Y56","QKK","72Q","V040292",null,null,"20 The Village, Charlton, London, SE7 8UD","SE7 8UD",3366,"No data","","","","","","","","","","","","","",""]
["Y56","QKK","72Q","V042530",8038040001,"Parvin Faramarzi","65 THANET ROAD, BEXLEY, KENT, DA5 1AP","DA5 1AP",3130,13,0.84615384615384615,0.15384615384615385,6,5,0,1,1,0,0,0,0,11,2,0]
["Y56","QKK","72Q","V042596",null,null,"Mint Dental Clinic, 3 St Georges Court, Garden Row, SE1 6HD","SE1 6HD",179,"No data","","","","","","","","","","","","","",""]
["Y56","QKK","72Q","V043065",null,null,"Greenwich Dental Care, 3 HAZEL LANE, LONDON, SE10 9FZ","SE10 9FZ",2470,"No data","","","","","","","","","","","","","",""]
["Y56","QKK","72Q","V043874",null,null,"Adams House Dental Practice, 215-217 Petts Wood Road, Petts Wood, Orpington, BR5 1LA","BR5 1LA",1951,"No data","","","","","","","","","","","","","",""]
["Y56","QKK","72Q","V045283",null,null,"126 HIGH STREET, WEST WICKHAM, BR4 0LZ","BR4 0LZ",514,"No data","","","","","","","","","","","","","",""]
["Y56","QKK","72Q","V136955",1012930000,"Simply Orthodontics Ltd","Simply Orthodontics, 11 Station Road, Orpington, BR6 0RZ","BR6 0RZ",1193,29,1,0,26,3,0,0,0,0,29,0,0,0,0,0]
["Y56","QKK","72Q","V138701",1012960000,"Syed Kalimullah Sadiq","Orchard Orthodontics, 8 Brixton Hill, London, SW2 1EG","SW2 1EG",587,12,1,0,9,3,0,0,0,0,0,0,12,0,0,0]
["Y56","QKK","72Q","V138701",1012970000,"Syed Kalimullah Sadiq","Orchard Orthodontics, 8 Brixton Hill, London, SW2 1EG","SW2 1EG",598,12,1,0,9,3,0,0,0,0,0,0,12,0,0,0]
["Y56","QKK","72Q","V169019",1014320000,"Oasis Dental Care Limited","Total Orthodontics, 10-14 Mercy Terrace, Ladywell, London, SE13 7UX","SE13 7UX",1057,3,"*","*","*","*","*","*","*","*","*","*","*","*","*","*"]
["Y56","QKK","72Q","V169050",1014330000,"Portman Healthcare Ltd","Portman Smile Clinic, Unit 2c, Renaissance, Loampit Vale, London, SE13 7DJ","SE13 7DJ",605,10,1,0,5,5,0,0,0,0,0,5,0,0,0,5]
["Y56","QKK","72Q","V207205",null,null,"Wytes Elephant & Castle, 94-96 Walworth Road, London, SE1 6SW","SE1 6SW",3853,"No data","","","","","","","","","","","","","",""]
["Y56","QKK","93C","V004893",null,null,"263 Victoria Road, LONDON, N22 7XH","N22 7XH",null,"No data","","","","","","","","","","","","","",""]
["Y56","QMF","A3A8R","V000048",8259480001,"MR JK KOTECHA","Dental Surgery, 224 - 226 Whitechapel Road, LONDON, E1 1BJ","E1 1BJ",5095,23,0.95652173913043481,0,17,5,1,0,0,0,23,0,0,0,0,0]
["Y56","QMF","A3A8R","V000051",null,null,"21 Commercial Street, LONDON, E1 6BD","E1 6BD",1415,"No data","","","","","","","","","","","","","",""]
["Y56","QMF","A3A8R","V000190",null,null,"All Saints Dental Care, 211 East India Dock Road, London, E14 0ED","E14 0ED",680,"No data","","","","","","","","","","","","","",""]
["Y56","QMF","A3A8R","V000294",null,null,"Dental Surgery, 83 Chatsworth Road, LONDON, E5 0LH","E5 0LH",1895,"No data","","","","","","","","","","","","","",""]
["Y56","QMF","A3A8R","V001510",1700700001,"Chadwell Dental Practice Ltd","1215 High Road, Chadwell Heath, ROMFORD, RM6 4AL","RM6 4AL",4469,11,0.90909090909090906,0,7,3,1,0,0,0,11,0,0,0,0,0]
["Y56","QMF","A3A8R","V002113",null,null,"Dental Surgery, 44 - 56 Hessel Street, LONDON, E1 2LP","E1 2LP",808,"No data","","","","","","","","","","","","","",""]
["Y56","QMF","A3A8R","V002180",null,null,"Dental Surgery, 227 Mile End Road, LONDON, E1 4AA","E1 4AA",1317,"No data","","","","","","","","","","","","","",""]
["Y56","QMF","A3A8R","V002182",7307260001,"Family Dental Care","Dental Surgery, 211 Roman Road, LONDON, E2 0QY","E2 0QY",760,17,1,0,15,2,0,0,0,0,17,0,0,0,0,0]
["Y56","QMF","A3A8R","V002182",7422950001,"Family Dental Care","Dental Surgery, 211 Roman Road, LONDON, E2 0QY","E2 0QY",772,14,1,0,12,2,0,0,0,0,14,0,0,0,0,0]
["Y56","QMF","A3A8R","V002186",null,null,"AP Dental Practice, 238 - 240 Bethnal Green Road, LONDON, E2 0AA","E2 0AA",1312,"No data","","","","","","","","","","","","","",""]
["Y56","QMF","A3A8R","V002206",null,null,"Chrisp Street Dental Centre, 24 Market Way, LONDON, E14 6AH","E14 6AH",1632,"No data","","","","","","","","","","","","","",""]
["Y56","QMF","A3A8R","V002220",null,null,"Dental Surgery, 320A Burdett Road, LONDON, E14 7DL","E14 7DL",1586,"No data","","","","","","","","","","","","","",""]
["Y56","QMF","A3A8R","V002239",null,null,"222A Whitechapel Road, LONDON, E1 1BJ","E1 1BJ",1554,"No data","","","","","","","","","","","","","",""]
["Y56","QMF","A3A8R","V002256",8414630001,"MR H TOSI","32 Toynbee Street, LONDON, E1 7NE","E1 7NE",718,2,"*","*","*","*","*","*","*","*","*","*","*","*","*","*"]
["Y56","QMF","A3A8R","V002256",8432530001,"MS AL DOBRE","32 Toynbee Street, LONDON, E1 7NE","E1 7NE",589,2,"*","*","*","*","*","*","*","*","*","*","*","*","*","*"]
["Y56","QMF","A3A8R","V002286",null,null,"2nd Floor Dental Practice, Turner Street, London, E1 2AD","E1 2AD",1016,"No data","","","","","","","","","","","","","",""]
["Y56","QMF","A3A8R","V002297",null,null,"Dental Surgery, 29 Roman Road, LONDON, E2 0HU","E2 0HU",2121,"No data","","","","","","","","","","","","","",""]
["Y56","QMF","A3A8R","V002322",2328150001,"E2 Dental Practice","Dental Surgery, 427A Bethnal Green Road, LONDON, E2 0AN","E2 0AN",938,10,1,0,6,4,0,0,0,0,10,0,0,0,0,0]
["Y56","QMF","A3A8R","V002326",null,null,"Bow Dental Surgery, 143 Bow Road, LONDON, E3 2AN","E3 2AN",1830,"No data","","","","","","","","","","","","","",""]
["Y56","QMF","A3A8R","V002389",null,null,"Dental Surgery, 126 Salmon Lane, LONDON, E14 7PQ","E14 7PQ",1240,"No data","","","","","","","","","","","","","",""]
["Y56","QMF","A3A8R","V002399",null,null,"Island Health Dental Surgery, 145 East Ferry Road, LONDON, E14 3BQ","E14 3BQ",1321,"No data","","","","","","","","","","","","","",""]
["Y56","QMF","A3A8R","V002471",null,null,"Dental Surgery, 29 New Road, LONDON, E1 1HE","E1 1HE",562,"No data","","","","","","","","","","","","","",""]
["Y56","QMF","A3A8R","V002472",null,null,"Dental Surgery, 53 - 55 Old Ford Road, LONDON, E2 9PJ","E2 9PJ",2389,"No data","","","","","","","","","","","","","",""]
["Y56","QMF","A3A8R","V002473",null,null,"Altmore Dental Practice, 33 - 37 Amsterdam Road, LONDON, E14 3UU","E14 3UU",1326,"No data","","","","","","","","","","","","","",""]
["Y56","QMF","A3A8R","V002481",null,null,"Dental Surgery, 1 Nutter Lane, LONDON, E11 2HY","E11 2HY",462,"No data","","","","","","","","","","","","","",""]
["Y56","QMF","A3A8R","V002482",null,null,"Cambridge Park Dental Practice, 19 Cambridge Park, LONDON, E11 2PU","E11 2PU",548,"No data","","","","","","","","","","","","","",""]
["Y56","QMF","A3A8R","V002483",null,null,"Dental Surgery, 16 Glebelands Avenue, LONDON, E18 2AB","E18 2AB",3893,"No data","","","","","","","","","","","","","",""]
["Y56","QMF","A3A8R","V002485",3328520001,"JAYESH KOTECHA","Dental Surgery, Unit 3, Lower Level, The Exchange, High Road, IG1 1AR","IG1 1AR",6533,125,0.99199999999999999,0,116,8,0,0,0,1,0,0,125,0,0,0]
["Y56","QMF","A3A8R","V002486",null,null,"Dental Surgery, 152 Clements Road, ILFORD, Essex, IG1 1BE","IG1 1BE",4396,"No data","","","","","","","","","","","","","",""]
["Y56","QMF","A3A8R","V002488",null,null,"Dental Surgery, 26 Belmont Road, ILFORD, Essex, IG1 1YN","IG1 1YN",1524,"No data","","","","","","","","","","","","","",""]
["Y56","QMF","A3A8R","V002492",null,null,"Wellesley House Dental Surgery, 9 Wellesley Road, ILFORD, Essex, IG1 4JT","IG1 4JT",6319,"No data","","","","","","","","","","","","","",""]
["Y56","QMF","A3A8R","V002494",null,null,"Dental Surgery, 274 Cranbrook Road, ILFORD, Essex, IG1 4UR","IG1 4UR",1101,"No data","","","","","","","","","","","","","",""]
["Y56","QMF","A3A8R","V002496",null,null,"Dental Surgery, 58 Clarence Avenue, ILFORD, Essex, IG2 6JE","IG2 6JE",125,"No data","","","","","","","","","","","","","",""]
["Y56","QMF","A3A8R","V002498",null,null,"Dental Surgery, 630 Eastern Avenue, ILFORD, Essex, IG2 6PQ","IG2 6PQ",879,"No data","","","","","","","","","","","","","",""]
["Y56","QMF","A3A8R","V002500",1795740001,"Dental Health Centre Partnership","Dental Health Centre, 128 Woodford Avenue, ILFORD, Essex, IG2 6XA","IG2 6XA",2086,11,1,0,10,1,0,0,0,0,0,0,11,0,0,0]
["Y56","QMF","A3A8R","V002501",9259420001,"MR YR SARWAR","271-273 Aldborough Road South, ILFORD, Essex, IG3 8JB","IG3 8JB",1825,13,0.92307692307692313,0,11,1,1,0,0,0,10,1,0,0,2,0]
["Y56","QMF","A3A8R","V002502",null,null,"Dental Wizards, 50 Cameron Road, ILFORD, Essex, IG3 8LF","IG3 8LF",583,"No data","","","","","","","","","","","","","",""]
["Y56","QMF","A3A8R","V002503",7854900001,"MRS FI OLUYANNWO","Dental Surgery, 732 High Road, ILFORD, Essex, IG3 8SU","IG3 8SU",693,0,"NA","NA",0,0,0,0,0,0,0,0,0,0,0,0]
["Y56","QMF","A3A8R","V002504",null,null,"Dental Surgery, 438 Green Lane, ILFORD, Essex, IG3 9LD","IG3 9LD",707,"No data","","","","","","","","","","","","","",""]
["Y56","QMF","A3A8R","V002506",null,null,"Dental Surgery, 624 Green Lane, ILFORD, Essex, IG3 9SD","IG3 9SD",2540,"No data","","","","","","","","","","","","","",""]
["Y56","QMF","A3A8R","V002507",null,null,"Sweet Tooth Dental Care, 185 Redbridge Lane East, ILFORD, Essex, IG4 5DF","IG4 5DF",531,"No data","","","","","","","","","","","","","",""]
["Y56","QMF","A3A8R","V002508",null,null,"Dental Surgery, 51 Redbridge Lane East, ILFORD, Essex, IG4 5EU","IG4 5EU",6982,"No data","","","","","","","","","","","","","",""]
["Y56","QMF","A3A8R","V002509",null,null,"Dental Surgery, 161 Clayhall Avenue, ILFORD, Essex, IG5 0NZ","IG5 0NZ",1033,"No data","","","","","","","","","","","","","",""]
["Y56","QMF","A3A8R","V002510",null,null,"Clayhall Avenue Dental Health, 137 Clayhall Avenue, ILFORD, Essex, IG5 0PN","IG5 0PN",2609,"No data","","","","","","","","","","","","","",""]
["Y56","QMF","A3A8R","V002514",1946620001,"Barkingside Dental Care Ltd","Barkingside Dental Care, 47A High Street, Barkingside, ILFORD, Essex, IG6 2AD","IG6 2AD",661,18,0.94444444444444442,0,12,5,0,0,0,1,18,0,0,0,0,0]
["Y56","QMF","A3A8R","V002515",null,null,"Dental Surgery, 2 Fencepiece Road, ILFORD, Essex, IG6 2JX","IG6 2JX",1607,"No data","","","","","","","","","","","","","",""]
["Y56","QMF","A3A8R","V002517",null,null,"Bluebell Dentistry & Aesthetics, 140 Tomswood Hill, ILFORD, Essex, IG6 2QP","IG6 2QP",3224,"No data","","","","","","","","","","","","","",""]
["Y56","QMF","A3A8R","V002518",null,null,"Dental Surgery, 299-301 New North Road, ILFORD, Essex, IG6 3DX","IG6 3DX",1503,"No data","","","","","","","","","","","","","",""]
["Y56","QMF","A3A8R","V002519",null,null,"Hainault Gentle Dental Care, 434 New North Road, ILFORD, Essex, IG6 3EB","IG6 3EB",1132,"No data","","","","","","","","","","","","","",""]
["Y56","QMF","A3A8R","V002521",null,null,"L D'Cruz & A Grew, Dental Surgery, 6 The Broadway, Woodford Green, Essex, IG8 0HL","IG8 0HL",4448,"No data","","","","","","","","","","","","","",""]
["Y56","QMF","A3A8R","V002522",null,null,"Woodford Green Dental, 80 Snakes Lane East, WOODFORD GREEN, Essex, IG8 7QQ","IG8 7QQ",2414,"No data","","","","","","","","","","","","","",""]
["Y56","QMF","A3A8R","V002523",null,null,"Dental Surgery, 723 Chigwell Road, WOODFORD GREEN, Essex, IG8 8AS","IG8 8AS",1706,"No data","","","","","","","","","","","","","",""]
["Y56","QMF","A3A8R","V002527",null,null,"Woodford House Dental Practice, 162 High Road, WOODFORD GREEN, Essex, IG8 9EF","IG8 9EF",754,"No data","","","","","","","","","","","","","",""]
["Y56","QMF","A3A8R","V002528",null,null,"Dental Surgery, 101 Oak Hill, WOODFORD GREEN, Essex, IG8 9PF","IG8 9PF",4583,"No data","","","","","","","","","","","","","",""]
["Y56","QMF","A3A8R","V002532",null,null,"Dental Surgery, 1054 High Road, ROMFORD, Essex, RM6 4BB","RM6 4BB",4559,"No data","","","","","","","","","","","","","",""]
["Y56","QMF","A3A8R","V002545",null,null,"Dental Solutions, 161 Ilford Lane, ILFORD, Essex, IG1 2RR","IG1 2RR",167,"No data","","","","","","","","","","","","","",""]
["Y56","QMF","A3A8R","V002547",null,null,"The Gants Hill Dental Practice, 532 Cranbrook Road, ILFORD, Essex, IG2 6RD","IG2 6RD",2793,"No data","","","","","","","","","","","","","",""]
["Y56","QMF","A3A8R","V002560",null,null,"Dental Practice, 11 High Street, Wanstead, London, E11 2AA","E11 2AA",404,"No data","","","","","","","","","","","","","",""]
["Y56","QMF","A3A8R","V002641",null,null,"Dental Surgery, 344 Old Street, LONDON, EC1V 9DS","EC1V 9DS",882,"No data","","","","","","","","","","","","","",""]
["Y56","QMF","A3A8R","V002644",null,null,"Dental Surgery, 77 Upper Clapton Road, LONDON, E5 9BU","E5 9BU",1721,"No data","","","","","","","","","","","","","",""]
["Y56","QMF","A3A8R","V002648",5669690001,"Sohail Moulana","Dental Surgery, 319A Mare Street, LONDON, E8 1EJ","E8 1EJ",2937,10,1,0,7,3,0,0,0,0,10,0,0,0,0,0]
["Y56","QMF","A3A8R","V002650",null,null,"Dental Care, 177 Homerton High Street, LONDON, E9 6BB","E9 6BB",802,"No data","","","","","","","","","","","","","",""]
["Y56","QMF","A3A8R","V002651",null,null,"Dental Surgery, 307 Seven Sisters Road, LONDON, N4 1QR","N4 1QR",3044,"No data","","","","","","","","","","","","","",""]
["Y56","QMF","A3A8R","V002654",null,null,"Abney Dental Practice, Unit 4, 230 Stoke Newington High Street, LONDON, N16 7HU","N16 7HU",2299,"No data","","","","","","","","","","","","","",""]
["Y56","QMF","A3A8R","V002656",null,null,"Dentessentials, 75 Curtain Road, LONDON, EC2A 3BS","EC2A 3BS",1750,"No data","","","","","","","","","","","","","",""]
["Y56","QMF","A3A8R","V002663",null,null,"Trinity Dental Care, 167 Clarence Road, LONDON, E5 8EE","E5 8EE",433,"No data","","","","","","","","","","","","","",""]
["Y56","QMF","A3A8R","V002666",null,null,"Dental Surgery, 84 Lower Clapton Road, LONDON, E5 0RN","E5 0RN",368,"No data","","","","","","","","","","","","","",""]
["Y56","QMF","A3A8R","V002667",null,null,"Dental Surgery, 257C Mare Street, LONDON, E8 3NS","E8 3NS",239,"No data","","","","","","","","","","","","","",""]
["Y56","QMF","A3A8R","V002668",null,null,"Dental Surgery, 380A Mare Street, LONDON, E8 1HR","E8 1HR",2683,"No data","","","","","","","","","","","","","",""]
["Y56","QMF","A3A8R","V002670",null,null,"Kingsland Dental Surgery, 535 - 537 Kingsland Road, London, E8 4AR","E8 4AR",943,"No data","","","","","","","","","","","","","",""]
["Y56","QMF","A3A8R","V002672",null,null,"Dental Surgery, 33 Kingsland High Street, LONDON, E8 2JS","E8 2JS",817,"No data","","","","","","","","","","","","","",""]
["Y56","QMF","A3A8R","V002674",null,null,"Dental Surgery, 139 Well Street, LONDON, E9 7LJ","E9 7LJ",752,"No data","","","","","","","","","","","","","",""]
["Y56","QMF","A3A8R","V002676",1272800001,"S Cowley, R Ingham and J Angelo","Dental Surgery, 220 Well Street, LONDON, E9 6QT","E9 6QT",2797,17,0.88235294117647056,0,11,4,2,0,0,0,0,0,0,17,0,0]
["Y56","QMF","A3A8R","V002678",null,null,"Nile Street Dental Practice, 77 Nile Street, LONDON, N1 7RD","N1 7RD",1533,"No data","","","","","","","","","","","","","",""]
["Y56","QMF","A3A8R","V002679",null,null,"1 Balls Pond Road, LONDON, N1 4AX","N1 4AX",945,"No data","","","","","","","","","","","","","",""]
["Y56","QMF","A3A8R","V002680",null,null,"St Leonards Family Dental, Practice, St Leonards Hospital, Nuttall Street, London, N1 5LZ","N1 5LZ",3065,"No data","","","","","","","","","","","","","",""]
["Y56","QMF","A3A8R","V002682",null,null,"B Davidoff Dental Surgery, 103 Stamford Hill, LONDON, N16 5TR","N16 5TR",2667,"No data","","","","","","","","","","","","","",""]
["Y56","QMF","A3A8R","V002683",null,null,"Stoke Newington Dental Surgery, 83 Stoke Newington High Street, LONDON, N16 8EL","N16 8EL",2152,"No data","","","","","","","","","","","","","",""]
["Y56","QMF","A3A8R","V002688",1767290001,"S Cowley, R Ingham and J Angelo","Vital Dental Care, 169 Stoke Newington Church Stree, LONDON, N16 0UL","N16 0UL",5192,17,0.94117647058823528,0,12,4,1,0,0,0,0,0,0,17,0,0]
["Y56","QMF","A3A8R","V002729",null,null,"Dental Surgery, 288 Seven Sisters Road, LONDON, N4 2AA","N4 2AA",668,"No data","","","","","","","","","","","","","",""]
["Y56","QMF","A3A8R","V002805",null,null,"Dental Surgery, 515A Gale Street, DAGENHAM, Essex, RM9 4TP","RM9 4TP",4141,"No data","","","","","","","","","","","","","",""]
["Y56","QMF","A3A8R","V002806",null,null,"I Levitan And Associates, 1 - 5 Orchard Road, DAGENHAM, Essex, RM10 9PT","RM10 9PT",3771,"No data","","","","","","","","","","","","","",""]
["Y56","QMF","A3A8R","V002807",null,null,"Dental Surgery, 221 Heathway, DAGENHAM, Essex, RM9 6AE","RM9 6AE",2535,"No data","","","","","","","","","","","","","",""]
["Y56","QMF","A3A8R","V002808",null,null,"Dental Surgery, 618 Becontree Avenue, DAGENHAM, Essex, RM8 3HB","RM8 3HB",1525,"No data","","","","","","","","","","","","","",""]
["Y56","QMF","A3A8R","V002809",null,null,"The Heathway Dental Surgery, 276A Heathway, DAGENHAM, Essex, RM10 8QS","RM10 8QS",2687,"No data","","","","","","","","","","","","","",""]
["Y56","QMF","A3A8R","V002813",null,null,"479 Wood Lane, DAGENHAM, Essex, RM8 3NT","RM8 3NT",1303,"No data","","","","","","","","","","","","","",""]
["Y56","QMF","A3A8R","V002816",null,null,"474 Whalebone Lane North, ROMFORD, Essex, RM6 6RL","RM6 6RL",6083,"No data","","","","","","","","","","","","","",""]
["Y56","QMF","A3A8R","V002819",null,null,"Dental Surgeon, 25 - 27 London Road, BARKING, Essex, IG11 8AA","IG11 8AA",1775,"No data","","","","","","","","","","","","","",""]
["Y56","QMF","A3A8R","V002822",null,null,"M C Dentistry Ltd, Dental Surgery, 208 Longbridge Road, BARKING, Essex, IG11 8SY","IG11 8SY",7523,"No data","","","","","","","","","","","","","",""]
["Y56","QMF","A3A8R","V002823",null,null,"The Orchard Health Centre, Gascoigne Road, BARKING, Essex, IG11 7RS","IG11 7RS",917,"No data","","","","","","","","","","","","","",""]
["Y56","QMF","A3A8R","V002831",null,null,"Dental Surgery, 228 Oxlow Lane, DAGENHAM, Essex, RM10 7YX","RM10 7YX",3159,"No data","","","","","","","","","","","","","",""]
["Y56","QMF","A3A8R","V002832",null,null,"East Street Dental Practice, 63 - 65 East Street, Barking, Essex, IG11 8EN","IG11 8EN",4935,"No data","","","","","","","","","","","","","",""]
["Y56","QMF","A3A8R","V002833",null,null,"Castle Dental Practice, 812 Green Lane, Dagenham, Essex, RM8 1YR","RM8 1YR",1526,"No data","","","","","","","","","","","","","",""]
["Y56","QMF","A3A8R","V002888",null,null,"Cedars Dental Practice, 775 High Road Leyton, LONDON, E10 5AB","E10 5AB",1813,"No data","","","","","","","","","","","","","",""]
["Y56","QMF","A3A8R","V002889",null,null,"Dental Care Centre, 399 High Road Leyton, LONDON, E10 5NA","E10 5NA",2005,"No data","","","","","","","","","","","","","",""]
["Y56","QMF","A3A8R","V002892",null,null,"Dental Surgery, 229 High Road Leyton, LONDON, E10 5QE","E10 5QE",2337,"No data","","","","","","","","","","","","","",""]
["Y56","QMF","A3A8R","V002894",8695460002,"Leyton Dental Surgery Partnership","Leyton Dental Surgery, 724 High Road Leyton, LONDON, E10 6AA","E10 6AA",1215,21,0.95238095238095233,0,17,3,1,0,0,0,0,21,0,0,0,0]
["Y56","QMF","A3A8R","V002897",null,null,"Key 2 Smile, 622 Lea Bridge Road, LONDON, E10 6AP","E10 6AP",1692,"No data","","","","","","","","","","","","","",""]
["Y56","QMF","A3A8R","V002900",null,null,"Dental Surgery, 433 Lea Bridge Road, LONDON, E10 7EA","E10 7EA",2653,"No data","","","","","","","","","","","","","",""]
["Y56","QMF","A3A8R","V002903",8241270001,"MR AM HATHI","Dental Surgery, 153 Hainault Road, LONDON, E11 1DT","E11 1DT",1447,1,"*","*","*","*","*","*","*","*","*","*","*","*","*","*"]
["Y56","QMF","A3A8R","V002907",3262160001,"MR LC WONG","Wongs Dental Surgery, 845-847 High Street Leytonstone, LONDON, E11 1HH","E11 1HH",1822,3,"*","*","*","*","*","*","*","*","*","*","*","*","*","*"]
["Y56","QMF","A3A8R","V002909",null,null,"Dental Practice, Dental Surgery, 318 High Road Leytonstone, LONDON, E11 3HS","E11 3HS",1432,"No data","","","","","","","","","","","","","",""]
["Y56","QMF","A3A8R","V002912",null,null,"Park Vue Dental Practice, 330 Cann Hall Road, LONDON, E11 3NW","E11 3NW",2043,"No data","","","","","","","","","","","","","",""]
["Y56","QMF","A3A8R","V002915",null,null,"Thatched House Dental Practice, 154 High Road Leytonstone, LONDON, E15 1UA","E15 1UA",766,"No data","","","","","","","","","","","","","",""]
["Y56","QMF","A3A8R","V002916",null,null,"Dental Surgery, 18 Church Hill, LONDON, E17 3AG","E17 3AG",1234,"No data","","","","","","","","","","","","","",""]
["Y56","QMF","A3A8R","V002917",3445160001,"MS MK MORADI","Wood Street Dental Practice, 176 Wood Street, LONDON, E17 3HX","E17 3HX",2135,81,1,0,72,9,0,0,0,0,81,0,0,0,0,0]
["Y56","QMF","A3A8R","V002919",null,null,"Dental Surgery, 31 Chingford Road, LONDON, E17 4PW","E17 4PW",272,"No data","","","","","","","","","","","","","",""]
["Y56","QMF","A3A8R","V002920",null,null,"M Wong & Assoc. Dental Surgery, 123 Hoe Street, LONDON, E17 4RX","E17 4RX",1469,"No data","","","","","","","","","","","","","",""]
["Y56","QMF","A3A8R","V002921",7312850001,"Nisha Majevada","Dental Surgery, 288 Forest Road, LONDON, E17 5JN","E17 5JN",4115,45,0.93333333333333335,0,19,23,3,0,0,0,45,0,0,0,0,0]
["Y56","QMF","A3A8R","V002922",1653360001,"Inspire Dental","Palmerston Dental Practice, 67-69 Palmerston Road, LONDON, E17 6PU","E17 6PU",2968,39,1,0,38,1,0,0,0,0,39,0,0,0,0,0]
["Y56","QMF","A3A8R","V002924",1016870000,"Dental Design Studio","129 High Street, LONDON, E17 7DB","E17 7DB",5720,1,"*","*","*","*","*","*","*","*","*","*","*","*","*","*"]
["Y56","QMF","A3A8R","V002924",5726590001,"Dental Design Studio","129 High Street, LONDON, E17 7DB","E17 7DB",3363,2,"*","*","*","*","*","*","*","*","*","*","*","*","*","*"]
["Y56","QMF","A3A8R","V002925",8259480003,"MR JK KOTECHA","Abbey Dental Practice, 25 St Jamess Street, LONDON, E17 7PJ","E17 7PJ",6966,40,1,0,40,0,0,0,0,0,40,0,0,0,0,0]
["Y56","QMF","A3A8R","V002928",null,null,"Dental Surgery, 337 Hoe Street, LONDON, E17 9BD","E17 9BD",3025,"No data","","","","","","","","","","","","","",""]
["Y56","QMF","A3A8R","V002930",null,null,"Chingford Mount Dental Practice, 35 Hall Lane, LONDON, E4 8HH","E4 8HH",1628,"No data","","","","","","","","","","","","","",""]
["Y56","QMF","A3A8R","V002931",null,null,"Dental Surgery, 252A Chingford Mount Road, LONDON, E4 8JL","E4 8JL",1008,"No data","","","","","","","","","","","","","",""]
["Y56","QMF","A3A8R","V003100",null,null,"Newham Dental Care, 2 Burges Road, LONDON, E6 2BH","E6 2BH",908,"No data","","","","","","","","","","","","","",""]
["Y56","QMF","A3A8R","V003102",null,null,"Green Street Dental Surgery, 244 Green Street, LONDON, E7 8LE","E7 8LE",2054,"No data","","","","","","","","","","","","","",""]
["Y56","QMF","A3A8R","V003106",null,null,"The Principal Dentist, 78 Plashet Road, LONDON, E13 0RQ","E13 0RQ",1301,"No data","","","","","","","","","","","","","",""]
["Y56","QMF","A3A8R","V003109",null,null,"Stratford Village Dental, Practice, 42A Romford Road, London, E15 4BZ","E15 4BZ",2450,"No data","","","","","","","","","","","","","",""]
["Y56","QMF","A3A8R","V003111",1365570001,"S Cowley, R Ingham and J Angelo","Beckton Dental Surgery, Tollgate Medical Centre, 220 Tollgate Road, LONDON, E6 5JS","E6 5JS",2990,11,0.63636363636363635,0,6,1,1,0,0,3,0,0,0,11,0,0]
["Y56","QMF","A3A8R","V003114",null,null,"Dental Surgery, 480 Barking Road, LONDON, E6 2LT","E6 2LT",1640,"No data","","","","","","","","","","","","","",""]
["Y56","QMF","A3A8R","V003116",null,null,"Dental Surgery, 21 Plashet Grove, LONDON, E6 1AD","E6 1AD",3179,"No data","","","","","","","","","","","","","",""]
["Y56","QMF","A3A8R","V003122",7427320001,"MR R SULLMAN","Dental Surgery, 270 Barking Road, LONDON, E6 3BA","E6 3BA",750,127,1,0,127,0,0,0,0,0,0,126,0,0,0,1]
["Y56","QMF","A3A8R","V003124",null,null,"Woodgrange Dental Surgery, 80 Woodgrange Road, LONDON, E7 0EW","E7 0EW",4264,"No data","","","","","","","","","","","","","",""]
["Y56","QMF","A3A8R","V003125",null,null,"Dental Surgery, 394 Katherine Road, LONDON, E7 8NW","E7 8NW",2056,"No data","","","","","","","","","","","","","",""]
["Y56","QMF","A3A8R","V003132",null,null,"Romford Road Dental Centre, 669 Romford Road, LONDON, E12 5AD","E12 5AD",656,"No data","","","","","","","","","","","","","",""]
["Y56","QMF","A3A8R","V003134",null,null,"Dental Surgery, 290 High Street North, LONDON, E12 6SA","E12 6SA",3024,"No data","","","","","","","","","","","","","",""]
["Y56","QMF","A3A8R","V003136",null,null,"Manor Park Dental Practice, 620 Romford Road, LONDON, E12 5AQ","E12 5AQ",2520,"No data","","","","","","","","","","","","","",""]
["Y56","QMF","A3A8R","V003139",6857630001,"MR S CHAUDHURI","4 Terrace Road, LONDON, E13 0PB","E13 0PB",1846,13,0.92307692307692313,0,7,5,0,0,0,1,13,0,0,0,0,0]
["Y56","QMF","A3A8R","V003141",null,null,"Dental Surgery, 1st Fl 368-370 Barking Road, LONDON, E13 8HL","E13 8HL",1162,"No data","","","","","","","","","","","","","",""]
["Y56","QMF","A3A8R","V003143",null,null,"Greengate Dental Surgery, 540 Barking Road, LONDON, E13 8QE","E13 8QE",3873,"No data","","","","","","","","","","","","","",""]
["Y56","QMF","A3A8R","V003148",1505250001,"The Nightingale Clinic","679 Barking Road, London, LONDON, E13 9EU","E13 9EU",6417,14,0.9285714285714286,0,11,2,1,0,0,0,14,0,0,0,0,0]
["Y56","QMF","A3A8R","V003151",1667900001,"East London Dental Care","Dental Surgery, 499 Barking Road, LONDON, E13 8PS","E13 8PS",1302,13,1,0,8,5,0,0,0,0,13,0,0,0,0,0]
["Y56","QMF","A3A8R","V003154",null,null,"Upton Park Dental Care, Unit 1, 386 - 388 Green Street, LONDON, E13 9AP","E13 9AP",1766,"No data","","","","","","","","","","","","","",""]
["Y56","QMF","A3A8R","V003156",null,null,"Wisteria House Dental Practice, 55 Romford Road, Stratford, E15 4LY","E15 4LY",1737,"No data","","","","","","","","","","","","","",""]
["Y56","QMF","A3A8R","V003159",null,null,"Dental Surgery, 156 Barking Road, LONDON, E16 1EN","E16 1EN",2434,"No data","","","","","","","","","","","","","",""]
["Y56","QMF","A3A8R","V003161",null,null,"Sunny Smiles Dental Innovations, 51 Barking Road, LONDON, E16 4HB","E16 4HB",2620,"No data","","","","","","","","","","","","","",""]
["Y56","QMF","A3A8R","V003162",null,null,"City Airport Dental Surgery, 1 Saville Road, LONDON, E16 2DS","E16 2DS",1211,"No data","","","","","","","","","","","","","",""]
["Y56","QMF","A3A8R","V003202",1741220001,"Mr Matthew Power, Mrs Nicola Powerand Mr Jayesh Kotecha","Phoenix Orthodontic Practice, Over Units 10 & 11 Units 13&14, Mary Rose Mall, Beckton, London, E6 5LX","E6 5LX",1358,28,0.9285714285714286,3.5714285714285712E-2,17,9,0,0,1,1,28,0,0,0,0,0]
["Y56","QMF","A3A8R","V003499",null,null,"Dental Surgery, 109 Mawney Road, ROMFORD, Essex, RM7 7JA","RM7 7JA",5276,"No data","","","","","","","","","","","","","",""]
["Y56","QMF","A3A8R","V003500",1931270001,"RUSHDENT LIMITED","Dental Surgery, 193 Rush Green Road, ROMFORD, Essex, RM7 0PX","RM7 0PX",1580,3,"*","*","*","*","*","*","*","*","*","*","*","*","*","*"]
["Y56","QMF","A3A8R","V003508",null,null,"Dental Surgery, 167 North Street, ROMFORD, Essex, RM1 1DT","RM1 1DT",2226,"No data","","","","","","","","","","","","","",""]
["Y56","QMF","A3A8R","V003510",1392620001,"St Johns Dental Practice Limited","St Johns Dental Practice, 56 Western Road, ROMFORD, Essex, RM1 3LP","RM1 3LP",2095,5,1,0,4,1,0,0,0,0,5,0,0,0,0,0]
["Y56","QMF","A3A8R","V003512",8095430002,"MR SV PATEL","Dental Surgery, 17 Chase Cross Road, ROMFORD, Essex, RM5 3PJ","RM5 3PJ",2032,17,1,0,17,0,0,0,0,0,17,0,0,0,0,0]
["Y56","QMF","A3A8R","V003514",null,null,"Dental Surgery, 132 Gubbins Lane, ROMFORD, Essex, RM3 0DP","RM3 0DP",2300,"No data","","","","","","","","","","","","","",""]
["Y56","QMF","A3A8R","V003515",null,null,"Dental Surgery, 79 Retford Road, ROMFORD, Essex, RM3 9ND","RM3 9ND",2070,"No data","","","","","","","","","","","","","",""]
["Y56","QMF","A3A8R","V003517",null,null,"Dental Surgery, 219 - 221 Straight Road, ROMFORD, Essex, RM3 7JP","RM3 7JP",2718,"No data","","","","","","","","","","","","","",""]
["Y56","QMF","A3A8R","V003518",null,null,"Dental Surgery, 261 Hornchurch Road, HORNCHURCH, Essex, RM12 4TG","RM12 4TG",1052,"No data","","","","","","","","","","","","","",""]
["Y56","QMF","A3A8R","V003523",null,null,"Ardleigh Green Dental Clinic, 102 Ardleigh Green Road, HORNCHURCH, Essex, RM11 2LG","RM11 2LG",2983,"No data","","","","","","","","","","","","","",""]
["Y56","QMF","A3A8R","V003525",7516690001,"MR V KAJAN","98 North Street, HORNCHURCH, Essex, RM11 1SU","RM11 1SU",826,15,0.8666666666666667,0,10,3,1,0,0,1,15,0,0,0,0,0]
["Y56","QMF","A3A8R","V003527",1012810037,"OASIS DENTAL CARE LTD","Oasis Dental Care, Slewins Lane, Hornchurch, Essex, RM11 2BS","RM11 2BS",1278,40,1,0,35,5,0,0,0,0,0,0,0,0,40,0]
["Y56","QMF","A3A8R","V003532",null,null,"Parkview Dental Practice, 300 Upper Rainham Road, HORNCHURCH, Essex, RM12 4EQ","RM12 4EQ",2348,"No data","","","","","","","","","","","","","",""]
["Y56","QMF","A3A8R","V003534",null,null,"Dental Surgery, 28 Rosewood Avenue, HORNCHURCH, Essex, RM12 5LH","RM12 5LH",6510,"No data","","","","","","","","","","","","","",""]
["Y56","QMF","A3A8R","V003535",null,null,"South End Road Dental Surgery, 166 South End Road, RAINHAM, Essex, RM13 7XR","RM13 7XR",2427,"No data","","","","","","","","","","","","","",""]
["Y56","QMF","A3A8R","V003536",null,null,"Raydens Dental Surgery, Raydens, Upminster Road South, RAINHAM, Essex, RM13 9AB","RM13 9AB",4500,"No data","","","","","","","","","","","","","",""]
["Y56","QMF","A3A8R","V003537",null,null,"Dental Surgery, 10 Hall Lane, UPMINSTER, Essex, RM14 1AE","RM14 1AE",6317,"No data","","","","","","","","","","","","","",""]
["Y56","QMF","A3A8R","V003539",null,null,"Dr P E Algra, 34A Station Road, UPMINSTER, Essex, RM14 2TR","RM14 2TR",2717,"No data","","","","","","","","","","","","","",""]
["Y56","QMF","A3A8R","V003540",null,null,"Dental Surgery, 36A Corbets Tey Road, UPMINSTER, Essex, RM14 2AD","RM14 2AD",972,"No data","","","","","","","","","","","","","",""]
["Y56","QMF","A3A8R","V003542",null,null,"163 St Marys Lane, UPMINSTER, Essex, RM14 3BL","RM14 3BL",2044,"No data","","","","","","","","","","","","","",""]
["Y56","QMF","A3A8R","V003543",null,null,"Dental Surgery, 141 Ingrebourne Gardens, UPMINSTER, Essex, RM14 1BJ","RM14 1BJ",3738,"No data","","","","","","","","","","","","","",""]
["Y56","QMF","A3A8R","V003604",null,null,"63 Eastern Road, ROMFORD, Essex, RM1 3PB","RM1 3PB",452,"No data","","","","","","","","","","","","","",""]
["Y56","QMF","A3A8R","V006429",null,null,"Forest Dental Care, 73 Hoe Street, LONDON, E17 4SA","E17 4SA",1606,"No data","","","","","","","","","","","","","",""]
["Y56","QMF","A3A8R","V008474",null,null,"The Health Centre Dental Surgery, Bastable Avenue, Barking, Essex, IG11 0LG","IG11 0LG",1600,"No data","","","","","","","","","","","","","",""]
["Y56","QMF","A3A8R","V008803",null,null,"Dental Surgery, 76 Plashet Grove, LONDON, E6 1AB","E6 1AB",390,"No data","","","","","","","","","","","","","",""]
["Y56","QMF","A3A8R","V008948",null,null,"34A Barley Lane, ILFORD, Essex, IG3 8XF","IG3 8XF",159,"No data","","","","","","","","","","","","","",""]
["Y56","QMF","A3A8R","V009311",null,null,"Church Road Dental Practice, 30 Church Road, Manor Park, E12 6AQ","E12 6AQ",8178,"No data","","","","","","","","","","","","","",""]
["Y56","QMF","A3A8R","V009769",null,null,"Five Elms Health Centre, Five Elms Road, DAGENHAM, Essex, RM9 5TT","RM9 5TT",3209,"No data","","","","","","","","","","","","","",""]
["Y56","QMF","A3A8R","V010440",7469590001,"Wanstead Village Dental & Health Centre","Wanstead Village Dental & Health Centre, Phoenix House, 24 High Street, Wanstead, LONDON, E11 2AQ","E11 2AQ",6004,3,"*","*","*","*","*","*","*","*","*","*","*","*","*","*"]
["Y56","QMF","A3A8R","V010644",3533020002,"MRS A BROGAN","The Avenue Dental Centre, 180 The Avenue, Highams Park, LONDON, E4 9RD","E4 9RD",3186,22,1,0,17,5,0,0,0,0,22,0,0,0,0,0]
["Y56","QMF","A3A8R","V010760",null,null,"Apples & Spice Dental Surgery, 119 Plaistow Road, Stratford, E15 3ET","E15 3ET",1517,"No data","","","","","","","","","","","","","",""]
["Y56","QMF","A3A8R","V010875",null,null,"7 St Marys Lane, UPMINSTER, Essex, RM14 2QU","RM14 2QU",971,"No data","","","","","","","","","","","","","",""]
["Y56","QMF","A3A8R","V012170",null,null,"15 Artillery Passage, London, E1 7LJ","E1 7LJ",92,"No data","","","","","","","","","","","","","",""]
["Y56","QMF","A3A8R","V012268",null,null,"Dental Surgery, 237 Hall Lane, LONDON, E4 8HX","E4 8HX",1444,"No data","","","","","","","","","","","","","",""]
["Y56","QMF","A3A8R","V012505",null,null,"Collier Row Dental Practice, 21 Collier Row Road, Collier Row, Romford, Essex, RM5 3NR","RM5 3NR",382,"No data","","","","","","","","","","","","","",""]
["Y56","QMF","A3A8R","V012519",null,null,"Chingford Dental Surgery, 66 Station Road, London, E4 7BA","E4 7BA",1301,"No data","","","","","","","","","","","","","",""]
["Y56","QMF","A3A8R","V012539",null,null,"Waterside Dental Health, Units 1-2, Raleigh House, Admirals Way, South Quay, LONDON, E14 9SN","E14 9SN",19,"No data","","","","","","","","","","","","","",""]
["Y56","QMF","A3A8R","V012564",null,null,"WILLIAM PLACE DENTAL AESTHETICS, William Place, London, E3 5ED","E3 5ED",4039,"No data","","","","","","","","","","","","","",""]
["Y56","QMF","A3A8R","V012684",null,null,"Forest Dental Surgery, 76 Upton Lane, Forest Gate, London, E7 9LW","E7 9LW",2211,"No data","","","","","","","","","","","","","",""]
["Y56","QMF","A3A8R","V013560",null,null,"1-3 Dewey Road, Dagenham, Essex, RM10 8AP","RM10 8AP",2834,"No data","","","","","","","","","","","","","",""]
["Y56","QMF","A3A8R","V013607",1013010000,"Align & Smile Ltd","Unit 6, New Providence Wharf, Blackwall Way, LONDON, E14 9PA","E14 9PA",863,6,0.83333333333333337,0,4,1,0,0,0,1,0,0,6,0,0,0]
["Y56","QMF","A3A8R","V013607",1016660000,"MISS SY BHUIYAN","Unit 6, New Providence Wharf, Blackwall Way, LONDON, E14 9PA","E14 9PA",1759,8,1,0,7,1,0,0,0,0,0,0,8,0,0,0]
["Y56","QMF","A3A8R","V013607",2506430001,"MISS SY BHUIYAN","Unit 6, New Providence Wharf, Blackwall Way, LONDON, E14 9PA","E14 9PA",2414,54,0.98148148148148151,0,38,15,1,0,0,0,0,0,54,0,0,0]
["Y56","QMF","A3A8R","V013715",null,null,"Dental Suite, Docklands Medical Centre, 100 Spindrift avenue, london, E14 9WU","E14 9WU",2453,"No data","","","","","","","","","","","","","",""]
["Y56","QMF","A3A8R","V014123",null,null,"6 Fremantle Road, ILFORD, Essex, IG6 2AZ","IG6 2AZ",1530,"No data","","","","","","","","","","","","","",""]
["Y56","QMF","A3A8R","V014982",8259480002,"MR JK KOTECHA","Abbey Dental Practice, 2 Arboretum Place, Barking, Essex, IG11 7RL","IG11 7RL",6785,90,1,0,90,0,0,0,0,0,0,0,90,0,0,0]
["Y56","QMF","A3A8R","V016763",null,null,"Whitechapel Dental Centre, 132-134 Whitechapel Road, London, E1 1JE","E1 1JE",2742,"No data","","","","","","","","","","","","","",""]
["Y56","QMF","A3A8R","V017978",null,null,"16-18, Goswell Road, London, EC1M 7AA","EC1M 7AA",979,"No data","","","","","","","","","","","","","",""]
["Y56","QMF","A3A8R","V018269",null,null,"Harford Health Centre, 115 Harford Street, London, E1 4FG","E1 4FG",1784,"No data","","","","","","","","","","","","","",""]
["Y56","QMF","A3A8R","V020154",null,null,"831 Longbridge Road, Dagenham, Essex, RM8 2DA","RM8 2DA",1707,"No data","","","","","","","","","","","","","",""]
["Y56","QMF","A3A8R","V023602",null,null,"Rose Lane Dental Surgery, 129 Rose Lane, Chadwell Heath, Romford, Essex, RM6 5NR","RM6 5NR",1892,"No data","","","","","","","","","","","","","",""]
["Y56","QMF","A3A8R","V023750",1590500001,"THE HARROW DENTAL PRACTICE LIMITED","23 High Street, Hornchurch, Essex, RM11 1TP","RM11 1TP",4461,25,1,0,25,0,0,0,0,0,25,0,0,0,0,0]
["Y56","QMF","A3A8R","V028499",null,null,"Millharbour Dentistry, 38 West Quay Walk, London, E14 9DH","E14 9DH",930,"No data","","","","","","","","","","","","","",""]
["Y56","QMF","A3A8R","V030174",null,null,"121 Stoke Newington High Street, London, N16 0PH","N16 0PH",6568,"No data","","","","","","","","","","","","","",""]
["Y56","QMF","A3A8R","V030919",null,null,"Wapping Dental Centre, 172 The Highway, Wapping, London, E1W 3DD","E1W 3DD",2788,"No data","","","","","","","","","","","","","",""]
["Y56","QMF","A3A8R","V041942",1012920000,"Barbican Orthodontic Ltd","Barbican Orthodontic Clinic, 84-85 Long Lane, London, EC1A 9ET","EC1A 9ET",923,10,1,0,9,1,0,0,0,0,10,0,0,0,0,0]
["Y56","QMF","A3A8R","V042641",null,null,"Ilford Dental Centre, 131 Ley Street, Ilford, Essex, IG1 4BH","IG1 4BH",998,"No data","","","","","","","","","","","","","",""]
["Y56","QMF","A3A8R","V042652",null,null,"3 MIRABELLE GARDENS, OLYMPIC PARK, LONDON, E20 1BX","E20 1BX",3766,"No data","","","","","","","","","","","","","",""]
["Y56","QMF","A3A8R","V043101",null,null,"37-39, MARE STREET, LONDON, E8 4RP","E8 4RP",1714,"No data","","","","","","","","","","","","","",""]
["Y56","QMF","A3A8R","V043380",null,null,"202 Commercial Road, London, E1 2JT","E1 2JT",990,"No data","","","","","","","","","","","","","",""]
["Y56","QMF","A3A8R","V044836",null,null,"815 Commercial Road, London, E14 7HG","E14 7HG",1943,"No data","","","","","","","","","","","","","",""]
["Y56","QMF","A3A8R","V045254",null,null,"106 SOUTH END ROAD, RAINHAM, RM13 7XJ","RM13 7XJ",586,"No data","","","","","","","","","","","","","",""]
["Y56","QMF","A3A8R","V045588",null,null,"14 Collent Street, London, E9 6SG","E9 6SG",1525,"No data","","","","","","","","","","","","","",""]
["Y56","QMF","A3A8R","V134979",null,null,"Manor Orthodontic & Implant clinic, 48 Woodberry Grove, London, N4 1SN","N4 1SN",603,"No data","","","","","","","","","","","","","",""]
["Y56","QMF","A3A8R","V134980",null,null,"Malmin Orthodontic, 544 Green Lane, Ilford, Essex, IG3 9LL","IG3 9LL",973,"No data","","","","","","","","","","","","","",""]
["Y56","QMF","A3A8R","V134984",null,null,"Angle House Orthodontics, 237 Hall Lane, Chingford, London, E4 8HX","E4 8HX",1509,"No data","","","","","","","","","","","","","",""]
["Y56","QMF","A3A8R","V139020",1013030000,"Chadwell Heath Orthodontics Ltd","Chadwell Heath Orthodontic Practice, 165 High Road, Chadwell Heath, Chadwell Heath, RM6 6NL","RM6 6NL",1044,35,0.97142857142857142,0,21,13,1,0,0,0,35,0,0,0,0,0]
["Y56","QMF","A3A8R","V177441",null,null,"3 Rowallen Parade, Green Lane, Dagenham, RM8 1XU","RM8 1XU",785,"No data","","","","","","","","","","","","","",""]
["Y56","QMF","A3A8R","V204035",null,null,"72 DALSTON LANE, LONDON, E8 3AH","E8 3AH",2275,"No data","","","","","","","","","","","","","",""]
["Y56","QMF","A3A8R","V205855",null,null,"6 - 7 Rathbone Market, Barking Road, Canning Town, E16 1EH","E16 1EH",1512,"No data","","","","","","","","","","","","","",""]
["Y56","QMF","A3A8R","V212376",null,null,"Ilford Lane Family Dental Surgery, 210 Ilford Lane, Ilford, IG1 2LW","IG1 2LW",808,"No data","","","","","","","","","","","","","",""]
["Y56","QMF","A3A8R","V222401",null,null,"Cosmo Clinic Ltd, 167-169 Kingsland Road, London, E2 8AL","E2 8AL",2890,"No data","","","","","","","","","","","","","",""]
["Y56","QMJ","93C","V000040",null,null,"Dental Surgery, 61 The Market Square, LONDON, N9 0TZ","N9 0TZ",1533,"No data","","","","","","","","","","","","","",""]
["Y56","QMJ","93C","V000621",null,null,"The Green Dental Practice, 701 High Road, North Finchley, London, N12 0BT","N12 0BT",310,"No data","","","","","","","","","","","","","",""]
["Y56","QMJ","93C","V000802",null,null,"Dental Surgery, 188 Seven Sisters Road, London, N7 7PX","N7 7PX",7140,"No data","","","","","","","","","","","","","",""]
["Y56","QMJ","93C","V001746",null,null,"Arrow Dental Surgery, 89A Robert Street, LONDON, NW1 3QT","NW1 3QT",1746,"No data","","","","","","","","","","","","","",""]
["Y56","QMJ","93C","V001942",2084930001,"MR PC WEE","The Surgery, 102A Cricklewood Broadway, LONDON, NW2 3EJ","NW2 3EJ",560,15,1,0,11,4,0,0,0,0,15,0,0,0,0,0]
["Y56","QMJ","93C","V003422",7649570004,"Valecha Dental Practice","Church Street Dental Practice, 25 Church Street, LONDON, N9 9DY","N9 9DY",6132,0,"NA","NA",0,0,0,0,0,0,0,0,0,0,0,0]
["Y56","QMJ","93C","V003430",null,null,"Bounces Dental Surgery, 82 Bounces Road, LONDON, N9 8JS","N9 8JS",1589,"No data","","","","","","","","","","","","","",""]
["Y56","QMJ","93C","V003433",null,null,"John Trewella And Associate, 461 Hertford Road, LONDON, N9 7DU","N9 7DU",832,"No data","","","","","","","","","","","","","",""]
["Y56","QMJ","93C","V003439",null,null,"Perfect Teeth, 324 Bowes Road, LONDON, N11 1AT","N11 1AT",1442,"No data","","","","","","","","","","","","","",""]
["Y56","QMJ","93C","V003443",null,null,"Bowes Road Dental Practice, 3 Chiltern Court, 359 Bowes Road, LONDON, N11 1AF","N11 1AF",1554,"No data","","","","","","","","","","","","","",""]
["Y56","QMJ","93C","V003445",1858170001,"DIPS Dental Surgery","456 Green Lanes, LONDON, N13 5XD","N13 5XD",4583,8,1,0,5,3,0,0,0,0,8,0,0,0,0,0]
["Y56","QMJ","93C","V003449",null,null,"Dental Surgery, 138 Bowes Road, LONDON, N13 4NP","N13 4NP",931,"No data","","","","","","","","","","","","","",""]
["Y56","QMJ","93C","V003450",null,null,"Fox Lane Dental Care, 12 Fox Lane, LONDON, N13 4AH","N13 4AH",1400,"No data","","","","","","","","","","","","","",""]
["Y56","QMJ","93C","V003451",null,null,"Park Parade Dental Practice, 86 Aldermans Hill, LONDON, N13 4PP","N13 4PP",524,"No data","","","","","","","","","","","","","",""]
["Y56","QMJ","93C","V003453",null,null,"Smilelounge, 489 Green Lanes, LONDON, N13 4BS","N13 4BS",218,"No data","","","","","","","","","","","","","",""]
["Y56","QMJ","93C","V003454",null,null,"Dental Surgery, 45 The Grove, LONDON, N13 5LD","N13 5LD",2893,"No data","","","","","","","","","","","","","",""]
["Y56","QMJ","93C","V003456",null,null,"Adams Dental Surgery, 244A Chase Side, LONDON, N14 4PL","N14 4PL",639,"No data","","","","","","","","","","","","","",""]
["Y56","QMJ","93C","V004124",null,null,"Dental Surgery, Shaldon Mansions, 132 Charing Cross Road, LONDON, WC2H 0LA","WC2H 0LA",92,"No data","","","","","","","","","","","","","",""]
["Y56","QMJ","93C","V004131",null,null,"Dental Surgery, 64 Mill Lane, LONDON, NW6 1NJ","NW6 1NJ",333,"No data","","","","","","","","","","","","","",""]
["Y56","QMJ","93C","V004133",null,null,"The Practice On The Hill, 36 Rosslyn Hill, LONDON, NW3 1NH","NW3 1NH",1087,"No data","","","","","","","","","","","","","",""]
["Y56","QMJ","93C","V004137",2152600002,"MR M WIEDER","Dental Surgery, 34 Malden Road, LONDON, NW5 3HH","NW5 3HH",1368,12,0.91666666666666663,0,11,0,1,0,0,0,12,0,0,0,0,0]
["Y56","QMJ","93C","V004144",null,null,"Ace Dental, 158 Kentish Town Road, LONDON, NW5 2AG","NW5 2AG",2315,"No data","","","","","","","","","","","","","",""]
["Y56","QMJ","93C","V004162",null,null,"Dental Surgery, 231 Grays Inn Road, LONDON, WC1X 8RH","WC1X 8RH",993,"No data","","","","","","","","","","","","","",""]
["Y56","QMJ","93C","V004179",9992370001,"MRS JM TALIB","Dental Surgery, 192 Caledonian Road, LONDON, N1 0SQ","N1 0SQ",841,17,1,0,16,1,0,0,0,0,17,0,0,0,0,0]
["Y56","QMJ","93C","V004183",null,null,"Dental Surgery, 74 Cleveland Street, LONDON, W1T 6NA","W1T 6NA",905,"No data","","","","","","","","","","","","","",""]
["Y56","QMJ","93C","V004185",null,null,"Dental Surgery, 139 Fortess Road, LONDON, NW5 2HR","NW5 2HR",1103,"No data","","","","","","","","","","","","","",""]
["Y56","QMJ","93C","V004186",null,null,"Dental Surgery, 93 Mildmay Park, LONDON, N1 4NB","N1 4NB",2359,"No data","","","","","","","","","","","","","",""]
["Y56","QMJ","93C","V004190",null,null,"105 Stroud Green Road, LONDON, N4 3PX","N4 3PX",939,"No data","","","","","","","","","","","","","",""]
["Y56","QMJ","93C","V004192",null,null,"Quex Dental Practice, 10 Quex Road, LONDON, NW6 4PL","NW6 4PL",2881,"No data","","","","","","","","","","","","","",""]
["Y56","QMJ","93C","V004193",null,null,"Highbury Dental Practice, 3 Hamilton Park, LONDON, N5 1SH","N5 1SH",327,"No data","","","","","","","","","","","","","",""]
["Y56","QMJ","93C","V004196",null,null,"Dental Surgery, Ground Floor, 376B Hornsey Road, LONDON, N19 4HT","N19 4HT",822,"No data","","","","","","","","","","","","","",""]
["Y56","QMJ","93C","V004198",1264890001,"North West Dental Care","Northwest Dental Care, 196 Kilburn High Road, LONDON, NW6 4JD","NW6 4JD",2413,27,0.96296296296296291,0,15,11,0,0,0,1,19,3,0,2,0,3]
["Y56","QMJ","93C","V004199",null,null,"41 Lambs Conduit Street, LONDON, WC1N 3NG","WC1N 3NG",2033,"No data","","","","","","","","","","","","","",""]
["Y56","QMJ","93C","V004201",null,null,"Blackstock Dental Care, 60 Blackstock Road, LONDON, N4 2DW","N4 2DW",1109,"No data","","","","","","","","","","","","","",""]
["Y56","QMJ","93C","V004203",null,null,"Kindan Dental, 99 Newington Green Road, LONDON, N1 4QY","N1 4QY",4197,"No data","","","","","","","","","","","","","",""]
["Y56","QMJ","93C","V004204",null,null,"Dental Surgery, 2 - 3 Vincent Parade, Hanley Road, LONDON, N4 3DS","N4 3DS",3579,"No data","","","","","","","","","","","","","",""]
["Y56","QMJ","93C","V004207",null,null,"Old Street Dental Clinic, 169 Old Street, LONDON, EC1V 9NJ","EC1V 9NJ",1525,"No data","","","","","","","","","","","","","",""]
["Y56","QMJ","93C","V004209",null,null,"N7 Dental Care, 355 Holloway Road, LONDON, LONDON, N7 0RN","N7 0RN",3655,"No data","","","","","","","","","","","","","",""]
["Y56","QMJ","93C","V004210",null,null,"Pickerings Dental Surgery, 103 - 104 Upper Street, LONDON, N1 1QN","N1 1QN",10392,"No data","","","","","","","","","","","","","",""]
["Y56","QMJ","93C","V004211",9497870001,"Ivy House Dental, Mirza and Mirza","Ivy House Dental Practice, 51 Kentish Town Road, LONDON, NW1 8NX","NW1 8NX",1102,30,1,0,14,16,0,0,0,0,30,0,0,0,0,0]
["Y56","QMJ","93C","V004214",null,null,"Dental Dept., H M Prison, North Wall Gate, Pentonville, Caledonian Road, LONDON, N7 8TT","N7 8TT",16,"No data","","","","","","","","","","","","","",""]
["Y56","QMJ","93C","V004216",null,null,"Dental Surgery, 300 Caledonian Road, LONDON, N1 1BB","N1 1BB",911,"No data","","","","","","","","","","","","","",""]
["Y56","QMJ","93C","V004217",null,null,"Albany Dental Centre, 50 Haverstock Hill, LONDON, NW3 2BH","NW3 2BH",3471,"No data","","","","","","","","","","","","","",""]
["Y56","QMJ","93C","V004220",3603680001,"Family Dental Care","Family Dental Care, 51 Junction Road, LONDON, N19 5QU","N19 5QU",947,10,1,0,7,3,0,0,0,0,0,2,7,0,0,1]
["Y56","QMJ","93C","V004221",null,null,"N1 Dental Surgery, 372 Essex Road, LONDON, N1 3PF","N1 3PF",1284,"No data","","","","","","","","","","","","","",""]
["Y56","QMJ","93C","V004222",null,null,"Smilecare Dental Centre, 25 Junction Road, LONDON, N19 5QT","N19 5QT",730,"No data","","","","","","","","","","","","","",""]
["Y56","QMJ","93C","V004224",null,null,"Dental Surgery, 16 Tavistock Place, LONDON, WC1H 9RU","WC1H 9RU",2891,"No data","","","","","","","","","","","","","",""]
["Y56","QMJ","93C","V004226",2502790004,"MR S OLUBUNMI-OKE","Confident Dental Practice, 66 Hampstead Road, LONDON, NW1 2NT","NW1 2NT",1008,22,0.95454545454545459,0,18,3,1,0,0,0,22,0,0,0,0,0]
["Y56","QMJ","93C","V004229",null,null,"Dental Surgery, 4 Bray, Fellows Road, LONDON, NW3 3JX","NW3 3JX",1815,"No data","","","","","","","","","","","","","",""]
["Y56","QMJ","93C","V004232",null,null,"Raval Dental Surgery, 86 Cromer Street, LONDON, WC1H 8DG","WC1H 8DG",524,"No data","","","","","","","","","","","","","",""]
["Y56","QMJ","93C","V004239",null,null,"Shape Dental Clinic, 44 Kilburn High Road, LONDON, NW6 4HJ","NW6 4HJ",804,"No data","","","","","","","","","","","","","",""]
["Y56","QMJ","93C","V004247",null,null,"Dental Surgery, 333 Kentish Town Road, LONDON, NW5 2TJ","NW5 2TJ",1216,"No data","","","","","","","","","","","","","",""]
["Y56","QMJ","93C","V004249",null,null,"Perfect Smile Dental Practice, 269 West End Lane, LONDON, NW6 1QS","NW6 1QS",1439,"No data","","","","","","","","","","","","","",""]
["Y56","QMJ","93C","V004252",1190830001,"Parkway Dental Care","Dental Surgery, 86 Parkway, LONDON, NW1 7AN","NW1 7AN",2740,3,"*","*","*","*","*","*","*","*","*","*","*","*","*","*"]
["Y56","QMJ","93C","V004255",null,null,"Dental Surgery, 22 Camden High Street, LONDON, NW1 0JH","NW1 0JH",2960,"No data","","","","","","","","","","","","","",""]
["Y56","QMJ","93C","V004256",null,null,"Camden Dental Surgery, 77 Camden High Street, LONDON, NW1 7JL","NW1 7JL",2494,"No data","","","","","","","","","","","","","",""]
["Y56","QMJ","93C","V004260",null,null,"Hampstead Orthodontic Practice, 4 Elm Terrace, Constantine Road, LONDON, NW3 2LL","NW3 2LL",249,"No data","","","","","","","","","","","","","",""]
["Y56","QMJ","93C","V004266",null,null,"Mistry And Others Dental Surgery, 19 Reservoir Road, LONDON, N14 4BB","N14 4BB",426,"No data","","","","","","","","","","","","","",""]
["Y56","QMJ","93C","V004268",null,null,"Chase Side Dental Practice, 117 Chase Side, London, N14 5HD","N14 5HD",1253,"No data","","","","","","","","","","","","","",""]
["Y56","QMJ","93C","V004273",null,null,"Sterling Way Dental Surgery, 40 Sterling Way, LONDON, N18 2XZ","N18 2XZ",1405,"No data","","","","","","","","","","","","","",""]
["Y56","QMJ","93C","V004275",null,null,"Dental Surgery, 17 Kendal Parade, Silver Street, LONDON, N18 1ND","N18 1ND",1726,"No data","","","","","","","","","","","","","",""]
["Y56","QMJ","93C","V004276",null,null,"Angle House Orthodontics, 38 Harington Terrace, Edmonton, London, N18 1JX","N18 1JX",1875,"No data","","","","","","","","","","","","","",""]
["Y56","QMJ","93C","V004283",null,null,"Dental Surgery, 96 Marchmont Street, LONDON, WC1N 1AG","WC1N 1AG",1077,"No data","","","","","","","","","","","","","",""]
["Y56","QMJ","93C","V004285",1888830001,"The Angel Dental Practice Ltd","91 Fore Street, LONDON, N18 2TW","N18 2TW",3048,0,"NA","NA",0,0,0,0,0,0,0,0,0,0,0,0]
["Y56","QMJ","93C","V004287",null,null,"N W London Smile Centre, 5 - 6 Regency Parade, Finchley Road, London, NW3 5EG","NW3 5EG",1399,"No data","","","","","","","","","","","","","",""]
["Y56","QMJ","93C","V004290",null,null,"Kentish Town Dental Surgery, 50 Malden Road, LONDON, NW5 3HG","NW5 3HG",443,"No data","","","","","","","","","","","","","",""]
["Y56","QMJ","93C","V004291",null,null,"Dental Surgery, 33 The Green, LONDON, N21 1HS","N21 1HS",470,"No data","","","","","","","","","","","","","",""]
["Y56","QMJ","93C","V004292",null,null,"Dental Surgery, 6 Fernleigh Road, LONDON, N21 3AL","N21 3AL",1551,"No data","","","","","","","","","","","","","",""]
["Y56","QMJ","93C","V004293",null,null,"Dental Surgery, 20 Green Dragon Lane, LONDON, N21 2LD","N21 2LD",810,"No data","","","","","","","","","","","","","",""]
["Y56","QMJ","93C","V004294",1332050001,"Broadway Dental Care","1 Compton Road, LONDON, N21 3PA","N21 3PA",3852,11,1,0,2,9,0,0,0,0,0,0,0,0,11,0]
["Y56","QMJ","93C","V004295",1330780001,"R G Mattey Ltd","Dental Surgery, 3 Westpole Avenue, Cockfosters, BARNET, Hertfordshire, EN4 0AX","EN4 0AX",3442,49,0.89795918367346939,4.0816326530612242E-2,37,7,3,1,1,0,0,0,0,49,0,0]
["Y56","QMJ","93C","V004298",null,null,"Cockfosters Dental Practice, 23 Station Parade, Cockfosters Road, BARNET, Hertfordshire, EN4 0DW","EN4 0DW",3466,"No data","","","","","","","","","","","","","",""]
["Y56","QMJ","93C","V004301",null,null,"Dental Surgery, 415 Hertford Road, ENFIELD, Middlesex, EN3 5PT","EN3 5PT",829,"No data","","","","","","","","","","","","","",""]
["Y56","QMJ","93C","V004302",1101670002,"Mr K Esmail and M K Velji","Dental Surgery, 253 Hertford Road, ENFIELD, Middlesex, EN3 5JL","EN3 5JL",8543,3,"*","*","*","*","*","*","*","*","*","*","*","*","*","*"]
["Y56","QMJ","93C","V004304",null,null,"Dental Surgery, 63 Bullsmoor Lane, ENFIELD, Middlesex, EN3 6TG","EN3 6TG",1798,"No data","","","","","","","","","","","","","",""]
["Y56","QMJ","93C","V004305",null,null,"Dental Surgery, Angle House, 39 The Ridgeway, ENFIELD, Middlesex, EN2 8PD","EN2 8PD",357,"No data","","","","","","","","","","","","","",""]
["Y56","QMJ","93C","V004308",null,null,"Dental Surgery, 87 Trinity Avenue, ENFIELD, Middlesex, EN1 1HT","EN1 1HT",4343,"No data","","","","","","","","","","","","","",""]
["Y56","QMJ","93C","V004309",null,null,"Dental Practice, 11 Old Park Avenue, ENFIELD, Middlesex, EN2 6PJ","EN2 6PJ",1750,"No data","","","","","","","","","","","","","",""]
["Y56","QMJ","93C","V004310",null,null,"Dental Arts Studio, 6 - 8 London Road, ENFIELD, Middlesex, EN2 6EB","EN2 6EB",6985,"No data","","","","","","","","","","","","","",""]
["Y56","QMJ","93C","V004313",null,null,"Petrie Tucker And Partners, Waltham Cross Dental Centre, 966 Hertford Road, WALTHAM CROSS, Hertfordshire, EN8 7RU","EN8 7RU",2660,"No data","","","","","","","","","","","","","",""]
["Y56","QMJ","93C","V004447",1907990001,"Brecknock Dental Surgery Limited","Brecknock Dental, 37 Brecknock Road, LONDON, N7 0BT","N7 0BT",4806,7,0.5714285714285714,0.2857142857142857,1,3,1,2,0,0,0,0,0,0,0,7]
["Y56","QMJ","93C","V004452",null,null,"Kilburn Dental & Oral Surgery, 98A Kilburn High Road, London, NW6 4HS","NW6 4HS",677,"No data","","","","","","","","","","","","","",""]
["Y56","QMJ","93C","V004459",null,null,"Holloway Dental Centre, 405 - 407 Holloway Road, London, N7 6HP","N7 6HP",2769,"No data","","","","","","","","","","","","","",""]
["Y56","QMJ","93C","V004571",null,null,"Dental Surgery, 5 The Approach, LONDON, NW4 2HS","NW4 2HS",2748,"No data","","","","","","","","","","","","","",""]
["Y56","QMJ","93C","V004574",null,null,"Mill Hill Broadway Dental, Surgery, 1 Broadway House, The Broadway, LONDON, NW7 3LJ","NW7 3LJ",530,"No data","","","","","","","","","","","","","",""]
["Y56","QMJ","93C","V004584",null,null,"Dental Surgery, 107 Deansbrook Road, EDGWARE, Middlesex, HA8 9BP","HA8 9BP",3224,"No data","","","","","","","","","","","","","",""]
["Y56","QMJ","93C","V004744",null,null,"Dental Surgery, 383 Archway Road, LONDON, N6 4ER","N6 4ER",1474,"No data","","","","","","","","","","","","","",""]
["Y56","QMJ","93C","V004799",null,null,"Dental Surgery, 16 Grand Parade, Green Lanes, LONDON, N4 1LA","N4 1LA",814,"No data","","","","","","","","","","","","","",""]
["Y56","QMJ","93C","V004801",null,null,"Smiledent Dental Centre, 467 Green Lanes, LONDON, N4 1HE","N4 1HE",706,"No data","","","","","","","","","","","","","",""]
["Y56","QMJ","93C","V004803",null,null,"Dental Surgery, 401 Green Lanes, LONDON, N4 1EU","N4 1EU",414,"No data","","","","","","","","","","","","","",""]
["Y56","QMJ","93C","V004804",null,null,"82 Stroud Green Road, LONDON, N4 3EN","N4 3EN",274,"No data","","","","","","","","","","","","","",""]
["Y56","QMJ","93C","V004806",null,null,"Manor House Dental Surgery, 363 Green Lanes, LONDON, N4 1DY","N4 1DY",2420,"No data","","","","","","","","","","","","","",""]
["Y56","QMJ","93C","V004808",null,null,"Dental Surgery, 224 Archway Road, LONDON, N6 5AX","N6 5AX",713,"No data","","","","","","","","","","","","","",""]
["Y56","QMJ","93C","V004813",3257750001,"MR R BABBAR","Weston Park Dental Surgery, 8 Weston Park, LONDON, N8 9TJ","N8 9TJ",1301,0,"NA","NA",0,0,0,0,0,0,0,0,0,0,0,0]
["Y56","QMJ","93C","V004816",null,null,"Middle Lane Dental Practice, 34 Middle Lane, LONDON, N8 8PL","N8 8PL",1050,"No data","","","","","","","","","","","","","",""]
["Y56","QMJ","93C","V004818",null,null,"Park Road Dental Practice, 300 Park Road, LONDON, N8 8LA","N8 8LA",1969,"No data","","","","","","","","","","","","","",""]
["Y56","QMJ","93C","V004821",null,null,"Crouch End Dental Practice, 70 Crouch Hall Road, LONDON, N8 8HA","N8 8HA",1457,"No data","","","","","","","","","","","","","",""]
["Y56","QMJ","93C","V004824",null,null,"Sky Dental Surgery, 94 Turnpike Lane, LONDON, N8 0PH","N8 0PH",590,"No data","","","","","","","","","","","","","",""]
["Y56","QMJ","93C","V004827",null,null,"Dental Surgery, 574 Green Lanes, LONDON, N8 0RP","N8 0RP",641,"No data","","","","","","","","","","","","","",""]
["Y56","QMJ","93C","V004833",null,null,"Dental Surgery, 186 Park Road, LONDON, N8 8JT","N8 8JT",1951,"No data","","","","","","","","","","","","","",""]
["Y56","QMJ","93C","V004834",null,null,"Millennium Dental Practice, 41 Willoughby Road, LONDON, N8 0JG","N8 0JG",1623,"No data","","","","","","","","","","","","","",""]
["Y56","QMJ","93C","V004842",null,null,"Colney Hatch Dental Practice, 130 Colney Hatch Lane, LONDON, N10 1ER","N10 1ER",1251,"No data","","","","","","","","","","","","","",""]
["Y56","QMJ","93C","V004844",null,null,"Kings Avenue Dental Surgery, 41 Kings Avenue, LONDON, N10 1PA","N10 1PA",2613,"No data","","","","","","","","","","","","","",""]
["Y56","QMJ","93C","V004845",null,null,"Muswell Hill Dental Care Centre, 200 Fortis Green Road, LONDON, N10 3DU","N10 3DU",3523,"No data","","","","","","","","","","","","","",""]
["Y56","QMJ","93C","V004846",8596050001,"MRS S MEHTA","Dental Surgery, 212 Muswell Hill Broadway, LONDON, N10 3SH","N10 3SH",1155,41,1,0,35,6,0,0,0,0,41,0,0,0,0,0]
["Y56","QMJ","93C","V004848",null,null,"Muswell Hill Dental Practice, 337 Muswell Hill Broadway, LONDON, N10 1BX","N10 1BX",321,"No data","","","","","","","","","","","","","",""]
["Y56","QMJ","93C","V004853",9498920001,"MR KC SHAH","Dental Surgery, 4 Maidstone Road, LONDON, N11 2TP","N11 2TP",1580,20,1,0,19,1,0,0,0,0,0,0,0,0,20,0]
["Y56","QMJ","93C","V004856",1776600001,"Fladbury Dental Surgery","Dental Surgery, 15 Fladbury Road, LONDON, N15 6SB","N15 6SB",1377,20,1,0,17,3,0,0,0,0,20,0,0,0,0,0]
["Y56","QMJ","93C","V004858",null,null,"Dental Surgery, 111 Philip Lane, LONDON, N15 4JR","N15 4JR",1150,"No data","","","","","","","","","","","","","",""]
["Y56","QMJ","93C","V004859",null,null,"Dental Surgery, 11 Crowndale Road, LONDON, NW1 1TU","NW1 1TU",1055,"No data","","","","","","","","","","","","","",""]
["Y56","QMJ","93C","V004861",3354950001,"MISS A HOQUE","200 West Green Road, LONDON, N15 5AG","N15 5AG",1714,16,1,0,12,4,0,0,0,0,16,0,0,0,0,0]
["Y56","QMJ","93C","V004862",1284730001,"The Anna House Partnership","Anna House Dental Clinic, 214 - 218 High Road, LONDON, N15 4NP","N15 4NP",1895,90,0.93333333333333335,2.2222222222222223E-2,78,6,2,0,2,2,0,0,43,0,47,0]
["Y56","QMJ","93C","V004865",null,null,"104 - 106 High Road, South Tottenham, London, N15 6JR","N15 6JR",3484,"No data","","","","","","","","","","","","","",""]
["Y56","QMJ","93C","V004867",1909930001,"MR JP SHAH and MS M SHAH","West Green Dental Practice, 293 West Green Road, LONDON, N15 3PA","N15 3PA",2988,22,1,0,20,2,0,0,0,0,22,0,0,0,0,0]
["Y56","QMJ","93C","V004869",null,null,"Dental Surgery, 256 High Road, LONDON, N15 4AJ","N15 4AJ",1133,"No data","","","","","","","","","","","","","",""]
["Y56","QMJ","93C","V004872",null,null,"M C Dentistry, 585 High Road, LONDON, N17 6SB","N17 6SB",3740,"No data","","","","","","","","","","","","","",""]
["Y56","QMJ","93C","V004875",null,null,"P Ocansey And Associates, 520A High Road, LONDON, N17 9SX","N17 9SX",1015,"No data","","","","","","","","","","","","","",""]
["Y56","QMJ","93C","V004877",null,null,"Dental Surgery, 802 High Road, LONDON, N17 0DH","N17 0DH",539,"No data","","","","","","","","","","","","","",""]
["Y56","QMJ","93C","V004878",1978660001,"Morris House Dental Surgery","Morris House Surgery, Waltheof Gardens, LONDON, N17 7HS","N17 7HS",1749,13,0.92307692307692313,0,9,3,1,0,0,0,13,0,0,0,0,0]
["Y56","QMJ","93C","V004879",null,null,"Dental Surgery, 497 High Road, LONDON, N17 6QA","N17 6QA",1528,"No data","","","","","","","","","","","","","",""]
["Y56","QMJ","93C","V004882",null,null,"Gainsborough Clinic, 65 Bounds Green Road, LONDON, N22 8HB","N22 8HB",1845,"No data","","","","","","","","","","","","","",""]
["Y56","QMJ","93C","V004883",2334390001,"Wood Green Dental Practice Partnership","Woodgreen Dental Surgery, 7A High Road, LONDON, N22 6BH","N22 6BH",637,1,"*","*","*","*","*","*","*","*","*","*","*","*","*","*"]
["Y56","QMJ","93C","V004884",1043960001,"S Cowley, R Ingham and J Angelo","Dental Surgery, 21 Stuart Crescent, LONDON, N22 5NN","N22 5NN",1158,12,0.83333333333333337,0.16666666666666666,8,2,0,2,0,0,0,0,0,12,0,0]
["Y56","QMJ","93C","V004885",null,null,"My Dental Care, 141 Myddleton Road, LONDON, N22 8NG","N22 8NG",2285,"No data","","","","","","","","","","","","","",""]
["Y56","QMJ","93C","V004887",6739430001,"Pashazadeh, Moghadam and Moghaddam","The Family Dental Practice, 129 - 131 High Road, Wood Green, LONDON, N22 6BB","N22 6BB",4324,32,1,0,28,4,0,0,0,0,32,0,0,0,0,0]
["Y56","QMJ","93C","V004888",null,null,"Roger Levys Dental Surgery, 158 High Road, LONDON, N22 6EB","N22 6EB",1592,"No data","","","","","","","","","","","","","",""]
["Y56","QMJ","93C","V004890",null,null,"Dental Surgery, 203 Westbury Avenue, LONDON, N22 6RX","N22 6RX",1405,"No data","","","","","","","","","","","","","",""]
["Y56","QMJ","93C","V004892",null,null,"Park Vue Dental Practice, 204 High Road, LONDON, N22 8HH","N22 8HH",3183,"No data","","","","","","","","","","","","","",""]
["Y56","QMJ","93C","V004893",null,null,"263 Victoria Road, LONDON, N22 7XH","N22 7XH",null,"No data","","","","","","","","","","","","","",""]
["Y56","QMJ","93C","V004933",null,null,"Dental Surgery, 11A The Promenade, EDGWARE, Middlesex, HA8 7JZ","HA8 7JZ",710,"No data","","","","","","","","","","","","","",""]
["Y56","QMJ","93C","V004940",null,null,"Hendon Dental Practice, 125A Station Road, LONDON, NW4 4NL","NW4 4NL",365,"No data","","","","","","","","","","","","","",""]
["Y56","QMJ","93C","V004949",null,null,"Dental Surgery, 150 Broadfields Avenue, EDGWARE, Middlesex, HA8 8SS","HA8 8SS",554,"No data","","","","","","","","","","","","","",""]
["Y56","QMJ","93C","V004953",null,null,"Ivory Dental Practice, 158 West Hendon Broadway, LONDON, NW9 7AA","NW9 7AA",527,"No data","","","","","","","","","","","","","",""]
["Y56","QMJ","93C","V004971",null,null,"Dental Practice, 198 Burnt Oak Broadway, EDGWARE, Middlesex, HA8 0AS","HA8 0AS",2278,"No data","","","","","","","","","","","","","",""]
["Y56","QMJ","93C","V004973",null,null,"Dental Surgery, 2 Colin Park Road, LONDON, NW9 6HS","NW9 6HS",1743,"No data","","","","","","","","","","","","","",""]
["Y56","QMJ","93C","V004982",null,null,"Dental Surgery, 3A Sheaveshill Avenue, LONDON, NW9 6SH","NW9 6SH",393,"No data","","","","","","","","","","","","","",""]
["Y56","QMJ","93C","V004987",null,null,"Colindale Dental Practice, 49 Colindale Avenue, LONDON, NW9 5EP","NW9 5EP",1492,"No data","","","","","","","","","","","","","",""]
["Y56","QMJ","93C","V004996",null,null,"Dental Surgery, 51 Goodwyn Avenue, LONDON, NW7 3RJ","NW7 3RJ",845,"No data","","","","","","","","","","","","","",""]
["Y56","QMJ","93C","V005008",null,null,"Angle House Orthodontics, 5th Floor, Elizabeth House, 54 - 58 High Street, Edgware, Middlesex, HA8 7EJ","HA8 7EJ",1638,"No data","","","","","","","","","","","","","",""]
["Y56","QMJ","93C","V005542",null,null,"Dental Surgery, 66 Edgwarebury Lane, EDGWARE, Middlesex, HA8 8LX","HA8 8LX",2838,"No data","","","","","","","","","","","","","",""]
["Y56","QMJ","93C","V005554",null,null,"Dental Surgery, 8 Millway, LONDON, NW7 3RE","NW7 3RE",10909,"No data","","","","","","","","","","","","","",""]
["Y56","QMJ","93C","V005564",null,null,"Elite Dental Care, 86 Audley Road, LONDON, NW4 3HB","NW4 3HB",2450,"No data","","","","","","","","","","","","","",""]
["Y56","QMJ","93C","V005583",null,null,"Apex Dental Care, 647 Watford Way, LONDON, NW7 3JR","NW7 3JR",1331,"No data","","","","","","","","","","","","","",""]
["Y56","QMJ","93C","V005593",null,null,"65A Brent Street, LONDON, NW4 2EA","NW4 2EA",181,"No data","","","","","","","","","","","","","",""]
["Y56","QMJ","93C","V005807",null,null,"Dental Surgery, 19 Bell Lane, LONDON, NW4 2BP","NW4 2BP",713,"No data","","","","","","","","","","","","","",""]
["Y56","QMJ","93C","V005810",null,null,"Dental Surgery, 126 Ashurst Road, LONDON, N12 9AB","N12 9AB",196,"No data","","","","","","","","","","","","","",""]
["Y56","QMJ","93C","V005811",null,null,"Dental Surgery, 1279 High Road, LONDON, N20 9HS","N20 9HS",2015,"No data","","","","","","","","","","","","","",""]
["Y56","QMJ","93C","V005814",null,null,"Dental Surgery, 19 Longmore Avenue, East Barnet, BARNET, Hertfordshire, EN4 8AE","EN4 8AE",3312,"No data","","","","","","","","","","","","","",""]
["Y56","QMJ","93C","V005815",null,null,"Dental Surgery, 19 Oakleigh Road North, LONDON, N20 9HE","N20 9HE",1472,"No data","","","","","","","","","","","","","",""]
["Y56","QMJ","93C","V005818",null,null,"Woodhouse Dental Practice, 229A Woodhouse Road, LONDON, N12 9BD","N12 9BD",1556,"No data","","","","","","","","","","","","","",""]
["Y56","QMJ","93C","V005819",1101750001,"Dr N Radia and Dr K Rughani","Grove Dental Practice, 236 High Street, BARNET, Hertfordshire, EN5 5TD","EN5 5TD",1278,7,0.8571428571428571,0,6,0,0,0,0,1,7,0,0,0,0,0]
["Y56","QMJ","93C","V005823",null,null,"Hampden Dental Clinic, 3 Onslow Parade, Hampden Square, LONDON, N14 5JN","N14 5JN",103,"No data","","","","","","","","","","","","","",""]
["Y56","QMJ","93C","V005824",1101670001,"Mr K Esmail and M K Velji","Dental Surgery, 37 39 East Barnet Road, BARNET, Hertfordshire, EN4 8RN","EN4 8RN",4618,5,1,0,5,0,0,0,0,0,5,0,0,0,0,0]
["Y56","QMJ","93C","V005840",null,null,"7 York Road, New Barnet, BARNET, Hertfordshire, EN5 1LJ","EN5 1LJ",793,"No data","","","","","","","","","","","","","",""]
["Y56","QMJ","93C","V005841",null,null,"Dental Surgery, 787A High Road, LONDON, N12 8JT","N12 8JT",189,"No data","","","","","","","","","","","","","",""]
["Y56","QMJ","93C","V005844",null,null,"Gaunt Dental Surgery, 831A High Road, LONDON, N12 8PR","N12 8PR",3810,"No data","","","","","","","","","","","","","",""]
["Y56","QMJ","93C","V005850",null,null,"108 Cat Hill, BARNET, Hertfordshire, EN4 8HX","EN4 8HX",362,"No data","","","","","","","","","","","","","",""]
["Y56","QMJ","93C","V005856",null,null,"Dental Surgery, 28 Wood Street, BARNET, Hertfordshire, EN5 4BW","EN5 4BW",1224,"No data","","","","","","","","","","","","","",""]
["Y56","QMJ","93C","V005870",null,null,"Dental Surgery, 1005A Finchley Road, LONDON, NW11 7HB","NW11 7HB",135,"No data","","","","","","","","","","","","","",""]
["Y56","QMJ","93C","V005877",null,null,"Dental Surgery, 103A Golders Green Road, LONDON, NW11 8EN","NW11 8EN",663,"No data","","","","","","","","","","","","","",""]
["Y56","QMJ","93C","V005893",null,null,"Golders Green Dental Care, 192 Golders Green Road, LONDON, NW11 9AL","NW11 9AL",1667,"No data","","","","","","","","","","","","","",""]
["Y56","QMJ","93C","V005899",null,null,"Cavendish House Dental Surgery, 240 East End Road, LONDON, N2 8AX","N2 8AX",888,"No data","","","","","","","","","","","","","",""]
["Y56","QMJ","93C","V005900",null,null,"Bliss Dental Practice, 3 Temple Fortune Parade, Bridge Lane, LONDON, NW11 0QN","NW11 0QN",328,"No data","","","","","","","","","","","","","",""]
["Y56","QMJ","93C","V005908",null,null,"The Clocktower Dental Surgery, 9 North End Road, LONDON, NW11 7RJ","NW11 7RJ",74,"No data","","","","","","","","","","","","","",""]
["Y56","QMJ","93C","V005909",7294260001,"Nether Street Dental Practice","Dental Surgery, 393 Nether Street, LONDON, N3 1QG","N3 1QG",1216,30,1,0,25,5,0,0,0,0,30,0,0,0,0,0]
["Y56","QMJ","93C","V005910",null,null,"Gentle Dental Care, 2B Golders Green Road, LONDON, NW11 8LH","NW11 8LH",369,"No data","","","","","","","","","","","","","",""]
["Y56","QMJ","93C","V005916",null,null,"East Finchley Smiles, 144 High Road, LONDON, N2 9ED","N2 9ED",1837,"No data","","","","","","","","","","","","","",""]
["Y56","QMJ","93C","V005918",5767780001,"MR AK FANG","The Dental Practice, 113A Ballards Lane, LONDON, N3 1XY","N3 1XY",1039,150,1,0,149,1,0,0,0,0,0,0,150,0,0,0]
["Y56","QMJ","93C","V005919",null,null,"Finchley Dental Practice, 200 Ballards Lane, LONDON, N3 2NA","N3 2NA",1585,"No data","","","","","","","","","","","","","",""]
["Y56","QMJ","93C","V005921",1035510002,"Excel Dental Care","289 Cricklewood Lane, LONDON, NW2 2JL","NW2 2JL",1157,21,1,0,20,1,0,0,0,0,21,0,0,0,0,0]
["Y56","QMJ","93C","V006867",null,null,"Leigh Dental Practice, 325 Willow Road, ENFIELD, Middlesex, EN1 3BX","EN1 3BX",515,"No data","","","","","","","","","","","","","",""]
["Y56","QMJ","93C","V006906",null,null,"Vaswani Dental Practice, 1 Chase Side, LONDON, N14 5BP","N14 5BP",52,"No data","","","","","","","","","","","","","",""]
["Y56","QMJ","93C","V006908",null,null,"Southgate Smiles Dental Care, 5 The Broadway, LONDON, N14 6PH","N14 6PH",2106,"No data","","","","","","","","","","","","","",""]
["Y56","QMJ","93C","V006910",null,null,"Southgate Dental Practice, 9 Chase Side, LONDON, N14 5BP","N14 5BP",368,"No data","","","","","","","","","","","","","",""]
["Y56","QMJ","93C","V007809",null,null,"Dental Practice, Hampstead Medical Centre, 91 Heath Street, London, NW3 6SS","NW3 6SS",758,"No data","","","","","","","","","","","","","",""]
["Y56","QMJ","93C","V008034",null,null,"80 Southover, LONDON, N12 7HB","N12 7HB",154,"No data","","","","","","","","","","","","","",""]
["Y56","QMJ","93C","V008229",null,null,"87 Cedar Lawn Avenue, BARNET, Hertfordshire, EN5 2LP","EN5 2LP",1633,"No data","","","","","","","","","","","","","",""]
["Y56","QMJ","93C","V008451",null,null,"High Barnet Dental Care, 59 High Street, BARNET, EN5 5UR","EN5 5UR",3180,"No data","","","","","","","","","","","","","",""]
["Y56","QMJ","93C","V008452",null,null,"N12 Dental Care, 753 High Road, LONDON, N12 8LG","N12 8LG",3575,"No data","","","","","","","","","","","","","",""]
["Y56","QMJ","93C","V009125",1153980001,"Mrs S Hossein Pour Tehrani, Mr P Negahban","The Garden Dental Practice, 610 Finchley Road, LONDON, NW11 7RX","NW11 7RX",407,2,"*","*","*","*","*","*","*","*","*","*","*","*","*","*"]
["Y56","QMJ","93C","V009125",1500610001,"The Garden Dental Practice","The Garden Dental Practice, 610 Finchley Road, LONDON, NW11 7RX","NW11 7RX",1925,2,"*","*","*","*","*","*","*","*","*","*","*","*","*","*"]
["Y56","QMJ","93C","V009284",null,null,"41-43 Vivian Avenue, LONDON, NW4 3UX","NW4 3UX",2554,"No data","","","","","","","","","","","","","",""]
["Y56","QMJ","93C","V009438",null,null,"Dental Surgery, 195 High Street, ENFIELD, Middlesex, EN3 4DZ","EN3 4DZ",5484,"No data","","","","","","","","","","","","","",""]
["Y56","QMJ","93C","V010212",null,null,"Kentish Town Health Centre, 2 Bartholomew Road, LONDON, NW5 2AJ","NW5 2AJ",339,"No data","","","","","","","","","","","","","",""]
["Y56","QMJ","93C","V010218",null,null,"Hornsey Rise Health Centre, Beaumont Rise, London, N19 3YU","N19 3YU",268,"No data","","","","","","","","","","","","","",""]
["Y56","QMJ","93C","V010887",null,null,"Smiles 4U, 71 Tottenham Lane, LONDON, N8 9BE","N8 9BE",502,"No data","","","","","","","","","","","","","",""]
["Y56","QMJ","93C","V011352",null,null,"123 Tottenham Lane, LONDON, N8 9BJ","N8 9BJ",1060,"No data","","","","","","","","","","","","","",""]
["Y56","QMJ","93C","V011931",null,null,"Dental Surgery, 277 Fore Street, LONDON, N9 0PD","N9 0PD",2965,"No data","","","","","","","","","","","","","",""]
["Y56","QMJ","93C","V012134",null,null,"143 Durnsford Road, LONDON, N11 2EL","N11 2EL",187,"No data","","","","","","","","","","","","","",""]
["Y56","QMJ","93C","V012152",null,null,"Malmin Orthodontics, 300 Finchley Road, LONDON, NW3 7AG","NW3 7AG",1296,"No data","","","","","","","","","","","","","",""]
["Y56","QMJ","93C","V012276",null,null,"627 Green Lanes, Haringey, LONDON, N8 0RE","N8 0RE",866,"No data","","","","","","","","","","","","","",""]
["Y56","QMJ","93C","V012547",null,null,"83 Station Road, New Barnet, BARNET, Hertfordshire, EN5 1PX","EN5 1PX",1062,"No data","","","","","","","","","","","","","",""]
["Y56","QMJ","93C","V012667",null,null,"London City Smiles, 19 - 21 Islington High Street, LONDON, N1 9LQ","N1 9LQ",3371,"No data","","","","","","","","","","","","","",""]
["Y56","QMJ","93C","V013268",null,null,"Health Centre, 11 Hornsey Street, LONDON, N7 8GG","N7 8GG",307,"No data","","","","","","","","","","","","","",""]
["Y56","QMJ","93C","V013299",null,null,"Evergreen Primary Care Centre, 1 Smythe Close, LONDON, N9 0TW","N9 0TW",6499,"No data","","","","","","","","","","","","","",""]
["Y56","QMJ","93C","V014041",null,null,"2 Lyttelton Road, LONDON, N2 0EF","N2 0EF",2901,"No data","","","","","","","","","","","","","",""]
["Y56","QMJ","93C","V014359",null,null,"Smile for life Sedation Clinic, Kirti House, 342-344 High Road, Tottenham, London, N15 4ET","N15 4ET",1655,"No data","","","","","","","","","","","","","",""]
["Y56","QMJ","93C","V015018",null,null,"438 Muswell Hill, The Broadway, LONDON, N10 1BS","N10 1BS",1015,"No data","","","","","","","","","","","","","",""]
["Y56","QMJ","93C","V017305",2456900002,"MR N AGRAWAL","The Dental Surgery, 313 Regents Park Road, London, N3 1DP","N3 1DP",1494,30,1,0,27,3,0,0,0,0,8,0,0,0,0,22]
["Y56","QMJ","93C","V023678",1609460001,"Drs Landau & Lauffer","Charles Landau Dentistry, 6 Prebend Street, Islington, London, N1 8PT","N1 8PT",745,8,1,0,8,0,0,0,0,0,8,0,0,0,0,0]
["Y56","QMJ","93C","V029890",null,null,"Friern Barnet Dental Clinic, 21 Queens Parade, Friern Barnet Road, London, N11 3DA","N11 3DA",2451,"No data","","","","","","","","","","","","","",""]
["Y56","QMJ","93C","V031657",null,null,"Phoenix Dental Practice, 1b, Upsdell Avenue, London, N13 6JP","N13 6JP",1847,"No data","","","","","","","","","","","","","",""]
["Y56","QMJ","93C","V043193",1378710001,"Harpinder Dhamu and Geo Vellappany Mathew","Gentle Dental Care, 506 Holloway Road, Islington, N7 6JD","N7 6JD",845,10,0.7,0,4,3,3,0,0,0,10,0,0,0,0,0]
["Y56","QMJ","93C","V043698",null,null,"The Dental Centre, 139 Euston Road, NW1 2AA","NW1 2AA",941,"No data","","","","","","","","","","","","","",""]
["Y56","QMJ","93C","V044650",1278330001,"Oris Dental Centre","Oris Dental Centre, 10 Boulevard Drive, Colindale, London, NW9 5QF","NW9 5QF",2173,9,1,0,8,1,0,0,0,0,9,0,0,0,0,0]
["Y56","QMJ","93C","V044881",null,null,"Puresmile Dental Care, 5 Station Road, Finchley Central, London, N3 2SB","N3 2SB",3456,"No data","","","","","","","","","","","","","",""]
["Y56","QMJ","93C","V134977",null,null,"Angle House Orthodontic, 71 New Road, Crouch End, London, N8 8TA","N8 8TA",562,"No data","","","","","","","","","","","","","",""]
["Y56","QMJ","93C","V134978",null,null,"Angle House Orthodontics, 51 - 55 Copenhagen Street, Islington, London, N1 0JH","N1 0JH",958,"No data","","","","","","","","","","","","","",""]
["Y56","QMJ","93C","V236280",null,null,"5 HAZELWOOD LANE, LONDON, N13 5EZ","N13 5EZ",1872,"No data","","","","","","","","","","","","","",""]
["Y56","QRV","W2U3Z","V000174",null,null,"Dental Surgery, 6 Drayton Green Road, LONDON, W13 8RY","W13 8RY",306,"No data","","","","","","","","","","","","","",""]
["Y56","QRV","W2U3Z","V000202",null,null,"Dental Surgery, 1 Mandeville Road, NORTHOLT, Middlesex, UB5 5HE","UB5 5HE",836,"No data","","","","","","","","","","","","","",""]
["Y56","QRV","W2U3Z","V000292",8397950001,"MR K KARANTOUMANIS","Dental Surgery, 21 Churton Street, LONDON, SW1V 2LY","SW1V 2LY",2242,6,1,0,5,1,0,0,0,0,6,0,0,0,0,0]
["Y56","QRV","W2U3Z","V000405",9215210001,"MR RK AGGARWAL","Dental Surgery, 269 Norwood Road, SOUTHALL, Middlesex, UB2 4JJ","UB2 4JJ",2021,8,1,0,8,0,0,0,0,0,8,0,0,0,0,0]
["Y56","QRV","W2U3Z","V000419",null,null,"Dental Surgery, 15 Hanbury Road, LONDON, W3 8RF","W3 8RF",1169,"No data","","","","","","","","","","","","","",""]
["Y56","QRV","W2U3Z","V000765",null,null,"Bedfont Green Dental Practise, 522 Staines Road, FELTHAM, Middlesex, TW14 8DF","TW14 8DF",1962,"No data","","","","","","","","","","","","","",""]
["Y56","QRV","W2U3Z","V000766",8081990001,"Bridge Dental Practice & Cosmetic Studio Partnership","Dental Surgery, 14 St Johns Road, ISLEWORTH, Middlesex, TW7 6NN","TW7 6NN",2917,10,1,0,9,1,0,0,0,0,8,2,0,0,0,0]
["Y56","QRV","W2U3Z","V000767",9216450002,"Brightsmile Dental Care (Isleworth)","41 South Street, ISLEWORTH, Middlesex, TW7 7AA","TW7 7AA",2606,45,1,0,38,7,0,0,0,0,24,21,0,0,0,0]
["Y56","QRV","W2U3Z","V000768",null,null,"Dental Surgery, 31 Burlington Road, LONDON, W4 4BH","W4 4BH",2668,"No data","","","","","","","","","","","","","",""]
["Y56","QRV","W2U3Z","V000771",null,null,"236 - 238 Vicarage Farm Road, HOUNSLOW, Middlesex, TW5 0DP","TW5 0DP",2644,"No data","","","","","","","","","","","","","",""]
["Y56","QRV","W2U3Z","V000772",null,null,"Bright Smile Studio, Unit EC-2, 6 Ferry Lane, BRENTFORD, Middlesex, TW8 0BP","TW8 0BP",974,"No data","","","","","","","","","","","","","",""]
["Y56","QRV","W2U3Z","V000775",null,null,"Dental Surgery, 734A Bath Road, HOUNSLOW, Middlesex, TW5 9TY","TW5 9TY",1414,"No data","","","","","","","","","","","","","",""]
["Y56","QRV","W2U3Z","V000776",8257860001,"MISS F RAHEMTULLA","Dental Surgery, 244 High Street, FELTHAM, Middlesex, TW13 4HX","TW13 4HX",1383,5,1,0,2,3,0,0,0,0,5,0,0,0,0,0]
["Y56","QRV","W2U3Z","V000777",null,null,"Dental Surgery, 59 Berkeley Avenue, HOUNSLOW, Middlesex, TW4 6LE","TW4 6LE",1382,"No data","","","","","","","","","","","","","",""]
["Y56","QRV","W2U3Z","V000778",null,null,"153 Thornbury Road, ISLEWORTH, Middlesex, TW7 4QG","TW7 4QG",1439,"No data","","","","","","","","","","","","","",""]
["Y56","QRV","W2U3Z","V000779",null,null,"Dental Surgery, 567 London Road, ISLEWORTH, Middlesex, TW7 4EJ","TW7 4EJ",2797,"No data","","","","","","","","","","","","","",""]
["Y56","QRV","W2U3Z","V000780",null,null,"Dental Surgery, 10 Boston Manor Road, BRENTFORD, Middlesex, TW8 8DL","TW8 8DL",3644,"No data","","","","","","","","","","","","","",""]
["Y56","QRV","W2U3Z","V001434",6023530001,"MR RK MARWAHA","97A High Road, LONDON, NW10 2SL","NW10 2SL",1005,4,"*","*","*","*","*","*","*","*","*","*","*","*","*","*"]
["Y56","QRV","W2U3Z","V001484",null,null,"258 Ealing Road, WEMBLEY, Middlesex, HA0 4QL","HA0 4QL",265,"No data","","","","","","","","","","","","","",""]
["Y56","QRV","W2U3Z","V001500",8391320001,"Ivory Dental Practice","Ivory Dental Practice, 40 Station Approach, South Ruislip, RUISLIP, Middlesex, HA4 6RZ","HA4 6RZ",1406,12,1,0,11,1,0,0,0,0,12,0,0,0,0,0]
["Y56","QRV","W2U3Z","V001502",null,null,"Dental Surgery, 34 Kingsend, RUISLIP, Middlesex, HA4 7DA","HA4 7DA",826,"No data","","","","","","","","","","","","","",""]
["Y56","QRV","W2U3Z","V001503",null,null,"Dental Surgery, 33 Eastcote Road, RUISLIP, Middlesex, HA4 8BE","HA4 8BE",2483,"No data","","","","","","","","","","","","","",""]
["Y56","QRV","W2U3Z","V001504",null,null,"Dental Surgery, 117 High Street, RUISLIP, Middlesex, HA4 8JN","HA4 8JN",2016,"No data","","","","","","","","","","","","","",""]
["Y56","QRV","W2U3Z","V001505",null,null,"Hyman Dentists, Dental Surgery, 58A Park Way, RUISLIP, Middlesex, HA4 8NR","HA4 8NR",240,"No data","","","","","","","","","","","","","",""]
["Y56","QRV","W2U3Z","V001506",null,null,"Dental Surgery, 6 Elm Avenue, RUISLIP, Middlesex, HA4 8PD","HA4 8PD",358,"No data","","","","","","","","","","","","","",""]
["Y56","QRV","W2U3Z","V001507",1093390001,"C.Ruparelia & J.Ruparelia","Dental Surgery, 1 Morford Way, RUISLIP, Middlesex, HA4 8SL","HA4 8SL",3190,0,"NA","NA",0,0,0,0,0,0,0,0,0,0,0,0]
["Y56","QRV","W2U3Z","V001508",1075650001,"Mrs UP Patel & Mrs N Patel","Dental Surgery, 105 Victoria Road, RUISLIP, Middlesex, HA4 9BN","HA4 9BN",814,22,0.95454545454545459,0,10,11,0,0,0,1,22,0,0,0,0,0]
["Y56","QRV","W2U3Z","V001509",null,null,"Dentistry at 388, 388 Field End Road, RUISLIP, Middlesex, HA4 9PG","HA4 9PG",1885,"No data","","","","","","","","","","","","","",""]
["Y56","QRV","W2U3Z","V001511",8139230002,"MR JS MANDAIR","Dental Surgery, 154A Field End Road, PINNER, Middlesex, HA5 1RH","HA5 1RH",1079,9,1,0,8,1,0,0,0,0,9,0,0,0,0,0]
["Y56","QRV","W2U3Z","V001512",null,null,"Dental Surgery, 70 Field End Road, PINNER, Middlesex, HA5 2QG","HA5 2QG",4049,"No data","","","","","","","","","","","","","",""]
["Y56","QRV","W2U3Z","V001513",null,null,"Dental Surgery, 27 Field End Road, PINNER, Middlesex, HA5 2QQ","HA5 2QQ",331,"No data","","","","","","","","","","","","","",""]
["Y56","QRV","W2U3Z","V001515",6516480001,"MRS JV PATEL","Northwood Hills Dental Practice, 141 Pinner Road, NORTHWOOD, Middlesex, HA6 1DB","HA6 1DB",3001,22,0.95454545454545459,0,19,2,1,0,0,0,22,0,0,0,0,0]
["Y56","QRV","W2U3Z","V001517",2505620001,"MRS R KUNWARDIA","35 Norwich Road, NORTHWOOD, Middlesex, HA6 1ND","HA6 1ND",664,5,1,0,4,1,0,0,0,0,5,0,0,0,0,0]
["Y56","QRV","W2U3Z","V001519",null,null,"Dental Surgery, 103 Pinner Road, NORTHWOOD, Middlesex, HA6 1QN","HA6 1QN",940,"No data","","","","","","","","","","","","","",""]
["Y56","QRV","W2U3Z","V001520",null,null,"Dental Surgery, 24 Pinner Road, NORTHWOOD, Middlesex, HA6 1QP","HA6 1QP",212,"No data","","","","","","","","","","","","","",""]
["Y56","QRV","W2U3Z","V001526",null,null,"7 Station Approach, NORTHWOOD, Middlesex, HA6 2XN","HA6 2XN",1657,"No data","","","","","","","","","","","","","",""]
["Y56","QRV","W2U3Z","V001529",null,null,"Dental Surgery, 1A Court Drive, UXBRIDGE, Middlesex, UB10 0BJ","UB10 0BJ",330,"No data","","","","","","","","","","","","","",""]
["Y56","QRV","W2U3Z","V001531",1105310001,"STERLING DENTAL SURGERIES LTD","Dental Surgery, 116 Swakeleys Road, UXBRIDGE, Middlesex, UB10 8BA","UB10 8BA",361,21,0.95238095238095233,4.7619047619047616E-2,19,1,0,1,0,0,21,0,0,0,0,0]
["Y56","QRV","W2U3Z","V001532",null,null,"77 Swakeleys Road, UXBRIDGE, Middlesex, UB10 8DQ","UB10 8DQ",2143,"No data","","","","","","","","","","","","","",""]
["Y56","QRV","W2U3Z","V001534",null,null,"Dental Surgery, 267 Long Lane, Hillingdon, UXBRIDGE, Middlesex, UB10 9JR","UB10 9JR",2880,"No data","","","","","","","","","","","","","",""]
["Y56","QRV","W2U3Z","V001536",null,null,"299 Long Lane, Hillingdon, UXBRIDGE, Middlesex, UB10 9JY","UB10 9JY",425,"No data","","","","","","","","","","","","","",""]
["Y56","QRV","W2U3Z","V001538",null,null,"Dental Surgery, 330 Long Lane, Hillingdon, UXBRIDGE, Middlesex, UB10 9PF","UB10 9PF",1945,"No data","","","","","","","","","","","","","",""]
["Y56","QRV","W2U3Z","V001539",null,null,"Dental Surgery, 87A Coldharbour Lane, HAYES, Middlesex, UB3 3EF","UB3 3EF",1087,"No data","","","","","","","","","","","","","",""]
["Y56","QRV","W2U3Z","V001540",null,null,"Dental Surgery, 130 Coldharbour Lane, HAYES, Middlesex, UB3 3HB","UB3 3HB",4504,"No data","","","","","","","","","","","","","",""]
["Y56","QRV","W2U3Z","V001543",null,null,"Dental Surgery, 115 Station Road, HAYES, Middlesex, UB3 4BX","UB3 4BX",426,"No data","","","","","","","","","","","","","",""]
["Y56","QRV","W2U3Z","V001551",null,null,"Dental Surgery, 159 High Street, HAYES, Middlesex, UB3 5DA","UB3 5DA",1093,"No data","","","","","","","","","","","","","",""]
["Y56","QRV","W2U3Z","V001552",null,null,"Yeading Lane Dental Practice, 9 Yeading Lane, HAYES, Middlesex, UB4 0EL","UB4 0EL",6351,"No data","","","","","","","","","","","","","",""]
["Y56","QRV","W2U3Z","V001554",null,null,"Yeading Dental Care, 1A Carlyon Road, HAYES, Middlesex, UB4 0NR","UB4 0NR",1075,"No data","","","","","","","","","","","","","",""]
["Y56","QRV","W2U3Z","V001555",null,null,"I.D.H. Ltd, 11 Station Road, WEST DRAYTON, Middlesex, UB7 7BT","UB7 7BT",5174,"No data","","","","","","","","","","","","","",""]
["Y56","QRV","W2U3Z","V001556",3233730001,"Nisha Majevadia","Dental Surgery, 15 Windsor Street, UXBRIDGE, Middlesex, UB8 1AB","UB8 1AB",1689,25,0.68,0,8,9,3,0,0,5,25,0,0,0,0,0]
["Y56","QRV","W2U3Z","V001557",null,null,"Dental Surgery, 278B High Street, UXBRIDGE, Middlesex, UB8 1LQ","UB8 1LQ",2772,"No data","","","","","","","","","","","","","",""]
["Y56","QRV","W2U3Z","V001559",null,null,"Burr Hall, Chiltern View Road, UXBRIDGE, Middlesex, UB8 2PF","UB8 2PF",200,"No data","","","","","","","","","","","","","",""]
["Y56","QRV","W2U3Z","V001562",null,null,"41 Malvern Road, LONDON, NW6 5PS","NW6 5PS",174,"No data","","","","","","","","","","","","","",""]
["Y56","QRV","W2U3Z","V001563",3592700001,"MR AF RAI","Feelgood Dental, 77 Belmont Road, Uxbridge, UB8 1QU","UB8 1QU",2503,23,1,0,23,0,0,0,0,0,23,0,0,0,0,0]
["Y56","QRV","W2U3Z","V001566",null,null,"Willesden Dental Surgery, 229 Church Road, LONDON, NW10 9EP","NW10 9EP",4123,"No data","","","","","","","","","","","","","",""]
["Y56","QRV","W2U3Z","V001568",7405860001,"Naman Vijay Shah","Harrow Road Dental Surgery, 883 Harrow Road, WEMBLEY, Middlesex, HA0 2RH","HA0 2RH",872,7,1,0,5,2,0,0,0,0,7,0,0,0,0,0]
["Y56","QRV","W2U3Z","V001572",null,null,"Dental Surgery, 114 Watford Road, WEMBLEY, Middlesex, HA0 3HF","HA0 3HF",1508,"No data","","","","","","","","","","","","","",""]
["Y56","QRV","W2U3Z","V001576",null,null,"Dental Surgery, 42 Queensbury Station Parade, EDGWARE, Middlesex, HA8 5NN","HA8 5NN",2466,"No data","","","","","","","","","","","","","",""]
["Y56","QRV","W2U3Z","V001820",null,null,"Dental Referral Centre, 89 South Road, SOUTHALL, Middlesex, UB1 1SQ","UB1 1SQ",3389,"No data","","","","","","","","","","","","","",""]
["Y56","QRV","W2U3Z","V001821",1826800001,"Inspire Dental Southall Ltd","Inspire Dental Health, 56 - 58 South Road, SOUTHALL, Middlesex, UB1 1RQ","UB1 1RQ",9734,32,1,0,25,7,0,0,0,0,32,0,0,0,0,0]
["Y56","QRV","W2U3Z","V001822",null,null,"Dental Surgery, 4A South Road, SOUTHALL, Middlesex, UB1 1RT","UB1 1RT",919,"No data","","","","","","","","","","","","","",""]
["Y56","QRV","W2U3Z","V001823",1122080001,"Whitehouse Dental Practice Ltd","The White House, 93 - 95 South Road, SOUTHALL, Middlesex, UB1 1SQ","UB1 1SQ",12207,5,1,0,4,1,0,0,0,0,5,0,0,0,0,0]
["Y56","QRV","W2U3Z","V001824",null,null,"Dental Surgery, 66 King Street, SOUTHALL, Middlesex, UB2 4DD","UB2 4DD",2192,"No data","","","","","","","","","","","","","",""]
["Y56","QRV","W2U3Z","V001828",null,null,"Dental Surgery, 152 Lady Margaret Road, SOUTHALL, Middlesex, UB1 2RW","UB1 2RW",1716,"No data","","","","","","","","","","","","","",""]
["Y56","QRV","W2U3Z","V001829",3595560002,"MISS AR PATEL","Dental Surgery, 6 Tangmere Gardens, NORTHOLT, Middlesex, UB5 6LP","UB5 6LP",3483,3,"*","*","*","*","*","*","*","*","*","*","*","*","*","*"]
["Y56","QRV","W2U3Z","V001832",null,null,"T S Cheema Dental Surgery, 15 Ruislip Road, GREENFORD, Middlesex, UB6 9QD","UB6 9QD",875,"No data","","","","","","","","","","","","","",""]
["Y56","QRV","W2U3Z","V001833",null,null,"Apollonia Dental Care, 231-233 Greenford Road, GREENFORD, Middlesex, UB6 8QZ","UB6 8QZ",1781,"No data","","","","","","","","","","","","","",""]
["Y56","QRV","W2U3Z","V001836",2157910001,"Rajesh Kylahsum and Archna Patel","Dental Surgery, 28 Ruislip Road, GREENFORD, Middlesex, UB6 9QN","UB6 9QN",2220,6,1,0,4,2,0,0,0,0,0,0,6,0,0,0]
["Y56","QRV","W2U3Z","V001840",null,null,"Perivale Dental Practice, Dental Surgery, 1 Teignmouth Gardens, Perivale, GREENFORD, UB6 8BX","UB6 8BX",491,"No data","","","","","","","","","","","","","",""]
["Y56","QRV","W2U3Z","V001842",null,null,"Sillicon Dental Centre, Unit 21, Silicon Centre, 26-28 Wadsworth Road, Perivale, UB6 7JZ","UB6 7JZ",1484,"No data","","","","","","","","","","","","","",""]
["Y56","QRV","W2U3Z","V001853",1448430001,"Dr Jeff Sherer and Dr Larry Levin","Dentist Surgery, 1 Murray Road, NORTHWOOD, Middlesex, HA6 2YP","HA6 2YP",1723,1,"*","*","*","*","*","*","*","*","*","*","*","*","*","*"]
["Y56","QRV","W2U3Z","V001878",null,null,"Dental Surgery, 72 Petts Hill, NORTHOLT, Middlesex, UB5 4NN","UB5 4NN",1586,"No data","","","","","","","","","","","","","",""]
["Y56","QRV","W2U3Z","V001898",null,null,"Dental Surgery, 444B High Road, WEMBLEY, Middlesex, HA9 6AH","HA9 6AH",167,"No data","","","","","","","","","","","","","",""]
["Y56","QRV","W2U3Z","V001953",null,null,"D J Shah And Associates, Willesden Dental Centre, 248 High Road, LONDON, NW10 2NX","NW10 2NX",3316,"No data","","","","","","","","","","","","","",""]
["Y56","QRV","W2U3Z","V001980",5597410002,"R Dattani","Kilburn Dental Studio, 137 Kilburn High Road, LONDON, NW6 7HR","NW6 7HR",862,7,1,0,6,1,0,0,0,0,7,0,0,0,0,0]
["Y56","QRV","W2U3Z","V002012",null,null,"Dental Surgery, 267A Ealing Road, WEMBLEY, Middlesex, HA0 1EU","HA0 1EU",1199,"No data","","","","","","","","","","","","","",""]
["Y56","QRV","W2U3Z","V002041",null,null,"Dental Surgery, 2 Craven Park, LONDON, NW10 8SY","NW10 8SY",1955,"No data","","","","","","","","","","","","","",""]
["Y56","QRV","W2U3Z","V002088",null,null,"Dental Surgery, 130 Chamberlayne Road, LONDON, NW10 3JR","NW10 3JR",287,"No data","","","","","","","","","","","","","",""]
["Y56","QRV","W2U3Z","V002181",null,null,"Dental Practice, 98 Chamberlayne Road, London, NW10 3JN","NW10 3JN",906,"No data","","","","","","","","","","","","","",""]
["Y56","QRV","W2U3Z","V002247",3939830002,"Kilburn Corner Dental practice","Dental Surgery, 61 Kilburn High Road, LONDON, NW6 5SB","NW6 5SB",1469,15,1,0,13,2,0,0,0,0,15,0,0,0,0,0]
["Y56","QRV","W2U3Z","V002292",null,null,"56 Bilton Road, Perivale, GREENFORD, Middlesex, UB6 7DH","UB6 7DH",1277,"No data","","","","","","","","","","","","","",""]
["Y56","QRV","W2U3Z","V002383",null,null,"Clocktower Dental Surgery, 1B Wendover Road, LONDON, NW10 4RX","NW10 4RX",1269,"No data","","","","","","","","","","","","","",""]
["Y56","QRV","W2U3Z","V002434",null,null,"Dental Surgery, 192 Church Road, NORTHOLT, Middlesex, UB5 5AE","UB5 5AE",3421,"No data","","","","","","","","","","","","","",""]
["Y56","QRV","W2U3Z","V002437",null,null,"Dental Surgery, 1552 Greenford Road, GREENFORD, Middlesex, UB6 0HR","UB6 0HR",3751,"No data","","","","","","","","","","","","","",""]
["Y56","QRV","W2U3Z","V002441",null,null,"101 Church Road, NORTHOLT, Middlesex, UB5 5AH","UB5 5AH",14,"No data","","","","","","","","","","","","","",""]
["Y56","QRV","W2U3Z","V002442",7554510001,"MRS B THAKRAR","Dental Surgery, 422 Greenford Avenue, LONDON, W7 3DB","W7 3DB",3227,3,"*","*","*","*","*","*","*","*","*","*","*","*","*","*"]
["Y56","QRV","W2U3Z","V002444",2771260001,"Hanwell Dental Limited","Dental Department, Hanwell Health Centre, 20 Church Road, LONDON, W7 1DR","W7 1DR",1346,5,1,0,5,0,0,0,0,0,5,0,0,0,0,0]
["Y56","QRV","W2U3Z","V002447",null,null,"Dental Surgery, 51 Uxbridge Road, LONDON, W7 3PX","W7 3PX",5429,"No data","","","","","","","","","","","","","",""]
["Y56","QRV","W2U3Z","V002448",null,null,"St Marys Dental Surgery, 76 St Marys Road, LONDON, W5 5EX","W5 5EX",729,"No data","","","","","","","","","","","","","",""]
["Y56","QRV","W2U3Z","V002449",null,null,"Dental Surgery, 81 South Ealing Road, London, LONDON, W5 4QR","W5 4QR",2422,"No data","","","","","","","","","","","","","",""]
["Y56","QRV","W2U3Z","V002450",null,null,"Dental Surgery, 3 Windsor Road, London, LONDON, W5 3UL","W5 3UL",1480,"No data","","","","","","","","","","","","","",""]
["Y56","QRV","W2U3Z","V002451",3230550001,"MRS PA HARRIS","Dental Surgery, 13 Corringway, LONDON, W5 3AB","W5 3AB",82,12,1,0,12,0,0,0,0,0,12,0,0,0,0,0]
["Y56","QRV","W2U3Z","V002454",2289740002,"Pitshanger Dental Care","Pitshanger Dental Care, 50 Pitshanger Lane, LONDON, W5 1QY","W5 1QY",1667,5,1,0,4,1,0,0,0,0,5,0,0,0,0,0]
["Y56","QRV","W2U3Z","V002455",null,null,"Dental Surgery, 1 Boileau Parade, LONDON, W5 3AQ","W5 3AQ",1308,"No data","","","","","","","","","","","","","",""]
["Y56","QRV","W2U3Z","V002464",null,null,"Dental Surgery, 69 The Avenue, LONDON, W13 8JR","W13 8JR",1045,"No data","","","","","","","","","","","","","",""]
["Y56","QRV","W2U3Z","V002465",null,null,"Dental Surgery, 692 Pinner Road, PINNER, Middlesex, HA5 5QY","HA5 5QY",2202,"No data","","","","","","","","","","","","","",""]
["Y56","QRV","W2U3Z","V002466",null,null,"20 Junction Road, LONDON, W5 4XL","W5 4XL",1719,"No data","","","","","","","","","","","","","",""]
["Y56","QRV","W2U3Z","V002469",null,null,"172 Long Elmes, HARROW, Middlesex, HA3 5JZ","HA3 5JZ",1774,"No data","","","","","","","","","","","","","",""]
["Y56","QRV","W2U3Z","V002474",null,null,"Pinner Green Dental Clinic, 661 Uxbridge Road, PINNER, Middlesex, HA5 3LW","HA5 3LW",151,"No data","","","","","","","","","","","","","",""]
["Y56","QRV","W2U3Z","V002588",null,null,"Dental Surgery, 807 Harrow Road, WEMBLEY, Middlesex, HA0 2LP","HA0 2LP",1267,"No data","","","","","","","","","","","","","",""]
["Y56","QRV","W2U3Z","V002793",1743510001,"Dr Kishan Patel, Dr Jinesh Vaghela, and Dr Jiten Vaghela","Dental Surgery, 99 High Street, Wealdstone, HARROW, Middlesex, HA3 5DL","HA3 5DL",1218,3,"*","*","*","*","*","*","*","*","*","*","*","*","*","*"]
["Y56","QRV","W2U3Z","V002797",7636750002,"MR SB MEHTA","Dental Surgery, 434 Pinner Road, HARROW, Middlesex, HA2 6EF","HA2 6EF",2099,17,1,0,16,1,0,0,0,0,0,0,17,0,0,0]
["Y56","QRV","W2U3Z","V002965",null,null,"Dental Surgery, 102 Ealing Road, WEMBLEY, Middlesex, HA0 4TH","HA0 4TH",2453,"No data","","","","","","","","","","","","","",""]
["Y56","QRV","W2U3Z","V002970",null,null,"Kingsbury Dental Practice, 529 Kingsbury Road, LONDON, NW9 9EG","NW9 9EG",1666,"No data","","","","","","","","","","","","","",""]
["Y56","QRV","W2U3Z","V002976",1191800001,"Mr B Metha & Mr S Mehta","B Mehta Dental Surgery, 371 Kenton Road, HARROW, Middlesex, HA3 0XS","HA3 0XS",2755,84,1,0,64,20,0,0,0,0,0,0,84,0,0,0]
["Y56","QRV","W2U3Z","V002979",null,null,"Ixia Dental, 319 Kenton Road, Kenton, Harrow, Middlesex, HA3 0XN","HA3 0XN",814,"No data","","","","","","","","","","","","","",""]
["Y56","QRV","W2U3Z","V002982",null,null,"Rose Garden Dental Practice, 280 Church Lane, LONDON, NW9 8LU","NW9 8LU",1624,"No data","","","","","","","","","","","","","",""]
["Y56","QRV","W2U3Z","V002986",null,null,"Dental Surgery, 461 Kenton Road, HARROW, Middlesex, HA3 0UN","HA3 0UN",1096,"No data","","","","","","","","","","","","","",""]
["Y56","QRV","W2U3Z","V002991",null,null,"The Dental Practice, 269 Kenton Road, HARROW, Middlesex, HA3 0HQ","HA3 0HQ",2494,"No data","","","","","","","","","","","","","",""]
["Y56","QRV","W2U3Z","V003002",3813650002,"Dental Magic (Care) Ltd","Dental Surgery, 607 Kenton Road, HARROW, Middlesex, HA3 9RT","HA3 9RT",4271,35,1,0,18,17,0,0,0,0,35,0,0,0,0,0]
["Y56","QRV","W2U3Z","V003005",null,null,"Mrs GC Baskeran, 356 Preston Road, HARROW, Middlesex, HA3 0QJ","HA3 0QJ",851,"No data","","","","","","","","","","","","","",""]
["Y56","QRV","W2U3Z","V003017",null,null,"Dental Surgery, 211 Wembley Hill Road, WEMBLEY, Middlesex, HA9 8EL","HA9 8EL",1444,"No data","","","","","","","","","","","","","",""]
["Y56","QRV","W2U3Z","V003019",null,null,"288 Preston Road, HARROW, Middlesex, HA3 0QA","HA3 0QA",2334,"No data","","","","","","","","","","","","","",""]
["Y56","QRV","W2U3Z","V003022",1145610001,"Kenton Clinic","Dental Surgery, 8 Upton Gardens, HARROW, Middlesex, HA3 0DL","HA3 0DL",396,3,"*","*","*","*","*","*","*","*","*","*","*","*","*","*"]
["Y56","QRV","W2U3Z","V003028",null,null,"S M Ho And Associates, 21 Bridge Road, WEMBLEY, Middlesex, HA9 9AB","HA9 9AB",849,"No data","","","","","","","","","","","","","",""]
["Y56","QRV","W2U3Z","V003035",3357540001,"MR N DIXIT","Dental Surgery, 201 Watford Road, HARROW, Middlesex, HA1 3UA","HA1 3UA",883,17,1,0,14,3,0,0,0,0,17,0,0,0,0,0]
["Y56","QRV","W2U3Z","V003037",9612560001,"Archna Patel and Rajesh Kylahsum","Northwick Park Dental Practice, Northwick Park Hospital, Block L1, Level 4, Watford Road, Harrow, HA1 3UJ","HA1 3UJ",1649,10,1,0,6,4,0,0,0,0,0,0,10,0,0,0]
["Y56","QRV","W2U3Z","V003050",null,null,"Cape House Dental Practice, 57& 57A Harrow Road, WEMBLEY, Middlesex, HA9 6DG","HA9 6DG",3069,"No data","","","","","","","","","","","","","",""]
["Y56","QRV","W2U3Z","V003052",null,null,"Dental Surgery, 21 Stag Lane, EDGWARE, Middlesex, HA8 5LE","HA8 5LE",169,"No data","","","","","","","","","","","","","",""]
["Y56","QRV","W2U3Z","V003056",5730510001,"Kishan Patel, Jiten Vaghela, Shiv Patel, Hamish Joshi","Colindale Dental Care Centre, 263 Edgware Road, LONDON, NW9 6NB","NW9 6NB",1600,9,1,0,8,1,0,0,0,0,9,0,0,0,0,0]
["Y56","QRV","W2U3Z","V003063",null,null,"Dental Surgery, 47 Okehampton Road, LONDON, NW10 3EN","NW10 3EN",851,"No data","","","","","","","","","","","","","",""]
["Y56","QRV","W2U3Z","V003066",null,null,"Kensal Rise Dental Practice, 90 Chamberlayne Road, LONDON, NW10 3JL","NW10 3JL",302,"No data","","","","","","","","","","","","","",""]
["Y56","QRV","W2U3Z","V003068",null,null,"Angel Dental Implant Centre, 92 Chamberlayne Road, LONDON, NW10 3JL","NW10 3JL",981,"No data","","","","","","","","","","","","","",""]
["Y56","QRV","W2U3Z","V003090",null,null,"Inspire Dental Care, 287 Kilburn High Road, LONDON, NW6 7JR","NW6 7JR",1390,"No data","","","","","","","","","","","","","",""]
["Y56","QRV","W2U3Z","V003178",null,null,"11 Handel Parade, Whitchurch Lane, Edgware, Middlesex, HA8 6LD","HA8 6LD",88,"No data","","","","","","","","","","","","","",""]
["Y56","QRV","W2U3Z","V003271",1840390001,"Bhutta, Padayachee & Associates","Dental Practice, 555 High Road, Wembley, Middlesex, HA0 2DW","HA0 2DW",3038,10,1,0,8,2,0,0,0,0,10,0,0,0,0,0]
["Y56","QRV","W2U3Z","V003362",null,null,"Park Avenue North Dental, Practice, 44 Park Avenue North, London, NW10 1JY","NW10 1JY",4659,"No data","","","","","","","","","","","","","",""]
["Y56","QRV","W2U3Z","V003364",null,null,"Dental Surgery, 1 Dollis Hill Lane, Neasden, LONDON, NW2 6JH","NW2 6JH",1982,"No data","","","","","","","","","","","","","",""]
["Y56","QRV","W2U3Z","V003371",null,null,"Dental Practice, 165 Cricklewood Broadway, London, NW2 3HY","NW2 3HY",1259,"No data","","","","","","","","","","","","","",""]
["Y56","QRV","W2U3Z","V003379",null,null,"2A Chichele Road, LONDON, NW2 3DA","NW2 3DA",818,"No data","","","","","","","","","","","","","",""]
["Y56","QRV","W2U3Z","V003496",null,null,"122 Broadway, LONDON, W13 0SY","W13 0SY",2069,"No data","","","","","","","","","","","","","",""]
["Y56","QRV","W2U3Z","V003509",null,null,"Western Avenue Dental Practice, 54 Western Avenue, London, LONDON, W3 7TZ","W3 7TZ",1294,"No data","","","","","","","","","","","","","",""]
["Y56","QRV","W2U3Z","V003524",5716360001,"Sacoor Dental","Dental Surgery, 191 High Street, LONDON, W3 9DD","W3 9DD",2604,43,1,0,33,10,0,0,0,0,43,0,0,0,0,0]
["Y56","QRV","W2U3Z","V003528",6313290001,"Tilak A Patel and Hina Lakhani","Lim Dental Practice, 4 High Street, LONDON, W3 6LJ","W3 6LJ",1712,15,0.8,0,5,7,3,0,0,0,6,8,0,0,1,0]
["Y56","QRV","W2U3Z","V003531",null,null,"Acton Vale Dental Practice, 175 The Vale, LONDON, W3 7RD","W3 7RD",2905,"No data","","","","","","","","","","","","","",""]
["Y56","QRV","W2U3Z","V003533",null,null,"Dental Surgery, 146 Gunnersbury Lane, LONDON, W3 9BA","W3 9BA",483,"No data","","","","","","","","","","","","","",""]
["Y56","QRV","W2U3Z","V003538",1602100001,"S Cowley, R Ingham and J Angelo","Dental Surgery, 170 Byron Way, NORTHOLT, Middlesex, UB5 6BW","UB5 6BW",1755,17,0.94117647058823528,0,11,5,0,0,0,1,0,0,0,17,0,0]
["Y56","QRV","W2U3Z","V003544",9511960001,"Cornerstone Dental Practice","Cornerstone Dental Practice, 137 High Street, LONDON, W3 6LY","W3 6LY",893,8,0.875,0,6,1,1,0,0,0,8,0,0,0,0,0]
["Y56","QRV","W2U3Z","V003696",null,null,"21 Wimpole Street, Marylebone, London, W1G 8GG","W1G 8GG",183,"No data","","","","","","","","","","","","","",""]
["Y56","QRV","W2U3Z","V003732",null,null,"Dental Surgery, 207 Kilburn High Road, LONDON, NW6 7JG","NW6 7JG",566,"No data","","","","","","","","","","","","","",""]
["Y56","QRV","W2U3Z","V003737",1016180000,"Dental Magic (Care) Ltd","Cambridge Court Dental Surgery, 4 Sussex Gardens, LONDON, W2 1UL","W2 1UL",2119,16,0.9375,6.25E-2,10,5,0,0,1,0,0,0,0,16,0,0]
["Y56","QRV","W2U3Z","V003739",null,null,"Crawford Street Dental Clinic, 57 Crawford Street, LONDON, W1H 4JL","W1H 4JL",964,"No data","","","","","","","","","","","","","",""]
["Y56","QRV","W2U3Z","V003741",null,null,"Dental Surgery, 11 Porchester Gardens, LONDON, W2 4DB","W2 4DB",76,"No data","","","","","","","","","","","","","",""]
["Y56","QRV","W2U3Z","V003744",null,null,"Leicester Square Dental Clinic, 24 Lisle Street, LONDON, WC2H 7BA","WC2H 7BA",100,"No data","","","","","","","","","","","","","",""]
["Y56","QRV","W2U3Z","V003746",null,null,"Marble Arch Dental Centre, 215 - 217 Edgware Road, London, W2 1ES","W2 1ES",5350,"No data","","","","","","","","","","","","","",""]
["Y56","QRV","W2U3Z","V003747",null,null,"Nigel Meyer And Associates, 11 South Molton Street, LONDON, W1K 5QL","W1K 5QL",1321,"No data","","","","","","","","","","","","","",""]
["Y56","QRV","W2U3Z","V003750",null,null,"124 Regency Street, LONDON, SW1P 4AP","SW1P 4AP",183,"No data","","","","","","","","","","","","","",""]
["Y56","QRV","W2U3Z","V003752",2247900002,"RA KHAN","Dental Surgery, 82 Queensway, LONDON, W2 3RL","W2 3RL",505,6,0.33333333333333331,0.16666666666666666,2,0,3,1,0,0,0,0,0,0,6,0]
["Y56","QRV","W2U3Z","V003757",1012940000,"SJW Orthodontics Ltd","St Johns Wood Orthodontic Clinic, 61-63 Queens Grove, LONDON, NW8 6ER","NW8 6ER",1793,13,0.92307692307692313,0,10,2,1,0,0,0,13,0,0,0,0,0]
["Y56","QRV","W2U3Z","V003760",null,null,"The Archangel Dental Surgery, 8 Westbourne Grove, LONDON, W2 5RA","W2 5RA",1183,"No data","","","","","","","","","","","","","",""]
["Y56","QRV","W2U3Z","V003761",null,null,"Covent Garden Dental Clinic, 48A Chandos Place, LONDON, WC2N 4HS","WC2N 4HS",395,"No data","","","","","","","","","","","","","",""]
["Y56","QRV","W2U3Z","V003763",null,null,"The London Dental Studio, 27 - 29 Warwick Way, LONDON, SW1V 1QT","SW1V 1QT",583,"No data","","","","","","","","","","","","","",""]
["Y56","QRV","W2U3Z","V003765",6601750001,"RNSN Dental Care","176 Shirland Road, LONDON, W9 3JE","W9 3JE",1783,15,1,0,11,4,0,0,0,0,0,5,10,0,0,0]
["Y56","QRV","W2U3Z","V003766",null,null,"Dental Surgery, 63A Wilton Road, LONDON, SW1V 1DE","SW1V 1DE",329,"No data","","","","","","","","","","","","","",""]
["Y56","QRV","W2U3Z","V003832",null,null,"Hyde Park Dental Centre, 61 Bayswater Road, LONDON, W2 3PH","W2 3PH",523,"No data","","","","","","","","","","","","","",""]
["Y56","QRV","W2U3Z","V003842",null,null,"Dental Surgery, 18 James Street, LONDON, W1U 1EQ","W1U 1EQ",410,"No data","","","","","","","","","","","","","",""]
["Y56","QRV","W2U3Z","V004004",null,null,"Eastcote Lane Dental Practice, 3 Eastcote Lane, HARROW, Middlesex, HA2 8BW","HA2 8BW",1356,"No data","","","","","","","","","","","","","",""]
["Y56","QRV","W2U3Z","V004015",7638020001,"MR R VADHER","2 The Quadrant, Headstone Gardens, HARROW, Middlesex, HA2 6PN","HA2 6PN",1366,6,0.5,0,1,2,3,0,0,0,2,0,0,0,0,4]
["Y56","QRV","W2U3Z","V004037",null,null,"Dental Surgery, 148 High Street, HOUNSLOW, Middlesex, TW3 1LR","TW3 1LR",1783,"No data","","","","","","","","","","","","","",""]
["Y56","QRV","W2U3Z","V004044",null,null,"283 Convent Way, SOUTHALL, Middlesex, UB2 5UL","UB2 5UL",681,"No data","","","","","","","","","","","","","",""]
["Y56","QRV","W2U3Z","V004045",null,null,"Dental Surgery, 4 Cressys Corner, Lampton Road, HOUNSLOW, Middlesex, TW3 1HA","TW3 1HA",781,"No data","","","","","","","","","","","","","",""]
["Y56","QRV","W2U3Z","V004047",null,null,"Dental Surgery, 300A Bath Road, HOUNSLOW, Middlesex, TW4 7DN","TW4 7DN",520,"No data","","","","","","","","","","","","","",""]
["Y56","QRV","W2U3Z","V004049",null,null,"305 Bath Road, HOUNSLOW, Middlesex, TW3 3DB","TW3 3DB",1678,"No data","","","","","","","","","","","","","",""]
["Y56","QRV","W2U3Z","V004050",null,null,"Dental Surgery, 114 Whitton Road, HOUNSLOW, Middlesex, TW3 2EP","TW3 2EP",919,"No data","","","","","","","","","","","","","",""]
["Y56","QRV","W2U3Z","V004051",null,null,"Advance Dental Care, 100 High Street, HOUNSLOW, Middlesex, TW3 1NH","TW3 1NH",4602,"No data","","","","","","","","","","","","","",""]
["Y56","QRV","W2U3Z","V004059",null,null,"Dental Surgery, 14 Kingsley Road, HOUNSLOW, Middlesex, TW3 1NP","TW3 1NP",1945,"No data","","","","","","","","","","","","","",""]
["Y56","QRV","W2U3Z","V004061",null,null,"Dental Care, 766 Bath Road, HOUNSLOW, Middlesex, TW5 9TY","TW5 9TY",7815,"No data","","","","","","","","","","","","","",""]
["Y56","QRV","W2U3Z","V004063",null,null,"Orthosmile, 230 Staines Road, HOUNSLOW, Middlesex, TW3 3LR","TW3 3LR",1943,"No data","","","","","","","","","","","","","",""]
["Y56","QRV","W2U3Z","V004065",null,null,"Dental Surgery, 164 Heston Road, HOUNSLOW, Middlesex, TW5 0QU","TW5 0QU",1731,"No data","","","","","","","","","","","","","",""]
["Y56","QRV","W2U3Z","V004068",3252440002,"Rosery Cottage Dental Clinic Partnership","Rosary Cottage Dental Clinic, 61 Vicarage Farm Road, HOUNSLOW, Middlesex, TW3 4NH","TW3 4NH",646,21,1,0,20,1,0,0,0,0,21,0,0,0,0,0]
["Y56","QRV","W2U3Z","V004070",null,null,"Ghauris Dental Practice, 113 Vicarage Farm Road, HOUNSLOW, Middlesex, TW5 0AA","TW5 0AA",572,"No data","","","","","","","","","","","","","",""]
["Y56","QRV","W2U3Z","V004072",null,null,"Dental Surgery, 229 Hounslow Road, Hanworth, FELTHAM, Middlesex, TW13 6AD","TW13 6AD",2144,"No data","","","","","","","","","","","","","",""]
["Y56","QRV","W2U3Z","V004076",null,null,"The Dental Surgery, 200 Hampton Road West, FELTHAM, Middlesex, TW13 6BG","TW13 6BG",691,"No data","","","","","","","","","","","","","",""]
["Y56","QRV","W2U3Z","V004088",null,null,"Hamilton Dental Care, 8 Hamilton Parade, Feltham Hill Road, FELTHAM, Middlesex, TW13 4PJ","TW13 4PJ",2646,"No data","","","","","","","","","","","","","",""]
["Y56","QRV","W2U3Z","V004109",null,null,"Dental Surgery, 60 Thames Road, LONDON, W4 3RE","W4 3RE",1188,"No data","","","","","","","","","","","","","",""]
["Y56","QRV","W2U3Z","V004225",5705590001,"MR Q MANJI","Inspire Dental Health, 500 Edgware Road, LONDON, W2 1EJ","W2 1EJ",350,7,1,0,6,1,0,0,0,0,0,0,0,0,7,0]
["Y56","QRV","W2U3Z","V004235",null,null,"Dental Practice, 318 Kilburn Lane, London, W9 3EF","W9 3EF",628,"No data","","","","","","","","","","","","","",""]
["Y56","QRV","W2U3Z","V004259",null,null,"Wisdom Dental Surgery, 11 The Broadway, Gunnersbury Lane, LONDON, W3 8HR","W3 8HR",1237,"No data","","","","","","","","","","","","","",""]
["Y56","QRV","W2U3Z","V004307",null,null,"233 Hounslow Road, Hanworth, FELTHAM, Middlesex, TW13 6AE","TW13 6AE",2755,"No data","","","","","","","","","","","","","",""]
["Y56","QRV","W2U3Z","V004372",null,null,"Gatoff And Moselhi, 22 Notting Hill Gate, LONDON, W11 3JE","W11 3JE",381,"No data","","","","","","","","","","","","","",""]
["Y56","QRV","W2U3Z","V004373",6767210001,"MISS AM PATEL","The Grove Dental Practice, 351 Ladbroke Grove, LONDON, W10 6HA","W10 6HA",1938,16,1,0,16,0,0,0,0,0,0,16,0,0,0,0]
["Y56","QRV","W2U3Z","V004379",null,null,"92 Cannon Lane, PINNER, Middlesex, HA5 1HP","HA5 1HP",519,"No data","","","","","","","","","","","","","",""]
["Y56","QRV","W2U3Z","V004390",6795690001,"A Aghababaei-Kachouei & S Aghababaie","104A Church Road, LONDON, NW10 9QH","NW10 9QH",961,8,1,0,7,1,0,0,0,0,8,0,0,0,0,0]
["Y56","QRV","W2U3Z","V004433",null,null,"Dental Surgery, 17 Albany Parade, High Street, BRENTFORD, Middlesex, TW8 0JW","TW8 0JW",1006,"No data","","","","","","","","","","","","","",""]
["Y56","QRV","W2U3Z","V004469",null,null,"9 Salisbury Pavement, Dawes Road, LONDON, SW6 7HT","SW6 7HT",121,"No data","","","","","","","","","","","","","",""]
["Y56","QRV","W2U3Z","V004476",null,null,"Dental Surgery, 316 Uxbridge Road, LONDON, W12 7LJ","W12 7LJ",241,"No data","","","","","","","","","","","","","",""]
["Y56","QRV","W2U3Z","V004505",null,null,"St Clements Dental Care, 60 - 62 Fulham Palace Road, LONDON, W6 9PH","W6 9PH",704,"No data","","","","","","","","","","","","","",""]
["Y56","QRV","W2U3Z","V004509",null,null,"Smile for Life Dental Clinic, 307 - 309 King Street, LONDON, W6 9NH","W6 9NH",1007,"No data","","","","","","","","","","","","","",""]
["Y56","QRV","W2U3Z","V004519",null,null,"Dental Surgery, 186 King Street, LONDON, W6 0RA","W6 0RA",1279,"No data","","","","","","","","","","","","","",""]
["Y56","QRV","W2U3Z","V004520",null,null,"The Smile Clinic Co Uk, 86 Fulham Palace Road, LONDON, W6 9PL","W6 9PL",359,"No data","","","","","","","","","","","","","",""]
["Y56","QRV","W2U3Z","V004528",null,null,"Dental Surgery, 750A Fulham Road, LONDON, SW6 5SH","SW6 5SH",806,"No data","","","","","","","","","","","","","",""]
["Y56","QRV","W2U3Z","V004529",null,null,"Apple Dental Care, 94 Lillie Road, LONDON, SW6 7SR","SW6 7SR",1122,"No data","","","","","","","","","","","","","",""]
["Y56","QRV","W2U3Z","V004530",null,null,"Dental Surgery, 59 New Kings Road, LONDON, SW6 4SE","SW6 4SE",195,"No data","","","","","","","","","","","","","",""]
["Y56","QRV","W2U3Z","V004532",1540830001,"Quality Dental Care Fulham","Dental Surgery, 337 North End Road, LONDON, SW6 1NN","SW6 1NN",2390,0,"NA","NA",0,0,0,0,0,0,0,0,0,0,0,0]
["Y56","QRV","W2U3Z","V004533",1382660001,"Tooth and Mouth Limited","Tooth and Mouth, 355 North End Road, LONDON, SW6 1NW","SW6 1NW",13052,74,1,0,71,3,0,0,0,0,0,0,74,0,0,0]
["Y56","QRV","W2U3Z","V004538",null,null,"247 Munster Road, LONDON, SW6 6BS","SW6 6BS",1552,"No data","","","","","","","","","","","","","",""]
["Y56","QRV","W2U3Z","V004540",null,null,"Dental Surgery, 377 North End Road, LONDON, SW6 1NP","SW6 1NP",628,"No data","","","","","","","","","","","","","",""]
["Y56","QRV","W2U3Z","V004548",5772350001,"Xiaoli Du","West Kensington NHS Dental Practice, 195 North End Road, LONDON, W14 9NL","W14 9NL",3216,30,0.96666666666666667,0,25,4,1,0,0,0,15,15,0,0,0,0]
["Y56","QRV","W2U3Z","V004550",null,null,"Kensington Orthodontic Clinic, 8 Netherwood Road, LONDON, W14 0BJ","W14 0BJ",892,"No data","","","","","","","","","","","","","",""]
["Y56","QRV","W2U3Z","V004576",null,null,"Dental Surgery, 1 Batman Close, White City Estate, LONDON, W12 7NU","W12 7NU",1067,"No data","","","","","","","","","","","","","",""]
["Y56","QRV","W2U3Z","V004577",null,null,"Dental Surgery, 149 Askew Road, LONDON, W12 9AU","W12 9AU",874,"No data","","","","","","","","","","","","","",""]
["Y56","QRV","W2U3Z","V004579",null,null,"Dental Surgery, 94 Goldhawk Road, LONDON, W12 8HD","W12 8HD",2669,"No data","","","","","","","","","","","","","",""]
["Y56","QRV","W2U3Z","V004590",null,null,"Dental Centre 100, 67 - 67A Askew Road, LONDON, W12 9AH","W12 9AH",192,"No data","","","","","","","","","","","","","",""]
["Y56","QRV","W2U3Z","V004594",null,null,"International Dental Centre, 159 Uxbridge Road, LONDON, LONDON, W12 9RB","W12 9RB",1260,"No data","","","","","","","","","","","","","",""]
["Y56","QRV","W2U3Z","V004626",null,null,"The Dental Department, HM Prison, Wormwood Scrubs, Du Cane Road, London, W12 0AE","W12 0AE",5,"No data","","","","","","","","","","","","","",""]
["Y56","QRV","W2U3Z","V004627",6770190001,"Bhavish Thakrar and Jayesh Kotecha","Dental Surgery, 9 Goldhawk Road, LONDON, W12 8QQ","W12 8QQ",541,1,"*","*","*","*","*","*","*","*","*","*","*","*","*","*"]
["Y56","QRV","W2U3Z","V004627",8461040001,"Bhavish Thakrar and Jayesh Kotecha","Dental Surgery, 9 Goldhawk Road, LONDON, W12 8QQ","W12 8QQ",902,1,"*","*","*","*","*","*","*","*","*","*","*","*","*","*"]
["Y56","QRV","W2U3Z","V004627",9290340001,"Bhavish Thakrar and Jayesh Kotecha","Dental Surgery, 9 Goldhawk Road, LONDON, W12 8QQ","W12 8QQ",426,1,"*","*","*","*","*","*","*","*","*","*","*","*","*","*"]
["Y56","QRV","W2U3Z","V005068",null,null,"Notting Hill Dental Surgery, 22 Pembridge Road, LONDON, W11 3HL","W11 3HL",651,"No data","","","","","","","","","","","","","",""]
["Y56","QRV","W2U3Z","V005070",null,null,"Ghauri Dental Centre, 247 Westbourne Grove, LONDON, W11 2SE","W11 2SE",1999,"No data","","","","","","","","","","","","","",""]
["Y56","QRV","W2U3Z","V005075",null,null,"Dental Surgery, 59 Golborne Road, LONDON, W10 5NR","W10 5NR",2024,"No data","","","","","","","","","","","","","",""]
["Y56","QRV","W2U3Z","V005076",null,null,"Oracare Dental, 244 Kensington High Street, LONDON, W8 6ND","W8 6ND",2582,"No data","","","","","","","","","","","","","",""]
["Y56","QRV","W2U3Z","V005102",null,null,"All Saints Dental Clinic, 9 All Saints Road, LONDON, W11 1HA","W11 1HA",558,"No data","","","","","","","","","","","","","",""]
["Y56","QRV","W2U3Z","V005103",null,null,"Dental Surgery, 113A Burnt Oak Broadway, EDGWARE, Middlesex, Middlesex, HA8 5EN","HA8 5EN",524,"No data","","","","","","","","","","","","","",""]
["Y56","QRV","W2U3Z","V005106",9186280001,"MR P VAID","Dental Surgery, 118 Ladbroke Grove, LONDON, W10 5NE","W10 5NE",3012,6,1,0,6,0,0,0,0,0,0,0,6,0,0,0]
["Y56","QRV","W2U3Z","V005107",9064760001,"Maria Maliderou","Dental Surgery, 4 Worlds End Place, LONDON, SW10 0HE","SW10 0HE",1097,35,0.97142857142857142,0,23,11,0,0,0,1,35,0,0,0,0,0]
["Y56","QRV","W2U3Z","V005108",null,null,"Dental Surgery, 242 - 244 Fulham Road, LONDON, SW10 9NA","SW10 9NA",430,"No data","","","","","","","","","","","","","",""]
["Y56","QRV","W2U3Z","V005109",null,null,"Family Dental Care, 160 Marsh Lane, STANMORE, Middlesex, HA7 4HT","HA7 4HT",121,"No data","","","","","","","","","","","","","",""]
["Y56","QRV","W2U3Z","V005112",null,null,"Family Dental Care, 160 Marsh Lane, STANMORE, Middlesex, HA7 4HT","HA7 4HT",176,"No data","","","","","","","","","","","","","",""]
["Y56","QRV","W2U3Z","V005114",1451730001,"Kishan Patel, Jiten Vaghela, Shiv Patel, Hamish Joshi","Khiroya Dentist, 218 Pinner Road, HARROW, Middlesex, HA1 4JU","HA1 4JU",1676,10,1,0,4,6,0,0,0,0,10,0,0,0,0,0]
["Y56","QRV","W2U3Z","V005126",null,null,"Care Dental Burnt Oak, 2 Stag Lane, EDGWARE, Middlesex, HA8 5JY","HA8 5JY",2496,"No data","","","","","","","","","","","","","",""]
["Y56","QRV","W2U3Z","V005171",null,null,"Belmont Dental Surgery, 7 Station Parade, Kenton Lane, HARROW, Middlesex, HA3 8SB","HA3 8SB",1130,"No data","","","","","","","","","","","","","",""]
["Y56","QRV","W2U3Z","V005175",null,null,"Lawsons Dental Surgery, 450 Rayners Lane, PINNER, Middlesex, HA5 5DX","HA5 5DX",394,"No data","","","","","","","","","","","","","",""]
["Y56","QRV","W2U3Z","V005296",1574140001,"H Patel","Dental Surgery, 206 Streatfield Road, HARROW, Middlesex, HA3 9BU","HA3 9BU",1661,13,0.84615384615384615,0,11,0,2,0,0,0,13,0,0,0,0,0]
["Y56","QRV","W2U3Z","V005398",1429640001,"The Bush Dental Clinic","The Bush Dental Clinic, 278 Uxbridge Road, LONDON, W12 7JA","W12 7JA",2981,14,1,0,14,0,0,0,0,0,14,0,0,0,0,0]
["Y56","QRV","W2U3Z","V005413",null,null,"Dental Surgery, 74 Old Oak Common Lane, LONDON, W3 7DA","W3 7DA",1216,"No data","","","","","","","","","","","","","",""]
["Y56","QRV","W2U3Z","V005457",null,null,"118 - 120 Hammersmith Road, London, W6 7JP","W6 7JP",896,"No data","","","","","","","","","","","","","",""]
["Y56","QRV","W2U3Z","V005460",null,null,"Smile for Life Dental Clinic, 14 Broadway Chambers, Hammersmith, London, W6 7AF","W6 7AF",2804,"No data","","","","","","","","","","","","","",""]
["Y56","QRV","W2U3Z","V005464",null,null,"V K Patel And Associates, The Dental Clinic, 407 Kings Road, LONDON, SW10 0LR","SW10 0LR",3444,"No data","","","","","","","","","","","","","",""]
["Y56","QRV","W2U3Z","V006269",null,null,"Dental Surgery, 63 Park View Road, LONDON, NW10 1AJ","NW10 1AJ",1285,"No data","","","","","","","","","","","","","",""]
["Y56","QRV","W2U3Z","V006278",null,null,"Dental Surgery, 223 High Road, LONDON, NW10 2RY","NW10 2RY",323,"No data","","","","","","","","","","","","","",""]
["Y56","QRV","W2U3Z","V006279",null,null,"Brentfield Medical Centre, 10 Kingfisher Way, LONDON, NW10 8TF","NW10 8TF",1560,"No data","","","","","","","","","","","","","",""]
["Y56","QRV","W2U3Z","V006282",null,null,"Dental Surgery, 83 High Street, Harlesden, London, NW10 4NT","NW10 4NT",876,"No data","","","","","","","","","","","","","",""]
["Y56","QRV","W2U3Z","V006285",null,null,"Dental Surgery, 182 High Street, LONDON, NW10 4ST","NW10 4ST",97,"No data","","","","","","","","","","","","","",""]
["Y56","QRV","W2U3Z","V006669",null,null,"Dental Surgery, 211 The Heights, NORTHOLT, Middlesex, UB5 4BX","UB5 4BX",190,"No data","","","","","","","","","","","","","",""]
["Y56","QRV","W2U3Z","V006670",null,null,"Wise Lane Dental Surgery, 524 Kenton Lane, HARROW, Middlesex, HA3 7LL","HA3 7LL",835,"No data","","","","","","","","","","","","","",""]
["Y56","QRV","W2U3Z","V006671",null,null,"Dental Surgery, 198 High Road, HARROW, Middlesex, HA3 7BA","HA3 7BA",3676,"No data","","","","","","","","","","","","","",""]
["Y56","QRV","W2U3Z","V006692",null,null,"Dental Surgery, 106A Mollison Way, EDGWARE, Middlesex, HA8 5QT","HA8 5QT",1821,"No data","","","","","","","","","","","","","",""]
["Y56","QRV","W2U3Z","V006697",1353480001,"Mr K. K. Kothary & Mr. P. Amin","Revital Dental Care, 4 Shaftesbury Parade, Shaftesbury Avenue, South Harrow, HARROW, HA2 0AJ","HA2 0AJ",1006,32,1,0,30,2,0,0,0,0,0,0,32,0,0,0]
["Y56","QRV","W2U3Z","V006824",null,null,"80 Kensington Dental Clinic, 80 Kensington High Street, London, W8 4SG","W8 4SG",2739,"No data","","","","","","","","","","","","","",""]
["Y56","QRV","W2U3Z","V006911",2032970001,"The Rayners Lane Dental Practice","Dental Surgery, 6 Warden Avenue, HARROW, Middlesex, HA2 9LW","HA2 9LW",2061,0,"NA","NA",0,0,0,0,0,0,0,0,0,0,0,0]
["Y56","QRV","W2U3Z","V006975",null,null,"Soho Orthodontic Clinic, 29 - 30 Soho Square, LONDON, W1D 3QS","W1D 3QS",223,"No data","","","","","","","","","","","","","",""]
["Y56","QRV","W2U3Z","V007030",null,null,"234 Edgware Road, LONDON, W2 1DW","W2 1DW",829,"No data","","","","","","","","","","","","","",""]
["Y56","QRV","W2U3Z","V007152",null,null,"Station Road Dental Surgery, 96 Station Road, HARROW, Middlesex, HA1 2RX","HA1 2RX",1208,"No data","","","","","","","","","","","","","",""]
["Y56","QRV","W2U3Z","V007154",null,null,"300 Kenton Road, HARROW, Middlesex, HA3 8DD","HA3 8DD",1345,"No data","","","","","","","","","","","","","",""]
["Y56","QRV","W2U3Z","V007163",null,null,"Denticare, 377 High Road, HARROW, Middlesex, HA3 6EL","HA3 6EL",21,"No data","","","","","","","","","","","","","",""]
["Y56","QRV","W2U3Z","V007171",null,null,"Associated Dental Practices, 392 Edgware Road, LONDON, W2 1ED","W2 1ED",3273,"No data","","","","","","","","","","","","","",""]
["Y56","QRV","W2U3Z","V007234",null,null,"The Church Street Dental Practic, 69 Church Street, LONDON, NW8 8EU","NW8 8EU",1500,"No data","","","","","","","","","","","","","",""]
["Y56","QRV","W2U3Z","V007236",null,null,"Madia Vale Dental Practice, 2 Walterton Road, LONDON, W9 3PN","W9 3PN",984,"No data","","","","","","","","","","","","","",""]
["Y56","QRV","W2U3Z","V007237",null,null,"Flat 1, 50 Kensington Gardens Square, LONDON, W2 4BA","W2 4BA",1372,"No data","","","","","","","","","","","","","",""]
["Y56","QRV","W2U3Z","V007240",1420420001,"Dr M Patel and Dr S Patel","Harrow Dental Practice, 349 Harrow Road, LONDON, W9 3RA","W9 3RA",2912,18,0.94444444444444442,5.5555555555555552E-2,12,5,0,1,0,0,18,0,0,0,0,0]
["Y56","QRV","W2U3Z","V007241",null,null,"Dental Surgery, Imperial College Health Centre, Princes Gardens, LONDON, SW7 1NA","SW7 1NA",851,"No data","","","","","","","","","","","","","",""]
["Y56","QRV","W2U3Z","V007242",null,null,"Lupus Street Dental Practice, 141 - 145 Lupus Street, LONDON, SW1V 3HD","SW1V 3HD",1405,"No data","","","","","","","","","","","","","",""]
["Y56","QRV","W2U3Z","V007243",null,null,"Paddington Dental Practice, 17 Craven Road, LONDON, W2 3BP","W2 3BP",1548,"No data","","","","","","","","","","","","","",""]
["Y56","QRV","W2U3Z","V007244",3289950002,"MR I MOHAMMED","Queens Park Health Centre, Dart Street, LONDON, W10 4LD","W10 4LD",1209,47,0.85106382978723405,2.1276595744680851E-2,18,22,5,1,0,1,47,0,0,0,0,0]
["Y56","QRV","W2U3Z","V007254",null,null,"Dental Surgery, 54 Sheepcote Road, HARROW, Middlesex, HA1 2JF","HA1 2JF",2563,"No data","","","","","","","","","","","","","",""]
["Y56","QRV","W2U3Z","V007256",null,null,"The Clocktower Dental Surgery, 132 High Street, Wealdstone, HARROW, Middlesex, HA3 7AL","HA3 7AL",1895,"No data","","","","","","","","","","","","","",""]
["Y56","QRV","W2U3Z","V007258",7463200002,"MR C SHETH","Dental Surgery, 9 Church Road, STANMORE, Middlesex, HA7 4AR","HA7 4AR",205,7,1,0,6,1,0,0,0,0,7,0,0,0,0,0]
["Y56","QRV","W2U3Z","V007259",null,null,"Cohen Dental Centre, 486 Uxbridge Road, Hatch End, Middlesex, HA5 4SL","HA5 4SL",2920,"No data","","","","","","","","","","","","","",""]
["Y56","QRV","W2U3Z","V007260",null,null,"Harrow Weald Dental Practice, 359 High Road, HARROW, Middlesex, HA3 5EQ","HA3 5EQ",1663,"No data","","","","","","","","","","","","","",""]
["Y56","QRV","W2U3Z","V007261",null,null,"Dental Surgery, 118 Uxbridge Road, PINNER, Middlesex, HA5 4DS","HA5 4DS",123,"No data","","","","","","","","","","","","","",""]
["Y56","QRV","W2U3Z","V007749",7682860001,"Nidal Barakji & Nader Davani","Earls Court Dental Practice, 121 Earls Court Road, LONDON, SW5 9RL","SW5 9RL",476,17,1,0,14,3,0,0,0,0,17,0,0,0,0,0]
["Y56","QRV","W2U3Z","V008556",3595560001,"MISS AR PATEL","Burnt Oak Dental Practice, 211-213 Burnt Oak Broadway, EDGWARE, Middlesex, HA8 5EG","HA8 5EG",3246,500,0.998,0,497,2,0,0,0,1,0,0,500,0,0,0]
["Y56","QRV","W2U3Z","V008739",null,null,"298 Whitchurch Lane, EDGWARE, Middlesex, HA8 6QX","HA8 6QX",996,"No data","","","","","","","","","","","","","",""]
["Y56","QRV","W2U3Z","V008828",null,null,"Woodlands Dental Surgery, 106 Woodlands, HARROW, Middlesex, HA2 6EW","HA2 6EW",529,"No data","","","","","","","","","","","","","",""]
["Y56","QRV","W2U3Z","V008883",1786320001,"DR Sherer & DR Levin","Dental Surgery, 243 Maida Vale, LONDON, W9 1QJ","W9 1QJ",683,1,"*","*","*","*","*","*","*","*","*","*","*","*","*","*"]
["Y56","QRV","W2U3Z","V008887",null,null,"Dental Surgery, 330 Vauxhall Bridge Road, LONDON, SW1V 1AA","SW1V 1AA",183,"No data","","","","","","","","","","","","","",""]
["Y56","QRV","W2U3Z","V008919",null,null,"61 Lampton Road, Hounslow, Middlesex, TW3 4DH","TW3 4DH",3204,"No data","","","","","","","","","","","","","",""]
["Y56","QRV","W2U3Z","V008987",null,null,"Dental Surgery, 77 Harrow View, HARROW, Middlesex, HA1 4TB","HA1 4TB",125,"No data","","","","","","","","","","","","","",""]
["Y56","QRV","W2U3Z","V009145",null,null,"Smile 360 Dental Care, 404 Alexandra Avenue, Rayners Lane, Harrow, Middlesex, HA2 9TR","HA2 9TR",1592,"No data","","","","","","","","","","","","","",""]
["Y56","QRV","W2U3Z","V009180",null,null,"22 Northfield Avenue, LONDON, W13 9RL","W13 9RL",1215,"No data","","","","","","","","","","","","","",""]
["Y56","QRV","W2U3Z","V009333",null,null,"12 Chapter Chambers, Chapter Street, LONDON, SW1P 4NR","SW1P 4NR",180,"No data","","","","","","","","","","","","","",""]
["Y56","QRV","W2U3Z","V009661",null,null,"129 - 131 Kensington High Street, LONDON, W8 6SU","W8 6SU",856,"No data","","","","","","","","","","","","","",""]
["Y56","QRV","W2U3Z","V009666",null,null,"Violet Melchett Clinic, 30 Flood Walk, LONDON, SW3 5RR","SW3 5RR",460,"No data","","","","","","","","","","","","","",""]
["Y56","QRV","W2U3Z","V009738",1489970001,"Dr.S.B.Radia and Dr.P.Vaid","Imperial Dental Care, 13 Broadwalk, Pinner Road, NORTH HARROW, Middlesex, HA2 6ED","HA2 6ED",4129,3,"*","*","*","*","*","*","*","*","*","*","*","*","*","*"]
["Y56","QRV","W2U3Z","V010042",null,null,"Wembley Centre, 116 Chaplin Road, WEMBLEY, Middlesex, HA0 4UZ","HA0 4UZ",4220,"No data","","","","","","","","","","","","","",""]
["Y56","QRV","W2U3Z","V010424",null,null,"Soho Dental Care, 2nd Floor, 1 Frith Street, Soho Square, London, W1D 3HZ","W1D 3HZ",525,"No data","","","","","","","","","","","","","",""]
["Y56","QRV","W2U3Z","V011303",null,null,"The Tooth Clinic, Network Hub, 300 Kensal Road, LONDON, W10 5BE","W10 5BE",772,"No data","","","","","","","","","","","","","",""]
["Y56","QRV","W2U3Z","V012075",null,null,"Bond Dental, 62 Gloucester Place, LONDON, W1U 8HW","W1U 8HW",327,"No data","","","","","","","","","","","","","",""]
["Y56","QRV","W2U3Z","V012161",null,null,"Orthodontic Gallery, Stanmore Towers, Suite 3, 8-14 Church Road, Stanmore, Middlesex, HA7 4AW","HA7 4AW",114,"No data","","","","","","","","","","","","","",""]
["Y56","QRV","W2U3Z","V012351",null,null,"8 Chiswick Terrace, LONDON, W4 5LY","W4 5LY",1407,"No data","","","","","","","","","","","","","",""]
["Y56","QRV","W2U3Z","V012745",null,null,"Pinn Dental Centre, 37 Love Lane, Pinner, HA5 3EE","HA5 3EE",982,"No data","","","","","","","","","","","","","",""]
["Y56","QRV","W2U3Z","V012971",null,null,"Westminster House Dental Practic, Rodericks Ltd, 11-13 Horseferry Road, LONDON, SW1P 2AH","SW1P 2AH",3835,"No data","","","","","","","","","","","","","",""]
["Y56","QRV","W2U3Z","V012986",null,null,"Marylebone House Dental Practice, Rodericks Ltd, 152 Marylebone Road, LONDON, NW1 5PN","NW1 5PN",3693,"No data","","","","","","","","","","","","","",""]
["Y56","QRV","W2U3Z","V013050",null,null,"150 Hilltop Avenue, LONDON, NW10 8RY","NW10 8RY",1859,"No data","","","","","","","","","","","","","",""]
["Y56","QRV","W2U3Z","V013170",null,null,"Chelsea Bldg Soc, 110 112 Kings Road, LONDON, SW3 4TY","SW3 4TY",1617,"No data","","","","","","","","","","","","","",""]
["Y56","QRV","W2U3Z","V014287",1247020001,"S Cowley, R Ingham and J Angelo","168 Dental Clinic, 168 Earls Court Road, LONDON, SW5 9QQ","SW5 9QQ",1766,13,1,0,12,1,0,0,0,0,0,0,0,13,0,0]
["Y56","QRV","W2U3Z","V014779",null,null,"Emergency Dental Services, St Charles Centre, For Health & Wellbeing, Exmoor Street, London, W10 6DZ","W10 6DZ",480,"No data","","","","","","","","","","","","","",""]
["Y56","QRV","W2U3Z","V016442",1657350001,"Bhutta, Padayachee & Associates","187 Kenton Road, Harrow, Middlesex, HA3 0EY","HA3 0EY",1381,13,1,0,13,0,0,0,0,0,13,0,0,0,0,0]
["Y56","QRV","W2U3Z","V019929",null,null,"Heart of Hounslow Health Centre, 92 Bath Rd, Hounslow, Middx, TW3 3EL","TW3 3EL",4719,"No data","","","","","","","","","","","","","",""]
["Y56","QRV","W2U3Z","V020408",null,null,"197 HEADSTONE LANE, HARROW, MIDDLESEX, HA2 6ND","HA2 6ND",1039,"No data","","","","","","","","","","","","","",""]
["Y56","QRV","W2U3Z","V023506",null,null,"Ashcroft House, 36 North End Road, London, W14 0SH","W14 0SH",1449,"No data","","","","","","","","","","","","","",""]
["Y56","QRV","W2U3Z","V024874",null,null,"271 NORTHOLT ROAD, HARROW, MIDDLESEX, HA2 8HS","HA2 8HS",2885,"No data","","","","","","","","","","","","","",""]
["Y56","QRV","W2U3Z","V025449",8259480005,"MR JK KOTECHA","338 Eastcote Lane, Harrow, Middlesex, HA2 9AJ","HA2 9AJ",4222,37,0.97297297297297303,0,27,9,1,0,0,0,34,0,3,0,0,0]
["Y56","QRV","W2U3Z","V026187",null,null,"Unit 2 and 3 Holdsworth House, 65-73 Staines Road, Hounslow, Middlesex, TW3 3HW","TW3 3HW",3374,"No data","","","","","","","","","","","","","",""]
["Y56","QRV","W2U3Z","V026685",1297710001,"Sharandeep Purewal","Feltham Dental Care, 129 Harlington Road West, Feltham, Middlesex, TW14 0JG","TW14 0JG",2691,0,"NA","NA",0,0,0,0,0,0,0,0,0,0,0,0]
["Y56","QRV","W2U3Z","V026861",null,null,"Perfect Smile, 2 Russell Gardens, London, W14 8EZ","W14 8EZ",884,"No data","","","","","","","","","","","","","",""]
["Y56","QRV","W2U3Z","V027682",null,null,"Northwick Park Hospital, Block L1, Level 4, Watford Road, Harrow, Middlesex, HA1 3UJ","HA1 3UJ",598,"No data","","","","","","","","","","","","","",""]
["Y56","QRV","W2U3Z","V028868",null,null,"79 Bloemfontein Road, London, W12 7DA","W12 7DA",287,"No data","","","","","","","","","","","","","",""]
["Y56","QRV","W2U3Z","V029023",null,null,"158-160 High Road, Willesden, London, NW10 2PB, NW10 2PB","NW10 2PB",2369,"No data","","","","","","","","","","","","","",""]
["Y56","QRV","W2U3Z","V029638",null,null,"4 Honeypot Lane, London, NW9 9QD","NW9 9QD",909,"No data","","","","","","","","","","","","","",""]
["Y56","QRV","W2U3Z","V041091",1008470000,"Earls Court Dental Ltd","2B Hogarth Road, Earls Court, London, SW5 0PT","SW5 0PT",2359,37,1,0,35,2,0,0,0,0,0,0,37,0,0,0]
["Y56","QRV","W2U3Z","V042784",null,null,"116A Windermere Avenue, Wembley, HA9 8RB","HA9 8RB",1,"No data","","","","","","","","","","","","","",""]
["Y56","QRV","W2U3Z","V042958",null,null,"Dentistry For You, 16 High Street, Harefield, Hillingdon, London, UB9 6BU","UB9 6BU",2205,"No data","","","","","","","","","","","","","",""]
["Y56","QRV","W2U3Z","V042969",null,null,"St Bernards Hospital, Forensic Services - Regional Secure Unit, Uxbridge Road, Southall, UB1 1EU","UB1 1EU",73,"No data","","","","","","","","","","","","","",""]
["Y56","QRV","W2U3Z","V044610",null,null,"Caspersonn Dental, 16 Dawes Road, Fulham, London, SW6 7EN","SW6 7EN",174,"No data","","","","","","","","","","","","","",""]
["Y56","QRV","W2U3Z","V044834",null,null,"11 13 STRUTTON GROUND, LONDON, SW1P 2HY","SW1P 2HY",206,"No data","","","","","","","","","","","","","",""]
["Y56","QRV","W2U3Z","V045273",null,null,"PIELD HEATH ROAD, UXBRIDGE, UB8 3NN","UB8 3NN",369,"No data","","","","","","","","","","","","","",""]
["Y56","QRV","W2U3Z","V045291",null,null,"EALING HOSPITAL, UXBRIDGE ROAD, SOUTHALL, UB1 3HW","UB1 3HW",953,"No data","","","","","","","","","","","","","",""]
["Y56","QRV","W2U3Z","V047933",1003580000,"Dr Jeet Parekh and Mrs Mala Parekh","Queensway Dental Care, 32 Queensway, London, W2 3RX","W2 3RX",1523,3,"*","*","*","*","*","*","*","*","*","*","*","*","*","*"]
["Y56","QRV","W2U3Z","V048543",null,null,"Acton Perfect Smile, 64a Horn Lane, Acton, W3 6NP","W3 6NP",3008,"No data","","","","","","","","","","","","","",""]
["Y56","QRV","W2U3Z","V061688",1010470000,"Bloom & Gonsai Limited","29 WEYMOUTH STREET, LONDON, W1G 7DB","W1G 7DB",640,29,1,0,28,1,0,0,0,0,29,0,0,0,0,0]
["Y56","QRV","W2U3Z","V066288",1011860000,"Mr AF Rai","Feelgood Dental, 2 Providence Road, Yiewsley, West Drayton, UB7 8HJ","UB7 8HJ",2344,17,1,0,17,0,0,0,0,0,17,0,0,0,0,0]
["Y56","QRV","W2U3Z","V113785",null,null,"189 NORTHFIELD AVENUE, LONDON, W13 9QU","W13 9QU",1723,"No data","","","","","","","","","","","","","",""]
["Y56","QRV","W2U3Z","V129901",null,null,"Orthodontic Care, The Old Pumping Station, Pump Alley, Brentford, TW8 0AP","TW8 0AP",1591,"No data","","","","","","","","","","","","","",""]
["Y56","QRV","W2U3Z","V134986",1013310000,"Soho Orthodontics Ltd","Willesden Orthodontic Clinic, Willesden Centre for Health and Care, Robson Avenue, London, NW10 3RY","NW10 3RY",960,9,1,0,8,1,0,0,0,0,9,0,0,0,0,0]
["Y56","QRV","W2U3Z","V134987",null,null,"Ealing Dental Specialists, 42 The Mall, Ealing,, London, W5 3TJ","W5 3TJ",1255,"No data","","","","","","","","","","","","","",""]
["Y56","QRV","W2U3Z","V134988",1013750000,"Southwest Orthodontists Ltd","Hammersmith Orthodontic Practice, 1-3 Wormholdt Road, Shepherds Bush, London, W12 0LU","W12 0LU",678,91,0.96703296703296704,0,55,33,3,0,0,0,91,0,0,0,0,0]
["Y56","QRV","W2U3Z","V134989",null,null,"Angle House Orthodontics, 334 Whitchurch Lane, Edgware, Middx, HA8 6QX","HA8 6QX",1123,"No data","","","","","","","","","","","","","",""]
["Y56","QRV","W2U3Z","V134993",1012880000,"SMILE RADIANCE LIMITED","Precision Smiles, 112 Pinner Road, Northwood, Middlesex, HA6 1BS","HA6 1BS",711,15,1,0,15,0,0,0,0,0,15,0,0,0,0,0]
["Y56","QRV","W2U3Z","V142237",1013060000,"Knightsbridge Orthodontics Limited","Knightsbridge Orthodontics, 1st Floor, 168 Brompton Road, London, SW3 1HW","SW3 1HW",1936,21,0.95238095238095233,0,11,9,1,0,0,0,11,10,0,0,0,0]
["Y56","QRV","W2U3Z","V162570",null,null,"Brent Dental Specialists, Ground floor Lanmor House, 370-386 High Road, Wembley, Middlesex, HA9 6AX","HA9 6AX",786,"No data","","","","","","","","","","","","","",""]
["Y56","QRV","W2U3Z","V165700",1252610001,"Haven Green Clinic Limited","Haven Green Clinic, 1A Mount Park Road, Ealing, London, W5 2RP","W5 2RP",5513,1,"*","*","*","*","*","*","*","*","*","*","*","*","*","*"]
["Y56","QRV","W2U3Z","V168003",null,null,"Ghauri Dental Centre, 3 Wormholt Road, Shepherds Bush, London, W12 0LU","W12 0LU",1022,"No data","","","","","","","","","","","","","",""]
["Y56","QRV","W2U3Z","V177255",1085530003,"Amit Frankie Rai","Kew Bridge Dental, 57-59 Kew Bridge Road, LONDON, TW8 0EW","TW8 0EW",1148,5,1,0,5,0,0,0,0,0,5,0,0,0,0,0]
["Y56","QRV","W2U3Z","V234956",null,null,"Bayswater Dental Surgery, 66 WESTBOURNE GROVE, LONDON, W2 5SH","W2 5SH",958,"No data","","","","","","","","","","","","","",""]
["Y56","QRV","W2U3Z","V235841",null,null,"Chiswick Dental & Implant Clinic, 231-235 Chiswick High Road, London, W4 4PU","W4 4PU",5872,"No data","","","","","","","","","","","","","",""]
["Y56","QWE","36L","V000044",null,null,"Dhiman Dental, 169 Percy Road, TWICKENHAM, Middlesex, TW2 6JS","TW2 6JS",2241,"No data","","","","","","","","","","","","","",""]
["Y56","QWE","36L","V000930",null,null,"Dental Surgery, 74 Croydon Road, Beddington, CROYDON, CR0 4PB","CR0 4PB",1241,"No data","","","","","","","","","","","","","",""]
["Y56","QWE","36L","V002015",1012810107,"OASIS DENTAL CARE LTD","Dental Surgery, Pantiles, Portsmouth Road, KINGSTON UPON THAMES, Surrey, KT1 2LY","KT1 2LY",1862,0,"NA","NA",0,0,0,0,0,0,0,0,0,0,0,0]
["Y56","QWE","36L","V002044",null,null,"Dental Surgery, 13A Station Parade, Balham High Road, LONDON, SW12 9AZ","SW12 9AZ",539,"No data","","","","","","","","","","","","","",""]
["Y56","QWE","36L","V002047",null,null,"The Dental Surgery, 41 Sistova Road, LONDON, SW12 9QR","SW12 9QR",600,"No data","","","","","","","","","","","","","",""]
["Y56","QWE","36L","V002056",null,null,"Dental Surgery, 60 Battersea Bridge Road, LONDON, SW11 3AG","SW11 3AG",1062,"No data","","","","","","","","","","","","","",""]
["Y56","QWE","36L","V002061",null,null,"Battersea Dental Care, 128 Battersea Park Road, LONDON, SW11 4LY","SW11 4LY",135,"No data","","","","","","","","","","","","","",""]
["Y56","QWE","36L","V002064",null,null,"S Surendra And Associates, Dental Surgery, 49 Kersley Street, LONDON, SW11 4PR","SW11 4PR",4806,"No data","","","","","","","","","","","","","",""]
["Y56","QWE","36L","V002065",null,null,"Dental Art Studio, 88 - 90 St Johns Road, Clapham, LONDON, SW11 1PX","SW11 1PX",3960,"No data","","","","","","","","","","","","","",""]
["Y56","QWE","36L","V002066",null,null,"Dental Surgery, 1 Ashness Road, LONDON, SW11 6RY","SW11 6RY",2944,"No data","","","","","","","","","","","","","",""]
["Y56","QWE","36L","V002068",null,null,"Lavender Hill Dental Practice, 255A Lavender Hill, LONDON, SW11 1JD","SW11 1JD",294,"No data","","","","","","","","","","","","","",""]
["Y56","QWE","36L","V002071",null,null,"Queenstown Dental Practice, 53 - 55 Queenstown Road, LONDON, SW8 3RG","SW8 3RG",253,"No data","","","","","","","","","","","","","",""]
["Y56","QWE","36L","V002074",null,null,"Dental Surgery, 579 Garratt Lane, LONDON, SW18 4ST","SW18 4ST",1997,"No data","","","","","","","","","","","","","",""]
["Y56","QWE","36L","V002078",null,null,"Dental Surgery, 635 Garratt Lane, LONDON, SW18 4SX","SW18 4SX",1894,"No data","","","","","","","","","","","","","",""]
["Y56","QWE","36L","V002079",null,null,"Perfect Smile Dental Practice, 106 Putney High Street, LONDON, SW15 1RG","SW15 1RG",3434,"No data","","","","","","","","","","","","","",""]
["Y56","QWE","36L","V002081",1102560001,"One 4 One Partnership","One 4 One Dental Practice, 141 Upper Richmond Road, LONDON, SW15 2TX","SW15 2TX",728,0,"NA","NA",0,0,0,0,0,0,0,0,0,0,0,0]
["Y56","QWE","36L","V002083",8427610001,"MRS H SEBI","Riverside Dental Practice, 108 Lower Richmond Road, LONDON, SW15 1LN","SW15 1LN",412,5,1,0,5,0,0,0,0,0,5,0,0,0,0,0]
["Y56","QWE","36L","V002084",null,null,"Dental Surgery, 353 Upper Richmond Road, LONDON, SW15 5QJ","SW15 5QJ",529,"No data","","","","","","","","","","","","","",""]
["Y56","QWE","36L","V002089",null,null,"The Dental Spa, 201 Lower Richmond Road, LONDON, SW15 1HJ","SW15 1HJ",368,"No data","","","","","","","","","","","","","",""]
["Y56","QWE","36L","V002092",null,null,"229 Roehampton Lane, Roehampton, LONDON, SW15 4LB","SW15 4LB",118,"No data","","","","","","","","","","","","","",""]
["Y56","QWE","36L","V002094",null,null,"Maple Dental Surgery, 238 Roehampton Lane, LONDON, SW15 4LE","SW15 4LE",2367,"No data","","","","","","","","","","","","","",""]
["Y56","QWE","36L","V002095",null,null,"126 Revelstoke Road, LONDON, SW18 5PB","SW18 5PB",1374,"No data","","","","","","","","","","","","","",""]
["Y56","QWE","36L","V002097",1474940001,"Babar Wahid & Nazia Choudhury","Dental Surgery, 106 Augustus Road, LONDON, SW19 6ER","SW19 6ER",2379,25,0.96,0,22,2,1,0,0,0,2,23,0,0,0,0]
["Y56","QWE","36L","V002150",null,null,"IDH Ltd, 203 Wandsworth High Street, LONDON, SW18 4JE","SW18 4JE",2565,"No data","","","","","","","","","","","","","",""]
["Y56","QWE","36L","V002225",null,null,"The Park Dental Clinic, 323 Upper Richmond Road West, LONDON, SW14 8QR","SW14 8QR",3383,"No data","","","","","","","","","","","","","",""]
["Y56","QWE","36L","V002302",null,null,"Teddington Dental Practice, 2 Gloucester Road, TEDDINGTON, Middlesex, TW11 0NU","TW11 0NU",3521,"No data","","","","","","","","","","","","","",""]
["Y56","QWE","36L","V002317",1861980001,"S Cowley, R Ingham and J Angelo","Triangle Dental Practice, 4 The Triangle, KINGSTON UPON THAMES, Surrey, KT1 3RU","KT1 3RU",4787,55,0.92727272727272725,1.8181818181818181E-2,40,11,1,1,0,2,0,0,0,55,0,0]
["Y56","QWE","36L","V002333",null,null,"Westbury Dental Practice, 75 Kingston Road, NEW MALDEN, Surrey, KT3 3PB","KT3 3PB",2118,"No data","","","","","","","","","","","","","",""]
["Y56","QWE","36L","V002352",null,null,"Aspire Dental Practice, 385-387 Ewell Road, SURBITON, Surrey, KT6 7DG","KT6 7DG",732,"No data","","","","","","","","","","","","","",""]
["Y56","QWE","36L","V002373",null,null,"The Bridge Dental Centre, 402 Richmond Road, TWICKENHAM, Middlesex, TW1 2EB","TW1 2EB",3209,"No data","","","","","","","","","","","","","",""]
["Y56","QWE","36L","V004312",null,null,"Selsdon Dental Surgery, 105 Addington Road, SOUTH CROYDON, Surrey, CR2 8LJ","CR2 8LJ",531,"No data","","","","","","","","","","","","","",""]
["Y56","QWE","36L","V004512",null,null,"Rosehill Dental Surgery, 34 The Market, Wrythe Lane, CARSHALTON, Surrey, SM5 1AG","SM5 1AG",1995,"No data","","","","","","","","","","","","","",""]
["Y56","QWE","36L","V004516",null,null,"Dental Surgery, 9 Beeches Avenue, CARSHALTON, Surrey, SM5 3LB","SM5 3LB",2221,"No data","","","","","","","","","","","","","",""]
["Y56","QWE","36L","V004547",null,null,"50 Arundel Avenue, MORDEN, Surrey, SM4 4DX","SM4 4DX",1624,"No data","","","","","","","","","","","","","",""]
["Y56","QWE","36L","V004555",1929020001,"I.J & S.C Fernandes","Dental Surgery, 49 Epsom Road, MORDEN, Surrey, SM4 5PR","SM4 5PR",2335,4,"*","*","*","*","*","*","*","*","*","*","*","*","*","*"]
["Y56","QWE","36L","V004570",null,null,"Dental Surgery, 96 Westmead Road, SUTTON, Surrey, SM1 4HX","SM1 4HX",506,"No data","","","","","","","","","","","","","",""]
["Y56","QWE","36L","V004604",null,null,"Dental Surgery, 21 Stafford Road, WALLINGTON, Surrey, SM6 9AN","SM6 9AN",2064,"No data","","","","","","","","","","","","","",""]
["Y56","QWE","36L","V004612",null,null,"Abbey Parade Dental, 21 Abbey Parade, LONDON, SW19 1DG","SW19 1DG",4745,"No data","","","","","","","","","","","","","",""]
["Y56","QWE","36L","V004886",1419920001,"S Cowley, R Ingham and J Angelo","Dental Surgery, 233 Selhurst Road, LONDON, SE25 6XP","SE25 6XP",2555,27,0.96296296296296291,0,20,6,1,0,0,0,0,0,0,27,0,0]
["Y56","QWE","36L","V005465",6380210001,"MR U PATEL","Croydon Dental Care, 60 62 Church Street, CROYDON, Surrey, CR0 1RB","CR0 1RB",7407,15,1,0,14,1,0,0,0,0,15,0,0,0,0,0]
["Y56","QWE","36L","V005772",null,null,"Smile Dental Practice Croydon, 79 Addiscombe Road, CROYDON, Surrey, CR0 6SE","CR0 6SE",1907,"No data","","","","","","","","","","","","","",""]
["Y56","QWE","36L","V007166",null,null,"352 Brighton Road, SOUTH CROYDON, Surrey, CR2 6AJ","CR2 6AJ",231,"No data","","","","","","","","","","","","","",""]
["Y56","QWE","36L","V007208",null,null,"Dental Surgery, 6 Bywood Avenue, CROYDON, Surrey, CR0 7RA","CR0 7RA",889,"No data","","","","","","","","","","","","","",""]
["Y56","QWE","36L","V007278",null,null,"Dental Surgery, 28 Brighton Road, COULSDON, Surrey, CR5 2BA","CR5 2BA",394,"No data","","","","","","","","","","","","","",""]
["Y56","QWE","36L","V008538",null,null,"1210 London Road, Norbury, LONDON, SW16 4DN","SW16 4DN",3312,"No data","","","","","","","","","","","","","",""]
["Y56","QWE","36L","V008649",1641510001,"The Crystal Palace Dental Centre","Dental Surgery, 88 Westow Hill, LONDON, SE19 1SB","SE19 1SB",3146,8,1,0,6,2,0,0,0,0,8,0,0,0,0,0]
["Y56","QWE","36L","V009268",null,null,"The Health Centre, 411A Green Wrythe Lane, CARSHALTON, Surrey, SM5 1JL","SM5 1JL",0,"No data","","","","","","","","","","","","","",""]
["Y56","QWE","36L","V010972",null,null,"378 Malden Road, WORCESTER PARK, Surrey, KT4 7NL","KT4 7NL",2014,"No data","","","","","","","","","","","","","",""]
["Y56","QWE","36L","V012310",null,null,"Dental Surgery, 69 Addiscombe Road, CROYDON, Surrey, CR0 6SE","CR0 6SE",2603,"No data","","","","","","","","","","","","","",""]
["Y56","QWE","36L","V013419",null,null,"149 Brighton Road, COULSDON, Surrey, CR5 2NH","CR5 2NH",2621,"No data","","","","","","","","","","","","","",""]
["Y56","QWE","36L","V015024",null,null,"Merton Park Dental Surgery, 143 Cannon Hill Lane, Merton Park, LONDON, SW20 9BZ","SW20 9BZ",279,"No data","","","","","","","","","","","","","",""]
["Y56","QWE","36L","V020111",null,null,"60 Eden Street, Kingston Upon Thames, Surrey, KT1 1EE","KT1 1EE",1124,"No data","","","","","","","","","","","","","",""]
["Y56","QWE","36L","V139058",1013080000,"Richmond Hill Orthodontics Limited","Richmond Orthodontics, 64 Sheen Road, Richmond, London, TW9 1UF","TW9 1UF",1925,10,1,0,10,0,0,0,0,0,10,0,0,0,0,0]
["Y56","QWE","36L","V158025",null,null,"33 ABBEY PARADE, Wimbledon, London, SW19 1DG","SW19 1DG",970,"No data","","","","","","","","","","","","","",""]
["Y58","QJK","15N","V000977",null,null,"Crediton Dental Care, 110 High Street, CREDITON, Devon, EX17 3LF","EX17 3LF",3987,"No data","","","","","","","","","","","","","",""]
["Y58","QJK","15N","V001268",null,null,"Barton Dental Surgery, 49 Isaacs Road, TORQUAY, Devon, TQ2 8NA","TQ2 8NA",21900,"No data","","","","","","","","","","","","","",""]
["Y58","QJK","15N","V004102",null,null,"Westpark Dental Practice, 480 Crownhill Road, PLYMOUTH, Devon, PL5 2QT","PL5 2QT",2638,"No data","","","","","","","","","","","","","",""]
["Y58","QJK","15N","V004478",null,null,"Kevin McGarey Dental Care, 28A Hyde Road, PAIGNTON, Devon, TQ4 5BY","TQ4 5BY",1573,"No data","","","","","","","","","","","","","",""]
["Y58","QJK","15N","V004760",null,null,"St Johns Dental Centre, Eastern Avenue, Whiddon Valley Industrial Estate, BARNSTAPLE, Devon, EX32 8NX","EX32 8NX",177,"No data","","","","","","","","","","","","","",""]
["Y58","QJK","15N","V004763",null,null,"Queen Anne Dental Surgery, 4 Queen Annes, High Street, BIDEFORD, Devon, EX39 2AS","EX39 2AS",4847,"No data","","","","","","","","","","","","","",""]
["Y58","QJK","15N","V005241",1644100001,"QDP (DEVON) LTD","The Quay Dental Practice, Natwest Bank Chambers, The Quay, BIDEFORD, Devon, EX39 2HW","EX39 2HW",4057,6,1,0,6,0,0,0,0,0,0,2,4,0,0,0]
["Y58","QJK","15N","V005252",null,null,"Castle Hill Dental Practice, Castle Hill Gardens, TORRINGTON, Devon, EX38 8EU","EX38 8EU",1536,"No data","","","","","","","","","","","","","",""]
["Y58","QJK","15N","V006343",null,null,"Heavitree Dental Centre, 1 School House, South Lawn Terrace, EXETER, Devon, EX1 2SN","EX1 2SN",6166,"No data","","","","","","","","","","","","","",""]
["Y58","QJK","15N","V006551",null,null,"Dental Surgery, 35 Cecil Street, PLYMOUTH, Devon, PL1 5HW","PL1 5HW",1102,"No data","","","","","","","","","","","","","",""]
["Y58","QJK","15N","V006708",9123360001,"MRS ML ROBERTS","Dartmouth Dental Practice, 24 Victoria Road, DARTMOUTH, Devon, TQ6 9SA","TQ6 9SA",107,9,1,0,8,1,0,0,0,0,9,0,0,0,0,0]
["Y58","QJK","15N","V006739",null,null,"Manor Lodge Dental Surgery, Manor Lodge, Coronation Road, TOTNES, Devon, TQ9 5DF","TQ9 5DF",40,"No data","","","","","","","","","","","","","",""]
["Y58","QJK","15N","V006918",1353130001,"Dean Hill Partnership","Oasis Dental Care, 150 Pomphlett Road, PLYMOUTH, Devon, PL9 7BS","PL9 7BS",210,0,"NA","NA",0,0,0,0,0,0,0,0,0,0,0,0]
["Y58","QJK","15N","V007027",null,null,"Crownhill Dental Practice, 48 Morshead Road, PLYMOUTH, Devon, PL6 5AQ","PL6 5AQ",68,"No data","","","","","","","","","","","","","",""]
["Y58","QJK","15N","V007577",null,null,"Th Old Dispensary, 23 Queen Street, DAWLISH, Devon, EX7 9HB","EX7 9HB",559,"No data","","","","","","","","","","","","","",""]
["Y58","QJK","15N","V007738",null,null,"Terrace House Dental Practice, 23 Iddesleigh Terrace, DAWLISH, Devon, EX7 9HX","EX7 9HX",692,"No data","","","","","","","","","","","","","",""]
["Y58","QJK","15N","V008318",null,null,"15 Milehouse Road, PLYMOUTH, Devon, PL3 4AD","PL3 4AD",2817,"No data","","","","","","","","","","","","","",""]
["Y58","QJK","15N","V010957",1740330001,"El-Nashar Dental Care Ltd","11 Courtenay Park, NEWTON ABBOT, Devon, TQ12 2HD","TQ12 2HD",1639,81,0.97530864197530864,1.2345679012345678E-2,67,12,1,1,0,0,0,0,81,0,0,0]
["Y58","QJK","15N","V012570",1682620001,"SpaDental Plymouth LLP","SpaDental Plymouth, Rear Of 2, Hyde Park Road, Plymouth, Devon, PL3 4RJ","PL3 4RJ",2433,37,0.7567567567567568,0.13513513513513514,26,2,4,3,2,0,0,0,0,0,37,0]
["Y58","QJK","15N","V013147",1320710001,"Moor Dental Care Ltd","7 West Street, Ashburton, NEWTON ABBOT, Devon, TQ13 7DT","TQ13 7DT",3503,25,0.92,0.08,20,3,0,2,0,0,25,0,0,0,0,0]
["Y58","QJK","15N","V013984",1759860009,"DEN DENTAL GROUP PRACTICE LLP","Fore Street Dental Practice, 56 Fore Street, Ivybridge, Devon, PL21 9AE","PL21 9AE",243,0,"NA","NA",0,0,0,0,0,0,0,0,0,0,0,0]
["Y58","QJK","15N","V018071",null,null,"15 Park Hill Road, Torquay, TQ1 2AL","TQ1 2AL",595,"No data","","","","","","","","","","","","","",""]
["Y58","QJK","15N","V030334",null,null,"Sunny Corner, Hind Street, Ottery St. Mary, Devon, EX11 1BW","EX11 1BW",689,"No data","","","","","","","","","","","","","",""]
["Y58","QOX","92G","V000215",null,null,"Ambience Dental Practice, First Floor, Wade House, 37 39 Queen Street, SWINDON, SN1 1RN","SN1 1RN",9135,"No data","","","","","","","","","","","","","",""]
["Y58","QOX","92G","V001844",null,null,"Oasis Dental Care Ltd, 28 St Georges Terrace, Stallard Street, Trowbridge, Wiltshire, BA14 9AA","BA14 9AA",4812,"No data","","","","","","","","","","","","","",""]
["Y58","QOX","92G","V004140",1133870001,"Hanlon, Gardner Dental Surgeons","Hanlon & Gardner Dental Surgery, 30 New Road, CHIPPENHAM, Wiltshire, SN15 1HP","SN15 1HP",1323,6,1,0,6,0,0,0,0,0,0,0,0,6,0,0]
["Y58","QOX","92G","V004169",null,null,"Williams & Sanghera Dental, Practice, 72 High Street, Marlborough, Wiltshire, SN8 1HF","SN8 1HF",752,"No data","","","","","","","","","","","","","",""]
["Y58","QOX","92G","V005062",null,null,"Dental Surgery, 1 High Street, Urchfont, Devizes, Wiltshire, SN10 4QH","SN10 4QH",643,"No data","","","","","","","","","","","","","",""]
["Y58","QOX","92G","V007037",null,null,"Dental Surgery, 478 Bath Road, Saltford, BRISTOL, Avon, BS31 3DJ","BS31 3DJ",85,"No data","","","","","","","","","","","","","",""]
["Y58","QOX","92G","V007040",1336200001,"Cloudshill Limited","Circus Orthodontic Practice, 20 The Circus, BATH, Avon, BA1 2EU","BA1 2EU",772,10,1,0,8,2,0,0,0,0,10,0,0,0,0,0]
["Y58","QOX","92G","V007051",null,null,"Larkhall Dental Practice, 1A St Saviours Road, BATH, Avon, BA1 6RT","BA1 6RT",727,"No data","","","","","","","","","","","","","",""]
["Y58","QOX","92G","V007802",null,null,"Bishopdown Dental Practice, 28 St Clements Way, Bishopdown Farm, SALISBURY, SALISBURY, SP1 3FF","SP1 3FF",33,"No data","","","","","","","","","","","","","",""]
["Y58","QOX","92G","V007858",null,null,"Fisherton Dental Care, 151 Fisherton Street, SALISBURY, Wiltshire, SP2 7RP","SP2 7RP",512,"No data","","","","","","","","","","","","","",""]
["Y58","QOX","92G","V008603",null,null,"Euro Dental Surgery, 45 Bath Road, SWINDON, Wiltshire, SN1 4AU","SN1 4AU",130,"No data","","","","","","","","","","","","","",""]
["Y58","QOX","92G","V008774",null,null,"55 Bath Road, SWINDON, Wiltshire, SN1 4AU","SN1 4AU",12,"No data","","","","","","","","","","","","","",""]
["Y58","QOX","92G","V008892",null,null,"Dental Surgery, 11 Cheney Manor Road, SWINDON, Wiltshire, SN2 2NT","SN2 2NT",306,"No data","","","","","","","","","","","","","",""]
["Y58","QOX","92G","V009942",null,null,"Mere Dental Practice, Duchy Manor, Springfield Road, MERE, Wiltshire, BA12 6EW","BA12 6EW",2158,"No data","","","","","","","","","","","","","",""]
["Y58","QOX","92G","V011151",null,null,"Dental Practice, Berkeley House, 9 Milton Road, SWINDON, Wiltshire, SN1 5JE","SN1 5JE",184,"No data","","","","","","","","","","","","","",""]
["Y58","QOX","92G","V013059",1253850002,"Dr Michael Frain Ltd","Hathaway Medical Clinic, Middlefield Road, CHIPPENHAM, Wiltshire, SN14 6GT","SN14 6GT",3674,27,1,0,27,0,0,0,0,0,0,0,27,0,0,0]
["Y58","QOX","92G","V013249",null,null,"Savernake Forest Dental Practice, Hertford Road, Marlborough Business Park, Marlborough, Wiltshire, SN8 4FD","SN8 4FD",1918,"No data","","","","","","","","","","","","","",""]
["Y58","QOX","92G","V022803",null,null,"Smile Dental Care, Pinetrees Community Centre, The Circle, Pinehurst, Swindon, SN2 1QR","SN2 1QR",1932,"No data","","","","","","","","","","","","","",""]
["Y58","QOX","92G","V046960",null,null,"40 High Street, Pewsey, Wiltshire, SN9 5AQ","SN9 5AQ",458,"No data","","","","","","","","","","","","","",""]
["Y58","QOX","92G","V230313",null,null,"42 HIGH STREET, MARLBOROUGH, SN8 1HQ","SN8 1HQ",248,"No data","","","","","","","","","","","","","",""]
["Y58","QR1","11M","V004237",null,null,"Lovat House Dental Practice, 32 Christ Church Road, CHELTENHAM, Gloucestershire, GL50 2PL","GL50 2PL",403,"No data","","","","","","","","","","","","","",""]
["Y58","QR1","11M","V004316",null,null,"The Cross House Dental Practice, The Cross House, Church Street, TEWKESBURY, Gloucestershire, GL20 5AB","GL20 5AB",340,"No data","","","","","","","","","","","","","",""]
["Y58","QR1","11M","V004671",null,null,"Gloucester Street Dental, Practice, 10A Gloucester St, CIRENCESTER, Gloucestershire, GL7 2DG","GL7 2DG",262,"No data","","","","","","","","","","","","","",""]
["Y58","QR1","11M","V007920",2335440001,"MR D LYONS","Woodcock Lane Dental Practice, 2 Woodcock Lane, STONEHOUSE, Gloucestershire, GL10 2EE","GL10 2EE",953,0,"NA","NA",0,0,0,0,0,0,0,0,0,0,0,0]
["Y58","QR1","11M","V008243",null,null,"Dental Surgery, Hill Street, LYDNEY, Gloucestershire, GL15 5HH","GL15 5HH",1446,"No data","","","","","","","","","","","","","",""]
["Y58","QR1","11M","V008246",7555670001,"Painswick Road Partnership","Courtlands Dental Surgery, 208 Painswick Road, GLOUCESTER, Gloucestershire, GL4 4PH","GL4 4PH",1982,0,"NA","NA",0,0,0,0,0,0,0,0,0,0,0,0]
["Y58","QR1","11M","V008298",5640280001,"Westbury Dental Surgery Partnership","Westbury Dental Surgery, The Village, WESTBURY ON SEVERN, Gloucestershire, GL14 1PA","GL14 1PA",2681,0,"NA","NA",0,0,0,0,0,0,0,0,0,0,0,0]
["Y58","QR1","11M","V010698",null,null,"14 Gloucester Street, CIRENCESTER, Gloucestershire, GL7 2DG","GL7 2DG",514,"No data","","","","","","","","","","","","","",""]
["Y58","QR1","11M","V012125",null,null,"1B Hylton Court,, Newerne Street, Lydney, Gloucestershire, GL15 5RF","GL15 5RF",4288,"No data","","","","","","","","","","","","","",""]
["Y58","QR1","11M","V016625",null,null,"Lister House, Station Road, Gloucester, GL1 1DH","GL1 1DH",8281,"No data","","","","","","","","","","","","","",""]
["Y58","QR1","11M","V028076",null,null,"Unit 6, The Brewery, Henrietta Street, Cheltenham, Gloucestershire, GL50 4FA","GL50 4FA",6043,"No data","","","","","","","","","","","","","",""]
["Y58","QSL","11X","V000240",null,null,"Community Dental Centre, Kilkenny House, Cheddon Road, Taunton, Somerset, TA2 7PH","TA2 7PH",8186,"No data","","","","","","","","","","","","","",""]
["Y58","QSL","11X","V000857",null,null,"Parkfield Surgeries, 13 Parkfield Road, TAUNTON, Somerset, TA1 4RL","TA1 4RL",6000,"No data","","","","","","","","","","","","","",""]
["Y58","QSL","11X","V000861",1000710000,"Yarde House Partnership","Yarde House Dental Surgeons, Yarde House, 1 Staplegrove Road, TAUNTON, Somerset, TA1 1DB","TA1 1DB",662,0,"NA","NA",0,0,0,0,0,0,0,0,0,0,0,0]
["Y58","QSL","11X","V000913",null,null,"32 Rodden Road, FROME, Somerset, BA11 2AH","BA11 2AH",1558,"No data","","","","","","","","","","","","","",""]
["Y58","QSL","11X","V000922",null,null,"Dental Practice, 20-22 High Street, SHEPTON MALLET, Somerset, BA4 5AN","BA4 5AN",1055,"No data","","","","","","","","","","","","","",""]
["Y58","QSL","11X","V000928",null,null,"Adp Dental Company Ltd, Vine Health Park Dental Surgery, Hindhayes Lane, STREET, Somerset, BA16 0ET","BA16 0ET",4205,"No data","","","","","","","","","","","","","",""]
["Y58","QSL","11X","V004444",null,null,"Bramcote Dental Surgery, Woodcock Street, Castle Cary, Somerset, BA7 7BJ, BA7 7BJ","BA7 7BJ",4926,"No data","","","","","","","","","","","","","",""]
["Y58","QSL","11X","V004454",null,null,"Princes Street Dental Practice, 45 Princes Street, YEOVIL, Somerset, BA20 1EG","BA20 1EG",224,"No data","","","","","","","","","","","","","",""]
["Y58","QSL","11X","V009237",null,null,"Glastonbury DAC, Health Centre, Wells Road, Glastonbury, Somerset, BA6 9DD","BA6 9DD",798,"No data","","","","","","","","","","","","","",""]
["Y58","QSL","11X","V013304",null,null,"Corner House Dental Practice, 10 King Square, Bridgwater, Somerset, TA6 3DG","TA6 3DG",2126,"No data","","","","","","","","","","","","","",""]
["Y58","QSL","11X","V014630",null,null,"Parkfield Dental Surgeries, Berrow Health Campus, Brent Road, Burnham on Sea, TA8 2JU","TA8 2JU",3098,"No data","","","","","","","","","","","","","",""]
["Y58","QSL","11X","V045094",null,null,"56 HIGH STREET, WINCANTON, BA9 9JF","BA9 9JF",40,"No data","","","","","","","","","","","","","",""]
["Y58","QT6","11N","V001079",null,null,"25 Kimberley Park Road, Falmouth, Cornwall, TR11 2DA","TR11 2DA",364,"No data","","","","","","","","","","","","","",""]
["Y58","QT6","11N","V001084",null,null,"53 Fore Street, ST COLUMB, Cornwall, TR9 6RH","TR9 6RH",1566,"No data","","","","","","","","","","","","","",""]
["Y58","QT6","11N","V001102",null,null,"Tresillian, 5 Kings Avenue, ST AUSTELL, Cornwall, PL25 4TT","PL25 4TT",227,"No data","","","","","","","","","","","","","",""]
["Y58","QT6","11N","V001238",null,null,"Green Lane Dental Practice, 28 Green Lane, REDRUTH, Cornwall, TR15 1JU","TR15 1JU",3997,"No data","","","","","","","","","","","","","",""]
["Y58","QT6","11N","V001251",3318720002,"MR SC PACE","Dental Surgery, 5 Chapel Street, CAMBORNE, Cornwall, TR14 8EF","TR14 8EF",7516,0,"NA","NA",0,0,0,0,0,0,0,0,0,0,0,0]
["Y58","QT6","11N","V001445",1012810169,"OASIS DENTAL CARE LTD","April Lodge, Stratton Road, BUDE, Cornwall, EX23 8AF","EX23 8AF",6950,0,"NA","NA",0,0,0,0,0,0,0,0,0,0,0,0]
["Y58","QT6","11N","V001456",1212310001,"Wadebridge Dental Care LTD","Wadebridge Dental Care, 8 Park Place, WADEBRIDGE, Cornwall, PL27 7EA","PL27 7EA",4625,30,1,0,23,7,0,0,0,0,0,0,0,0,30,0]
["Y58","QT6","11N","V001541",null,null,"Tregenna Hill Dental Surgery, Tregenna Hill, St Ives, Cornwall, TR26 1SF","TR26 1SF",101,"No data","","","","","","","","","","","","","",""]
["Y58","QT6","11N","V012236",1243620001,"Dental Dimensions","11 Castle Street, LAUNCESTON, Cornwall, PL15 8BA","PL15 8BA",2140,16,1,0,9,7,0,0,0,0,16,0,0,0,0,0]
["Y58","QT6","11N","V012621",null,null,"Penzance Dental Clinic, The Lescudjack Centre, Penmere Close, PENZANCE, Cornwall, TR18 3PE","TR18 3PE",1019,"No data","","","","","","","","","","","","","",""]
["Y58","QT6","11N","V028141",null,null,"39a, Station Road, Fowey, Cornwall, PL23 1DF","PL23 1DF",1737,"No data","","","","","","","","","","","","","",""]
["Y58","QUY","15C","V002082",null,null,"Filton Dental Practice, 114 Gloucester Road North, Filton, BRISTOL, Avon, BS34 7PF","BS34 7PF",2636,"No data","","","","","","","","","","","","","",""]
["Y58","QUY","15C","V002093",1994190003,"Apple Practice Limited","Apple Dental Practice, 97 High Street, Winterbourne, BRISTOL, Avon, BS36 1RD","BS36 1RD",5736,4,"*","*","*","*","*","*","*","*","*","*","*","*","*","*"]
["Y58","QUY","15C","V002114",9049530001,"Mr Touraj Razavi","Patchway Dental Practice, 19 - 21 Coniston Road, Patchway, BRISTOL, Avon, BS34 5JN","BS34 5JN",3540,3,"*","*","*","*","*","*","*","*","*","*","*","*","*","*"]
["Y58","QUY","15C","V002123",null,null,"Flaxpits Lane Dental Surgery, 15 Flaxpits Lane, Winterbourne, BRISTOL, Avon, BS36 1JY","BS36 1JY",2272,"No data","","","","","","","","","","","","","",""]
["Y58","QUY","15C","V006998",null,null,"Dental Surgery, 2A North Street, Bedminster, BRISTOL, Avon, BS3 1HT","BS3 1HT",3009,"No data","","","","","","","","","","","","","",""]
["Y58","QUY","15C","V007011",1012810094,"OASIS DENTAL CARE LTD","Oasis Dental Care Ltd, 808 Whitchurch Lane, Whitchurch, BRISTOL, Avon, BS14 0JW","BS14 0JW",1081,5,1,0,5,0,0,0,0,0,5,0,0,0,0,0]
["Y58","QUY","15C","V007014",null,null,"Hollway Dental Health Centre, 62 Hollway Road, BRISTOL, Avon, BS14 8PG","BS14 8PG",2637,"No data","","","","","","","","","","","","","",""]
["Y58","QUY","15C","V007131",null,null,"Dental Surgery, 15 Druid Hill, BRISTOL, Avon, BS9 1EW","BS9 1EW",163,"No data","","","","","","","","","","","","","",""]
["Y58","QUY","15C","V007138",5680310001,"MR SC LAWSON","Dental Surgery, 269 Church Road, Redfield, BRISTOL, Avon, BS5 9HT","BS5 9HT",756,0,"NA","NA",0,0,0,0,0,0,0,0,0,0,0,0]
["Y58","QUY","15C","V007146",null,null,"Twindent Dental Care, 239 Greystoke Avenue, BRISTOL, Avon, BS10 6BB","BS10 6BB",210,"No data","","","","","","","","","","","","","",""]
["Y58","QUY","15C","V007205",null,null,"Monks Park Dental Care, 96 Filton Road, Horfield, Bristol, BS7 0PD","BS7 0PD",8088,"No data","","","","","","","","","","","","","",""]
["Y58","QUY","15C","V007212",null,null,"Whitecross Dental Care Ltd, Dental Surgery, Wells Road Dental Centre, Broadwalk Shopping Centre, Bristol, BS4 2QB","BS4 2QB",5172,"No data","","","","","","","","","","","","","",""]
["Y58","QUY","15C","V008372",null,null,"New Chestnuts Dental Practice, 11 Lovelinch Gardens, Long Ashton, BRISTOL, Avon, BS41 9AH","BS41 9AH",2746,"No data","","","","","","","","","","","","","",""]
["Y58","QUY","15C","V008521",null,null,"The Surgery, 67 Sandford Road, WINSCOMBE, Avon, BS25 1JF","BS25 1JF",428,"No data","","","","","","","","","","","","","",""]
["Y58","QUY","15C","V008845",null,null,"Dental Surgery, 51A Oxford Street, WESTON SUPER MARE, Avon, BS23 1TN","BS23 1TN",3733,"No data","","","","","","","","","","","","","",""]
["Y58","QUY","15C","V012611",null,null,"Bradley Stoke Dental Practice, Willowbrook Centre, Savages Wood Road, Bradley, Stoke, Bristol, BS32 8EF","BS32 8EF",2740,"No data","","","","","","","","","","","","","",""]
["Y58","QUY","15C","V014098",null,null,"Phoenix Dental Staple Hill, 38 Victoria Street, Staple Hill, Bristol, BS16 5JS","BS16 5JS",3173,"No data","","","","","","","","","","","","","",""]
["Y58","QUY","15C","V022872",null,null,"370 TWO MILE HILL ROAD, BRISTOL, BS15 1AQ","BS15 1AQ",6613,"No data","","","","","","","","","","","","","",""]
["Y58","QVV","11J","V000259",null,null,"The Clock Dental Surgery, 104 The Esplanade, WEYMOUTH, Dorset, DT4 7ED","DT4 7ED",4242,"No data","","","","","","","","","","","","","",""]
["Y58","QVV","11J","V000265",null,null,"Greenhill Dental Practice, 1 Dorchester Road, WEYMOUTH, Dorset, DT4 7JR","DT4 7JR",194,"No data","","","","","","","","","","","","","",""]
["Y58","QVV","11J","V000285",1471330001,"Royal Terrace Dental Practice Ltd","Royal Terrace Dental Practice, 35 Cornwall Road, DORCHESTER, Dorset, DT1 1RY","DT1 1RY",1033,55,0.90909090909090906,1.8181818181818181E-2,30,20,1,1,0,3,55,0,0,0,0,0]
["Y58","QVV","11J","V001007",null,null,"Forest Lodge Dental Practice, 18 Vicarage Road, VERWOOD, Dorset, BH31 6DR","BH31 6DR",376,"No data","","","","","","","","","","","","","",""]
["Y58","QVV","11J","V001009",null,null,"Verwood Dental Care, 35 Ringwood Road, Verwood, Dorset, BH31 7AB","BH31 7AB",3231,"No data","","","","","","","","","","","","","",""]
["Y58","QVV","11J","V001958",null,null,"Denistry @ 68, 68 Wimborne Road, POOLE, Dorset, BH15 2BZ","BH15 2BZ",793,"No data","","","","","","","","","","","","","",""]
["Y58","QVV","11J","V001969",null,null,"Pasadena Dental Practice, 201 Ashley Road, POOLE, Dorset, BH14 9DL","BH14 9DL",2029,"No data","","","","","","","","","","","","","",""]
["Y58","QVV","11J","V001978",null,null,"Seaview Dental Practice, 533 Ashley Road, POOLE, Dorset, BH14 0BD","BH14 0BD",2854,"No data","","","","","","","","","","","","","",""]
["Y58","QVV","11J","V002419",null,null,"Gillingham Dental Practice, 1 Lanark Villas, Newbury, GILLINGHAM, Dorset, SP8 4QH","SP8 4QH",3824,"No data","","","","","","","","","","","","","",""]
["Y58","QVV","11J","V002443",null,null,"Stalbridge Dental Practice, Station Road, Stalbridge, STURMINSTER NEWTON, Dorset, DT10 2RG","DT10 2RG",635,"No data","","","","","","","","","","","","","",""]
["Y58","QVV","11J","V002550",null,null,"Tolpuddle Dental Practice, 4 Tolpuddle Gardens, BOURNEMOUTH, Dorset, BH9 3RE","BH9 3RE",1907,"No data","","","","","","","","","","","","","",""]
["Y58","QVV","11J","V002824",null,null,"Wessex House Dental Practice, Westbury, Sherborne, Dorset, DT9 3EH","DT9 3EH",3596,"No data","","","","","","","","","","","","","",""]
["Y58","QVV","11J","V004335",6496190001,"Walford Mill Dental Care Ltd","Wimborne Private Clinic, Knobcrook Road, Wimborne, Dorset, BH21 1NL","BH21 1NL",320,4,"*","*","*","*","*","*","*","*","*","*","*","*","*","*"]
["Y58","QVV","11J","V011585",null,null,"St Swithins House, North Allington, BRIDPORT, Dorset, DT6 5DU","DT6 5DU",3927,"No data","","","","","","","","","","","","","",""]
["Y58","QVV","11J","V012553",1391650001,"Smile Dental Care Limited","Smile Dental Care, 15 Millhams Road, BOURNEMOUTH, Dorset, BH10 7LG","BH10 7LG",3280,0,"NA","NA",0,0,0,0,0,0,0,0,0,0,0,0]
["Y58","QVV","11J","V013175",1815950002,"Mr D Tehrani Yeganeh","Christchurch Orthodontics, 67 Stour Road, Christchurch, Dorset, BH23 1LN","BH23 1LN",1124,0,"NA","NA",0,0,0,0,0,0,0,0,0,0,0,0]
["Y58","QVV","11J","V020950",1464470004,"Dentapol Ltd","St John's Dental Practice, Inch Arran House, 9 Queen Mother Square, Dorchester, Dorset, DT1 3BX","DT1 3BX",3518,12,0.83333333333333337,8.3333333333333329E-2,9,1,1,0,1,0,0,0,0,12,0,0]
["Y58","QVV","11J","V068238",null,null,"212 STATION ROAD, WEST MOORS, FERNDOWN, BH22 0JD","BH22 0JD",428,"No data","","","","","","","","","","","","","",""]
["Y58","QVV","11J","V258353",null,null,"HMPYOI Portland, 104 Grove Road, Grove, Portland, DT5 1DL","DT5 1DL",282,"No data","","","","","","","","","","","","","",""]
["Y59","QKS","91Q","V001273",null,null,"Crown Court Clinic, 203 High Street, ROCHESTER, Kent, ME1 1HB","ME1 1HB",978,"No data","","","","","","","","","","","","","",""]
["Y59","QKS","91Q","V001549",null,null,"Harbour Dental Surgery, 3 High Street, MARGATE, Kent, CT9 1DL","CT9 1DL",4157,"No data","","","","","","","","","","","","","",""]
["Y59","QKS","91Q","V002990",null,null,"Dental Dept., HM Prison Elmley, Church Road, Eastchurch, SHEERNESS, ME12 4DZ","ME12 4DZ",583,"No data","","","","","","","","","","","","","",""]
["Y59","QKS","91Q","V003067",1999070001,"Maidstone Dental Care Ltd","Dental Surgery, 524 Loose Road, MAIDSTONE, Kent, ME15 9UF","ME15 9UF",5493,55,0.96363636363636362,0,39,14,2,0,0,0,0,0,0,55,0,0]
["Y59","QKS","91Q","V003095",null,null,"Dental Surgery, Forge House, High Street, Staplehurst, TONBRIDGE, TN12 0AH","TN12 0AH",315,"No data","","","","","","","","","","","","","",""]
["Y59","QKS","91Q","V003184",null,null,"Dental Department, HM Prison Standford Hill, Church Road, Eastchurch, SHEERNESS, ME12 4AA","ME12 4AA",157,"No data","","","","","","","","","","","","","",""]
["Y59","QKS","91Q","V003277",null,null,"The Dental Centre, 138 High Street, TENTERDEN, Kent, TN30 6HT","TN30 6HT",688,"No data","","","","","","","","","","","","","",""]
["Y59","QKS","91Q","V003329",null,null,"Elwick Dental Surgery, 4 Elwick Road, Ashford, Kent, TN23 1PF","TN23 1PF",5102,"No data","","","","","","","","","","","","","",""]
["Y59","QKS","91Q","V003392",null,null,"11 Central Road, ROCHESTER, Kent, ME2 3HF","ME2 3HF",1583,"No data","","","","","","","","","","","","","",""]
["Y59","QKS","91Q","V003397",null,null,"Dental Surgery, 5 London Road, ROCHESTER, Kent, ME2 3JA","ME2 3JA",162,"No data","","","","","","","","","","","","","",""]
["Y59","QKS","91Q","V003465",null,null,"Dental Surgery, 17 Gould Road, CHATHAM, Kent, ME5 8DP","ME5 8DP",1105,"No data","","","","","","","","","","","","","",""]
["Y59","QKS","91Q","V003475",null,null,"Dental Surgery, Franklin House, 15 Franklin Road, GILLINGHAM, Kent, ME7 4DF","ME7 4DF",1508,"No data","","","","","","","","","","","","","",""]
["Y59","QKS","91Q","V003546",null,null,"1 Sandra Court, High Street, Lower Stoke, ROCHESTER, Kent, ME3 9RA","ME3 9RA",149,"No data","","","","","","","","","","","","","",""]
["Y59","QKS","91Q","V003670",null,null,"Riverside Dental Surgery, 112 Barden Road, TONBRIDGE, Kent, TN9 1UJ","TN9 1UJ",108,"No data","","","","","","","","","","","","","",""]
["Y59","QKS","91Q","V003719",null,null,"Rusthall Dental Surgery, 39 Meadow Road, Rusthall, TUNBRIDGE WELLS, Kent, TN4 8UN","TN4 8UN",275,"No data","","","","","","","","","","","","","",""]
["Y59","QKS","91Q","V003824",null,null,"Dental Surgery, Esperance, Langton Road, Langton Green, TUNBRIDGE WELLS, TN3 0ET","TN3 0ET",346,"No data","","","","","","","","","","","","","",""]
["Y59","QKS","91Q","V004558",null,null,"Total Orthodontics, 64 Mount Ephraim, TUNBRIDGE WELLS, Kent, TN4 8BH","TN4 8BH",34,"No data","","","","","","","","","","","","","",""]
["Y59","QKS","91Q","V004649",1418360001,"Dr Komal Patel","Senacre Dental Practice, 1 Bell Meadow, MAIDSTONE, Kent, ME15 9NB","ME15 9NB",7483,15,1,0,13,2,0,0,0,0,15,0,0,0,0,0]
["Y59","QKS","91Q","V005031",null,null,"Dental Surgery, 9 Stanhope Road, DEAL, Kent, CT14 6AB","CT14 6AB",2867,"No data","","","","","","","","","","","","","",""]
["Y59","QKS","91Q","V005120",2387830001,"Sandgate and Pencester Partnership","Total Dental Care, 92 Sandgate Road, FOLKESTONE, Kent, CT20 2BE","CT20 2BE",4522,13,0.84615384615384615,0,5,6,2,0,0,0,10,3,0,0,0,0]
["Y59","QKS","91Q","V005129",null,null,"The Dental Care Centre, 16 Shorncliffe Road, FOLKESTONE, Kent, CT20 2SF","CT20 2SF",1550,"No data","","","","","","","","","","","","","",""]
["Y59","QKS","91Q","V005305",null,null,"Dental Surgery, 160 Main Road, Sutton At Hone, DARTFORD, Kent, DA4 9HP","DA4 9HP",72,"No data","","","","","","","","","","","","","",""]
["Y59","QKS","91Q","V005419",null,null,"Dental Surgery, 79 Leander Drive, GRAVESEND, Kent, DA12 4NF","DA12 4NF",283,"No data","","","","","","","","","","","","","",""]
["Y59","QKS","91Q","V005435",null,null,"White Oak Dental Practice, London Road, SWANLEY, Kent, BR8 7AP","BR8 7AP",828,"No data","","","","","","","","","","","","","",""]
["Y59","QKS","91Q","V005447",1012810210,"OASIS DENTAL CARE LTD","Dental Surgery, 38 Main Road, LONGFIELD, Kent, DA3 7QZ","DA3 7QZ",517,0,"NA","NA",0,0,0,0,0,0,0,0,0,0,0,0]
["Y59","QKS","91Q","V005485",null,null,"Hews House Dental Surgery, 23 High Street, SWANSCOMBE, Kent, DA10 0AG","DA10 0AG",12,"No data","","","","","","","","","","","","","",""]
["Y59","QKS","91Q","V006475",null,null,"Dental Surgery, 55 St Dunstans Street, CANTERBURY, Kent, CT2 8BS","CT2 8BS",500,"No data","","","","","","","","","","","","","",""]
["Y59","QKS","91Q","V006546",null,null,"Dental Surgery, 41 Chestfield Road, Chestfield, WHITSTABLE, Kent, CT5 3LD","CT5 3LD",488,"No data","","","","","","","","","","","","","",""]
["Y59","QKS","91Q","V006795",null,null,"Dental Surgery, 52 London Road, CANTERBURY, Kent, CT2 8LF","CT2 8LF",4523,"No data","","","","","","","","","","","","","",""]
["Y59","QKS","91Q","V011972",null,null,"Pelham Dental Studio, 2H The Avenue, GRAVESEND, Kent, DA11 0NA","DA11 0NA",722,"No data","","","","","","","","","","","","","",""]
["Y59","QKS","91Q","V012981",null,null,"Pennypot Dental Practice, 90 Canterbury Road, Hawkinge, Folkstone, Kent, CT18 7BN","CT18 7BN",5217,"No data","","","","","","","","","","","","","",""]
["Y59","QKS","91Q","V013020",null,null,"Northdown Road Dental Practice, 165 167 Northdown Road, Cliftonville, Margate, Kent, CT9 2PA","CT9 2PA",512,"No data","","","","","","","","","","","","","",""]
["Y59","QKS","91Q","V014441",6393380001,"Hill House Dental Partnership","Hill House Dental Surgery, 7-9 Lonsdale Gardens, Tunbridge Wells, Kent, TN1 1NU","TN1 1NU",681,2,"*","*","*","*","*","*","*","*","*","*","*","*","*","*"]
["Y59","QKS","91Q","V014622",null,null,"Longford Dental Centre, 25 Postley Road, Maidstone, Kent, ME15 6TP","ME15 6TP",163,"No data","","","","","","","","","","","","","",""]
["Y59","QKS","91Q","V028893",3430640001,"MISS R FATHI SAFFAR","77 London Road, Tunbridge Wells, Kent, TN4 0NH","TN4 0NH",4820,20,1,0,15,5,0,0,0,0,20,0,0,0,0,0]
["Y59","QKS","91Q","V043204",null,null,"45-47, CUXTON ROAD, ROCHESTER, ME2 2BU","ME2 2BU",163,"No data","","","","","","","","","","","","","",""]
["Y59","QKS","91Q","V045222",null,null,"Pennypot Dental Ashford, 1 Ashford Commercial Quarter, 1 Dover Place, Ashford, Kent, TN23 1FB","TN23 1FB",350,"No data","","","","","","","","","","","","","",""]
["Y59","QKS","91Q","V097600",6531360003,"Mr Kunal Kotecha","Tonbridge Dentistry, 42-43 Quarry Hill Road, Tonbridge, Kent, TN9 2RS","TN9 2RS",5115,63,0.98412698412698407,0,59,3,1,0,0,0,0,0,0,0,63,0]
["Y59","QKS","91Q","V237870",null,null,"16-18, LOWFIELD STREET, DARTFORD, DA1 1HD","DA1 1HD",1561,"No data","","","","","","","","","","","","","",""]
["Y59","QNQ","D4U1Y","V000029",null,null,"ADP, Oakfield Dental Practice, 3 Salisbury Road, FARNBOROUGH, Hampshire, GU14 7AN","GU14 7AN",4311,"No data","","","","","","","","","","","","","",""]
["Y59","QNQ","D4U1Y","V001758",1012080000,"Farnborough Dental Centre Ltd","Dental Surgery, Southwood Village Centre, Links Way, FARNBOROUGH, Hampshire, GU14 0NA","GU14 0NA",4046,2,"*","*","*","*","*","*","*","*","*","*","*","*","*","*"]
["Y59","QNQ","D4U1Y","V001767",1587200001,"The Link Dental Surgery","The Link Dental Surgery, 11 Aylesham Way, YATELEY, Hampshire, GU46 6NR","GU46 6NR",2032,6,1,0,3,3,0,0,0,0,2,1,3,0,0,0]
["Y59","QNQ","D4U1Y","V002241",null,null,"Dental Surgery, 1 Heather Ridge Arcade, CAMBERLEY, Surrey, GU15 1AX","GU15 1AX",181,"No data","","","","","","","","","","","","","",""]
["Y59","QNQ","D4U1Y","V004027",null,null,"Dental Surgery, 10 Crown Row, BRACKNELL, Berkshire, RG12 0TH","RG12 0TH",3191,"No data","","","","","","","","","","","","","",""]
["Y59","QNQ","D4U1Y","V004081",null,null,"Warwick House Dental Surgery, 104 Moordale Avenue, BRACKNELL, Berkshire, RG42 1SY","RG42 1SY",835,"No data","","","","","","","","","","","","","",""]
["Y59","QNQ","D4U1Y","V004132",null,null,"Dental Surgery, 1A Yew Tree Road, SLOUGH, Berkshire, SL1 2AA","SL1 2AA",364,"No data","","","","","","","","","","","","","",""]
["Y59","QNQ","D4U1Y","V004197",null,null,"Broken Acre Dental Surgery, 92 Burnham Lane, SLOUGH, Berkshire, SL1 6LS","SL1 6LS",2547,"No data","","","","","","","","","","","","","",""]
["Y59","QNQ","D4U1Y","V004322",null,null,"Stoneleigh Dental Practice, 21 - 23 St Lukes Road, MAIDENHEAD, Berkshire, SL6 7AR","SL6 7AR",717,"No data","","","","","","","","","","","","","",""]
["Y59","QNQ","D4U1Y","V004332",null,null,"Dental Surgery, 2 Lyndwood Parade, St Lukes Road, Old Windsor, WINDSOR, SL4 2QX","SL4 2QX",137,"No data","","","","","","","","","","","","","",""]
["Y59","QNQ","D4U1Y","V004344",1003130000,"OPTIMA CARE (MAIDENHEAD) Ltd","Optima Dental Care, 195 Boyn Valley Road, MAIDENHEAD, Berkshire, SL6 4DT","SL6 4DT",2090,58,1,0,34,24,0,0,0,0,40,18,0,0,0,0]
["Y59","QNQ","D4U1Y","V006231",null,null,"Elvetham Road Dental Care, 3A Elvetham Road, FLEET, Hampshire, GU51 4QL","GU51 4QL",4608,"No data","","","","","","","","","","","","","",""]
["Y59","QNQ","D4U1Y","V007815",null,null,"Heathwood Dental Surgery, 1 Kings Road, Crowthorne, Berkshire, RG45 7BF","RG45 7BF",564,"No data","","","","","","","","","","","","","",""]
["Y59","QNQ","D4U1Y","V007847",3367850002,"MRS KS RADIA","Berkshire Dental Surgery, 37 Yeovil Road, Owlsmoor, Sandhurst, Berkshire, GU47 0TF","GU47 0TF",499,25,1,0,22,3,0,0,0,0,25,0,0,0,0,0]
["Y59","QNQ","D4U1Y","V011608",null,null,"The Dental Studio, 5 Kingfisher Court,, 281 Farnham Road, Slough, SL2 1JF","SL2 1JF",540,"No data","","","","","","","","","","","","","",""]
["Y59","QNQ","D4U1Y","V014118",null,null,"1 Horton Road, Datchet, SLOUGH, Berkshire, SL3 9EN","SL3 9EN",2885,"No data","","","","","","","","","","","","","",""]
["Y59","QNQ","D4U1Y","V016019",1364250001,"Barsar Ltd","Sunningdale Dental Practice, Station Chambers, 105 London Road, Sunningdale, Berkshire, SL5 0EP","SL5 0EP",1529,0,"NA","NA",0,0,0,0,0,0,0,0,0,0,0,0]
["Y59","QNQ","D4U1Y","V054845",null,null,"Unit 6 Alston House, Market Street, Bracknell, RG12 1JG","RG12 1JG",962,"No data","","","","","","","","","","","","","",""]
["Y59","QNQ","D4U1Y","V081358",1011110000,"Mrs P Wilson","OAKLANDS, READING ROAD NORTH, FLEET, GU51 4AB","GU51 4AB",2027,14,1,0,9,5,0,0,0,0,0,0,0,0,14,0]
["Y59","QNX","09D","V000509",null,null,"Dental Surgery, 61 Warren Way, BRIGHTON, East Sussex, BN2 6PH","BN2 6PH",1908,"No data","","","","","","","","","","","","","",""]
["Y59","QNX","09D","V000530",1012810057,"OASIS DENTAL CARE LTD","Fiveways Dencare, 288 Ditchling Road, BRIGHTON, East Sussex, BN1 6JF","BN1 6JF",1609,1,"*","*","*","*","*","*","*","*","*","*","*","*","*","*"]
["Y59","QNX","09D","V000552",1683190001,"S Cowley, R Ingham and J Angelo","Tooth Smart, 137 Portland Road, HOVE, East Sussex, BN3 5QJ","BN3 5QJ",3536,36,0.88888888888888884,0,27,5,4,0,0,0,0,0,0,36,0,0]
["Y59","QNX","09D","V000558",1938280001,"Rottingdean Dental Care","Dental Surgery, 1 West Street, Rottingdean, BRIGHTON, East Sussex, BN2 7HP","BN2 7HP",1484,29,1,0,26,3,0,0,0,0,0,0,0,0,0,29]
["Y59","QNX","09D","V000630",null,null,"The Albion Dental Practice, 11 Albion Street, BRIGHTON, East Sussex, BN2 9NE","BN2 9NE",832,"No data","","","","","","","","","","","","","",""]
["Y59","QNX","09D","V013399",null,null,"Southdowns Health NHS Trust, Moulsecoomb Health Clinic, Hodshrove Lane, BRIGHTON, East Sussex, BN2 4SE","BN2 4SE",1737,"No data","","","","","","","","","","","","","",""]
["Y59","QNX","09D","V018461",null,null,"49 BLATCHINGTON ROAD, HOVE, EAST SUSSEX, BN3 3YJ","BN3 3YJ",1589,"No data","","","","","","","","","","","","","",""]
["Y59","QNX","09D","V228910",1009180000,"Neo Orthodontics Ltd","49-50, PROVIDENCE PLACE, BRIGHTON, BN1 4GE","BN1 4GE",506,4,"*","*","*","*","*","*","*","*","*","*","*","*","*","*"]
["Y59","QNX","70F","V000013",null,null,"2 Mallard Way, HENFIELD, West Sussex, BN5 9HF","BN5 9HF",1423,"No data","","","","","","","","","","","","","",""]
["Y59","QNX","70F","V000024",7721000001,"MR BM SILVA","20 Liverpool Gardens, Worthing, West Sussex, BN11 1RY","BN11 1RY",3620,5,1,0,5,0,0,0,0,0,5,0,0,0,0,0]
["Y59","QNX","70F","V000655",8175460001,"MR JS SANDHU","Dental Surgery, 6 High Street, EAST GRINSTEAD, West Sussex, RH19 3AW","RH19 3AW",1251,24,1,0,23,1,0,0,0,0,24,0,0,0,0,0]
["Y59","QNX","70F","V000681",2078960005,"MCCANCE LTD.","East Grinstead Orthodontic, Centre, 67 Cantelupe Road, EAST GRINSTEAD, West Sussex, RH19 3BL","RH19 3BL",708,26,1,0,22,4,0,0,0,0,26,0,0,0,0,0]
["Y59","QNX","70F","V001231",1319700001,"Colin Bunce Limited","Dental Surgery, 46 The Green, Southwick, BRIGHTON, East Sussex, BN42 4FR","BN42 4FR",4303,20,0.8,0.05,11,5,3,1,0,0,20,0,0,0,0,0]
["Y59","QNX","70F","V001265",1039850001,"Northgate Dental Care Ltd","Dental Surgery, 1 Woolborough Road, CRAWLEY, West Sussex, RH10 8EZ","RH10 8EZ",2319,31,0.93548387096774188,3.2258064516129031E-2,21,8,1,0,1,0,0,0,0,31,0,0]
["Y59","QNX","70F","V001396",null,null,"Croft Dental Surgery, 30 Park Drive, Rustington, LITTLEHAMPTON, West Sussex, BN16 3DY","BN16 3DY",787,"No data","","","","","","","","","","","","","",""]
["Y59","QNX","70F","V001403",null,null,"Abbots Lodge Dental Practice, 85 The Street, Rustington, LITTLEHAMPTON, West Sussex, BN16 3NL","BN16 3NL",0,"No data","","","","","","","","","","","","","",""]
["Y59","QNX","70F","V001516",1866430002,"Moat Road Dental Care","Moat Road Dental Care Limited, 3 Moat Road, EAST GRINSTEAD, West Sussex, RH19 3JZ","RH19 3JZ",5637,86,0.91860465116279066,3.4883720930232558E-2,49,30,4,1,2,0,0,0,0,86,0,0]
["Y59","QNX","70F","V001738",1858250001,"Horsham Dental Care Ltd","Dental Surgery, 22 Carfax, HORSHAM, West Sussex, RH12 1EB","RH12 1EB",2291,35,0.97142857142857142,0,30,4,1,0,0,0,0,0,0,35,0,0]
["Y59","QNX","70F","V001740",null,null,"Dental Surgery, 5 Causeway, HORSHAM, West Sussex, RH12 1HE","RH12 1HE",3350,"No data","","","","","","","","","","","","","",""]
["Y59","QNX","70F","V001793",null,null,"Dental Department, Christs Hospital Infirmary, Christs Hospital, HORSHAM, West Sussex, RH13 0LY","RH13 0LY",489,"No data","","","","","","","","","","","","","",""]
["Y59","QNX","70F","V001808",null,null,"Dental Surgery, 3 Maple Parade, The Street, Walberton, ARUNDEL, BN18 0PR","BN18 0PR",2483,"No data","","","","","","","","","","","","","",""]
["Y59","QNX","70F","V001810",1571630003,"Chichester Smiles Dental Practice Ltd","Dental Surgery, 46 West Street, CHICHESTER, West Sussex, PO19 1RP","PO19 1RP",351,5,1,0,5,0,0,0,0,0,0,5,0,0,0,0]
["Y59","QNX","70F","V002130",null,null,"Selsey Dental Practice, 130 High Street, Selsey, CHICHESTER, West Sussex, PO20 0QE","PO20 0QE",507,"No data","","","","","","","","","","","","","",""]
["Y59","QNX","70F","V003205",null,null,"East Mews Dental Surgery, Unit 2, East Mews, East Street, HORSHAM, RH12 1HJ","RH12 1HJ",1248,"No data","","","","","","","","","","","","","",""]
["Y59","QNX","70F","V008577",null,null,"St Faiths Dental Surgery, 2 Halsford Park Road, EAST GRINSTEAD, West Sussex, RH19 1PN","RH19 1PN",2504,"No data","","","","","","","","","","","","","",""]
["Y59","QNX","70F","V010789",null,null,"The Bosham Clinic, Main Road, Fishbourne, Chichester, West Sussex, PO18 8AN","PO18 8AN",3472,"No data","","","","","","","","","","","","","",""]
["Y59","QNX","70F","V012117",null,null,"Cuckfield Dental Practice, 3 High Street, Cuckfield, HAYWARDS HEATH, West Sussex, RH17 5EN","RH17 5EN",5632,"No data","","","","","","","","","","","","","",""]
["Y59","QNX","70F","V014518",1955530001,"Dr Satnam Louis Limited","Imagine Dental, 5 Station Parade, Station Road, East Preston, BN16 3AE","BN16 3AE",1754,11,1,0,11,0,0,0,0,0,0,11,0,0,0,0]
["Y59","QNX","70F","V202595",null,null,"Horsham Dental Studio, Wickhurst Square, Sargent Way, Horsham, West Sussex, RH12 3XS","RH12 3XS",1846,"No data","","","","","","","","","","","","","",""]
["Y59","QNX","70F","V202597",2329980001,"Family Dental Centre Partnership","Unit 1, 5-7 Brighton Road, Crawley, West Sussex, RH10 6AE","RH10 6AE",1149,5,1,0,5,0,0,0,0,0,5,0,0,0,0,0]
["Y59","QNX","97R","V000542",null,null,"Dental Surgery, 7 Albion Street, LEWES, East Sussex, BN7 2ND","BN7 2ND",2886,"No data","","","","","","","","","","","","","",""]
["Y59","QNX","97R","V000554",null,null,"Durban Dental Surgery, Crowborough Hill, CROWBOROUGH, East Sussex, TN6 1DG","TN6 1DG",811,"No data","","","","","","","","","","","","","",""]
["Y59","QNX","97R","V000576",null,null,"Peacehaven Dental Surgery, 216 South Coast Road, PEACEHAVEN, East Sussex, BN10 8JR","BN10 8JR",1730,"No data","","","","","","","","","","","","","",""]
["Y59","QNX","97R","V000599",null,null,"Dental Surgery & Implant Centre, 2 Lushington Road, EASTBOURNE, East Sussex, BN21 4LL","BN21 4LL",425,"No data","","","","","","","","","","","","","",""]
["Y59","QNX","97R","V000602",null,null,"Dental Surgery, 52 Brassey Avenue, EASTBOURNE, East Sussex, BN22 9QH","BN22 9QH",3223,"No data","","","","","","","","","","","","","",""]
["Y59","QNX","97R","V000614",8173760001,"MR JP HYDER","Dental Surgery, 27 Hartfield Road, EASTBOURNE, East Sussex, BN21 2AR","BN21 2AR",230,8,1,0,8,0,0,0,0,0,8,0,0,0,0,0]
["Y59","QNX","97R","V001161",null,null,"Dental Surgery, 6 Carlisle Parade, HASTINGS, East Sussex, TN34 1JG","TN34 1JG",117,"No data","","","","","","","","","","","","","",""]
["Y59","QNX","97R","V001162",1018970000,"Flint House Dental Practice Partnership","Flint House Dental Practice, 22 Strood Road, ST LEONARDS ON SEA, East Sussex, TN37 6PN","TN37 6PN",805,1,"*","*","*","*","*","*","*","*","*","*","*","*","*","*"]
["Y59","QNX","97R","V001171",null,null,"Total Dental Care, 25 Queens Road, Hastings, East Sussex, TN34 1QY","TN34 1QY",4114,"No data","","","","","","","","","","","","","",""]
["Y59","QNX","97R","V001173",1762140001,"Warrior Square Dental Practice Ltd","Dental Surgery, 32A Warrior Square, ST LEONARDS ON SEA, East Sussex, TN37 6BS","TN37 6BS",632,12,1,0,12,0,0,0,0,0,0,0,12,0,0,0]
["Y59","QNX","97R","V001486",null,null,"Dental Care, 37 Sackville Road, BEXHILL ON SEA, East Sussex, TN39 3JD","TN39 3JD",516,"No data","","","","","","","","","","","","","",""]
["Y59","QNX","97R","V009118",null,null,"Arthur Blackman Clinic, Battle Road, ST LEONARDS ON SEA, East Sussex, TN37 7AN","TN37 7AN",906,"No data","","","","","","","","","","","","","",""]
["Y59","QNX","97R","V010722",null,null,"Mayfield Dental Centre, Mayfield Chambers, High Street, Mayfield, East Sussex, TN20 6AW","TN20 6AW",1777,"No data","","","","","","","","","","","","","",""]
["Y59","QNX","97R","V011894",null,null,"12 Trinity Trees, EASTBOURNE, East Sussex, BN21 3LE","BN21 3LE",1970,"No data","","","","","","","","","","","","","",""]
["Y59","QNX","97R","V013597",null,null,"Battle Road Dental Practice, 84 Battle Road, St Leonards on Sea, East Sussex, TN37 7AG","TN37 7AG",154,"No data","","","","","","","","","","","","","",""]
["Y59","QNX","97R","V015084",9318880001,"MRS JN MASON","Northiam Dental Practice, Main Street, Northiam, TN31 6NA","TN31 6NA",962,11,1,0,10,1,0,0,0,0,11,0,0,0,0,0]
["Y59","QNX","97R","V095144",1009370000,"Portman Healthcare Limited","21 HIGH STREET, HAILSHAM, BN27 1AN","BN27 1AN",387,2,"*","*","*","*","*","*","*","*","*","*","*","*","*","*"]
["Y59","QRL","10R","V005141",null,null,"Dental Surgery, 310 Chichester Road, PORTSMOUTH, Hampshire, PO2 0AS","PO2 0AS",3,"No data","","","","","","","","","","","","","",""]
["Y59","QRL","10R","V005149",null,null,"MediKa Dental, ., 175 Devonshire Avenue, SOUTHSEA, Hampshire, PO4 9ED","PO4 9ED",963,"No data","","","","","","","","","","","","","",""]
["Y59","QRL","10R","V010251",null,null,"The Anchorage Dental Care, 37A Clarendon Road, SOUTHSEA, Hampshire, PO5 2ED","PO5 2ED",264,"No data","","","","","","","","","","","","","",""]
["Y59","QRL","10R","V229943",null,null,"2 HANWAY ROAD, PORTSMOUTH, Hampshire, PO1 4ND","PO1 4ND",2735,"No data","","","","","","","","","","","","","",""]
["Y59","QRL","D9Y0V","V000389",null,null,"Beggarwood Dental Practice, Beggarwood Lane, Beggarwood, Basingstoke, Hampshire, RG22 4AQ","RG22 4AQ",28,"No data","","","","","","","","","","","","","",""]
["Y59","QRL","D9Y0V","V001283",null,null,"Dental Surgery, 20 The Avenue, GOSPORT, Hampshire, PO12 2JR","PO12 2JR",158,"No data","","","","","","","","","","","","","",""]
["Y59","QRL","D9Y0V","V001284",null,null,"Dental Surgery, 38 Locks Heath Centre, Centre Way, Locks Heath, SOUTHAMPTON, SO31 6DX","SO31 6DX",1165,"No data","","","","","","","","","","","","","",""]
["Y59","QRL","D9Y0V","V001338",null,null,"Gosport Dental Centre, South Street, Gosport, Hampshire, PO12 1ER","PO12 1ER",5592,"No data","","","","","","","","","","","","","",""]
["Y59","QRL","D9Y0V","V003556",null,null,"Dental Surgery, 2 Somerset Avenue, SOUTHAMPTON, Hampshire, SO18 5FL","SO18 5FL",1826,"No data","","","","","","","","","","","","","",""]
["Y59","QRL","D9Y0V","V003562",null,null,"Dental Surgery, 314 Burgess Road, SOUTHAMPTON, Hampshire, SO16 3BJ","SO16 3BJ",1981,"No data","","","","","","","","","","","","","",""]
["Y59","QRL","D9Y0V","V003583",null,null,"Cowplain Dental Practice, 139 London Road, Cowplain, WATERLOOVILLE, Hampshire, PO8 8XJ","PO8 8XJ",291,"No data","","","","","","","","","","","","","",""]
["Y59","QRL","D9Y0V","V003593",null,null,"Dental Department, Shirley Health Centre, Grove Road, SOUTHAMPTON, Hampshire, SO15 3UA","SO15 3UA",860,"No data","","","","","","","","","","","","","",""]
["Y59","QRL","D9Y0V","V003607",null,null,"Dental Surgery, 4 Basing Road, Havant, Hampshire, PO9 5AG","PO9 5AG",4476,"No data","","","","","","","","","","","","","",""]
["Y59","QRL","D9Y0V","V006007",null,null,"Dental Surgery, 17 Turk Street, ALTON, Hampshire, GU34 1AG","GU34 1AG",182,"No data","","","","","","","","","","","","","",""]
["Y59","QRL","D9Y0V","V006013",null,null,"Grayshott Dental Surgery, 1 The Gallery, Crossways Road, Grayshott, HINDHEAD, GU26 6HJ","GU26 6HJ",4136,"No data","","","","","","","","","","","","","",""]
["Y59","QRL","D9Y0V","V006558",5735660002,"Sandown Dental Practice","Sandown Dental Practice, 18 Broadway, SANDOWN, Isle Of Wight, PO36 9DQ","PO36 9DQ",1158,7,1,0,4,3,0,0,0,0,7,0,0,0,0,0]
["Y59","QRL","D9Y0V","V006718",null,null,"Dental Surgery, Hapgood House, Station Road, BEMBRIDGE, Isle Of Wight, PO35 5NN","PO35 5NN",2814,"No data","","","","","","","","","","","","","",""]
["Y59","QRL","D9Y0V","V007085",null,null,"Associated Dental Practices, Gillies Health Centre, Sullivan Road, Brighton Hill, Basingstoke, RG22 4EH","RG22 4EH",2261,"No data","","","","","","","","","","","","","",""]
["Y59","QRL","D9Y0V","V007290",null,null,"Dental Surgery, 7 St James Terrace, WINCHESTER, Hampshire, SO22 4PP","SO22 4PP",13413,"No data","","","","","","","","","","","","","",""]
["Y59","QRL","D9Y0V","V007436",null,null,"Quality And Caring Dentistry, Botley Road, West End, SOUTHAMPTON, Hampshire, SO30 3HA","SO30 3HA",1132,"No data","","","","","","","","","","","","","",""]
["Y59","QRL","D9Y0V","V007757",1029380001,"Milford Dental Practice Partnership","Milford Dental Surgery, High Street, Milford On Sea, Lymington, Hampshire, SO41 0QF","SO41 0QF",1840,2,"*","*","*","*","*","*","*","*","*","*","*","*","*","*"]
["Y59","QRL","D9Y0V","V008056",null,null,"Swedental Surgery, 1 Ground Floor, New Court House, New Street, LYMINGTON, SO41 9BQ","SO41 9BQ",229,"No data","","","","","","","","","","","","","",""]
["Y59","QRL","D9Y0V","V008087",null,null,"Appollonia Dentist, 10 Testwood Lane, Totton, SOUTHAMPTON, Hampshire, SO40 3AQ","SO40 3AQ",3410,"No data","","","","","","","","","","","","","",""]
["Y59","QRL","D9Y0V","V008583",null,null,"Forestside Dental Practice, Beaulieu Road, Dibden Purlieu, SOUTHAMPTON, Hampshire, SO45 4JA","SO45 4JA",1035,"No data","","","","","","","","","","","","","",""]
["Y59","QRL","D9Y0V","V008813",null,null,"Dental Department, Primary Care Delivery Centre, Royal South Hants Hospital, Brintons Terrace, Southampton, SO14 0YG","SO14 0YG",3261,"No data","","","","","","","","","","","","","",""]
["Y59","QRL","D9Y0V","V009056",null,null,"Wight Dental Care, Tower House, Rink Road, RYDE, Isle of Wight, PO33 1LP","PO33 1LP",1482,"No data","","","","","","","","","","","","","",""]
["Y59","QRL","D9Y0V","V011469",7453830001,"MR DJ GALE","37 East Street, FAREHAM, Hampshire, PO16 0DF","PO16 0DF",808,6,1,0,6,0,0,0,0,0,4,0,0,0,2,0]
["Y59","QRL","D9Y0V","V012294",null,null,"Oasis Dental Care, 158A Stakes Hill Road, Waterlooville, Hampshire, PO7 7BS","PO7 7BS",7220,"No data","","","","","","","","","","","","","",""]
["Y59","QRL","D9Y0V","V012680",3536630001,"Dr A Brogan","215 West Street, FAREHAM, Hampshire, PO16 0ET","PO16 0ET",4564,20,1,0,13,7,0,0,0,0,20,0,0,0,0,0]
["Y59","QRL","D9Y0V","V013335",null,null,"70 Warburton Road, Thornhill, Southampton, Hampshire, SO19 6HQ","SO19 6HQ",2405,"No data","","","","","","","","","","","","","",""]
["Y59","QRL","D9Y0V","V013342",null,null,"8 - 10 Stakes Hill Road, Waterlooville, Hampshire, PO7 7HY","PO7 7HY",1427,"No data","","","","","","","","","","","","","",""]
["Y59","QRL","D9Y0V","V014451",null,null,"Hedge End Dental Surgery, Saracen House, 6 Freegrounds Avenue, Hedge End, SOUTHAMPTON, SO30 0BJ","SO30 0BJ",6550,"No data","","","","","","","","","","","","","",""]
["Y59","QRL","D9Y0V","V020304",null,null,"Shirley Dental Walk-in Centre, 10-12, Cannon Street, Southampton, SO15 5PQ","SO15 5PQ",9423,"No data","","","","","","","","","","","","","",""]
["Y59","QRL","D9Y0V","V021730",1864060001,"Clear Dentistry","HOE ROAD, SOUTHAMPTON, SO32 1DS","SO32 1DS",1044,89,0.9550561797752809,1.1235955056179775E-2,84,1,0,0,1,3,0,0,89,0,0,0]
["Y59","QRL","D9Y0V","V061628",null,null,"10-11, CROSS STREET, RYDE, PO33 2AD","PO33 2AD",209,"No data","","","","","","","","","","","","","",""]
["Y59","QU9","10Q","V005513",null,null,"Dental Surgery, 43 Castle Street, BANBURY, Oxfordshire, OX16 5NU","OX16 5NU",1310,"No data","","","","","","","","","","","","","",""]
["Y59","QU9","10Q","V005515",null,null,"Lion House Dental Practice, High Street, Hook Norton, BANBURY, Oxfordshire, OX15 5NF","OX15 5NF",2286,"No data","","","","","","","","","","","","","",""]
["Y59","QU9","10Q","V005541",null,null,"Oasis Dental Care, 22 Beaumont Street, OXFORD, Oxfordshire, OX1 2NA","OX1 2NA",2364,"No data","","","","","","","","","","","","","",""]
["Y59","QU9","10Q","V005551",null,null,"Dental Surgery, 310 London Road, Headington, OXFORD, Oxfordshire, OX3 8DJ","OX3 8DJ",656,"No data","","","","","","","","","","","","","",""]
["Y59","QU9","10Q","V005681",null,null,"Byways Dental Practice, Checkendon, READING, Berkshire, RG8 0SP","RG8 0SP",588,"No data","","","","","","","","","","","","","",""]
["Y59","QU9","10Q","V005687",null,null,"Dental Surgery, 7 Shirburn Street, WATLINGTON, Oxfordshire, OX49 5BU","OX49 5BU",520,"No data","","","","","","","","","","","","","",""]
["Y59","QU9","10Q","V005696",null,null,"The Health Centre, Mably Way, Grove, WANTAGE, Oxfordshire, OX12 9BN","OX12 9BN",130,"No data","","","","","","","","","","","","","",""]
["Y59","QU9","10Q","V005707",null,null,"Wootton Dental Centre, 4 Besselsleigh Road, Wootton, ABINGDON, Oxfordshire, OX13 6DN","OX13 6DN",5204,"No data","","","","","","","","","","","","","",""]
["Y59","QU9","10Q","V005721",null,null,"45 Stert Street, ABINGDON, Oxfordshire, OX14 3JF","OX14 3JF",1647,"No data","","","","","","","","","","","","","",""]
["Y59","QU9","10Q","V005727",null,null,"Precinct Dental Practice, 28A Bury Street, ABINGDON, Oxfordshire, OX14 3QX","OX14 3QX",491,"No data","","","","","","","","","","","","","",""]
["Y59","QU9","10Q","V006268",null,null,"Dental Surgery, 98 Sheep Street, BICESTER, Oxfordshire, OX26 6LP","OX26 6LP",1769,"No data","","","","","","","","","","","","","",""]
["Y59","QU9","10Q","V006273",null,null,"Hensington House Dental Practice, 17 Union Street, WOODSTOCK, Oxfordshire, OX20 1JF","OX20 1JF",426,"No data","","","","","","","","","","","","","",""]
["Y59","QU9","10Q","V007850",null,null,"Unit 12/13 The Tower Centre, Alvescot Road, Carterton, Oxon, OX18 3JQ","OX18 3JQ",189,"No data","","","","","","","","","","","","","",""]
["Y59","QU9","10Q","V009228",null,null,"Dental Surgery, 84 High Street, WALLINGFORD, Oxfordshire, OX10 0BW","OX10 0BW",7241,"No data","","","","","","","","","","","","","",""]
["Y59","QU9","10Q","V012336",null,null,"Dental Surgery, Hanwell Mews, Rotary Way, BANBURY, Oxfordshire, OX16 1AP","OX16 1AP",3479,"No data","","","","","","","","","","","","","",""]
["Y59","QU9","10Q","V017584",8896600001,"MR B AHMED","Buttercross Dental Practice, 17a Corn Street, Witney, Oxfordshire, OX28 6DB","OX28 6DB",3474,9,0.88888888888888884,0.1111111111111111,4,4,0,1,0,0,1,1,3,0,3,1]
["Y59","QU9","10Q","V096215",null,null,"Peachcroft Dental Practice, Unit 4, Peachcroft Shopping Centre, Peachcroft Road, Abingdon, OX14 2QA","OX14 2QA",5203,"No data","","","","","","","","","","","","","",""]
["Y59","QU9","14Y","V000247",null,null,"Haddenham Dental Centre, Banks Cottage, Banks Road, Haddenham, AYLESBURY, HP17 8EE","HP17 8EE",216,"No data","","","","","","","","","","","","","",""]
["Y59","QU9","14Y","V000318",9123440001,"MISS LE DAVIES","Watermead Dental Centre, Lakeside, AYLESBURY, Buckinghamshire, HP19 0FX","HP19 0FX",1499,1,"*","*","*","*","*","*","*","*","*","*","*","*","*","*"]
["Y59","QU9","14Y","V000321",1773930001,"Aston Clinton Dental","Aston Clinton Dental Clinic, 1A Stablebridge Road, Aston Clinton, AYLESBURY, Buckinghamshire, HP22 5ND","HP22 5ND",1263,70,0.98571428571428577,1.4285714285714285E-2,65,4,0,1,0,0,70,0,0,0,0,0]
["Y59","QU9","14Y","V000440",1495000001,"OPTIMA CARE (HW) LTD","Optima Care (HW) Ltd, Optima Dental Care, 21 Castle Street, HIGH WYCOMBE, Buckinghamshire, HP13 6RU","HP13 6RU",2793,82,1,0,57,25,0,0,0,0,60,22,0,0,0,0]
["Y59","QU9","14Y","V000451",null,null,"Crendon Dental Centre, 7A Crendon Street, HIGH WYCOMBE, Buckinghamshire, HP13 6LE","HP13 6LE",1394,"No data","","","","","","","","","","","","","",""]
["Y59","QU9","14Y","V000454",null,null,"Dentalign Orthodontics LLP, The Marlow Studio, East Wing, Spracklen House, Dukes Place, Marlow, SL7 2QH","SL7 2QH",38,"No data","","","","","","","","","","","","","",""]
["Y59","QU9","14Y","V000744",null,null,"54 Penn Road, BEACONSFIELD, Buckinghamshire, HP9 2LS","HP9 2LS",141,"No data","","","","","","","","","","","","","",""]
["Y59","QU9","14Y","V000786",null,null,"2 Ashcroft Drive, Denham, UXBRIDGE, Middlesex, UB9 5JF","UB9 5JF",1687,"No data","","","","","","","","","","","","","",""]
["Y59","QU9","14Y","V000797",null,null,"A H Makhani And Associates, 25 High Street, IVER, Buckinghamshire, SL0 9ND","SL0 9ND",1269,"No data","","","","","","","","","","","","","",""]
["Y59","QU9","14Y","V003173",null,null,"First Floor, Prestwood Centre, 99 High Street, Prestwood, Buckinghamshire, HP16 9EU","HP16 9EU",736,"No data","","","","","","","","","","","","","",""]
["Y59","QU9","14Y","V010017",null,null,"Market Square Dental Practice, 16 Red Lion Street, Chesham, Buckinghamshire, HP5 1EZ","HP5 1EZ",241,"No data","","","","","","","","","","","","","",""]
["Y59","QU9","14Y","V013595",null,null,"2A Chapel Street, MARLOW, Buckinghamshire, SL7 1DD","SL7 1DD",170,"No data","","","","","","","","","","","","","",""]
["Y59","QU9","14Y","V013792",3592700019,"MR AF RAI","28 Aylesbury End, Beaconsfield, Old Town, Buckinghamshire, HP9 1LW","HP9 1LW",2951,4,"*","*","*","*","*","*","*","*","*","*","*","*","*","*"]
["Y59","QU9","14Y","V017845",null,null,"6b, The Green, High Wycombe, Buckinghamshire, HP10 0EE","HP10 0EE",2450,"No data","","","","","","","","","","","","","",""]
["Y59","QU9","15A","V000054",null,null,"Community Dental Clinic, W Berkshire Community Hospital, Benham Hill, London Road, Thatcham, Berkshire, RG18 3AS","RG18 3AS",233,"No data","","","","","","","","","","","","","",""]
["Y59","QU9","15A","V003730",null,null,"Bean Oak Dental Surgery, 95 Bean Oak Road, WOKINGHAM, Berkshire, RG40 1RJ","RG40 1RJ",1885,"No data","","","","","","","","","","","","","",""]
["Y59","QU9","15A","V003748",null,null,"Blanchard & Castle Dental, Gerrards Place, Kennet Road, NEWBURY, Berkshire, RG14 5JB","RG14 5JB",328,"No data","","","","","","","","","","","","","",""]
["Y59","QU9","15A","V004319",null,null,"Dental Surgery, 96 High Street, HUNGERFORD, Berkshire, RG17 0NB","RG17 0NB",524,"No data","","","","","","","","","","","","","",""]
["Y59","QU9","15A","V005633",1664130001,"ALAN LEWIS & ASSOCIATES LTD","Lewis Dental Surgery, 124 Oxford Road, READING, Berkshire, RG1 7NL","RG1 7NL",12511,88,0.97727272727272729,0,44,42,0,0,0,2,0,0,88,0,0,0]
["Y59","QU9","15A","V005656",null,null,"Castle Hill Clinic, 1C Tilehurst Road, READING, Berkshire, RG1 7TW","RG1 7TW",2190,"No data","","","","","","","","","","","","","",""]
["Y59","QU9","15A","V005880",null,null,"7 Market Place, Lambourn, Hungerford, Berkshire, Berkshire, RG17 8XU","RG17 8XU",421,"No data","","","","","","","","","","","","","",""]
["Y59","QU9","15A","V006575",null,null,"Loddon Vale Dental Practice, Flat E, Hurricane Way, Woodley, READING, RG5 4UL","RG5 4UL",497,"No data","","","","","","","","","","","","","",""]
["Y59","QU9","15A","V011450",null,null,"ADP DENTAL CO LTD DENTAL SURGERY, 17-18 MEADWAY PRECINT, HONEY END LANE, TILEHURST, READING, RG30 4AA","RG30 4AA",6852,"No data","","","","","","","","","","","","","",""]
["Y59","QU9","15A","V040134",null,null,"Westbrook House, 6 West Street, Newbury, Berkshire, RG14 1BD","RG14 1BD",297,"No data","","","","","","","","","","","","","",""]
["Y59","QU9","15A","V042557",null,null,"9-10 Market Place, Reading, Berkshire, RG1 2EG","RG1 2EG",3947,"No data","","","","","","","","","","","","","",""]
["Y59","QXU","92A","V002026",null,null,"IDH Caterham, 64 Croydon Road, CATERHAM, Surrey, CR3 6QB","CR3 6QB",1699,"No data","","","","","","","","","","","","","",""]
["Y59","QXU","92A","V002031",null,null,"Dental Surgery, 24 High Street, GODSTONE, Surrey, RH9 8AG","RH9 8AG",1502,"No data","","","","","","","","","","","","","",""]
["Y59","QXU","92A","V002040",null,null,"Priory House Dental Surgery, 77 - 79 Station Road East, OXTED, Surrey, RH8 0AX","RH8 0AX",1837,"No data","","","","","","","","","","","","","",""]
["Y59","QXU","92A","V002117",null,null,"Apex Dental Surgery, 172 Station Road, ADDLESTONE, Surrey, KT15 2BD","KT15 2BD",999,"No data","","","","","","","","","","","","","",""]
["Y59","QXU","92A","V002132",8251070003,"Village Dental Practice Partnership","The Ashford Village Dental Pr, 59-61 Church Road, Ashford, Middlesex, TW15 2TY","TW15 2TY",6772,4,"*","*","*","*","*","*","*","*","*","*","*","*","*","*"]
["Y59","QXU","92A","V002189",null,null,"Dental Surgery, 15 Cherry Orchard, STAINES, Middlesex, TW18 2DE","TW18 2DE",6248,"No data","","","","","","","","","","","","","",""]
["Y59","QXU","92A","V002215",null,null,"Dental Surgery, 29 Dorchester Road, WEYBRIDGE, Surrey, KT13 8PE","KT13 8PE",27,"No data","","","","","","","","","","","","","",""]
["Y59","QXU","92A","V002246",null,null,"Chobham Smile Dental Practice, Ava House, 98 - 100 High Street, Chobham, Woking, GU24 8LZ","GU24 8LZ",274,"No data","","","","","","","","","","","","","",""]
["Y59","QXU","92A","V002284",null,null,"Dental Surgery, 1 Westfield Road, WOKING, Surrey, GU22 9LZ","GU22 9LZ",85,"No data","","","","","","","","","","","","","",""]
["Y59","QXU","92A","V002288",null,null,"Dental Surgery, Lorna Doone, Chobham Road, WOKING, Surrey, GU21 4AA","GU21 4AA",170,"No data","","","","","","","","","","","","","",""]
["Y59","QXU","92A","V002607",null,null,"Nork Way Dental Practice, 29 Nork Way, BANSTEAD, Surrey, SM7 1PB","SM7 1PB",3389,"No data","","","","","","","","","","","","","",""]
["Y59","QXU","92A","V002865",null,null,"Alexandra Dental Practice, 43 Alexandra Road, EPSOM, Surrey, KT17 4DB","KT17 4DB",3341,"No data","","","","","","","","","","","","","",""]
["Y59","QXU","92A","V002869",9216450005,"Brightsmile Dental Care (Epsom)","Bright Smile Dental Care (E), 76 East Street, EPSOM, Surrey, KT17 1HF","KT17 1HF",977,59,1,0,41,18,0,0,0,0,52,7,0,0,0,0]
["Y59","QXU","92A","V002901",9216450004,"Brightsmile Dental Care (Tadworth)","Tadworth Dental Practice, 19 Shelvers Hill, TADWORTH, Surrey, KT20 5PU","KT20 5PU",3216,63,0.98412698412698407,0,46,16,1,0,0,0,54,9,0,0,0,0]
["Y59","QXU","92A","V004717",null,null,"The Gables Dental Surgery, 26 London Road, GUILDFORD, Surrey, GU1 2AF","GU1 2AF",1298,"No data","","","","","","","","","","","","","",""]
["Y59","QXU","92A","V004718",1179000002,"Northdene Services Limited","Northdene Dental Surgery, 13 London Road, GUILDFORD, Surrey, GU1 2AA","GU1 2AA",5592,10,1,0,10,0,0,0,0,0,10,0,0,0,0,0]
["Y59","QXU","92A","V004726",1012810090,"OASIS DENTAL CARE LTD","Dental Practice, 17 London Road, GUILDFORD, Surrey, GU1 2AA","GU1 2AA",1774,1,"*","*","*","*","*","*","*","*","*","*","*","*","*","*"]
["Y59","QXU","92A","V004732",null,null,"57 Quarry Street, GUILDFORD, Surrey, GU1 3UA","GU1 3UA",92,"No data","","","","","","","","","","","","","",""]
["Y59","QXU","92A","V004753",3103280002,"MR JY LIU","Godalming Orthodontic Practice, 100 High Street, GODALMING, Surrey, GU7 1DW","GU7 1DW",39,1,"*","*","*","*","*","*","*","*","*","*","*","*","*","*"]
["Y59","QXU","92A","V009218",null,null,"Healthcare Suite, HMP Send, Ripley Road, Send, WOKING, GU23 7LJ","GU23 7LJ",119,"No data","","","","","","","","","","","","","",""]
["Y59","QXU","92A","V009425",null,null,"Epsom Health Clinic, Church Street, EPSOM, Surrey, KT17 4PH","KT17 4PH",504,"No data","","","","","","","","","","","","","",""]
["Y59","QXU","92A","V010233",6772560001,"MR GT WYNNE-HUGHES","Cygnet Orthodontics, The Malt House, Wraysbury Road, STAINES, Middlesex, TW18 4XP","TW18 4XP",1673,13,0.92307692307692313,7.6923076923076927E-2,11,1,0,0,1,0,0,0,13,0,0,0]
["Y59","QXU","92A","V012422",null,null,"2-4 Upper Fairfield Road, Leatherhead, Surrey, KT22 7HH","KT22 7HH",2551,"No data","","","","","","","","","","","","","",""]
["Y59","QXU","92A","V012591",null,null,"Tooth Booth, 64-66 Station Road, Egham, Surrey, TW20 9LF","TW20 9LF",2328,"No data","","","","","","","","","","","","","",""]
["Y59","QXU","92A","V012963",null,null,"1 Church Street, EPSOM, Surrey, KT17 4PF","KT17 4PF",864,"No data","","","","","","","","","","","","","",""]
["Y59","QXU","92A","V014351",null,null,"The Dental Surgery, Windsor House, 20 Queens Road, Hersham, Walton on Thames, KT12 5LR","KT12 5LR",533,"No data","","","","","","","","","","","","","",""]
["Y59","QXU","92A","V024892",null,null,"40a, Station Approach, West Byfleet, Surrey, KT14 6NE","KT14 6NE",60,"No data","","","","","","","","","","","","","",""]
["Y59","QXU","92A","V050578",null,null,"95-99, STATION ROAD EAST, OXTED, RH8 0AX","RH8 0AX",659,"No data","","","","","","","","","","","","","",""]
["Y59","QXU","92A","V064785",1282790001,"Bright DS Limited","GRAPHIC HOUSE 1-3, HERMITAGE ROAD, WOKING, GU21 8TE","GU21 8TE",3288,10,1,0,3,7,0,0,0,0,10,0,0,0,0,0]
["Y60","QGH","18C","V000937",null,null,"Dental Surgery, 119 Golden Cross Lane, Catshill, BROMSGROVE, Worcestershire, B61 0LA","B61 0LA",17,"No data","","","","","","","","","","","","","",""]
["Y60","QGH","18C","V007065",1012810149,"OASIS DENTAL CARE LTD","Oasis Dental Care Ltd, Old Maids Walk, ROSS ON WYE, Herefordshire, HR9 5HB","HR9 5HB",1178,4,"*","*","*","*","*","*","*","*","*","*","*","*","*","*"]
["Y60","QGH","18C","V007066",null,null,"The Dental Surgery, Symonds Yat, ROSS ON WYE, Herefordshire, HR9 6BJ","HR9 6BJ",3437,"No data","","","","","","","","","","","","","",""]
["Y60","QGH","18C","V007321",1043370001,"Pinnacle Orthodontics Ltd","Pinnacle Orthodontics, 343 Birchfield Road, REDDITCH, Worcestershire, B97 4NE","B97 4NE",1000,17,1,0,12,5,0,0,0,0,17,0,0,0,0,0]
["Y60","QGH","18C","V007326",null,null,"Dental Surgery, 2 College Road, BROMSGROVE, Worcestershire, B60 2NE","B60 2NE",2427,"No data","","","","","","","","","","","","","",""]
["Y60","QGH","18C","V007333",null,null,"Dental Surgery, Matchborough Centre, Matchborough Way, REDDITCH, Worcestershire, B98 0EP","B98 0EP",2913,"No data","","","","","","","","","","","","","",""]
["Y60","QGH","18C","V007860",8141130001,"MR RA ARROWSMITH","Dental Surgery, 110 Bewdley Road, STOURPORT ON SEVERN, Worcestershire, DY13 8XH","DY13 8XH",3579,0,"NA","NA",0,0,0,0,0,0,0,0,0,0,0,0]
["Y60","QGH","18C","V007871",null,null,"Bewdley Dental Practice, 51 - 52 Load Street, BEWDLEY, Worcestershire, DY12 2AP","DY12 2AP",4733,"No data","","","","","","","","","","","","","",""]
["Y60","QGH","18C","V008045",null,null,"Tenbury Dental Centre, 32 Teme Street, TENBURY WELLS, Worcestershire, WR15 8AA","WR15 8AA",620,"No data","","","","","","","","","","","","","",""]
["Y60","QGH","18C","V008429",1012810108,"OASIS DENTAL CARE LTD","Oasis Dental Care Ltd, 25A St Johns, WORCESTER, Worcestershire, WR2 5AG","WR2 5AG",533,0,"NA","NA",0,0,0,0,0,0,0,0,0,0,0,0]
["Y60","QGH","18C","V008511",null,null,"Abbotsbury Court Dental Practice, 2 Abbotsbury Court, WORCESTER, Worcestershire, WR5 3TY","WR5 3TY",1868,"No data","","","","","","","","","","","","","",""]
["Y60","QGH","18C","V008956",null,null,"The Dental Practice, 63 Port Street, EVESHAM, Worcestershire, WR11 3LF","WR11 3LF",414,"No data","","","","","","","","","","","","","",""]
["Y60","QGH","18C","V008962",null,null,"Evesham Dental Health Team, 16 Broadway Road, EVESHAM, Worcestershire, WR11 1BG","WR11 1BG",496,"No data","","","","","","","","","","","","","",""]
["Y60","QGH","18C","V009458",null,null,"Dental Department, H M Prison, South Littleton, EVESHAM, Worcestershire, WR11 8TZ","WR11 8TZ",135,"No data","","","","","","","","","","","","","",""]
["Y60","QGH","18C","V011241",null,null,"DENTAL SURGERY, UPTON-UPON-SEVERN HEALTH CENTRE, TUNNELL HILL, UPTON UPON SEVERN, WORCESTERSHIRE, WR8 0QL","WR8 0QL",3850,"No data","","","","","","","","","","","","","",""]
["Y60","QGH","18C","V017224",1019480000,"Mr Gill","The St. Johns Dental Practice, 11 Malvern Road, Worcester, WR2 4LE","WR2 4LE",2727,15,1,0,13,2,0,0,0,0,15,0,0,0,0,0]
["Y60","QGH","18C","V044516",null,null,"BROADWAY HOUSE, AUBREY STREET, HEREFORD, HR4 0BU","HR4 0BU",421,"No data","","","","","","","","","","","","","",""]
["Y60","QHL","15E","V001185",null,null,"Dental Surgery, 9 Salisbury Road, Moseley, BIRMINGHAM, West Midlands, B13 8JS","B13 8JS",1290,"No data","","","","","","","","","","","","","",""]
["Y60","QHL","15E","V001186",6386330016,"Balbir S Bhandal, Amrik S Bhandal & Baljit S Bhandal","Dental Surgery, 18 Islington Row Middleway, BIRMINGHAM, West Midlands, B15 1LD","B15 1LD",1334,1,"*","*","*","*","*","*","*","*","*","*","*","*","*","*"]
["Y60","QHL","15E","V001196",3050570002,"Ortho Exclusively Ltd","Orthodontist Surgery, 20 Summer Road, Acocks Green, BIRMINGHAM, West Midlands, B27 7UT","B27 7UT",1200,16,1,0,13,3,0,0,0,0,0,0,16,0,0,0]
["Y60","QHL","15E","V001203",null,null,"Dental Surgery, 38 The Fold, BIRMINGHAM, West Midlands, B38 9BL","B38 9BL",1384,"No data","","","","","","","","","","","","","",""]
["Y60","QHL","15E","V001209",null,null,"177 Knightlow Road, BIRMINGHAM, West Midlands, B17 8PY","B17 8PY",1621,"No data","","","","","","","","","","","","","",""]
["Y60","QHL","15E","V001226",null,null,"Dental Surgery, 1 Court Oak Road, BIRMINGHAM, West Midlands, B17 9TH","B17 9TH",366,"No data","","","","","","","","","","","","","",""]
["Y60","QHL","15E","V001436",9248220002,"Rai Dental Surgery","Dental Surgery, 109 Westley Road, BIRMINGHAM, West Midlands, B27 7UW","B27 7UW",1529,155,1,0,153,2,0,0,0,0,0,0,155,0,0,0]
["Y60","QHL","15E","V001474",1713600001,"Dr AS Bhandal, Dr Balbir Bhandal & Dr Baljit Bhandal","Dental Surgery, 63 Westley Road, BIRMINGHAM, West Midlands, B27 7UQ","B27 7UQ",614,1,"*","*","*","*","*","*","*","*","*","*","*","*","*","*"]
["Y60","QHL","15E","V002318",6386330015,"Balbir S Bhandal, Amrik S Bhandal & Baljit S Bhandal","Bhandal Dental Practice, 1746 Coventry Road, Yardley, BIRMINGHAM, West Midlands, B26 1BG","B26 1BG",7367,3,"*","*","*","*","*","*","*","*","*","*","*","*","*","*"]
["Y60","QHL","15E","V002325",null,null,"Castle Dental Care, Tangmere Square, Castle Vale, BIRMINGHAM, West Midlands, B35 6DL","B35 6DL",6759,"No data","","","","","","","","","","","","","",""]
["Y60","QHL","15E","V002364",null,null,"Dental Surgery, Denbigh House, 117 Sutton Road, BIRMINGHAM, West Midlands, B23 5XB","B23 5XB",1541,"No data","","","","","","","","","","","","","",""]
["Y60","QHL","15E","V002382",null,null,"Dental Surgery, 151 New Coventry Road, BIRMINGHAM, West Midlands, B26 3DX","B26 3DX",594,"No data","","","","","","","","","","","","","",""]
["Y60","QHL","15E","V002388",1020320001,"Sutton Dental Care","29 Coleshill Street, Sutton Coldfield, West Midlands, B72 1SD","B72 1SD",2113,1,"*","*","*","*","*","*","*","*","*","*","*","*","*","*"]
["Y60","QHL","15E","V002438",1293210001,"Belwell Dental","Dental Surgery, 14 Belwell Lane, SUTTON COLDFIELD, West Midlands, B74 4AL","B74 4AL",2230,20,0.9,0,13,5,2,0,0,0,20,0,0,0,0,0]
["Y60","QHL","15E","V004817",7404030002,"Hillbrook Dental Health Centre","Dental Surgery, 286 Ladypool Road, BIRMINGHAM, West Midlands, B12 8JU","B12 8JU",609,12,0.91666666666666663,0,10,1,1,0,0,0,12,0,0,0,0,0]
["Y60","QHL","15E","V004838",1166610001,"Springfield Dental Practice","Dental Surgery, 835 Stratford Road, Sparkhill, BIRMINGHAM, West Midlands, B11 4DA","B11 4DA",1325,2,"*","*","*","*","*","*","*","*","*","*","*","*","*","*"]
["Y60","QHL","15E","V004896",null,null,"Dental Surgery, 628 Coventry Road, Small Heath, BIRMINGHAM, West Midlands, B10 0UT","B10 0UT",1568,"No data","","","","","","","","","","","","","",""]
["Y60","QHL","15E","V004898",1841520001,"Cromer Road Dental Care","Dental Surgery, 3 Cromer Road, BIRMINGHAM, West Midlands, B12 9QP","B12 9QP",1570,12,0.91666666666666663,0,6,5,1,0,0,0,12,0,0,0,0,0]
["Y60","QHL","15E","V006444",null,null,"266 Bradford Road, Birmingham, West Midlands, B36 9AB","B36 9AB",2760,"No data","","","","","","","","","","","","","",""]
["Y60","QHL","15E","V006775",8135750001,"MR AJ LUCKHURST","Dental Surgery, 345 Warwick Road, SOLIHULL, West Midlands, B91 1BQ","B91 1BQ",602,6,1,0,5,1,0,0,0,0,6,0,0,0,0,0]
["Y60","QHL","15E","V006787",null,null,"Dental Surgery, 37 Stratford Road, Shirley, SOLIHULL, West Midlands, B90 3LU","B90 3LU",1592,"No data","","","","","","","","","","","","","",""]
["Y60","QHL","15E","V008239",null,null,"Dental Surgery, 23 Metchley Lane, BIRMINGHAM, West Midlands, B17 0HP","B17 0HP",486,"No data","","","","","","","","","","","","","",""]
["Y60","QHL","15E","V008579",null,null,"The Dental Practice, 1 Downing Close, Knowle, Solihull, West Midlands, B93 0QA","B93 0QA",3134,"No data","","","","","","","","","","","","","",""]
["Y60","QHL","15E","V013852",1010050000,"Smile Stylist Ltd","352 Dyas Road, Great Barr, BIRMINGHAM, West Midlands, B44 8TB","B44 8TB",1860,12,1,0,8,4,0,0,0,0,12,0,0,0,0,0]
["Y60","QHL","15E","V028732",null,null,"Ground Floor Netherwood Building, Solihull Hospital, Lode Lane, Solihull, West Midlands, B91 2JL","B91 2JL",485,"No data","","","","","","","","","","","","","",""]
["Y60","QHL","15E","V211879",6486390001,"Edgbaston Orthodontics Ltd","1025 STRATFORD ROAD, HALL GREEN, BIRMINGHAM, B28 8BG","B28 8BG",1561,7,1,0,5,2,0,0,0,0,7,0,0,0,0,0]
["Y60","QJ2","15M","V004514",8138420002,"Snape Hill Dental Studio and Implant Centre","Snape Hill Dental Studio, 95 Snape Hill Lane, DRONFIELD, Derbyshire, S18 2GN","S18 2GN",790,9,1,0,9,0,0,0,0,0,9,0,0,0,0,0]
["Y60","QJ2","15M","V005294",null,null,"Dental Surgery, 3 Grosvenor Mansions, Broad Walk, BUXTON, Derbyshire, SK17 6JH","SK17 6JH",5816,"No data","","","","","","","","","","","","","",""]
["Y60","QJ2","15M","V005599",9396920001,"Wisdom Dental Practice","Wisdom Dental, 542 Sheffield Road, CHESTERFIELD, Derbyshire, S41 8LX","S41 8LX",3378,16,1,0,16,0,0,0,0,0,16,0,0,0,0,0]
["Y60","QJ2","15M","V006527",7539120001,"MR BK DAWETT","Dental Surgery, 1 Cressy Road, ALFRETON, Derbyshire, DE55 7BR","DE55 7BR",1431,4,"*","*","*","*","*","*","*","*","*","*","*","*","*","*"]
["Y60","QJ2","15M","V006554",6572470001,"MR RV PATEL","The Orthodontic Practice, 5 St James Court, Friar Gate, DERBY, Derbyshire, DE1 1BT","DE1 1BT",845,5,1,0,5,0,0,0,0,0,0,0,0,0,5,0]
["Y60","QJ2","15M","V006785",null,null,"14 Derby Road, RIPLEY, Derbyshire, DE5 3HR","DE5 3HR",6363,"No data","","","","","","","","","","","","","",""]
["Y60","QJ2","15M","V008091",null,null,"Sawley Dental Practice, 198 Tamworth Road, Sawley, Long Eaton, NOTTINGHAM, NG10 3GS","NG10 3GS",1061,"No data","","","","","","","","","","","","","",""]
["Y60","QJ2","15M","V008325",null,null,"Ashgate Dental Practice, 138 Ashgate Road, CHESTERFIELD, Derbyshire, S40 4AQ","S40 4AQ",1468,"No data","","","","","","","","","","","","","",""]
["Y60","QJ2","15M","V008358",null,null,"Matlock Dental Practice, 92 Dale Road, MATLOCK, Derbyshire, DE4 3LU","DE4 3LU",5461,"No data","","","","","","","","","","","","","",""]
["Y60","QJ2","15M","V008479",null,null,"Cavendish Dental Practice, 13 - 15 Derby Lane, DERBY, Derbyshire, DE23 8UB","DE23 8UB",6109,"No data","","","","","","","","","","","","","",""]
["Y60","QJ2","15M","V008484",1003870000,"Nationwide Healthcare - Normanton Road Family Dental Centre","Normanton Family Dental Centre, 254 Normanton Road, DERBY, Derbyshire, DE23 6WD","DE23 6WD",485,15,1,0,15,0,0,0,0,0,15,0,0,0,0,0]
["Y60","QJ2","15M","V008493",null,null,"Oasis Dental Care, 8 - 10 Regent Street, Long Eaton, NOTTINGHAM, Nottinghamshire, NG10 1JX","NG10 1JX",1337,"No data","","","","","","","","","","","","","",""]
["Y60","QJ2","15M","V008497",1695440001,"STEEPLE GRANGE SMILES LTD.,","Steeple Grange Dental Practice, 36 Steeple Grange, Wirksworth, MATLOCK, Derbyshire, DE4 4FS","DE4 4FS",135,0,"NA","NA",0,0,0,0,0,0,0,0,0,0,0,0]
["Y60","QJ2","15M","V008624",null,null,"Eyre Street Dental Surgery, 3 Eyre Street, Clay Cross, CHESTERFIELD, Derbyshire, S45 9NS","S45 9NS",1973,"No data","","","","","","","","","","","","","",""]
["Y60","QJ2","15M","V008998",null,null,"Dental Surgery, 96 Elmton Road, Creswell, WORKSOP, Nottinghamshire, S80 4DE","S80 4DE",467,"No data","","","","","","","","","","","","","",""]
["Y60","QJ2","15M","V009573",2440070001,"MR DK JAIRATH","Dental Surgery, Park Farm Drive, Allestree, DERBY, Derbyshire, DE22 2RP","DE22 2RP",1901,9,1,0,6,3,0,0,0,0,9,0,0,0,0,0]
["Y60","QJ2","15M","V012636",null,null,"Belper Dental Practice, 2-6 Green Lane, Belper, Derbyshire, DE56 1BZ","DE56 1BZ",3958,"No data","","","","","","","","","","","","","",""]
["Y60","QJ2","15M","V013179",null,null,"Shirebrook Dental Care, 29 Station Road, Shirebrook, NG20 8TA","NG20 8TA",2870,"No data","","","","","","","","","","","","","",""]
["Y60","QJ2","15M","V013557",null,null,"The Melbourne Dental Practice, Castle Street, Melbourne, Derby, DE73 8JA","DE73 8JA",305,"No data","","","","","","","","","","","","","",""]
["Y60","QJ2","15M","V042527",null,null,"1 STATION ROAD, MICKLEOVER, DERBY, DE3 9GH","DE3 9GH",710,"No data","","","","","","","","","","","","","",""]
["Y60","QJM","71E","V006508",1260710001,"Wilson, Edwards & Sanghi","33 West Parade, LINCOLN, Lincolnshire, LN1 1PE","LN1 1PE",8811,4,"*","*","*","*","*","*","*","*","*","*","*","*","*","*"]
["Y60","QJM","71E","V006517",null,null,"Brant Road Surgery, 291 Brant Road, LINCOLN, Lincolnshire, LN5 9AB","LN5 9AB",5234,"No data","","","","","","","","","","","","","",""]
["Y60","QJM","71E","V007729",null,null,"82 Burton Road, LINCOLN, Lincolnshire, LN1 3LJ","LN1 3LJ",148,"No data","","","","","","","","","","","","","",""]
["Y60","QJM","71E","V007793",9177530001,"Mr H Shahin and Ms G Pirvu","Dental Surgery, Bourne Road, SPALDING, Lincolnshire, PE11 1JW","PE11 1JW",4423,10,0.9,0,7,2,1,0,0,0,2,8,0,0,0,0]
["Y60","QJM","71E","V008402",null,null,"Dental Surgery, 59 High Street, St Martins, STAMFORD, Lincolnshire, PE9 2LA","PE9 2LA",668,"No data","","","","","","","","","","","","","",""]
["Y60","QJM","71E","V008408",null,null,"Eastgate House Dental Surgery, 129 Eastgate, LOUTH, Lincolnshire, LN11 9QE","LN11 9QE",5115,"No data","","","","","","","","","","","","","",""]
["Y60","QJM","71E","V008413",null,null,"Dental Surgery, 41 Silver Street, Coningsby, LINCOLN, Lincolnshire, LN4 4SG","LN4 4SG",2792,"No data","","","","","","","","","","","","","",""]
["Y60","QJM","71E","V010317",1694630002,"A T Dent Ltd","Dental Surgery, 1b Saundergate Lane, Wyberton, Boston, PE21 7BX","PE21 7BX",9157,0,"NA","NA",0,0,0,0,0,0,0,0,0,0,0,0]
["Y60","QJM","71E","V011784",1003520000,"OASIS DENTAL CARE LTD","6 Carre Street, SLEAFORD, Lincolnshire, NG34 7TW","NG34 7TW",5670,1,"*","*","*","*","*","*","*","*","*","*","*","*","*","*"]
["Y60","QJM","71E","V025154",null,null,"Appoline Dental Care, Appoline House, 137 Dysart Road, Grantham, Lincolnshire, NG31 7DL","NG31 7DL",9382,"No data","","","","","","","","","","","","","",""]
["Y60","QJM","71E","V032079",1015230000,"Smile Centre (Boston) Ltd, T/A Louth Dental Care","20 Upgate, Louth, Lincolnshire, LN11 9ET","LN11 9ET",1602,0,"NA","NA",0,0,0,0,0,0,0,0,0,0,0,0]
["Y60","QJM","71E","V051651",1009440000,"JDSP Dental Limited","361 HIGH STREET, LINCOLN, LN5 7RL","LN5 7RL",5893,29,1,0,17,12,0,0,0,0,0,0,29,0,0,0]
["Y60","QK1","03W","V004773",1999660001,"Ditchfield Dental Ltd","49 Fairfax Road, MARKET HARBOROUGH, Leicestershire, LE16 9JU","LE16 9JU",2926,16,1,0,13,3,0,0,0,0,16,0,0,0,0,0]
["Y60","QK1","03W","V004786",null,null,"Melton Orthodontics, 3 Nottingham Street, MELTON MOWBRAY, Leicestershire, LE13 1NN","LE13 1NN",597,"No data","","","","","","","","","","","","","",""]
["Y60","QK1","03W","V006104",1989780001,"Mrs S Kaur & Mr B Singh","Dental Surgery, 7 Carvers Corner, Grange Drive, Glen Parva, LEICESTER, LE2 9PE","LE2 9PE",1042,6,1,0,6,0,0,0,0,0,6,0,0,0,0,0]
["Y60","QK1","03W","V006156",1172500001,"Hallcross Dental Practices Limited","Dental Surgery, 45 Long Street, WIGSTON, Leicestershire, LE18 2AJ","LE18 2AJ",8919,122,1,0,114,8,0,0,0,0,0,0,0,36,86,0]
["Y60","QK1","03W","V008897",null,null,"Dental Department, H M Prison, Stocken Hall Road, Stretton, OAKHAM, LE15 7RD","LE15 7RD",56,"No data","","","","","","","","","","","","","",""]
["Y60","QK1","03W","V010621",1642750001,"Hanji and Chaudhary MH","106 Northampton Road, MARKET HARBOROUGH, Leicestershire, LE16 9HF","LE16 9HF",8022,20,1,0,16,4,0,0,0,0,11,9,0,0,0,0]
["Y60","QK1","03W","V044804",1005700000,"JDRM Dental Care Ltd","40A, MELTON ROAD, OAKHAM, LE15 6AY","LE15 6AY",5458,26,0.88461538461538458,7.6923076923076927E-2,19,4,1,2,0,0,0,0,0,0,26,0]
["Y60","QK1","04C","V007735",null,null,"Dental Surgery, 10 Fosse Road Central, LEICESTER, Leicestershire, LE3 5PR","LE3 5PR",8724,"No data","","","","","","","","","","","","","",""]
["Y60","QK1","04C","V007756",null,null,"286 Aylestone Road, LEICESTER, Leicestershire, LE2 7QT","LE2 7QT",3994,"No data","","","","","","","","","","","","","",""]
["Y60","QK1","04C","V008615",null,null,"Smile Care, 72 Beaumont Leys Lane, LEICESTER, Leicestershire, LE4 2BA","LE4 2BA",3186,"No data","","","","","","","","","","","","","",""]
["Y60","QK1","04C","V008618",null,null,"Dental Surgery, 386 East Park Road, LEICESTER, Leicestershire, LE5 5HH","LE5 5HH",6376,"No data","","","","","","","","","","","","","",""]
["Y60","QK1","04C","V008630",1398740002,"C M Desai Limited","Dental Surgery, 51 Thurncourt Road, LEICESTER, Leicestershire, LE5 2NN","LE5 2NN",756,10,1,0,8,2,0,0,0,0,10,0,0,0,0,0]
["Y60","QK1","04C","V008647",1341200001,"Doncaster Road Dental Practice Ltd","Dental Surgery, 2 Doncaster Road, LEICESTER, Leicestershire, LE4 6JH","LE4 6JH",1938,24,1,0,9,15,0,0,0,0,24,0,0,0,0,0]
["Y60","QK1","04C","V008648",1361310001,"Uppingham & Upperton Dental Practice Ltd","Dental Surgery, 193 Uppingham Road, LEICESTER, Leicestershire, LE5 4BQ","LE5 4BQ",1313,43,1,0,41,2,0,0,0,0,0,0,43,0,0,0]
["Y60","QK1","04C","V011615",null,null,"Brookview Dental Clinic Limited, 518 Welford Road, Leicester, LE2 6EN","LE2 6EN",842,"No data","","","","","","","","","","","","","",""]
["Y60","QK1","04C","V012462",null,null,"598 Saffron Lane, LEICESTER, Leicestershire, LE2 6TD","LE2 6TD",2896,"No data","","","","","","","","","","","","","",""]
["Y60","QK1","04C","V039744",1015020000,"PK Patel Quality Services Ltd","223 East Park Road, LEICESTER, LE5 5HJ","LE5 5HJ",2400,79,1,0,32,47,0,0,0,0,79,0,0,0,0,0]
["Y60","QK1","04V","V006478",2438680001,"Holywell House Orthodontics Limited","Holywell House Dental Practice, 56 London Road, HINCKLEY, Leicestershire, LE10 1HL","LE10 1HL",1437,3,"*","*","*","*","*","*","*","*","*","*","*","*","*","*"]
["Y60","QK1","04V","V006483",null,null,"Dental Surgery, 50 Silver Street, Whitwick, COALVILLE, Leicestershire, LE67 5ET","LE67 5ET",491,"No data","","","","","","","","","","","","","",""]
["Y60","QK1","04V","V006525",null,null,"168 Leicester Road, Loughborough, Leicestershire, LE11 2AH","LE11 2AH",402,"No data","","","","","","","","","","","","","",""]
["Y60","QK1","04V","V008776",null,null,"Dental Surgery, 534A Loughborough Road, Birstall, LEICESTER, Leicestershire, LE4 3EG","LE4 3EG",4933,"No data","","","","","","","","","","","","","",""]
["Y60","QK1","04V","V009002",1592120001,"J Ahmad, M Hallen, A Persson & A Alfredsson","Dental Surgery, 4 High Street, Sileby, LOUGHBOROUGH, Leicestershire, LE12 7RX","LE12 7RX",1949,45,1,0,45,0,0,0,0,0,0,45,0,0,0,0]
["Y60","QK1","04V","V009041",null,null,"24 South Street, ASHBY DE LA ZOUCH, Leicestershire, LE65 1BR","LE65 1BR",580,"No data","","","","","","","","","","","","","",""]
["Y60","QK1","04V","V010453",null,null,"1A Melbourne Street, COALVILLE, Leicestershire, LE67 3QU","LE67 3QU",3497,"No data","","","","","","","","","","","","","",""]
["Y60","QNC","04Y","V006056",null,null,"Dental Surgery, 34 Rugeley Road, Armitage, RUGELEY, Staffordshire, WS15 4BD","WS15 4BD",721,"No data","","","","","","","","","","","","","",""]
["Y60","QNC","04Y","V006067",null,null,"Dental Surgery, 171 Walsall Road, Great Wyrley, WALSALL, West Midlands, WS6 6NL","WS6 6NL",3997,"No data","","","","","","","","","","","","","",""]
["Y60","QNC","04Y","V013435",null,null,"107 109 Walsall Road, CANNOCK, Staffordshire, WS11 0HP","WS11 0HP",449,"No data","","","","","","","","","","","","","",""]
["Y60","QNC","05D","V006256",null,null,"The Staffordshire Dental Clinic, Church Street, UTTOXETER, Staffordshire, ST14 8AF","ST14 8AF",199,"No data","","","","","","","","","","","","","",""]
["Y60","QNC","05D","V014654",null,null,"Uttoxeter Dental Practice, Town Meadows Way, Uttoxeter, Staffordshire, ST14 8AZ","ST14 8AZ",5885,"No data","","","","","","","","","","","","","",""]
["Y60","QNC","05G","V004975",null,null,"Westbury Park Dental Practice, 10 The Westbury Centre, Westbury Road, NEWCASTLE, ST5 4LY","ST5 4LY",3264,"No data","","","","","","","","","","","","","",""]
["Y60","QNC","05G","V005753",1844110002,"Mroke Limited","Dental Surgery, 7-8 Greyhound Court, Crewe, Cheshire, CW3 9EA","CW3 9EA",1466,11,1,0,9,2,0,0,0,0,11,0,0,0,0,0]
["Y60","QNC","05G","V007616",9066110002,"MR RJ COOPER","Kidsgrove Bank Dental Surgery, 102 Liverpool Road, Kidsgrove, STOKE ON TRENT, Staffordshire, ST7 4EH","ST7 4EH",1101,0,"NA","NA",0,0,0,0,0,0,0,0,0,0,0,0]
["Y60","QNC","05G","V007624",7323700001,"MR AE WOODCOCK","Dental Surgery, 18 Stockwell Street, LEEK, Staffordshire, ST13 6DS","ST13 6DS",325,0,"NA","NA",0,0,0,0,0,0,0,0,0,0,0,0]
["Y60","QNC","05Q","V005875",null,null,"Bore Street Dental Surgery, 24-26 Bore Street, LICHFIELD, Staffordshire, WS13 6LL","WS13 6LL",10022,"No data","","","","","","","","","","","","","",""]
["Y60","QNC","05Q","V006204",null,null,"Treetops surgery, Dental Surgery, 52 Duck Lane, Codsall, WOLVERHAMPTON, WV8 1HF","WV8 1HF",1911,"No data","","","","","","","","","","","","","",""]
["Y60","QNC","05Q","V006638",null,null,"Dental Department, H M Young Offenders Institute, Swinfen Hall, LICHFIELD, Staffordshire, WS14 9QS","WS14 9QS",10,"No data","","","","","","","","","","","","","",""]
["Y60","QNC","05Q","V006802",9277240003,"Thandi and Chana","Guys Dental Surgery, 11 Church Street, LICHFIELD, Staffordshire, WS13 6DZ","WS13 6DZ",1493,9,1,0,7,2,0,0,0,0,9,0,0,0,0,0]
["Y60","QNC","05Q","V006809",null,null,"Riverside Dental Surgery, 24A Lichfield Street, TAMWORTH, Staffordshire, B79 7QE","B79 7QE",2950,"No data","","","","","","","","","","","","","",""]
["Y60","QNC","05Q","V209165",null,null,"Inspire Dental and Implant Centre, Rugeley Road, Chase Terrace, Burntwood, Staffs, WS7 1AQ","WS7 1AQ",3215,"No data","","","","","","","","","","","","","",""]
["Y60","QNC","05V","V006534",null,null,"Dental Surgery, Rose Garth, Brewery Lane, Great Haywood, STAFFORD, ST18 0SN","ST18 0SN",479,"No data","","","","","","","","","","","","","",""]
["Y60","QNC","05V","V006635",1403920001,"Regency House Dental Practice Ltd","Regency House Dental Practice, Station Road, STONE, Staffordshire, ST15 8JP","ST15 8JP",3541,12,1,0,11,1,0,0,0,0,12,0,0,0,0,0]
["Y60","QNC","05V","V009312",null,null,"Dental Department, Drake Hall H M Prison & YOI, Eccleshall, STAFFORD, Staffordshire, ST21 6LQ","ST21 6LQ",7,"No data","","","","","","","","","","","","","",""]
["Y60","QNC","05W","V006803",null,null,"Victoria Dental Practice, 68 Victoria Road, STOKE ON TRENT, Staffordshire, ST4 2JX","ST4 2JX",2246,"No data","","","","","","","","","","","","","",""]
["Y60","QNC","05W","V006807",null,null,"Hammonds, Stoneyfields Dental Practice, 587 Etruria Road, STOKE ON TRENT, Staffordshire, ST4 6HL","ST4 6HL",82,"No data","","","","","","","","","","","","","",""]
["Y60","QNC","05W","V007400",null,null,"A R Fee Dental Practice, 58 Newcastle Street, STOKE ON TRENT, Staffordshire, ST6 3QF","ST6 3QF",353,"No data","","","","","","","","","","","","","",""]
["Y60","QNC","05W","V007407",null,null,"Dental Surgery, 125 Hanley Road, STOKE ON TRENT, Staffordshire, ST1 6BG","ST1 6BG",5549,"No data","","","","","","","","","","","","","",""]
["Y60","QNC","05W","V012195",null,null,"Alchemy Dental Practice, Penton House, Queen Anne Street, Shelton, Stoke-On-Trent, Staffordshire, ST4 2EQ","ST4 2EQ",5496,"No data","","","","","","","","","","","","","",""]
["Y60","QNC","05W","V014500",null,null,"26 Liverpool Road, Stoke-on-Trent, ST4 1AT","ST4 1AT",4051,"No data","","","","","","","","","","","","","",""]
["Y60","QOC","M2L0M","V006571",null,null,"Dental Surgery, 18 High Street, ELLESMERE, Shropshire, SY12 0EP","SY12 0EP",384,"No data","","","","","","","","","","","","","",""]
["Y60","QOC","M2L0M","V006721",null,null,"Drayton Primary Care Centre, Maer Lane, Market Drayton, Shropshire, TF9 3AL","TF9 3AL",852,"No data","","","","","","","","","","","","","",""]
["Y60","QOC","M2L0M","V006774",null,null,"St Leonards House Dental Centre, St Leonards Close, BRIDGNORTH, Shropshire, WV16 4EJ","WV16 4EJ",4289,"No data","","","","","","","","","","","","","",""]
["Y60","QOC","M2L0M","V006808",null,null,"Dental Surgery, 64 Willow Street, OSWESTRY, Shropshire, SY11 1AD","SY11 1AD",807,"No data","","","","","","","","","","","","","",""]
["Y60","QOC","M2L0M","V007101",null,null,"Dental Surgery, 73 Whitchurch Road, SHREWSBURY, Shropshire, SY1 4EE","SY1 4EE",1935,"No data","","","","","","","","","","","","","",""]
["Y60","QOC","M2L0M","V007185",null,null,"Dental Surgery, 54 Monkmoor Road, SHREWSBURY, Shropshire, SY2 5AU","SY2 5AU",4201,"No data","","","","","","","","","","","","","",""]
["Y60","QOC","M2L0M","V007221",7752070001,"Albert Dental Practice","Dental Surgery, 2 - 3 Albert Place, Donnington, TELFORD, Shropshire, TF2 8AF","TF2 8AF",2162,27,1,0,26,1,0,0,0,0,27,0,0,0,0,0]
["Y60","QOC","M2L0M","V007246",null,null,"Dental Surgery, Stirchley Health Centre, Stirchley, TELFORD, Shropshire, TF3 1FB","TF3 1FB",7096,"No data","","","","","","","","","","","","","",""]
["Y60","QOC","M2L0M","V007249",null,null,"Tyrone House Dental, Tyrone House, Church Street, Wellington, TELFORD, TF1 1DR","TF1 1DR",681,"No data","","","","","","","","","","","","","",""]
["Y60","QOC","M2L0M","V009285",null,null,"Craven Arms Dental Practice, The Gateway, Auction Yard, CRAVEN ARMS, Shropshire, SY7 9QJ","SY7 9QJ",537,"No data","","","","","","","","","","","","","",""]
["Y60","QOC","M2L0M","V012930",null,null,"New Park House Dental Centre, New Park House, Brassey Road, Shrewsbury, Shropshire, SY3 7FA","SY3 7FA",1125,"No data","","","","","","","","","","","","","",""]
["Y60","QOC","M2L0M","V014329",6823650010,"MR QM JAFFRI","3 Brook Buildings, Gobowen, OSWESTRY, Shropshire, SY11 3JP","SY11 3JP",2523,6,1,0,3,3,0,0,0,0,6,0,0,0,0,0]
["Y60","QPM","06H","V012883",null,null,"5 West Street, Oundle, Peterborough, Cambridgeshire, PE8 4EJ","PE8 4EJ",2997,"No data","","","","","","","","","","","","","",""]
["Y60","QPM","78H","V005217",5702300001,"MR RM ALLEN","Family Dental Health Centre, 52 Rockingham Road, CORBY, Northamptonshire, NN17 1AE","NN17 1AE",2368,21,1,0,18,3,0,0,0,0,0,0,0,21,0,0]
["Y60","QPM","78H","V005234",null,null,"Dental Surgery, 2 Tann Road, Finedon, WELLINGBOROUGH, Northamptonshire, NN9 5JA","NN9 5JA",330,"No data","","","","","","","","","","","","","",""]
["Y60","QPM","78H","V005367",null,null,"Saving Smiles Rushden, 12 Queen Street, RUSHDEN, Northamptonshire, NN10 0AA","NN10 0AA",893,"No data","","","","","","","","","","","","","",""]
["Y60","QPM","78H","V005420",null,null,"26 Park Road, WELLINGBOROUGH, Northamptonshire, NN8 4PW","NN8 4PW",12349,"No data","","","","","","","","","","","","","",""]
["Y60","QPM","78H","V007495",null,null,"Dental Surgery, 5 Church Street, Weedon, NORTHAMPTON, Northamptonshire, NN7 4PL","NN7 4PL",3669,"No data","","","","","","","","","","","","","",""]
["Y60","QPM","78H","V007725",7536880001,"Harlestone Dental Partnership","Dental Surgery, 99 Harlestone Road, NORTHAMPTON, Northamptonshire, NN5 7AB","NN5 7AB",2645,5,1,0,5,0,0,0,0,0,5,0,0,0,0,0]
["Y60","QPM","78H","V007748",null,null,"Orthoworld, 308 Wellingborough Road, NORTHAMPTON, Northamptonshire, NN1 4EP","NN1 4EP",685,"No data","","","","","","","","","","","","","",""]
["Y60","QPM","78H","V007942",1741490001,"East Park Dental Practice Ltd","Dental Surgery, 24 East Park Parade, NORTHAMPTON, Northamptonshire, NN1 4LB","NN1 4LB",751,1,"*","*","*","*","*","*","*","*","*","*","*","*","*","*"]
["Y60","QPM","78H","V007943",null,null,"Dental Surgery, 73 Weedon Road, NORTHAMPTON, Northamptonshire, NN5 5BG","NN5 5BG",325,"No data","","","","","","","","","","","","","",""]
["Y60","QPM","78H","V009000",null,null,"Ashby Fields Dental Centre, 5 Wimborne Place, DAVENTRY, Northamptonshire, NN11 0XY","NN11 0XY",3009,"No data","","","","","","","","","","","","","",""]
["Y60","QPM","78H","V013539",1452460001,"Mr Roderick P Ingham, Mr Jose F Angelo and Mr Stephen W Cowl","38A High Street, CORBY, Northamptonshire, NN17 1UX","NN17 1UX",1668,26,0.92307692307692313,7.6923076923076927E-2,13,11,0,0,2,0,0,0,0,26,0,0]
["Y60","QPM","78H","V014398",1012810234,"OASIS DENTAL CARE LTD","The Billing Road Dental Practice, 41 Billing Road, NORTHAMPTON, Northamptonshire, NN1 5BA","NN1 5BA",5322,4,"*","*","*","*","*","*","*","*","*","*","*","*","*","*"]
["Y60","QT1","52R","V000053",1431110002,"Cadmus Dental Care Limited","Church View Dental Practice, 22 Church Street, Eastwood, NOTTINGHAM, Nottinghamshire, NG16 3HS","NG16 3HS",5123,0,"NA","NA",0,0,0,0,0,0,0,0,0,0,0,0]
["Y60","QT1","52R","V001909",null,null,"Buttercross View Dental Surgery, 25 Market Place, Bingham, NOTTINGHAM, Nottinghamshire, NG13 8AN","NG13 8AN",4168,"No data","","","","","","","","","","","","","",""]
["Y60","QT1","52R","V001916",null,null,"Indent Dental Practice, Main Road, Radcliffe On Trent, NOTTINGHAM, Nottinghamshire, NG12 2FD","NG12 2FD",3519,"No data","","","","","","","","","","","","","",""]
["Y60","QT1","52R","V001926",null,null,"Dental Surgery, 1 Hilton Crescent, West Bridgford, NOTTINGHAM, Nottinghamshire, NG2 6HT","NG2 6HT",434,"No data","","","","","","","","","","","","","",""]
["Y60","QT1","52R","V001929",null,null,"Dental Surgery, 166 Loughborough Road, West Bridgford, NOTTINGHAM, Nottinghamshire, NG2 7JE","NG2 7JE",1816,"No data","","","","","","","","","","","","","",""]
["Y60","QT1","52R","V002196",null,null,"Hall And Purchase, Carr Lane, Warsop, MANSFIELD, Nottinghamshire, NG20 0BN","NG20 0BN",3134,"No data","","","","","","","","","","","","","",""]
["Y60","QT1","52R","V003391",1171530001,"Woodthorpe Dental Care","Nought Dental Surgery, Arno Vale Road, Woodthorpe, NOTTINGHAM, Nottinghamshire, NG5 4JH","NG5 4JH",2439,6,1,0,5,1,0,0,0,0,6,0,0,0,0,0]
["Y60","QT1","52R","V003395",1839380001,"The Arnold Dental Centre","Dental Surgery, 77C High Street, Arnold, NOTTINGHAM, Nottinghamshire, NG5 7DJ","NG5 7DJ",2099,7,1,0,5,2,0,0,0,0,0,0,7,0,0,0]
["Y60","QT1","52R","V003644",null,null,"Dental Surgery, 261 Nottingham Road, NOTTINGHAM, Nottinghamshire, NG7 7DA","NG7 7DA",979,"No data","","","","","","","","","","","","","",""]
["Y60","QT1","52R","V003656",1513780001,"Bulwell Dental Practice","Dental Surgery, 1 St Albans Road, NOTTINGHAM, Nottinghamshire, NG6 9JQ","NG6 9JQ",490,18,1,0,15,3,0,0,0,0,18,0,0,0,0,0]
["Y60","QT1","52R","V003661",null,null,"Parklands Dental Care, 248 Trowell Road, NOTTINGHAM, Nottinghamshire, NG8 2DS","NG8 2DS",3347,"No data","","","","","","","","","","","","","",""]
["Y60","QT1","52R","V003668",null,null,"Clifton Dental Centre, 114 Southchurch Drive, NOTTINGHAM, Nottinghamshire, NG11 8AD","NG11 8AD",4606,"No data","","","","","","","","","","","","","",""]
["Y60","QT1","52R","V003672",null,null,"Sneinton Dental Centre, 2 Colwick Road, NOTTINGHAM, Nottinghamshire, NG2 4BU","NG2 4BU",1275,"No data","","","","","","","","","","","","","",""]
["Y60","QT1","52R","V003688",1219080002,"Forest Road and Cherry Orchard Mount","Dental Surgery, 25 Forest Road East, NOTTINGHAM, Nottinghamshire, NG1 4HJ","NG1 4HJ",520,12,1,0,12,0,0,0,0,0,12,0,0,0,0,0]
["Y60","QT1","52R","V003914",null,null,"Kirkby Dental Practice, Lowmoor Road, Kirkby In Ashfield, NOTTINGHAM, Nottinghamshire, NG17 7DA","NG17 7DA",4896,"No data","","","","","","","","","","","","","",""]
["Y60","QT1","52R","V003941",1012810023,"OASIS DENTAL CARE LTD","Oasis Dental Surgery, The Old School House, Church Street, SUTTON IN ASHFIELD, Nottinghamshire, NG17 1AE","NG17 1AE",4055,0,"NA","NA",0,0,0,0,0,0,0,0,0,0,0,0]
["Y60","QT1","52R","V005481",null,null,"Dental Surgery, 65 School Lane, Beeston, Nottingham, NOTTINGHAM, NG9 5EH","NG9 5EH",2373,"No data","","","","","","","","","","","","","",""]
["Y60","QT1","52R","V005491",null,null,"Portland Rd Family Dent Centre, Dental Surgery, 7 Portland Road, Hucknall, NOTTINGHAM, NG15 7SL","NG15 7SL",8102,"No data","","","","","","","","","","","","","",""]
["Y60","QT1","52R","V012565",null,null,"Oasis Dental Care Ltd, 12 - 16 Victoria Road, Netherfield, NOTTINGHAM, NG4 2HE","NG4 2HE",3463,"No data","","","","","","","","","","","","","",""]
["Y60","QT1","52R","V014524",null,null,"50 Ratcliffe Gate, MANSFIELD, Nottinghamshire, NG18 2JL","NG18 2JL",4958,"No data","","","","","","","","","","","","","",""]
["Y60","QT1","52R","V016991",1003820000,"Carlton Dental Care Limited","Carlton Dental Care, 360-362 Carlton Hill, Carlton, Nottingham, NG4 1JB","NG4 1JB",1581,9,0.88888888888888884,0,5,3,1,0,0,0,9,0,0,0,0,0]
["Y60","QT1","52R","V024481",1208980002,"Nationwide Healthcare Providers Ltd","NO 3 EXCHANGE ROW, MANSFIELD, NOTTINGHAMSHIRE, NG18 1JU","NG18 1JU",7659,98,1,0,98,0,0,0,0,0,98,0,0,0,0,0]
["Y60","QUA","D2P2L","V000045",null,null,"Purity, 74 DIXONS GREEN ROAD, DUDLEY, WEST MIDLANDS, DY2 7DJ","DY2 7DJ",3862,"No data","","","","","","","","","","","","","",""]
["Y60","QUA","D2P2L","V001522",null,null,"Dental Surgery, 26 The Square, Lichfield Road, WILLENHALL, West Midlands, WV12 5EA","WV12 5EA",3854,"No data","","","","","","","","","","","","","",""]
["Y60","QUA","D2P2L","V003412",null,null,"Amblecote Dental Practice, 181 Amblecote Road, BRIERLEY HILL, West Midlands, DY5 2PR","DY5 2PR",4515,"No data","","","","","","","","","","","","","",""]
["Y60","QUA","D2P2L","V004017",null,null,"Williams Dental Surgery, 20 Hagley Street, The Precinct, Halesowen, West Midlands, B63 3AU","B63 3AU",8340,"No data","","","","","","","","","","","","","",""]
["Y60","QUA","D2P2L","V004058",1214440001,"South Road Dental Practice","Dental Surgery, 15 South Road, Stourbridge, West Midlands, DY8 3XZ","DY8 3XZ",4217,0,"NA","NA",0,0,0,0,0,0,0,0,0,0,0,0]
["Y60","QUA","D2P2L","V004103",6386330008,"Balbir S Bhandal, Amrik S Bhandal & Baljit S Bhandal","Bhandal Dental Practice, 125 High Street, Brierley Hill, West Midlands, DY5 3AU","DY5 3AU",1310,2,"*","*","*","*","*","*","*","*","*","*","*","*","*","*"]
["Y60","QUA","D2P2L","V004106",1733550001,"Kemberton Dental Practice","Kemberton Dental Practice, Summer Lane, Lower Gornal, Dudley, West Midlands, DY3 2HA","DY3 2HA",2464,0,"NA","NA",0,0,0,0,0,0,0,0,0,0,0,0]
["Y60","QUA","D2P2L","V004830",null,null,"Dental Surgery, 276 Rookery Road, Handsworth, BIRMINGHAM, West Midlands, B21 9QG","B21 9QG",466,"No data","","","","","","","","","","","","","",""]
["Y60","QUA","D2P2L","V004871",null,null,"Dental Surgery, 176 Lozells Road, BIRMINGHAM, West Midlands, B19 2SX","B19 2SX",356,"No data","","","","","","","","","","","","","",""]
["Y60","QUA","D2P2L","V004904",9769890001,"MR SS SOHAL","Dental Surgery, 271 Soho Road, BIRMINGHAM, West Midlands, B21 9SA","B21 9SA",2073,4,"*","*","*","*","*","*","*","*","*","*","*","*","*","*"]
["Y60","QUA","D2P2L","V005876",6820040001,"Birchfield Dental Practice","Birchfield Dental Practice, 195 - 197 Birchfield Road, Perry Barr, Birmingham, B19 1LL","B19 1LL",5855,10,1,0,10,0,0,0,0,0,10,0,0,0,0,0]
["Y60","QUA","D2P2L","V006352",7320520002,"Balbir S Bhandal, Amrik S Bhandal & Baljit S Bhandal","Dental Surgery, Woodcross Clinic, Woodcross Lane, BILSTON, West Midlands, WV14 9BX","WV14 9BX",2195,1,"*","*","*","*","*","*","*","*","*","*","*","*","*","*"]
["Y60","QUA","D2P2L","V006390",null,null,"Dental Surgery, 90 Dovedale Road, WOLVERHAMPTON, West Midlands, WV4 6RA","WV4 6RA",2601,"No data","","","","","","","","","","","","","",""]
["Y60","QUA","D2P2L","V006399",1386570001,"Coalway Road Dental Practice","Dental Surgery, 57 Coalway Road, WOLVERHAMPTON, West Midlands, WV3 7LY","WV3 7LY",2321,1,"*","*","*","*","*","*","*","*","*","*","*","*","*","*"]
["Y60","QUA","D2P2L","V006404",2739370001,"MR B GUPTA","Dental Surgery, 65 Pendeford Avenue, WOLVERHAMPTON, West Midlands, WV6 9EH","WV6 9EH",536,1,"*","*","*","*","*","*","*","*","*","*","*","*","*","*"]
["Y60","QUA","D2P2L","V006945",1004650000,"Dr Sapna Hanji Chandrashekar","Dental Surgery, 45 Goodall Street, WALSALL, West Midlands, WS1 1QJ","WS1 1QJ",484,6,1,0,4,2,0,0,0,0,0,6,0,0,0,0]
["Y60","QUA","D2P2L","V006956",7707280001,"Mr TS Jheeta & Mrs MK Jheeta","Dental Surgery, 3 Bloxwich Lane, WALSALL, West Midlands, WS2 7JS","WS2 7JS",4677,0,"NA","NA",0,0,0,0,0,0,0,0,0,0,0,0]
["Y60","QUA","D2P2L","V006960",null,null,"Dental Surgery, 1 Hillary Street, WALSALL, West Midlands, WS2 9BP","WS2 9BP",542,"No data","","","","","","","","","","","","","",""]
["Y60","QUA","D2P2L","V006979",null,null,"Dental Surgery, 54 - 55 Norton Road, Pelsall, WALSALL, West Midlands, WS3 4AX","WS3 4AX",2560,"No data","","","","","","","","","","","","","",""]
["Y60","QUA","D2P2L","V008155",null,null,"Shire Dentist, 45 Three Shires Oak Road, SMETHWICK, West Midlands, B67 5BS","B67 5BS",2301,"No data","","","","","","","","","","","","","",""]
["Y60","QUA","D2P2L","V008160",6600940001,"MISS HL PHAM","Cosmo Dent Dental Surgery, 2A Halesowen Street, OLDBURY, West Midlands, B69 2AJ","B69 2AJ",2087,2,"*","*","*","*","*","*","*","*","*","*","*","*","*","*"]
["Y60","QUA","D2P2L","V008194",null,null,"Dental Surgery, 12B High Street, ROWLEY REGIS, West Midlands, B65 0DT","B65 0DT",2754,"No data","","","","","","","","","","","","","",""]
["Y60","QUA","D2P2L","V008331",null,null,"Dental Surgery, 64 Union Street, WEDNESBURY, West Midlands, WS10 7HB","WS10 7HB",1461,"No data","","","","","","","","","","","","","",""]
["Y60","QUA","D2P2L","V008385",null,null,"Dental Surgery, 108 Dudley Road, TIPTON, West Midlands, DY4 8DJ","DY4 8DJ",506,"No data","","","","","","","","","","","","","",""]
["Y60","QUA","D2P2L","V009371",1900120001,"Wolverhampton Dental","21 Raynor Road, WOLVERHAMPTON, West Midlands, WV10 9QU","WV10 9QU",1540,20,1,0,15,5,0,0,0,0,20,0,0,0,0,0]
["Y60","QUA","D2P2L","V010029",null,null,"The Phoenix Centre, Dental Access Centre, Parkfield Road, Parkfields, WOLVERHAMPTON, WV4 6ED","WV4 6ED",1357,"No data","","","","","","","","","","","","","",""]
["Y60","QUA","D2P2L","V013436",null,null,"Russell Medical Centre, Upper Russell Street, WEDNESBURY, West Midlands, WS10 7AR","WS10 7AR",1884,"No data","","","","","","","","","","","","","",""]
["Y60","QUA","D2P2L","V014580",2503330001,"MR JS JANDU","Church Street Dental Practice, 27 29 Lichfield Street, BILSTON, West Midlands, WV14 0AJ","WV14 0AJ",3558,15,1,0,14,1,0,0,0,0,0,0,0,1,14,0]
["Y60","QUA","D2P2L","V028182",null,null,"Oasis Dental Care, 62a Victoria Street, Wolverhampton, WV1 3NX","WV1 3NX",2184,"No data","","","","","","","","","","","","","",""]
["Y60","QWU","B2M3M","V000189",null,null,"Dental Surgery, 94 Coventry Road, BEDWORTH, Warwickshire, CV12 8NW","CV12 8NW",11,"No data","","","","","","","","","","","","","",""]
["Y60","QWU","B2M3M","V006045",null,null,"Dental Surgery, 97 Clifton Road, RUGBY, Warwickshire, CV21 3QH","CV21 3QH",287,"No data","","","","","","","","","","","","","",""]
["Y60","QWU","B2M3M","V006082",1303460001,"Kingsbury Dental Practice","Kingsbury Dental Surgery, 5 Jubilee Court, Kingsbury, TAMWORTH, Staffordshire, B78 2LL","B78 2LL",1326,0,"NA","NA",0,0,0,0,0,0,0,0,0,0,0,0]
["Y60","QWU","B2M3M","V006091",1013790000,"HOLYWELL HOUSE ORTHODONTICS LIMITED","Dental Surgery, 115 Manor Court Road, NUNEATON, Warwickshire, CV11 5HQ","CV11 5HQ",4498,2,"*","*","*","*","*","*","*","*","*","*","*","*","*","*"]
["Y60","QWU","B2M3M","V006094",null,null,"Polesworth Dental Centre, 11 Bridge Street, Polesworth, TAMWORTH, Staffordshire, B78 1DR","B78 1DR",956,"No data","","","","","","","","","","","","","",""]
["Y60","QWU","B2M3M","V006113",8527750001,"MR F JAMALL","Dental Surgery, 37 High Street, KENILWORTH, Warwickshire, CV8 1LY","CV8 1LY",2405,0,"NA","NA",0,0,0,0,0,0,0,0,0,0,0,0]
["Y60","QWU","B2M3M","V006124",9114880001,"MR AD LEE","Dental Surgery, 7 Crown Way, LEAMINGTON SPA, Warwickshire, CV32 7SF","CV32 7SF",1022,0,"NA","NA",0,0,0,0,0,0,0,0,0,0,0,0]
["Y60","QWU","B2M3M","V006133",5745460001,"MR PS THIARA","Dental Surgery, 4 Stanleys Court, LEAMINGTON SPA, Warwickshire, CV31 1NL","CV31 1NL",585,16,1,0,15,1,0,0,0,0,16,0,0,0,0,0]
["Y60","QWU","B2M3M","V006154",1149600001,"Stratford Orthodontics Limited","6 Rother Street, STRATFORD UPON AVON, Warwickshire, CV37 6LU","CV37 6LU",1825,5,1,0,5,0,0,0,0,0,5,0,0,0,0,0]
["Y60","QWU","B2M3M","V006162",null,null,"Dental Surgery, 2 Old Square, WARWICK, Warwickshire, CV34 4RA","CV34 4RA",1503,"No data","","","","","","","","","","","","","",""]
["Y60","QWU","B2M3M","V007072",null,null,"Willenhall Primary Care Centre, Remembrance Road, COVENTRY, West Midlands, CV3 3DG","CV3 3DG",3549,"No data","","","","","","","","","","","","","",""]
["Y60","QWU","B2M3M","V007084",null,null,"Holbrooks Health Team, 75 - 77 Wheelwright Lane, COVENTRY, West Midlands, CV6 4HN","CV6 4HN",5022,"No data","","","","","","","","","","","","","",""]
["Y60","QWU","B2M3M","V007105",null,null,"Foleshill Dental Practice, 549A Foleshill Road, COVENTRY, West Midlands, CV6 5AU","CV6 5AU",692,"No data","","","","","","","","","","","","","",""]
["Y60","QWU","B2M3M","V007118",null,null,"The Smile Centre, 90 Walsgrave Road, COVENTRY, West Midlands, CV2 4ED","CV2 4ED",4980,"No data","","","","","","","","","","","","","",""]
["Y60","QWU","B2M3M","V007136",null,null,"21 Berry Street, COVENTRY, West Midlands, CV1 5JT","CV1 5JT",3125,"No data","","","","","","","","","","","","","",""]
["Y60","QWU","B2M3M","V009670",1379600001,"Community Specialist Dentistry","The George Eliot Hospital N H S, Lewis House, College Street, NUNEATON, Warwickshire, CV10 7DJ","CV10 7DJ",2700,34,0.97058823529411764,2.9411764705882353E-2,30,3,0,0,1,0,0,0,0,34,0,0]
["Y60","QWU","B2M3M","V012603",null,null,"67b Deedmore Road, Woodend, Coventry, CV2 1AX","CV2 1AX",1555,"No data","","","","","","","","","","","","","",""]
["Y60","QWU","B2M3M","V014063",8480260001,"Regent Street Dental Practice","42 Regent Street, RUGBY, Warwickshire, CV21 2PS","CV21 2PS",1724,5,1,0,3,2,0,0,0,0,5,0,0,0,0,0]
["Y60","QWU","B2M3M","V028213",8411960001,"MR A KAKAY AFSHARY","44 Regent Place, Rugby, Warwickshire, CV21 2PN","CV21 2PN",2397,9,0.77777777777777779,0.1111111111111111,5,2,1,0,1,0,9,0,0,0,0,0]
["Y61","QH8","06Q","V005851",1397420001,"Apex Dental Care Ltd","Danbury Dental Group, 4 - 6 Main Road, Danbury, CHELMSFORD, Essex, CM3 4NQ","CM3 4NQ",3475,40,1,0,30,10,0,0,0,0,0,0,0,0,40,0]
["Y61","QH8","06Q","V007653",null,null,"Redmayne House Dental Surgery, 210 New London Road, CHELMSFORD, Essex, CM2 9AB","CM2 9AB",5117,"No data","","","","","","","","","","","","","",""]
["Y61","QH8","06Q","V007751",null,null,"Springfield Dental Practice, Nabbotts, Pump Lane, Springfield, CHELMSFORD, CM1 6TB","CM1 6TB",7324,"No data","","","","","","","","","","","","","",""]
["Y61","QH8","06Q","V007896",null,null,"Dental Surgery, 22 Village Square, Springfield, CHELMSFORD, Essex, CM2 6RF","CM2 6RF",4137,"No data","","","","","","","","","","","","","",""]
["Y61","QH8","06Q","V008071",1289370001,"Halstead Dental Partnership","Mr N R Chappell And Associates, Dental Surgery, 2 Butler Road, HALSTEAD, Essex, CO9 1LL","CO9 1LL",3252,0,"NA","NA",0,0,0,0,0,0,0,0,0,0,0,0]
["Y61","QH8","06Q","V008435",1881900002,"J & S Essex","Down Town Dental Clinic, 19A High Street, CHELMSFORD, Essex, CM1 1BE","CM1 1BE",371,17,0.94117647058823528,0,14,2,1,0,0,0,17,0,0,0,0,0]
["Y61","QH8","06Q","V009298",1319030002,"Penhaligon Witham Partnership","Penhaligon Dental Centre, 12 Penhaligon Court, Guithavon Street, WITHAM, Essex, CM8 1BQ","CM8 1BQ",911,0,"NA","NA",0,0,0,0,0,0,0,0,0,0,0,0]
["Y61","QH8","06Q","V054470",null,null,"2-8 Weavers Court, Halstead, Essex, CO9 2NJ","CO9 2NJ",2626,"No data","","","","","","","","","","","","","",""]
["Y61","QH8","07G","V001780",null,null,"Dental Surgery, 154 Dock Road, TILBURY, Essex, RM18 7BS","RM18 7BS",919,"No data","","","","","","","","","","","","","",""]
["Y61","QH8","07G","V001789",null,null,"Dental Surgery, 87 Orsett Road, GRAYS, Essex, RM17 5HH","RM17 5HH",1314,"No data","","","","","","","","","","","","","",""]
["Y61","QH8","07G","V011872",7873960001,"MRS SS PATEL","Elite Dental Studio, 13/14 Civic Square, TILBURY, Essex, RM18 8AD","RM18 8AD",4107,488,0.88524590163934425,4.0983606557377051E-3,397,35,29,1,1,25,0,0,488,0,0,0]
["Y61","QH8","99E","V005096",null,null,"Dental Surgery, 438 Whitmore Way, BASILDON, Essex, SS14 2EZ","SS14 2EZ",2596,"No data","","","","","","","","","","","","","",""]
["Y61","QH8","99E","V005097",1335900001,"Laindon Health Centre Dental Practice","Dental Surgery, Laindon Health Centre, Laindon Centre, Basildon, Essex, SS15 5TR","SS15 5TR",1180,10,1,0,10,0,0,0,0,0,10,0,0,0,0,0]
["Y61","QH8","99E","V005939",null,null,"Ongar Road Dentist, 16 Ongar Road, BRENTWOOD, Essex, CM15 9AX","CM15 9AX",8939,"No data","","","","","","","","","","","","","",""]
["Y61","QH8","99E","V006986",null,null,"1 Danacre, Laindon, Basildon, Essex, SS15 5PT","SS15 5PT",851,"No data","","","","","","","","","","","","","",""]
["Y61","QH8","99E","V029341",null,null,"Regency House, 38 Ingrave Road, Brentwood, CM15 8AX","CM15 8AX",655,"No data","","","","","","","","","","","","","",""]
["Y61","QH8","99F","V008049",null,null,"The Benfleet Dental Clinic, 174 High Road, BENFLEET, Essex, SS7 5LD","SS7 5LD",420,"No data","","","","","","","","","","","","","",""]
["Y61","QH8","99F","V008066",null,null,"Dental Surgery, 41A Rectory Road, BENFLEET, Essex, SS7 2NA","SS7 2NA",1393,"No data","","","","","","","","","","","","","",""]
["Y61","QH8","99F","V008082",null,null,"Dental Practice, 15 - 17 High Road, RAYLEIGH, Essex, SS6 7SA","SS6 7SA",1583,"No data","","","","","","","","","","","","","",""]
["Y61","QH8","99G","V007360",1995590003,"Parmar Dental","Dental Surgery, 673 Southchurch Road, SOUTHEND ON SEA, Essex, SS1 2PW","SS1 2PW",201,12,1,0,12,0,0,0,0,0,12,0,0,0,0,0]
["Y61","QH8","99G","V007384",null,null,"Cambridge Dental Practice, 117 West Road, Shoeburyness, SOUTHEND ON SEA, Essex, SS3 9DT","SS3 9DT",2345,"No data","","","","","","","","","","","","","",""]
["Y61","QH8","99G","V007493",1582830002,"Inspire Dental Eastwood Ltd","9-11 Rayleigh Road, Leigh on Sea, Essex, SS9 5UU","SS9 5UU",3843,141,1,0,125,16,0,0,0,0,0,0,141,0,0,0]
["Y61","QHG","M1J4Y","V000864",null,null,"Oxford House Dental Surgery, Aylesbury Street, Bletchley, MILTON KEYNES, Buckinghamshire, MK2 2BA","MK2 2BA",1631,"No data","","","","","","","","","","","","","",""]
["Y61","QHG","M1J4Y","V000869",null,null,"Dental Surgery, 295 Whaddon Way, Bletchley, MILTON KEYNES, Buckinghamshire, MK3 7LW","MK3 7LW",5532,"No data","","","","","","","","","","","","","",""]
["Y61","QHG","M1J4Y","V000946",null,null,"Dental Surgery, 28 Market Square, SANDY, Bedfordshire, SG19 1JA","SG19 1JA",1413,"No data","","","","","","","","","","","","","",""]
["Y61","QHG","M1J4Y","V001002",null,null,"Soyombo Dental Centre, 259 Queensway, Bletchley, MILTON KEYNES, Buckinghamshire, MK2 2EH","MK2 2EH",771,"No data","","","","","","","","","","","","","",""]
["Y61","QHG","M1J4Y","V001021",7488970001,"Newport Pagnell Dental Limited","127A High Street, Newport Pagnell, Buckinghamshire, MK16 8SE","MK16 8SE",1372,6,1,0,6,0,0,0,0,0,0,0,0,6,0,0]
["Y61","QHG","M1J4Y","V001521",null,null,"10 Vandyke Road, LEIGHTON BUZZARD, Bedfordshire, LU7 3HH","LU7 3HH",2996,"No data","","","","","","","","","","","","","",""]
["Y61","QHG","M1J4Y","V001591",null,null,"Bridge Street Dental Surgery, 17A Bridge Street, LEIGHTON BUZZARD, Bedfordshire, LU7 1AH","LU7 1AH",3120,"No data","","","","","","","","","","","","","",""]
["Y61","QHG","M1J4Y","V002620",null,null,"Sharing Smiles, Luton Specialist Ortho. Centre, 54 Alma Street, Luton, Bedfordshire, LU1 2PL","LU1 2PL",1740,"No data","","","","","","","","","","","","","",""]
["Y61","QHG","M1J4Y","V003547",null,null,"Bramingham Dental Clinic, 1st. Floor, Freeman Avenue, Whitehorse Vale, Luton, LU3 4AD","LU3 4AD",5803,"No data","","","","","","","","","","","","","",""]
["Y61","QHG","M1J4Y","V005582",null,null,"IDH Limited, 112 Castle Road, BEDFORD, Bedfordshire, MK40 3QY","MK40 3QY",1990,"No data","","","","","","","","","","","","","",""]
["Y61","QHG","M1J4Y","V006445",5759760001,"MR RJ GOEL","Bedford Dental Surgery, 33 35 St Peters Street, BEDFORD, Bedfordshire, MK40 2PN","MK40 2PN",175,0,"NA","NA",0,0,0,0,0,0,0,0,0,0,0,0]
["Y61","QHG","M1J4Y","V008546",1935340002,"Community Dental Services CIC","Houghton Regis Health Centre, Bedford Square, Houghton Regis, DUNSTABLE, Bedfordshire, LU5 5ES","LU5 5ES",4575,33,0.96969696969696972,0,32,0,0,0,0,1,33,0,0,0,0,0]
["Y61","QHG","M1J4Y","V009137",null,null,"28 Lurke Street, BEDFORD, Bedfordshire, MK40 3HU","MK40 3HU",2027,"No data","","","","","","","","","","","","","",""]
["Y61","QHG","M1J4Y","V011407",null,null,"344 Goldington Road, BEDFORD, Bedfordshire, MK41 9NS","MK41 9NS",3565,"No data","","","","","","","","","","","","","",""]
["Y61","QHG","M1J4Y","V017579",null,null,"Bedford Heights, Brickhill Drive, Bedford, MK41 7PH","MK41 7PH",23,"No data","","","","","","","","","","","","","",""]
["Y61","QHG","M1J4Y","V024148",null,null,"136 Bromham Road, Bedford, MK40 2QW","MK40 2QW",722,"No data","","","","","","","","","","","","","",""]
["Y61","QHG","M1J4Y","V042451",null,null,"Bedford House Dental Practice, 98 High Street, Bedford, MK40 1NN","MK40 1NN",5089,"No data","","","","","","","","","","","","","",""]
["Y61","QHG","M1J4Y","V042466",null,null,"37 Goldington Road, Bedford, Bedfordshire, MK40 3LH","MK40 3LH",1543,"No data","","","","","","","","","","","","","",""]
["Y61","QJG","06L","V000197",8558470001,"MR A BEHNIA","Appolonia Dental Centre, 36 High Street, IPSWICH, Suffolk, IP1 3QJ","IP1 3QJ",1103,3,"*","*","*","*","*","*","*","*","*","*","*","*","*","*"]
["Y61","QJG","06L","V000272",null,null,"Dental Surgery, Crown House, Crown Lane, Wickham Market, WOODBRIDGE, IP13 0SA","IP13 0SA",1609,"No data","","","","","","","","","","","","","",""]
["Y61","QJG","06L","V000275",6446680001,"MRS JM GEANEY","100 Bury Street, STOWMARKET, Suffolk, IP14 1HF","IP14 1HF",4489,2,"*","*","*","*","*","*","*","*","*","*","*","*","*","*"]
["Y61","QJG","06L","V000345",null,null,"Dental Surgery, 62 Berners Street, IPSWICH, Suffolk, IP1 3LU","IP1 3LU",1936,"No data","","","","","","","","","","","","","",""]
["Y61","QJG","06L","V000351",null,null,"Dental Surgery, 199 Nacton Road, IPSWICH, Suffolk, IP3 0NF","IP3 0NF",5893,"No data","","","","","","","","","","","","","",""]
["Y61","QJG","06L","V000360",7622960001,"MR BC TOCCA","Dental Surgery, 34 High Street, IPSWICH, Suffolk, IP1 3QJ","IP1 3QJ",429,5,1,0,4,1,0,0,0,0,5,0,0,0,0,0]
["Y61","QJG","06L","V000376",null,null,"Dental Surgery, 11A Tuddenham Road, IPSWICH, Suffolk, IP4 2SH","IP4 2SH",657,"No data","","","","","","","","","","","","","",""]
["Y61","QJG","06L","V012654",null,null,"15 Meadows Way, Hadleigh, IPSWICH, Suffolk, IP7 5DX","IP7 5DX",996,"No data","","","","","","","","","","","","","",""]
["Y61","QJG","06L","V044035",1512700001,"Station View Dental Practice","7 CROWE STREET, STOWMARKET, IP14 1DL","IP14 1DL",3486,1,"*","*","*","*","*","*","*","*","*","*","*","*","*","*"]
["Y61","QJG","06T","V004588",null,null,"54 Wimpole Road, Colchester, Essex, CO1 2DL","CO1 2DL",533,"No data","","","","","","","","","","","","","",""]
["Y61","QJG","06T","V004629",null,null,"Dental Health Centre, Hammond House, Queen Street, COLCHESTER, Essex, CO1 2PJ","CO1 2PJ",2297,"No data","","","","","","","","","","","","","",""]
["Y61","QJG","06T","V004678",null,null,"Tiptree Dental Surgery, 93 Church Road, Tiptree, COLCHESTER, Essex, CO5 0HB","CO5 0HB",3975,"No data","","","","","","","","","","","","","",""]
["Y61","QJG","06T","V004689",null,null,"236 Bergholt Road, COLCHESTER, Essex, CO4 5AS","CO4 5AS",569,"No data","","","","","","","","","","","","","",""]
["Y61","QJG","06T","V005064",3986320001,"MR R PATEL","Dental Surgery, 26 Elm Tree Avenue, FRINTON ON SEA, Essex, CO13 0AR","CO13 0AR",1599,150,1,0,150,0,0,0,0,0,0,0,150,0,0,0]
["Y61","QJG","06T","V009895",1002120000,"Community Dental Services - CDS CIC","Colchester Community Dental, Colchester Primary Care Centre, Turner Road, COLCHESTER, Essex, CO4 5JR","CO4 5JR",1620,2,"*","*","*","*","*","*","*","*","*","*","*","*","*","*"]
["Y61","QJG","06T","V012501",null,null,"118 Straight Road, COLCHESTER, Essex, CO3 9DJ","CO3 9DJ",2049,"No data","","","","","","","","","","","","","",""]
["Y61","QJG","07K","V000335",null,null,"53 Risbygate Street, BURY ST EDMUNDS, Suffolk, IP33 3AZ","IP33 3AZ",7378,"No data","","","","","","","","","","","","","",""]
["Y61","QJG","07K","V000411",null,null,"Boon Clifft And McGrath, North House, The Croft, SUDBURY, Suffolk, CO10 1HW","CO10 1HW",3834,"No data","","","","","","","","","","","","","",""]
["Y61","QJG","07K","V000415",null,null,"Dental Surgery, 26 Friars Street, SUDBURY, Suffolk, CO10 2AA","CO10 2AA",554,"No data","","","","","","","","","","","","","",""]
["Y61","QJG","07K","V013415",null,null,"Bures Road Dental Clinic, 178 Bures Road, Great Cornard, SUDBURY, Suffolk, CO10 0JQ","CO10 0JQ",550,"No data","","","","","","","","","","","","","",""]
["Y61","QJG","07K","V030785",1935340015,"Community Dental Services CIC","Highpoint, Newmarket, Suffolk, CB8 9YG","CB8 9YG",135,7,1,0,4,3,0,0,0,0,7,0,0,0,0,0]
["Y61","QM7","06K","V001409",null,null,"Dubowitz And Partners, Cheshunt Dental Centre, 51A High Street, Cheshunt, WALTHAM CROSS, EN8 0BS","EN8 0BS",2484,"No data","","","","","","","","","","","","","",""]
["Y61","QM7","06K","V001420",null,null,"Queen Anne House, 2A St Andrew Street, HERTFORD, Hertfordshire, SG14 1JA","SG14 1JA",4631,"No data","","","","","","","","","","","","","",""]
["Y61","QM7","06K","V001426",null,null,"Dental Surgery, 17 High Street, Stanstead Abbotts, WARE, Hertfordshire, SG12 8AA","SG12 8AA",2481,"No data","","","","","","","","","","","","","",""]
["Y61","QM7","06K","V001460",null,null,"The Surgery, 60 High Street, Watton At Stone, HERTFORD, Hertfordshire, SG14 3SY","SG14 3SY",319,"No data","","","","","","","","","","","","","",""]
["Y61","QM7","06K","V005783",null,null,"Dental Surgery, 7 Bancroft Court, HITCHIN, Hertfordshire, SG5 1LH","SG5 1LH",1392,"No data","","","","","","","","","","","","","",""]
["Y61","QM7","06K","V006096",null,null,"Dental Surgery, 43 Peartree Lane, WELWYN GARDEN CITY, Hertfordshire, AL7 3UA","AL7 3UA",1685,"No data","","","","","","","","","","","","","",""]
["Y61","QM7","06K","V006175",8978330001,"MISS MS CHOHAN","Dental Surgery, 171 Knightsfield, WELWYN GARDEN CITY, Hertfordshire, AL8 7QG","AL8 7QG",3157,0,"NA","NA",0,0,0,0,0,0,0,0,0,0,0,0]
["Y61","QM7","06K","V006213",null,null,"Tilehouse Dental Care Clinic, 19 Tilehouse Street, HITCHIN, Hertfordshire, SG5 2DY","SG5 2DY",125,"No data","","","","","","","","","","","","","",""]
["Y61","QM7","06K","V006287",null,null,"The Mews, 22 Bancroft, HITCHIN, Hertfordshire, SG5 1JW","SG5 1JW",2252,"No data","","","","","","","","","","","","","",""]
["Y61","QM7","06K","V006384",null,null,"Dental Surgery, 3 Station Road, KNEBWORTH, Hertfordshire, SG3 6AP","SG3 6AP",995,"No data","","","","","","","","","","","","","",""]
["Y61","QM7","06K","V007308",null,null,"35 Hermitage Road, Hitchin, Hertfordshire, SG5 1BY","SG5 1BY",554,"No data","","","","","","","","","","","","","",""]
["Y61","QM7","06K","V012686",null,null,"16A to 16C Whitehorse Street, BALDOCK, Hertfordshire, SG7 6QN","SG7 6QN",4225,"No data","","","","","","","","","","","","","",""]
["Y61","QM7","06K","V029805",null,null,"31 High Street, Baldock, Hertfordshire, SG7 6BG","SG7 6BG",3199,"No data","","","","","","","","","","","","","",""]
["Y61","QM7","06K","V044723",1000390000,"Damira Dental Studios Ltd","75 SOUTH STREET, BISHOP'S STORTFORD, CM23 3AL","CM23 3AL",2366,17,1,0,16,1,0,0,0,0,17,0,0,0,0,0]
["Y61","QM7","06N","V004642",null,null,"High Oaks Dental Practice, 26 High Oaks, ST ALBANS, Hertfordshire, AL3 6DL","AL3 6DL",2008,"No data","","","","","","","","","","","","","",""]
["Y61","QM7","06N","V006297",null,null,"Dental Practice, 34 Marford Road, Wheathampstead, ST ALBANS, Hertfordshire, AL4 8AS","AL4 8AS",2436,"No data","","","","","","","","","","","","","",""]
["Y61","QM7","06N","V006705",1875500001,"Alexander House Dental Practice","Dental Surgery, Alexander House, 109 St Peters Street, ST ALBANS, Hertfordshire, AL1 3ET","AL1 3ET",4070,0,"NA","NA",0,0,0,0,0,0,0,0,0,0,0,0]
["Y61","QM7","06N","V006936",null,null,"Dental Surgery, Harley House, Brook Close, BOREHAMWOOD, Hertfordshire, WD6 5BT","WD6 5BT",1197,"No data","","","","","","","","","","","","","",""]
["Y61","QM7","06N","V006962",null,null,"Corner House Dental Care Centre, High Street, Elstree, BOREHAMWOOD, Hertfordshire, WD6 3BY","WD6 3BY",532,"No data","","","","","","","","","","","","","",""]
["Y61","QM7","06N","V007151",null,null,"The Dental Surgery, 104A High Road, Bushey Heath, BUSHEY, Hertfordshire, WD23 1GE","WD23 1GE",2979,"No data","","","","","","","","","","","","","",""]
["Y61","QM7","06N","V007941",null,null,"Alexandra Dental Practice, 98 Alexandra Road, HEMEL HEMPSTEAD, Hertfordshire, HP2 4AG","HP2 4AG",1169,"No data","","","","","","","","","","","","","",""]
["Y61","QM7","06N","V008004",null,null,"Dental Surgery, 17 Village Centre, Leverstock Green Road, HEMEL HEMPSTEAD, Hertfordshire, HP3 8QG","HP3 8QG",3132,"No data","","","","","","","","","","","","","",""]
["Y61","QM7","06N","V008038",null,null,"Maltings Dentist Surgery, 54 The Maltings, ST ALBANS, Hertfordshire, AL1 3HL","AL1 3HL",8633,"No data","","","","","","","","","","","","","",""]
["Y61","QM7","06N","V008676",1811530001,"Katherine Place Dental Practice","The Dental Practice, 15 Katherine Place, College Road, ABBOTS LANGLEY, Hertfordshire, WD5 0BT","WD5 0BT",3132,10,1,0,9,1,0,0,0,0,10,0,0,0,0,0]
["Y61","QM7","06N","V008682",null,null,"Watford Orthodontic Practice, 42 Hempstead Road, WATFORD, Hertfordshire, WD17 4ER","WD17 4ER",979,"No data","","","","","","","","","","","","","",""]
["Y61","QM7","06N","V008770",null,null,"White House Dental Practice, 6 Lower Road, Chorleywood, RICKMANSWORTH, Hertfordshire, WD3 5LH","WD3 5LH",1453,"No data","","","","","","","","","","","","","",""]
["Y61","QM7","06N","V008937",6745910001,"Mr Jose De Morais Lacerda Angelo","Dental Surgery, Rosebank, Shire Lane, Chorleywood, RICKMANSWORTH, WD3 5NH","WD3 5NH",39,5,1,0,3,2,0,0,0,0,0,0,0,5,0,0]
["Y61","QM7","06N","V010784",1783810001,"The Dental Clinic Ltd","The Dental Clinic Ltd, 359 Watling Street, Radlett, WD7 7LB","WD7 7LB",1291,10,1,0,10,0,0,0,0,0,10,0,0,0,0,0]
["Y61","QM7","06N","V013600",1306050001,"Admiral House Dental Practice","Admiral House Dental Practice, 117 High Street, BERKHAMSTED, Hertfordshire, HP4 2DJ","HP4 2DJ",458,18,1,0,18,0,0,0,0,0,18,0,0,0,0,0]
["Y61","QM7","06N","V017130",null,null,"22 Kings Road, Berkhamsted, Hertfordshire, HP4 3BD","HP4 3BD",1488,"No data","","","","","","","","","","","","","",""]
["Y61","QM7","07H","V006319",null,null,"Dental Surgery, 21 Station Road, LOUGHTON, Essex, IG10 4NZ","IG10 4NZ",388,"No data","","","","","","","","","","","","","",""]
["Y61","QM7","07H","V006326",1812260001,"Valley Dental Practice","Dental Surgery, 83 Loughton Way, BUCKHURST HILL, Essex, IG9 6AS","IG9 6AS",2104,25,1,0,11,14,0,0,0,0,0,0,0,0,25,0]
["Y61","QM7","07H","V006474",null,null,"Dental Surgery, 6 London Road, SAFFRON WALDEN, Essex, CB11 4ED","CB11 4ED",6385,"No data","","","","","","","","","","","","","",""]
["Y61","QM7","07H","V007889",2711870002,"Harlow Dental Surgery","Addison Dental Practice, Chadwick House, Hamstel Road, HARLOW, Essex, CM20 1DP","CM20 1DP",89,0,"NA","NA",0,0,0,0,0,0,0,0,0,0,0,0]
["Y61","QM7","07H","V010461",null,null,"Saffron Walden Hospital, Radwinter Road, SAFFRON WALDEN, Essex, CB11 3HY","CB11 3HY",3898,"No data","","","","","","","","","","","","","",""]
["Y61","QM7","07H","V025813",null,null,"204A HIGH STREET, ONGAR, ESSEX, CM5 9JJ","CM5 9JJ",1592,"No data","","","","","","","","","","","","","",""]
["Y61","QMM","26A","V000371",null,null,"Dental Surgery, 185 Wroxham Road, NORWICH, Norfolk, NR7 8AG","NR7 8AG",1087,"No data","","","","","","","","","","","","","",""]
["Y61","QMM","26A","V000379",1044180001,"Parish Vaid & Snehal Radia & Sanjay Shah","Dental Surgery, 183 Reepham Road, NORWICH, Norfolk, NR6 5NZ","NR6 5NZ",3805,4,"*","*","*","*","*","*","*","*","*","*","*","*","*","*"]
["Y61","QMM","26A","V000400",1433910001,"Dr J Sherer and Dr L Levin","Dental Surgery, 14 Kilbrack, BECCLES, Suffolk, NR34 9SH","NR34 9SH",2623,1,"*","*","*","*","*","*","*","*","*","*","*","*","*","*"]
["Y61","QMM","26A","V000429",null,null,"The Little House Dental Surgery, 75 Spixworth Road, Old Catton, Norwich, Norfolk, NR6 7NQ","NR6 7NQ",1198,"No data","","","","","","","","","","","","","",""]
["Y61","QMM","26A","V000712",null,null,"Dental Surgery, The Street, Long Stratton, NORWICH, Norfolk, NR15 2XJ","NR15 2XJ",1648,"No data","","","","","","","","","","","","","",""]
["Y61","QMM","26A","V000805",null,null,"Dental Surgery, 116 Lowestoft Road, Gorleston, GREAT YARMOUTH, Norfolk, NR31 6NB","NR31 6NB",3580,"No data","","","","","","","","","","","","","",""]
["Y61","QMM","26A","V000810",null,null,"The Old Medical Centre, Beccles Road, Bradwell, GREAT YARMOUTH, Norfolk, NR31 8HB","NR31 8HB",4783,"No data","","","","","","","","","","","","","",""]
["Y61","QMM","26A","V000819",null,null,"Dental Surgery, 148 150 Aylsham Road, NORWICH, Norfolk, NR3 2HD","NR3 2HD",1202,"No data","","","","","","","","","","","","","",""]
["Y61","QMM","26A","V000831",null,null,"9 St Martins Palace Plain, NORWICH, Norfolk, NR3 1RN","NR3 1RN",923,"No data","","","","","","","","","","","","","",""]
["Y61","QMM","26A","V000839",null,null,"Guildhall Dental Practice, 9 Upper Goat Lane, NORWICH, Norfolk, NR2 1EW","NR2 1EW",2778,"No data","","","","","","","","","","","","","",""]
["Y61","QMM","26A","V001133",null,null,"Terrace House Dental Surgery, 15A Market Place, NORTH WALSHAM, Norfolk, NR28 9BP","NR28 9BP",3244,"No data","","","","","","","","","","","","","",""]
["Y61","QMM","26A","V001138",null,null,"Station House Dental Surgery, 45 High Street, Stalham, NORWICH, Norfolk, NR12 9AH","NR12 9AH",579,"No data","","","","","","","","","","","","","",""]
["Y61","QMM","26A","V001177",null,null,"Purfleet Dental Practice, 10 - 11 Purfleet Street, Kings Lynn, Norfolk, PE30 1ER","PE30 1ER",2478,"No data","","","","","","","","","","","","","",""]
["Y61","QMM","26A","V009842",1772960001,"Peacock & Shrestha","Peacock & Shrestha, 42 Prince of Wales Road, Norwich, Norfolk, NR1 1LG","NR1 1LG",6601,5,1,0,5,0,0,0,0,0,5,0,0,0,0,0]
["Y61","QMM","26A","V012417",1243380002,"New Road Partnership","20 Market Place, NORTH WALSHAM, Norfolk, NR28 9BP","NR28 9BP",837,5,1,0,5,0,0,0,0,0,0,0,0,0,0,5]
["Y61","QMM","26A","V012969",null,null,"6 Vawdrey Road, Drayton, NORWICH, Norfolk, NR8 6EL","NR8 6EL",740,"No data","","","","","","","","","","","","","",""]
["Y61","QMM","26A","V019087",null,null,"124 Barrack Street, Norwich, NR3 1TL","NR3 1TL",4105,"No data","","","","","","","","","","","","","",""]
["Y61","QMM","26A","V058443",2204690001,"The Dental Design Studio","The Dental Design Studio, 6 St Ann Street, Kings Lynn, Norfolk, PE30 1LT","PE30 1LT",546,2,"*","*","*","*","*","*","*","*","*","*","*","*","*","*"]
["Y61","QUE","06H","V001971",null,null,"Brookfields Health Centre, Seymour Street, CAMBRIDGE, Cambridgeshire, CB1 3DQ","CB1 3DQ",1829,"No data","","","","","","","","","","","","","",""]
["Y61","QUE","06H","V002476",null,null,"Dental Surgery, 50 Metcalfe Road, CAMBRIDGE, Cambridgeshire, CB4 2DD","CB4 2DD",640,"No data","","","","","","","","","","","","","",""]
["Y61","QUE","06H","V002800",null,null,"Dental Surgery, 24A Orchard Road, Melbourn, ROYSTON, Hertfordshire, SG8 6HH","SG8 6HH",1897,"No data","","","","","","","","","","","","","",""]
["Y61","QUE","06H","V004008",null,null,"Dental Surgery, University Of Cambridge, 3 Trumpington Street, CAMBRIDGE, Cambridgeshire, CB2 1QA","CB2 1QA",1943,"No data","","","","","","","","","","","","","",""]
["Y61","QUE","06H","V005580",1490710001,"Andrew Fenn & Colin De Lucchi","Dental Surgery, Hopvine House, 21 Clay Street, Soham, ELY, CB7 5HJ","CB7 5HJ",1249,0,"NA","NA",0,0,0,0,0,0,0,0,0,0,0,0]
["Y61","QUE","06H","V005755",null,null,"The Hollies Dental Practice, 14 Park Street, CHATTERIS, Cambridgeshire, PE16 6AF","PE16 6AF",446,"No data","","","","","","","","","","","","","",""]
["Y61","QUE","06H","V007514",null,null,"Cromwell Place Dental Practice, Slepe House, Cromwell Place, St Ives, Cambridge, PE27 5JB","PE27 5JB",2530,"No data","","","","","","","","","","","","","",""]
["Y61","QUE","06H","V007609",null,null,"69 Stukeley Road, HUNTINGDON, Cambridgeshire, PE29 6HH","PE29 6HH",1694,"No data","","","","","","","","","","","","","",""]
["Y61","QUE","06H","V007838",null,null,"The Hamptons Dental Care, 52 Hargate Way, Hampton Hargate, PETERBOROUGH, Cambridgeshire, PE7 8DS","PE7 8DS",736,"No data","","","","","","","","","","","","","",""]
["Y61","QUE","06H","V007842",1225210001,"Portman Healthcare","Dental Surgery, Eastfield House, 147 Eastfield Road, PETERBOROUGH, Cambridgeshire, PE1 4AU","PE1 4AU",1175,1,"*","*","*","*","*","*","*","*","*","*","*","*","*","*"]
["Y61","QUE","06H","V009785",null,null,"6A Church Street, Somersham, HUNTINGDON, Cambridgeshire, PE28 3EG","PE28 3EG",1375,"No data","","","","","","","","","","","","","",""]
["Y61","QUE","06H","V011247",null,null,"17 Queens Road, Royston,, Hertfordshire, SG8 7AN","SG8 7AN",9585,"No data","","","","","","","","","","","","","",""]
["Y61","QUE","06H","V012909",null,null,"81-83 Park Road, Peterborough, Cambridgeshire, PE1 2TN","PE1 2TN",370,"No data","","","","","","","","","","","","","",""]
["Y61","QUE","06H","V013506",null,null,"Orthoworld, 11 East Street, St Ives, Cambridgeshire, PE27 5PD","PE27 5PD",1116,"No data","","","","","","","","","","","","","",""]
["Y62","QE1","00Q","V000203",null,null,"Dental Practice, 16 - 17 Railway Road, Blackburn, BB1 5AX","BB1 5AX",6602,"No data","","","","","","","","","","","","","",""]
["Y62","QE1","00Q","V003769",null,null,"Blue Sky Dental Care, 93 Blackburn Road, DARWEN, Lancashire, BB3 1ET","BB3 1ET",393,"No data","","","","","","","","","","","","","",""]
["Y62","QE1","00Q","V003858",null,null,"Dental Surgery, 330 - 334 Blackburn Road, DARWEN, Lancashire, BB3 0AA","BB3 0AA",4515,"No data","","","","","","","","","","","","","",""]
["Y62","QE1","00Q","V008871",null,null,"Darwen Health Centre, James Street West, DARWEN, Lancashire, BB3 1PY","BB3 1PY",20,"No data","","","","","","","","","","","","","",""]
["Y62","QE1","00Q","V010139",null,null,"Childrens Day Unit, Dental GA Assessment - Level 2, Royal Blackburn Hospital, Haslingden Road, BLACKBURN, BB2 3HH","BB2 3HH",53,"No data","","","","","","","","","","","","","",""]
["Y62","QE1","00R","V002568",null,null,"Dental Surgery, 307 Lytham Road, BLACKPOOL, Lancashire, FY4 1DR","FY4 1DR",3369,"No data","","","","","","","","","","","","","",""]
["Y62","QE1","00R","V010787",1076110001,"Synergy Dental CLinic Ltd","370 Central Drive, BLACKPOOL, Lancashire, FY1 6LA","FY1 6LA",3135,18,0.94444444444444442,0,9,8,0,0,0,1,18,0,0,0,0,0]
["Y62","QE1","00R","V014975",null,null,"Newton Drive Health Centre, Newton Drive, Blackpool, FY3 8NX","FY3 8NX",940,"No data","","","","","","","","","","","","","",""]
["Y62","QE1","00X","V005339",7794900001,"MR M RADOVANOVICH","Dental Surgery, 2 Thurston Road, LEYLAND, Lancashire, PR25 2LB","PR25 2LB",615,1,"*","*","*","*","*","*","*","*","*","*","*","*","*","*"]
["Y62","QE1","00X","V005349",null,null,"Lowerbank Dental Practice, 83 - 85 Hough Lane, LEYLAND, Lancashire, PR25 2YD","PR25 2YD",423,"No data","","","","","","","","","","","","","",""]
["Y62","QE1","00X","V011716",1014350097,"Towngate Leyland Dental Practice Partnership","169 Towngate, LEYLAND, Lancashire, PR25 2TE","PR25 2TE",4400,2,"*","*","*","*","*","*","*","*","*","*","*","*","*","*"]
["Y62","QE1","00X","V252065",null,null,"71 Dental, 71 Towngate, Leyland, PR25 2LR","PR25 2LR",6518,"No data","","","","","","","","","","","","","",""]
["Y62","QE1","01A","V006991",null,null,"Nelson Centre Dental Practice, 2 Scotland Road, NELSON, Lancashire, BB9 7UU","BB9 7UU",707,"No data","","","","","","","","","","","","","",""]
["Y62","QE1","01A","V007097",1518310001,"Whitworth Dental Care Limited","Dental Surgery, 311 315 Market Street, Whitworth, ROCHDALE, Lancashire, OL12 8PW","OL12 8PW",1444,11,1,0,11,0,0,0,0,0,0,3,0,0,8,0]
["Y62","QE1","01A","V007396",null,null,"Dental Surgery, 13 Albion Road, Earby, BARNOLDSWICK, Lancashire, BB18 6PZ","BB18 6PZ",1775,"No data","","","","","","","","","","","","","",""]
["Y62","QE1","01A","V007437",null,null,"Dental Surgery, 432 Blackburn Road, ACCRINGTON, Lancashire, BB5 0DE","BB5 0DE",1125,"No data","","","","","","","","","","","","","",""]
["Y62","QE1","01A","V007444",null,null,"The Macfarlane Dental Practice, 33A King Street, Whalley, CLITHEROE, Lancashire, BB7 9SP","BB7 9SP",650,"No data","","","","","","","","","","","","","",""]
["Y62","QE1","01A","V007451",null,null,"Dental Surgery, 69 Abbey Street, ACCRINGTON, Lancashire, BB5 1EH","BB5 1EH",505,"No data","","","","","","","","","","","","","",""]
["Y62","QE1","01A","V007879",null,null,"Rossendale Dental Surgery, 124 Burnley Road, ROSSENDALE, Lancashire, BB4 8HH","BB4 8HH",1067,"No data","","","","","","","","","","","","","",""]
["Y62","QE1","01A","V008864",null,null,"Bacup Primary Health Trust, Irwell Medical Centre, Irwell Mill, Rochdale Road, BACUP, OL13 9NR","OL13 9NR",195,"No data","","","","","","","","","","","","","",""]
["Y62","QE1","01A","V010140",null,null,"Dental GA, Surgical Day Case Unit, Burnley General Hospital, Casterton Avenue, BURNLEY, BB10 2PQ","BB10 2PQ",523,"No data","","","","","","","","","","","","","",""]
["Y62","QE1","01A","V023641",null,null,"My Dentist Manchester Road, 64 Manchester Road, Haslingden, BB4 5TE","BB4 5TE",3686,"No data","","","","","","","","","","","","","",""]
["Y62","QE1","01E","V001873",1011140000,"Kidson Orthodontics Limited","Oasis Dental Care Ltd, 25 Beech Drive, Fulwood, PRESTON, Lancashire, PR2 3NB","PR2 3NB",312,0,"NA","NA",0,0,0,0,0,0,0,0,0,0,0,0]
["Y62","QE1","01E","V001876",null,null,"Moor Park Dental Surgery, 67 Garstang Road, PRESTON, Lancashire, PR1 1LB","PR1 1LB",2601,"No data","","","","","","","","","","","","","",""]
["Y62","QE1","01E","V005382",null,null,"Dental Surgery, 59 - 61 Pope Lane, Penwortham, PRESTON, Lancashire, PR1 9BY","PR1 9BY",1599,"No data","","","","","","","","","","","","","",""]
["Y62","QE1","01E","V005405",6359440001,"Dr J E Cornall and Dr A Giaziri","46 - 48 Liverpool Road, Penwortham, Preston, Lancashire, Lancashire, PR1 0DQ","PR1 0DQ",4988,36,1,0,25,11,0,0,0,0,18,2,0,16,0,0]
["Y62","QE1","01K","V001271",null,null,"Mayo Dental Clinic, Mayo House, Meeting House Lane, Lancaster, LA1 1TW","LA1 1TW",9141,"No data","","","","","","","","","","","","","",""]
["Y62","QE1","01K","V003219",6743030001,"MR JH NOWICKI","Bridge Dental Practice, 14 Milnthorpe Road, KENDAL, Cumbria, LA9 5AS","LA9 5AS",1226,2,"*","*","*","*","*","*","*","*","*","*","*","*","*","*"]
["Y62","QE1","01K","V003242",null,null,"Dental Surgery, 31 Princes Crescent, MORECAMBE, Lancashire, LA4 6BY","LA4 6BY",1437,"No data","","","","","","","","","","","","","",""]
["Y62","QE1","01K","V007767",null,null,"Morecambe Bay Primary Care Trust, Ashton Road Dental Clinic, Ashton Road, LANCASTER, Lancashire, LA1 4RR","LA1 4RR",0,"No data","","","","","","","","","","","","","",""]
["Y62","QE1","01K","V008963",null,null,"Dental Surgery, 2-4 Hartington Street, Barrow In Furness, LA14 5SL","LA14 5SL",3077,"No data","","","","","","","","","","","","","",""]
["Y62","QE1","01K","V009253",null,null,"Morecambe Dental Centre, Queen Victoria Centre, Thornton Road, MORECAMBE, LA4 5NN","LA4 5NN",848,"No data","","","","","","","","","","","","","",""]
["Y62","QE1","01K","V012011",null,null,"Dental Education Centre, Queen Victoria Centre, Thornton Road, MORECAMBE, Lancs, LA4 5NN","LA4 5NN",74,"No data","","","","","","","","","","","","","",""]
["Y62","QE1","01K","V013924",1015850000,"OASIS DENTAL CARE LTD","Government Building, St George's Road, Millom, Cumbria, LA18 5DN","LA18 5DN",943,0,"NA","NA",0,0,0,0,0,0,0,0,0,0,0,0]
["Y62","QE1","02G","V001819",9173890003,"MR GN BARLOW","Burscough Anaesthetic Clinic, 19 Lord Street, Burscough, ORMSKIRK, Lancashire, L40 4BZ","L40 4BZ",543,8,1,0,8,0,0,0,0,0,8,0,0,0,0,0]
["Y62","QE1","02G","V002415",null,null,"Dental Surgery, 133 Hesketh Lane, Tarleton, PRESTON, Lancashire, PR4 6AS","PR4 6AS",5467,"No data","","","","","","","","","","","","","",""]
["Y62","QE1","02G","V002435",null,null,"Digmour Dental Practice, 156 Birkrig, SKELMERSDALE, Lancashire, WN8 9HP","WN8 9HP",1602,"No data","","","","","","","","","","","","","",""]
["Y62","QE1","02M","V000298",null,null,"Dental Surgery, 3 Clifton Street, LYTHAM ST ANNES, Lancashire, FY8 5EP","FY8 5EP",9440,"No data","","","","","","","","","","","","","",""]
["Y62","QE1","02M","V003408",null,null,"Dental Surgery, 88 London Street, FLEETWOOD, Lancashire, FY7 6JY","FY7 6JY",7569,"No data","","","","","","","","","","","","","",""]
["Y62","QE1","02M","V003417",null,null,"Petrie Tucker And Partners, 1 Croston Villa, High Street, Garstang, PRESTON, PR3 1EA","PR3 1EA",4613,"No data","","","","","","","","","","","","","",""]
["Y62","QE1","02M","V003594",null,null,"Staina House Dental Surgery, Landscape,, High Street, Garstang, PRESTON,Lancashire, PR3 1FA","PR3 1FA",31,"No data","","","","","","","","","","","","","",""]
["Y62","QE1","02M","V014064",null,null,"Woodlands Dental Surgery, 80 Woodlands Road, LYTHAM ST ANNES, Lancashire, FY8 1DA","FY8 1DA",1537,"No data","","","","","","","","","","","","","",""]
["Y62","QOP","00T","V005738",1012810175,"OASIS DENTAL CARE LTD","Dental Surgery, 40 Chorley New Road, BOLTON, Lancashire, BL1 4AP","BL1 4AP",3996,2,"*","*","*","*","*","*","*","*","*","*","*","*","*","*"]
["Y62","QOP","00T","V005781",1689470001,"Silverwell Dental Surgery","Dental Surgery, 18 Silverwell Street, BOLTON, Lancashire, BL1 1PP","BL1 1PP",2791,1,"*","*","*","*","*","*","*","*","*","*","*","*","*","*"]
["Y62","QOP","00T","V005816",null,null,"Dental Surgery, 32 Bradford Street, BOLTON, Lancashire, BL2 1JJ","BL2 1JJ",5022,"No data","","","","","","","","","","","","","",""]
["Y62","QOP","00T","V006387",2382790001,"MR HP PATEL","464 Manchester Road, BOLTON, Lancashire, BL3 2NU","BL3 2NU",1529,10,1,0,6,4,0,0,0,0,10,0,0,0,0,0]
["Y62","QOP","00V","V008252",null,null,"D P Lustman's Dental Surgery, 265 Bolton Road, Radcliffe, Manchester, MANCHESTER, M26 3QP","M26 3QP",1643,"No data","","","","","","","","","","","","","",""]
["Y62","QOP","00V","V008256",null,null,"Dental Surgery, 37 Knowsley Street, BURY, Lancashire, BL9 0ST","BL9 0ST",2494,"No data","","","","","","","","","","","","","",""]
["Y62","QOP","00V","V008266",null,null,"Radcliffe Dental Practice, 58 Ainsworth Road, Radcliffe, Manchester, MANCHESTER, M26 4FA","M26 4FA",1178,"No data","","","","","","","","","","","","","",""]
["Y62","QOP","00V","V008274",null,null,"Dental Surgery, 64 Bolton Street, Ramsbottom, BURY, Lancashire, BL0 9HX","BL0 9HX",2316,"No data","","","","","","","","","","","","","",""]
["Y62","QOP","00V","V009152",null,null,"Dental Surgery, 2 St Mary's Place, BURY, Lancashire, BL9 0DZ","BL9 0DZ",4241,"No data","","","","","","","","","","","","","",""]
["Y62","QOP","00Y","V000144",null,null,"Dental Surgery, 36 High Street, Lees, OLDHAM, Lancashire, OL4 5AQ","OL4 5AQ",1509,"No data","","","","","","","","","","","","","",""]
["Y62","QOP","00Y","V000152",1652550001,"Pritchards Dental Practice Ltd","Dental Surgery, 20 Union Street, OLDHAM, Lancashire, OL1 1BE","OL1 1BE",1740,0,"NA","NA",0,0,0,0,0,0,0,0,0,0,0,0]
["Y62","QOP","00Y","V000164",null,null,"Ripponden Road Dental Practice, 177 - 187 Littlemoor Lane, OLDHAM, Lancashire, OL4 2SF","OL4 2SF",3071,"No data","","","","","","","","","","","","","",""]
["Y62","QOP","00Y","V009436",1389670001,"S Mehra & A Khetia","74 Oldham Road, Springhead, OLDHAM, Lancashire, OL4 5SR","OL4 5SR",2866,19,1,0,13,6,0,0,0,0,19,0,0,0,0,0]
["Y62","QOP","00Y","V013213",1140220001,"R Rattan & M Naylor Partnership","Marjory Lees Dental Centre, 283 Ashton Road, OLDHAM, Lancashire, OL8 1NN","OL8 1NN",5010,18,0.94444444444444442,5.5555555555555552E-2,14,3,0,1,0,0,0,0,0,18,0,0]
["Y62","QOP","00Y","V039927",null,null,"The Tooth Place, 11 Rhodes Street, Oldham, OL1 3TG","OL1 3TG",1849,"No data","","","","","","","","","","","","","",""]
["Y62","QOP","01D","V007412",6108010001,"Rauf Wellington Healthcare Ltd","Dental Surgery, 386 Edenfield Road, ROCHDALE, Lancashire, OL12 7NH","OL12 7NH",1771,30,1,0,29,1,0,0,0,0,30,0,0,0,0,0]
["Y62","QOP","01D","V007472",1165800001,"Drake Dental Practice","Drake Dental Practice, 113 Drake Street, ROCHDALE, Lancashire, OL16 1PZ","OL16 1PZ",6567,14,0.8571428571428571,0,8,4,2,0,0,0,14,0,0,0,0,0]
["Y62","QOP","01D","V011252",null,null,"115 Featherstall Road, LITTLEBOROUGH, Lancashire, OL15 8JZ","OL15 8JZ",4956,"No data","","","","","","","","","","","","","",""]
["Y62","QOP","01D","V013062",null,null,"23 Roch Valley Way, Rochdale, Lancashire, OL11 4PZ","OL11 4PZ",6,"No data","","","","","","","","","","","","","",""]
["Y62","QOP","01D","V043937",1230560001,"Fletcher Fosbrook Dental Surgery","First Floor, 42 Market Street, Heywood, Lancashire, OL10 4LY","OL10 4LY",2806,3,"*","*","*","*","*","*","*","*","*","*","*","*","*","*"]
["Y62","QOP","01G","V002742",null,null,"Windsor Dental, Belvedere Road, SALFORD, Lancashire, M6 5EQ","M6 5EQ",1617,"No data","","","","","","","","","","","","","",""]
["Y62","QOP","01G","V002748",null,null,"The Griffin Dental Surgery, 1 - 3 Great Cheetham Street West, SALFORD, Lancashire, M7 2JB","M7 2JB",3244,"No data","","","","","","","","","","","","","",""]
["Y62","QOP","01G","V002759",null,null,"Dental Surgery, 123 125 Liverpool Road, Irlam, MANCHESTER, M44 6DP","M44 6DP",276,"No data","","","","","","","","","","","","","",""]
["Y62","QOP","01G","V002773",9270660001,"MR K SEDEHIZADEH","51 Leigh Road, Worsley, MANCHESTER, Lancashire, M28 1HP","M28 1HP",638,8,1,0,8,0,0,0,0,0,8,0,0,0,0,0]
["Y62","QOP","01G","V002876",null,null,"H M Forest Bank Prison, Forestbank, Swinton, MANCHESTER, Lancashire, M27 8FB","M27 8FB",214,"No data","","","","","","","","","","","","","",""]
["Y62","QOP","01W","V000037",null,null,"Brinnington Health Centre, Brinnington Road, STOCKPORT, Cheshire, SK5 8BS","SK5 8BS",560,"No data","","","","","","","","","","","","","",""]
["Y62","QOP","01W","V002839",1582160001,"Bredbury Dental Practice Ltd","Bredbury Dental Practice, 219 George Lane, Bredbury, STOCKPORT, Cheshire, SK6 1DJ","SK6 1DJ",5952,19,1,0,15,4,0,0,0,0,19,0,0,0,0,0]
["Y62","QOP","01W","V003103",6844220001,"MISS R AGGARWAL","42 Foxland Road, Gatley, CHEADLE, Cheshire, SK8 4QB","SK8 4QB",3344,49,1,0,48,1,0,0,0,0,5,3,41,0,0,0]
["Y62","QOP","01W","V003138",1022640000,"Freedom Heaton Mersey Limited","Heaton Mersey Dental, 418 Didsbury Road, STOCKPORT, Cheshire, SK4 3BY","SK4 3BY",382,4,"*","*","*","*","*","*","*","*","*","*","*","*","*","*"]
["Y62","QOP","01W","V003211",null,null,"Jefferies Reed And Associates, 162 Heaton Moor Road, STOCKPORT, Cheshire, SK4 4HS","SK4 4HS",5354,"No data","","","","","","","","","","","","","",""]
["Y62","QOP","01W","V003247",null,null,"Dental Surgery, 28/30 Turncroft Lane, STOCKPORT, Cheshire, SK1 4AB","SK1 4AB",2014,"No data","","","","","","","","","","","","","",""]
["Y62","QOP","01W","V003259",null,null,"Dental Practice, 212 Shaw Heath, STOCKPORT, Cheshire, SK2 6QZ","SK2 6QZ",21,"No data","","","","","","","","","","","","","",""]
["Y62","QOP","01W","V009071",null,null,"Community Dental Services, Kingsgate, Wellington Road North, Stockport, Cheshire, SK4 1LW","SK4 1LW",963,"No data","","","","","","","","","","","","","",""]
["Y62","QOP","01W","V135738",null,null,"16 Northenden Road, Gatley, Cheadle, Stockport, SK8 4DN","SK8 4DN",3448,"No data","","","","","","","","","","","","","",""]
["Y62","QOP","01Y","V002714",null,null,"Dental Surgery, 124 High Street West, GLOSSOP, Derbyshire, SK13 8HJ","SK13 8HJ",3360,"No data","","","","","","","","","","","","","",""]
["Y62","QOP","01Y","V005368",null,null,"Silverdale Dental Practice, 140 King Street, DUKINFIELD, Cheshire, SK16 4LG","SK16 4LG",4093,"No data","","","","","","","","","","","","","",""]
["Y62","QOP","01Y","V005391",5727130001,"Dr AH Malik","Dental Surgery, Stamford Road, Mossley, ASHTON UNDER LYNE, Lancashire, OL5 0BA","OL5 0BA",2854,48,1,0,44,4,0,0,0,0,0,0,0,0,48,0]
["Y62","QOP","01Y","V005392",1680330001,"Mossley Dental Care","Mossley Dental Care, 16 Lancaster Street, Mossley, ASHTON UNDER LYNE, Lancashire, OL5 0PD","OL5 0PD",508,8,0.75,0.125,4,2,1,0,1,0,8,0,0,0,0,0]
["Y62","QOP","01Y","V043179",7808710001,"MR R KHAN","StalyDental, 2 Waterloo Road, Stalybridge, SK15 2AU","SK15 2AU",3431,30,0.96666666666666667,0,26,3,1,0,0,0,30,0,0,0,0,0]
["Y62","QOP","02A","V008078",null,null,"Dental Surgery, 13 Stretford Road, Urmston, MANCHESTER, Lancashire, M41 9JY","M41 9JY",500,"No data","","","","","","","","","","","","","",""]
["Y62","QOP","02A","V008204",8984570002,"MR ND MCLEAN","Neil D W McLean's Dental Surgery, 2A Delahays Drive, Hale, ALTRINCHAM, Cheshire, WA15 8DP","WA15 8DP",1096,2,"*","*","*","*","*","*","*","*","*","*","*","*","*","*"]
["Y62","QOP","02A","V008251",null,null,"Greenwood Dental Practice, 16 Greenwood Street, ALTRINCHAM, Cheshire, WA14 1RZ","WA14 1RZ",1308,"No data","","","","","","","","","","","","","",""]
["Y62","QOP","02A","V008540",null,null,"Dental Surgery, 24 Urmston Lane, Stretford, MANCHESTER, Lancashire, M32 9BP","M32 9BP",151,"No data","","","","","","","","","","","","","",""]
["Y62","QOP","02A","V009758",null,null,"70 Seymour Grove, MANCHESTER, Lancashire, M16 0LW","M16 0LW",237,"No data","","","","","","","","","","","","","",""]
["Y62","QOP","02H","V000060",null,null,"Dental Surgery, 14 King Street, LEIGH, Lancashire, WN7 4LR","WN7 4LR",3938,"No data","","","","","","","","","","","","","",""]
["Y62","QOP","02H","V006793",null,null,"8 Downall Green Road, Ashton In Makerfield, WIGAN, Lancashire, WN4 0DH","WN4 0DH",5965,"No data","","","","","","","","","","","","","",""]
["Y62","QOP","02H","V007397",null,null,"Dental Surgery, 28 Market Street, WIGAN, Lancashire, WN1 1HX","WN1 1HX",7316,"No data","","","","","","","","","","","","","",""]
["Y62","QOP","02H","V007463",null,null,"Platt Bridge Dental Practice, 152 Walthew Lane, Platt Bridge, WIGAN, Lancashire, WN2 5AW","WN2 5AW",2720,"No data","","","","","","","","","","","","","",""]
["Y62","QOP","02H","V007515",null,null,"Red Rose Dental Group, 7 Moor Road, Orrell, WIGAN, Lancashire, WN5 8ND","WN5 8ND",2242,"No data","","","","","","","","","","","","","",""]
["Y62","QOP","02H","V007607",null,null,"Dental Surgery, 6 Scot Lane, Aspull, WIGAN, Lancashire, WN2 1YX","WN2 1YX",901,"No data","","","","","","","","","","","","","",""]
["Y62","QOP","02H","V030361",null,null,"Rodenhurst, 59 Church Street, Wigan, Lancashire, WN6 0JT","WN6 0JT",5476,"No data","","","","","","","","","","","","","",""]
["Y62","QOP","02H","V043998",null,null,"LEIGH HEALTH CENTRE, THE AVENUE, LEIGH, WN7 1HR","WN7 1HR",637,"No data","","","","","","","","","","","","","",""]
["Y62","QOP","14L","V005493",null,null,"Parkfield Dental Practice, 637 Wilmslow Road, MANCHESTER, Lancashire, M20 6DF","M20 6DF",340,"No data","","","","","","","","","","","","","",""]
["Y62","QOP","14L","V005495",6886730001,"MRS S CHOUDHURY","Dental Surgery, 264 Barlow Moor Road, MANCHESTER, Lancashire, M21 8HA","M21 8HA",1142,5,1,0,3,2,0,0,0,0,5,0,0,0,0,0]
["Y62","QOP","14L","V006179",1333530001,"Droylsden Road Dental Practice","Dental Surgery, 117 Droylsden Road, MANCHESTER, Lancashire, M40 1NT","M40 1NT",3648,1,"*","*","*","*","*","*","*","*","*","*","*","*","*","*"]
["Y62","QOP","14L","V006187",null,null,"C M Chau's Dental Surgery, 337 Queens Road, MANCHESTER, Lancashire, M8 0JL","M8 0JL",2255,"No data","","","","","","","","","","","","","",""]
["Y62","QOP","14L","V006201",null,null,"Dental Surgery, 1333 Ashton Old Road, MANCHESTER, Lancashire, M11 1JT","M11 1JT",967,"No data","","","","","","","","","","","","","",""]
["Y62","QOP","14L","V006401",null,null,"Levenshulme Dental & Cosmetics, 773 Stockport Road, MANCHESTER, Lancashire, M19 3DL","M19 3DL",975,"No data","","","","","","","","","","","","","",""]
["Y62","QOP","14L","V006416",null,null,"Dental Surgery, 566 Stockport Road, MANCHESTER, Lancashire, M12 4JJ","M12 4JJ",3525,"No data","","","","","","","","","","","","","",""]
["Y62","QOP","14L","V007659",8306900001,"MR MF MOHAMMED","Dental Surgery, Brooklyn Court, 390 Wilmslow Road, Manchester, M20 3NA","M20 3NA",1200,1,"*","*","*","*","*","*","*","*","*","*","*","*","*","*"]
["Y62","QOP","14L","V012073",1673120001,"Vallance Dental Centre Ltd","Vallance Dental Centre, 1st Floor, Vallance Centre, Wadeson Road, MANCHESTER, M13 9UJ","M13 9UJ",5402,45,1,0,42,3,0,0,0,0,45,0,0,0,0,0]
["Y62","QOP","14L","V012430",null,null,"Ocean Dental, 169 Mauldeth Road, MANCHESTER, Lancashire, M14 6SG","M14 6SG",1299,"No data","","","","","","","","","","","","","",""]
["Y62","QOP","14L","V017690",null,null,"2, Hythe Close, Manchester, M14 5AT","M14 5AT",3003,"No data","","","","","","","","","","","","","",""]
["Y62","QOP","14L","V028473",null,null,"43 Lever Street, Manchester, M1 1FN","M1 1FN",3730,"No data","","","","","","","","","","","","","",""]
["Y62","QYG","01F","V008098",null,null,"Dental Surgery, 14 Stanley Villas, Greenway Road, RUNCORN, Cheshire, WA7 4NW","WA7 4NW",3041,"No data","","","","","","","","","","","","","",""]
["Y62","QYG","01F","V008130",null,null,"Halton Road Family Dental Practice, 254 Halton Road, RUNCORN, Cheshire, WA7 5RL","WA7 5RL",2864,"No data","","","","","","","","","","","","","",""]
["Y62","QYG","01J","V005951",null,null,"Hunts Cross Dental Centre, 14 Mackets Lane, LIVERPOOL, Merseyside, L25 0LQ","L25 0LQ",1499,"No data","","","","","","","","","","","","","",""]
["Y62","QYG","01J","V005953",null,null,"Dental Surgery, 183 Warrington Road, Whiston, PRESCOT, Merseyside, L35 5AF","L35 5AF",416,"No data","","","","","","","","","","","","","",""]
["Y62","QYG","01J","V007891",null,null,"The Primary Resource Centre, Ebony Way, Tower Hill, Kirkby, Liverpool, L33 1XT","L33 1XT",3262,"No data","","","","","","","","","","","","","",""]
["Y62","QYG","01J","V012356",null,null,"North Huyton Primary Care Trust, Woolfall Heath Avenue, LIVERPOOL, Merseyside, L36 3TN","L36 3TN",1069,"No data","","","","","","","","","","","","","",""]
["Y62","QYG","01T","V007479",null,null,"Dental Surgery, 182 Liverpool Road South, LIVERPOOL, Merseyside, L31 7DQ","L31 7DQ",695,"No data","","","","","","","","","","","","","",""]
["Y62","QYG","01T","V007500",null,null,"The Crescent Dental Surgery, 4 The Crescent, Thornton, LIVERPOOL, Merseyside, L23 4TA","L23 4TA",1645,"No data","","","","","","","","","","","","","",""]
["Y62","QYG","01T","V007503",null,null,"Andrew & Priyal Crosby, Dental Surgery, 44 Northway, Maghull, LIVERPOOL, L31 5LJ","L31 5LJ",2920,"No data","","","","","","","","","","","","","",""]
["Y62","QYG","01V","V007704",null,null,"The Elbow Lane Dental Practice, 21 Elbow Lane, LIVERPOOL, Merseyside, L37 4AB","L37 4AB",3829,"No data","","","","","","","","","","","","","",""]
["Y62","QYG","01V","V007718",null,null,"Dental Surgery, 8 Albert Road, SOUTHPORT, Merseyside, PR9 0LE","PR9 0LE",2805,"No data","","","","","","","","","","","","","",""]
["Y62","QYG","01X","V005969",null,null,"Dental Surgery, 1 Victoria Square, ST HELENS, Merseyside, WA10 1HQ","WA10 1HQ",2955,"No data","","","","","","","","","","","","","",""]
["Y62","QYG","01X","V005984",1907050001,"J E Thorpe and Associates Ltd","Dental Surgery, 303 - 305 Mill Lane, ST HELENS, Merseyside, WA9 4EU","WA9 4EU",5085,4,"*","*","*","*","*","*","*","*","*","*","*","*","*","*"]
["Y62","QYG","01X","V005986",1170050001,"Stecewicz","St Helens Family Dental Clinic, 36 38 Claughton Street, ST HELENS, Merseyside, WA10 1SN","WA10 1SN",1908,74,0.97297297297297303,0,60,12,0,0,0,2,74,0,0,0,0,0]
["Y62","QYG","01X","V014317",null,null,"1 Spray Street, ST HELENS, Merseyside, WA10 2NN","WA10 2NN",2865,"No data","","","","","","","","","","","","","",""]
["Y62","QYG","01X","V042429",null,null,"2A Thickwood Moss Lane, Rainford, St Helens, WA11 8QL","WA11 8QL",0,"No data","","","","","","","","","","","","","",""]
["Y62","QYG","02E","V006868",null,null,"Penketh Dental Centre, 2 - 4 Heath Road, Penketh, WARRINGTON, Cheshire, WA5 2BS","WA5 2BS",4805,"No data","","","","","","","","","","","","","",""]
["Y62","QYG","02E","V006888",null,null,"Sankey St. Dental Practice, 61a Sankey Street, Warrington, Cheshire, WA1 1SL","WA1 1SL",2629,"No data","","","","","","","","","","","","","",""]
["Y62","QYG","02E","V006897",null,null,"The Village Dental Practice, Warrington Road, Culcheth, WARRINGTON, Cheshire, WA3 5HH","WA3 5HH",2473,"No data","","","","","","","","","","","","","",""]
["Y62","QYG","02E","V014066",1010170000,"MR QM JAFFRI","signature smiles, Lever House, 9 Palmyra Square South, WARRINGTON, Cheshire, WA1 1BL","WA1 1BL",1096,4,"*","*","*","*","*","*","*","*","*","*","*","*","*","*"]
["Y62","QYG","12F","V007952",6498990001,"MR SW HUGHES","Allport Dental Surgery, 75 Allport Lane, WIRRAL, Merseyside, CH62 7HL","CH62 7HL",4013,0,"NA","NA",0,0,0,0,0,0,0,0,0,0,0,0]
["Y62","QYG","12F","V007957",1527300001,"PJS CARE LTD","Dental Surgery, 66 Church Road, Bebington, WIRRAL, Merseyside, CH63 3EB","CH63 3EB",2797,118,0.97457627118644063,1.6949152542372881E-2,102,13,1,1,1,0,0,0,0,0,118,0]
["Y62","QYG","12F","V007970",null,null,"Holmlands Dental Practice, Mr and Mrs Hale, 1 Holmlands Drive, PRENTON, Merseyside, CH43 0TY","CH43 0TY",3783,"No data","","","","","","","","","","","","","",""]
["Y62","QYG","12F","V007983",null,null,"Manor Dental Practice, 110 Manor Road, WALLASEY, Merseyside, CH45 7LX","CH45 7LX",2497,"No data","","","","","","","","","","","","","",""]
["Y62","QYG","12F","V007989",null,null,"Dental Surgery, 42 Poulton Road, WALLASEY, Merseyside, CH44 9DQ","CH44 9DQ",1741,"No data","","","","","","","","","","","","","",""]
["Y62","QYG","12F","V007996",null,null,"94 Prenton Road West, BIRKENHEAD, Merseyside, CH42 9PX","CH42 9PX",656,"No data","","","","","","","","","","","","","",""]
["Y62","QYG","12F","V014735",1600750001,"Arrowe Park Dental Practice","59 Arrowe Park Road, WIRRAL, Merseyside, CH49 0UG","CH49 0UG",2033,3,"*","*","*","*","*","*","*","*","*","*","*","*","*","*"]
["Y62","QYG","27D","V000870",null,null,"Saltney Dental Practice, 13 Chester Street, Saltney, CHESTER, Cheshire, CH4 8BL","CH4 8BL",2789,"No data","","","","","","","","","","","","","",""]
["Y62","QYG","27D","V004905",null,null,"Dental Surgery, 43 Great King Street, MACCLESFIELD, Cheshire, SK11 6PN","SK11 6PN",2926,"No data","","","","","","","","","","","","","",""]
["Y62","QYG","27D","V004925",null,null,"Dental Surgery, 102 Brock Street, MACCLESFIELD, Cheshire, SK10 1DQ","SK10 1DQ",3033,"No data","","","","","","","","","","","","","",""]
["Y62","QYG","27D","V004956",7324860001,"MR D BARCLAY","Cottage Dental Practice, 16 Congleton Road, SANDBACH, Cheshire, CW11 1HJ","CW11 1HJ",691,0,"NA","NA",0,0,0,0,0,0,0,0,0,0,0,0]
["Y62","QYG","27D","V004985",null,null,"Dane Bank House Dental Practice, 305 Nantwich Road, CREWE, Cheshire, CW2 6PE","CW2 6PE",3057,"No data","","","","","","","","","","","","","",""]
["Y62","QYG","27D","V005001",8047700001,"Crewe Dental Care","Dental Surgery, 256A Edleston Road, CREWE, Cheshire, CW2 7EH","CW2 7EH",1302,12,1,0,12,0,0,0,0,0,5,0,0,0,7,0]
["Y62","QYG","27D","V005600",null,null,"Globe Dental Practice, 53 Beam Street, NANTWICH, Cheshire, CW5 5NF","CW5 5NF",264,"No data","","","","","","","","","","","","","",""]
["Y62","QYG","27D","V005639",null,null,"Dental Surgery, 1 Roe Street, MACCLESFIELD, Cheshire, SK11 6UT","SK11 6UT",2434,"No data","","","","","","","","","","","","","",""]
["Y62","QYG","27D","V005649",1856200001,"Xeon Smiles UK Ltd","White The Dentist, 137 Runcorn Road, Barnton, NORTHWICH, Cheshire, CW8 4HD","CW8 4HD",5997,0,"NA","NA",0,0,0,0,0,0,0,0,0,0,0,0]
["Y62","QYG","27D","V005666",null,null,"Dental Surgery, 69A Crewe Road, Alsager, STOKE ON TRENT, Staffordshire, ST7 2EZ","ST7 2EZ",1621,"No data","","","","","","","","","","","","","",""]
["Y62","QYG","27D","V005667",null,null,"Dental Surgery, 42B Crewe Road, Alsager, STOKE ON TRENT, Staffordshire, ST7 2ET","ST7 2ET",6097,"No data","","","","","","","","","","","","","",""]
["Y62","QYG","27D","V005792",1469510001,"Chester Smiles","Oasis Dental Care, 4 Park Street, CHESTER, Cheshire, CH1 1RN","CH1 1RN",406,0,"NA","NA",0,0,0,0,0,0,0,0,0,0,0,0]
["Y62","QYG","27D","V005912",null,null,"Northgate Dental Health, 2 - 4 Upper Northgate Street, CHESTER, Cheshire, CH1 4EE","CH1 4EE",5336,"No data","","","","","","","","","","","","","",""]
["Y62","QYG","27D","V005930",null,null,"Overleigh Orthodontics, The Old Forge, 24 Overleigh Road, CHESTER, Cheshire, CH4 7HL","CH4 7HL",1184,"No data","","","","","","","","","","","","","",""]
["Y62","QYG","27D","V006025",8407770001,"Oaklands Dental Care Limited","Oaklands Dental Practice, 5 Nantwich Road, TARPORLEY, Cheshire, CW6 9UN","CW6 9UN",2868,1,"*","*","*","*","*","*","*","*","*","*","*","*","*","*"]
["Y62","QYG","27D","V006249",null,null,"Redcliffe Dental Practice, 25 Parkgate Road, NESTON, Merseyside, CH64 9XF","CH64 9XF",200,"No data","","","","","","","","","","","","","",""]
["Y62","QYG","27D","V006341",null,null,"Dental Surgery, 69a Main Street, Frodsham, Cheshire, WA6 7DF","WA6 7DF",595,"No data","","","","","","","","","","","","","",""]
["Y62","QYG","27D","V009421",null,null,"Dental Department, Ashfields Primary Care Centre, Middlewich Road, SANDBACH, Cheshire, CW11 1EQ","CW11 1EQ",291,"No data","","","","","","","","","","","","","",""]
["Y62","QYG","27D","V010099",null,null,"Dental Surgery, 428 High Street, WINSFORD, Cheshire, CW7 2DS","CW7 2DS",2147,"No data","","","","","","","","","","","","","",""]
["Y62","QYG","27D","V017101",8439700001,"MR DM FAGAN-DOUGLAS","17 Pillory Street, Nantwich, Cheshire, CW5 5BZ","CW5 5BZ",391,0,"NA","NA",0,0,0,0,0,0,0,0,0,0,0,0]
["Y62","QYG","99A","V000764",null,null,"Park Dental Centre, 323 Park Road, Toxteth, Liverpool, L8 4PF","L8 4PF",5298,"No data","","","","","","","","","","","","","",""]
["Y62","QYG","99A","V003780",1909690001,"Sheil Road Dental Practice","Dental Surgery, 74 Sheil Road, LIVERPOOL, Merseyside, L6 3AF","L6 3AF",4286,0,"NA","NA",0,0,0,0,0,0,0,0,0,0,0,0]
["Y62","QYG","99A","V003800",null,null,"Dental Surgery, 27 Church Road, Wavertree, LIVERPOOL, Merseyside, L15 9ED","L15 9ED",237,"No data","","","","","","","","","","","","","",""]
["Y62","QYG","99A","V003819",null,null,"Dental Practice, 6-10 Derby Lane, Old Swan, Liverpool, Merseyside, L13 3DL","L13 3DL",5262,"No data","","","","","","","","","","","","","",""]
["Y62","QYG","99A","V003879",9059250002,"Broadway Dental Partnership","The Broadway Dental Practice, 107 Townsend Avenue, Norris Green, LIVERPOOL, Merseyside, L11 8NB","L11 8NB",4742,9,1,0,7,2,0,0,0,0,9,0,0,0,0,0]
["Y62","QYG","99A","V003891",null,null,"T And T Dental, 492 Rice Lane, LIVERPOOL, Merseyside, L9 2BW","L9 2BW",3102,"No data","","","","","","","","","","","","","",""]
["Y62","QYG","99A","V003904",null,null,"Woolton Surgery, 116 Allerton Road, Woolton, LIVERPOOL, Merseyside, L25 7RH","L25 7RH",3034,"No data","","","","","","","","","","","","","",""]
["Y62","QYG","99A","V003929",null,null,"The Dental Practice, 99 Aigburth Road, LIVERPOOL, Merseyside, L17 4JU","L17 4JU",446,"No data","","","","","","","","","","","","","",""]
["Y62","QYG","99A","V014146",null,null,"Speke Neighbourhood Centre, 75 South Parade, Speke, Liverpool, L24 2SF","L24 2SF",468,"No data","","","","","","","","","","","","","",""]
["Y62","QYG","99A","V020159",1846320001,"Hale Road Dental Practice Limited","25-27 HALE ROAD, LIVERPOOL, L4 3RL","L4 3RL",4054,9,1,0,9,0,0,0,0,0,9,0,0,0,0,0]
["Y63","QF7","02P","V004354",1096300006,"TSJ Smile Limited","Dental Surgery, 48 Church Street, Darton, BARNSLEY, South Yorkshire, S75 5HG","S75 5HG",1476,0,"NA","NA",0,0,0,0,0,0,0,0,0,0,0,0]
["Y63","QF7","02P","V004960",null,null,"Dental Surgery, 4 Garden Street, Darfield, BARNSLEY, South Yorkshire, S73 9AA","S73 9AA",1253,"No data","","","","","","","","","","","","","",""]
["Y63","QF7","02P","V004990",null,null,"Churchfield Dental Centre, 1 Victoria Crescent West, BARNSLEY, South Yorkshire, S75 2AE","S75 2AE",832,"No data","","","","","","","","","","","","","",""]
["Y63","QF7","02P","V005121",1016130001,"Yorkshire Smiles Limited","K Hewage Dental Surgery, Victoria House, Victoria Road, BARNSLEY, South Yorkshire, S70 2BB","S70 2BB",2445,9,1,0,6,3,0,0,0,0,9,0,0,0,0,0]
["Y63","QF7","02P","V005440",1346510001,"DENTECARE (BARNSLEY) LIMITED","Dental Surgery, 18 Pitt Street, Barnsley, South Yorkshire, S70 1AW","S70 1AW",3020,46,0.93478260869565222,2.1739130434782608E-2,34,9,1,0,1,1,0,0,0,0,46,0]
["Y63","QF7","02P","V020282",null,null,"17 Milton Road, Barnsley, South Yorkshire, S74 9AU","S74 9AU",4242,"No data","","","","","","","","","","","","","",""]
["Y63","QF7","02Q","V001335",null,null,"Wright Dental Care, Lyndholme, Newcastle Street, WORKSOP, Nottinghamshire, S80 2AS","S80 2AS",10537,"No data","","","","","","","","","","","","","",""]
["Y63","QF7","02X","V002923",null,null,"Grange Villa, 20 Thorne Road, DONCASTER, South Yorkshire, DN1 2HS","DN1 2HS",2985,"No data","","","","","","","","","","","","","",""]
["Y63","QF7","02X","V002959",null,null,"Shelswell Dental Practice, 5 Alston Road, DONCASTER, South Yorkshire, DN4 7HA","DN4 7HA",2791,"No data","","","","","","","","","","","","","",""]
["Y63","QF7","02X","V003078",null,null,"Elliott Dental Surgery, Studley, Church Road, Stainforth, DONCASTER, DN7 5PW","DN7 5PW",1079,"No data","","","","","","","","","","","","","",""]
["Y63","QF7","02X","V003081",null,null,"Churchview Dental Practice, 12 High Street, Hatfield, DONCASTER, South Yorkshire, DN7 6RY","DN7 6RY",3060,"No data","","","","","","","","","","","","","",""]
["Y63","QF7","02X","V003222",null,null,"Carcroft Dental Surgery, 29 High Street, Carcroft, DONCASTER, South Yorkshire, DN6 8DN","DN6 8DN",3087,"No data","","","","","","","","","","","","","",""]
["Y63","QF7","02X","V003229",null,null,"Dental Surgery, 140 Sprotbrough Road, DONCASTER, South Yorkshire, DN5 8BB","DN5 8BB",3328,"No data","","","","","","","","","","","","","",""]
["Y63","QF7","02X","V003283",1180600013,"Mexborough Dental Practice","Poswillo Dental Surgery, 88 - 90 Main Street, MEXBOROUGH, South Yorkshire, S64 9EB","S64 9EB",3632,12,1,0,12,0,0,0,0,0,12,0,0,0,0,0]
["Y63","QF7","02X","V014772",null,null,"Warmsworth Road Dental Surgery, 196 Warmsworth Road, Balby, Doncaster, DN4 0TS","DN4 0TS",2937,"No data","","","","","","","","","","","","","",""]
["Y63","QF7","03L","V001030",null,null,"Brinsworth Dental Surgery, 40 Bonet Lane, Brinsworth, ROTHERHAM, South Yorkshire, S60 5NE","S60 5NE",2425,"No data","","","","","","","","","","","","","",""]
["Y63","QF7","03L","V001035",1007170000,"Genix Healthcare Kiveton Ltd","Dental Surgery, 101 Wales Road, Kiveton Park, SHEFFIELD, South Yorkshire, S26 6RA","S26 6RA",416,11,0.90909090909090906,0,9,1,1,0,0,0,0,0,0,9,2,0]
["Y63","QF7","03L","V001045",null,null,"Dental Surgery, 2 Fitzwilliam Street, Wath Upon Dearne, ROTHERHAM, South Yorkshire, S63 7HF","S63 7HF",869,"No data","","","","","","","","","","","","","",""]
["Y63","QF7","03L","V001048",null,null,"Dental Surgery, 41 Broom Road, ROTHERHAM, South Yorkshire, S60 2SW","S60 2SW",3857,"No data","","","","","","","","","","","","","",""]
["Y63","QF7","03L","V001794",null,null,"The Dental Practice, Thorpe Hesley Clinic, Sough Hall Avenue, Thorpe Hesley, Rotherham, S61 2QJ","S61 2QJ",3455,"No data","","","","","","","","","","","","","",""]
["Y63","QF7","03L","V009997",null,null,"Maltby Dental Clinic, Braithwell Road, Maltby, ROTHERHAM, South Yorkshire, S66 8JE","S66 8JE",55,"No data","","","","","","","","","","","","","",""]
["Y63","QF7","03L","V016949",null,null,"8 Effingham Square, Rotherham, South Yorkshire, S65 1AP","S65 1AP",243,"No data","","","","","","","","","","","","","",""]
["Y63","QF7","03N","V005242",1678190001,"Crystal Peaks Dental Centre","Crystal Peaks Dental Centre, 15 Peaks Mount, Crystal Peaks, SHEFFIELD, South Yorkshire, S20 7HZ","S20 7HZ",7034,40,0.95,0,33,5,2,0,0,0,0,0,0,40,0,0]
["Y63","QF7","03N","V005248",9348010001,"Hurlfield Ltd","Hurlfield Dental Practice, 49 Hurlfield Road, SHEFFIELD, South Yorkshire, S12 2SD","S12 2SD",9001,18,1,0,16,2,0,0,0,0,0,0,0,18,0,0]
["Y63","QF7","03N","V005265",3272550001,"High Street Dental Care","High Street Dental Care, 99 High Street, Mosborough, SHEFFIELD, South Yorkshire, S20 5AF","S20 5AF",3752,0,"NA","NA",0,0,0,0,0,0,0,0,0,0,0,0]
["Y63","QF7","03N","V005317",null,null,"Devonshire Quarter Dental, 1 Convent Walk, SHEFFIELD, South Yorkshire, S3 7RX","S3 7RX",1554,"No data","","","","","","","","","","","","","",""]
["Y63","QF7","03N","V005318",1313850001,"HSN Dental Care Ltd","Montgomery House Medical Centre, 83 Infirmary Road, SHEFFIELD, South Yorkshire, S6 3BZ","S6 3BZ",2236,71,0.94366197183098588,5.6338028169014086E-2,57,10,0,4,0,0,0,0,0,71,0,0]
["Y63","QF7","03N","V005381",1321600002,"LWT Dental Care (Ecclesall Road)","L W T Dental Care, 719 Ecclesall Road, SHEFFIELD, South Yorkshire, S11 8TG","S11 8TG",4652,4,"*","*","*","*","*","*","*","*","*","*","*","*","*","*"]
["Y63","QF7","03N","V005396",7404970001,"Burnham & Hanji Dental Surgery","Percival, Burnham & Hanji Dental Surgery, 70 Ringinglow Road, SHEFFIELD, South Yorkshire, S11 7PQ","S11 7PQ",2516,25,1,0,21,4,0,0,0,0,25,0,0,0,0,0]
["Y63","QF7","03N","V005421",null,null,"Dental Surgery, 765 Abbeydale Road, SHEFFIELD, South Yorkshire, S7 2BG","S7 2BG",2387,"No data","","","","","","","","","","","","","",""]
["Y63","QF7","03N","V005443",1823700002,"Dental Directions","Southey Hill Dental Surgery, 30 Southey Hill, SHEFFIELD, South Yorkshire, S5 8BE","S5 8BE",3268,0,"NA","NA",0,0,0,0,0,0,0,0,0,0,0,0]
["Y63","QF7","03N","V007268",1473970001,"Hillsborough Family Dental Centre","1 Victor Street, Sheffield, South Yorkshire, S6 2SA","S6 2SA",1534,34,1,0,32,2,0,0,0,0,0,34,0,0,0,0]
["Y63","QF7","03N","V011438",5630560001,"V. Orliaklis Limited","652-654 STANIFORTH ROAD, DARNALL, SHEFFIELD, S9 4LP","S9 4LP",1596,0,"NA","NA",0,0,0,0,0,0,0,0,0,0,0,0]
["Y63","QF7","03N","V022080",null,null,"Dental Practice, 3 Wortley Road, High Green, Sheffield, South Yorkshire, S35 4LQ","S35 4LQ",5905,"No data","","","","","","","","","","","","","",""]
["Y63","QF7","03N","V022412",6572710001,"MR A BAGGA","194 Duke Street, Park Hill, Sheffield, S2 5QQ","S2 5QQ",1159,6,0.5,0,1,2,3,0,0,0,6,0,0,0,0,0]
["Y63","QHM","00L","V003743",null,null,"Higgins & Winter, 17 Bell Villas, Ponteland, NEWCASTLE UPON TYNE, Tyne And Wear, NE20 9BD","NE20 9BD",255,"No data","","","","","","","","","","","","","",""]
["Y63","QHM","00L","V003809",null,null,"Vine Dentist, 42 Marine Terrace, BLYTH, Northumberland, NE24 2JN","NE24 2JN",6232,"No data","","","","","","","","","","","","","",""]
["Y63","QHM","00L","V003855",null,null,"Newgate Dental Group, 21 23 Newgate Street, MORPETH, Northumberland, NE61 1AW","NE61 1AW",492,"No data","","","","","","","","","","","","","",""]
["Y63","QHM","00L","V003899",null,null,"Dental Surgery, 323 Cowpen Road, BLYTH, Northumberland, NE24 5EZ","NE24 5EZ",991,"No data","","","","","","","","","","","","","",""]
["Y63","QHM","00L","V007647",null,null,"Dental Surgery, The Gables Health Centre, 26 St Johns Road, Bedlington, Northumberland, NE22 7DU","NE22 7DU",905,"No data","","","","","","","","","","","","","",""]
["Y63","QHM","00L","V011736",null,null,"45 High Street, Amble, MORPETH, Northumberland, NE65 0LE","NE65 0LE",2045,"No data","","","","","","","","","","","","","",""]
["Y63","QHM","00N","V001342",null,null,"22 North Road, BOLDON COLLIERY, Tyne and Wear, Tyne And Wear, NE35 9AR","NE35 9AR",2164,"No data","","","","","","","","","","","","","",""]
["Y63","QHM","00N","V001344",null,null,"16 - 22 Westoe Road, SOUTH SHIELDS, Tyne and Wear, NE33 4LZ","NE33 4LZ",14088,"No data","","","","","","","","","","","","","",""]
["Y63","QHM","00N","V001377",null,null,"4 Park Road, HEBBURN, Tyne and Wear, NE31 2UL","NE31 2UL",3735,"No data","","","","","","","","","","","","","",""]
["Y63","QHM","00P","V001610",null,null,"Dental Surgery, 21 Chiswick Square, SUNDERLAND, Tyne And Wear, SR5 3PZ","SR5 3PZ",407,"No data","","","","","","","","","","","","","",""]
["Y63","QHM","00P","V001680",null,null,"The Mill Dental Practice, 154 Newcastle Road, SUNDERLAND, Tyne And Wear, SR5 1NA","SR5 1NA",3315,"No data","","","","","","","","","","","","","",""]
["Y63","QHM","00P","V001731",1444790001,"CSDP(UK) Ltd","Church Street Dental Practice, 6 Church Street, HOUGHTON LE SPRING, Tyne And Wear, DH4 4DN","DH4 4DN",2067,13,1,0,9,4,0,0,0,0,13,0,0,0,0,0]
["Y63","QHM","00P","V001734",null,null,"Wearside Orthodontic Centre, 49 Frederick Street, SUNDERLAND, Tyne And Wear, SR1 1NF","SR1 1NF",1804,"No data","","","","","","","","","","","","","",""]
["Y63","QHM","01H","V003275",null,null,"Dental Surgery, 52 Front Street, BRAMPTON, Cumbria, CA8 1NT","CA8 1NT",4346,"No data","","","","","","","","","","","","","",""]
["Y63","QHM","01H","V003484",null,null,"Dental Surgery, 3 Alma Terrace, Silloth, WIGTON, Cumbria, CA7 4DS","CA7 4DS",1459,"No data","","","","","","","","","","","","","",""]
["Y63","QHM","01H","V003487",null,null,"Dental Surgery, 12 Aglionby Street, CARLISLE, Cumbria, CA1 1JP","CA1 1JP",648,"No data","","","","","","","","","","","","","",""]
["Y63","QHM","01H","V005828",null,null,"Dental Surgery, Lismore House, Lismore Street, CARLISLE, Cumbria, CA1 2AH","CA1 2AH",379,"No data","","","","","","","","","","","","","",""]
["Y63","QHM","01H","V008764",null,null,"Derwent House, Wakefield Road, Cockermouth, Cumbria, CA13 0HS","CA13 0HS",666,"No data","","","","","","","","","","","","","",""]
["Y63","QHM","01H","V009142",null,null,"Dental Practice, 36 Victoria Place, Carlisle, CA1 1EX","CA1 1EX",6121,"No data","","","","","","","","","","","","","",""]
["Y63","QHM","01H","V012755",null,null,"14 Campbell Savours Way, WORKINGTON, Cumbria, CA14 3DZ","CA14 3DZ",4167,"No data","","","","","","","","","","","","","",""]
["Y63","QHM","01H","V022462",9437540003,"MR S ISMAIL","SHIRE HALL, THE SANDS, APPLEBY-IN-WESTMORLAND, CUMBRIA, CA16 6XN","CA16 6XN",366,0,"NA","NA",0,0,0,0,0,0,0,0,0,0,0,0]
["Y63","QHM","13T","V001607",null,null,"129 Osborne Road, NEWCASTLE UPON TYNE, Tyne And Wear, NE2 2TB","NE2 2TB",1796,"No data","","","","","","","","","","","","","",""]
["Y63","QHM","13T","V001625",null,null,"Keith Bellfield And Associates, 1 2 Kenton Park Shopping Centre, NEWCASTLE UPON TYNE, Tyne And Wear, NE3 4RU","NE3 4RU",4725,"No data","","","","","","","","","","","","","",""]
["Y63","QHM","13T","V001626",null,null,"Heaton Dental Clinic, 392 Chillingham Road, NEWCASTLE UPON TYNE, Tyne And Wear, NE6 5QX","NE6 5QX",5426,"No data","","","","","","","","","","","","","",""]
["Y63","QHM","13T","V001651",null,null,"Saville Dental Practice, 6 Saville Place, NEWCASTLE UPON TYNE, Tyne And Wear, NE1 8DQ","NE1 8DQ",2382,"No data","","","","","","","","","","","","","",""]
["Y63","QHM","13T","V001657",null,null,"Crawcrook Dental Practice, 4-5 Beech Grove Terrace, RYTON, Tyne And Wear, NE40 4LZ","NE40 4LZ",3676,"No data","","","","","","","","","","","","","",""]
["Y63","QHM","13T","V001674",null,null,"K S Bamrah And Associates, 27A Jackson Street, GATESHEAD, Tyne And Wear, NE8 1EE","NE8 1EE",835,"No data","","","","","","","","","","","","","",""]
["Y63","QHM","13T","V001694",6368270001,"Honour Health Partnership","90 Osborne Road, Newcastle upon Tyne, Tyne and Wear, Tyne And Wear, NE2 2AP","NE2 2AP",5027,0,"NA","NA",0,0,0,0,0,0,0,0,0,0,0,0]
["Y63","QHM","13T","V001711",null,null,"Richard Grant Dental Surgeon, 55A Church Road, Gosforth, NEWCASTLE UPON TYNE, Tyne And Wear, NE3 1UE","NE3 1UE",123,"No data","","","","","","","","","","","","","",""]
["Y63","QHM","13T","V001715",null,null,"Newburn Dental Surgery, 1 - 3 High Street, Newburn, NEWCASTLE UPON TYNE, Tyne And Wear, NE15 8LN","NE15 8LN",3897,"No data","","","","","","","","","","","","","",""]
["Y63","QHM","13T","V003358",6581700001,"MR ME BENN","8 Team Valley Shopping Village, Kingsway, Team Valley Trading Estate, Gateshead, Tyne and Wear, NE11 0EN","NE11 0EN",2322,11,0.90909090909090906,0,5,5,1,0,0,0,0,11,0,0,0,0]
["Y63","QHM","13T","V013109",null,null,"50 Leazes Park Road, NEWCASTLE UPON TYNE, Tyne And Wear, NE1 4PG","NE1 4PG",1259,"No data","","","","","","","","","","","","","",""]
["Y63","QHM","16C","V000070",2101290001,"Mr B Johnson and Ms F Beaty","Unit 2, Roseberry Shopping Centre,, Roseberry Road,, Redcar,, TS10 4NY","TS10 4NY",7293,30,1,0,26,4,0,0,0,0,0,0,0,0,30,0]
["Y63","QHM","16C","V000078",null,null,"Roseberry Dental Surgery, 118 Westgate, GUISBOROUGH, Cleveland, TS14 6AW","TS14 6AW",2777,"No data","","","","","","","","","","","","","",""]
["Y63","QHM","16C","V000082",null,null,"Dental Surgery, 222 Linthorpe Road, MIDDLESBROUGH, Cleveland, TS1 3QW","TS1 3QW",5106,"No data","","","","","","","","","","","","","",""]
["Y63","QHM","16C","V000102",null,null,"Miss J Mathiesons Dental Surgery, 22 Victoria Road, HARTLEPOOL, Cleveland, TS26 8DD","TS26 8DD",4177,"No data","","","","","","","","","","","","","",""]
["Y63","QHM","16C","V000118",6506760003,"MR PA AVERLEY","Queensway Orthodontics, 156-170 Queensway, BILLINGHAM, Cleveland, TS23 2NT","TS23 2NT",1318,11,1,0,11,0,0,0,0,0,7,0,0,4,0,0]
["Y63","QHM","16C","V000128",null,null,"Roseworth Dental Centre, 73 Ragpath Lane, STOCKTON ON TEES, Cleveland, TS19 9JW","TS19 9JW",7231,"No data","","","","","","","","","","","","","",""]
["Y63","QHM","16C","V000132",null,null,"Yarm Road Dental Practice, 5 - 7 Yarm Road, STOCKTON ON TEES, Cleveland, TS18 3NJ","TS18 3NJ",326,"No data","","","","","","","","","","","","","",""]
["Y63","QHM","16C","V000135",null,null,"Myton Park Dental Centre, 8 Myton Road, Ingleby Barwick, STOCKTON ON TEES, Cleveland, TS17 0WA","TS17 0WA",935,"No data","","","","","","","","","","","","","",""]
["Y63","QHM","16C","V000724",null,null,"Dental Surgery, 15 Jubilee Road, MIDDLESBROUGH, Cleveland, TS6 9EP","TS6 9EP",6239,"No data","","","","","","","","","","","","","",""]
["Y63","QHM","16C","V001293",1164910001,"Toothwise Ltd.","Dental Surgery, 5 Church Row, Hurworth, DARLINGTON, County Durham, DL2 2AQ","DL2 2AQ",1326,0,"NA","NA",0,0,0,0,0,0,0,0,0,0,0,0]
["Y63","QHM","16C","V001315",null,null,"Dental Surgery, 44 Duke Street, DARLINGTON, County Durham, DL3 7AJ","DL3 7AJ",3975,"No data","","","","","","","","","","","","","",""]
["Y63","QHM","16C","V013276",null,null,"Fairfield Medial Centre, Wellburn Road, Stockton, TS19 7PP","TS19 7PP",4440,"No data","","","","","","","","","","","","","",""]
["Y63","QHM","16C","V024805",null,null,"49 Tunstall Avenue, Billingham, Cleveland, TS23 3QB","TS23 3QB",465,"No data","","","","","","","","","","","","","",""]
["Y63","QHM","16C","V098262",null,null,"69-71 Queensway, Billingham, Stockton-on-Tees, TS23 2LU","TS23 2LU",4003,"No data","","","","","","","","","","","","","",""]
["Y63","QHM","84H","V000210",null,null,"Dental Surgery, 5 Clyde Terrace, SPENNYMOOR, County Durham, DL16 7SE","DL16 7SE",2141,"No data","","","","","","","","","","","","","",""]
["Y63","QHM","84H","V000217",null,null,"Castle Dental Practice, 39 Galgate, BARNARD CASTLE, County Durham, DL12 8EJ","DL12 8EJ",3560,"No data","","","","","","","","","","","","","",""]
["Y63","QHM","84H","V000243",8330370010,"Burgess Hyder Dental Group","Stanhope Health Centre, Dales Street, Stanhope, BISHOP AUCKLAND, County Durham, DL13 2XD","DL13 2XD",992,1,"*","*","*","*","*","*","*","*","*","*","*","*","*","*"]
["Y63","QHM","84H","V001263",null,null,"Ferryhill Dental Surgery, Old Sorting Office, Durham Road, FERRYHILL, County Durham, DL17 8LG","DL17 8LG",5939,"No data","","","","","","","","","","","","","",""]
["Y63","QHM","84H","V001345",null,null,"Chester Le Street Community, Hospital, Front Street, CHESTER LE STREET, County Durham, DH3 3AT","DH3 3AT",5,"No data","","","","","","","","","","","","","",""]
["Y63","QHM","84H","V001371",null,null,"Claypath Dental Practice, 71 Claypath, DURHAM, County Durham, DH1 1QT","DH1 1QT",3973,"No data","","","","","","","","","","","","","",""]
["Y63","QHM","84H","V004677",null,null,"Dental Surgery, 1A Clifford Road, STANLEY, County Durham, DH9 0AB","DH9 0AB",2442,"No data","","","","","","","","","","","","","",""]
["Y63","QHM","84H","V004680",null,null,"Burnopfield Dental Practice, 2 4 Busty Bank, Burnopfield, NEWCASTLE UPON TYNE, Tyne And Wear, NE16 6NF","NE16 6NF",1472,"No data","","","","","","","","","","","","","",""]
["Y63","QHM","84H","V012100",8330370008,"Burgess Hyder Dental Group","39 North End, Sedgefield, STOCKTON ON TEES, Cleveland, TS21 2AZ","TS21 2AZ",2084,31,1,0,19,12,0,0,0,0,31,0,0,0,0,0]
["Y63","QHM","84H","V013702",1015760000,"Burgess Hyder Dental Group","Bowburn Dental Health Centre, Ground Floor Suite, Wellsprings Business Centre, BOWBURN, DH6 5AU","DH6 5AU",1880,0,"NA","NA",0,0,0,0,0,0,0,0,0,0,0,0]
["Y63","QHM","84H","V213970",null,null,"Falchion Orthodontics Limited, Harrison House, Hawthorn Terrace, Durham, DH1 4EL","DH1 4EL",674,"No data","","","","","","","","","","","","","",""]
["Y63","QHM","99C","V001617",null,null,"Broadway Dental Surgery, 242 The Broadway, NORTH SHIELDS, Tyne And Wear, NE30 3DB","NE30 3DB",184,"No data","","","","","","","","","","","","","",""]
["Y63","QHM","99C","V001646",null,null,"Oasis Dental Care Ltd, 102 Bedford Street, NORTH SHIELDS, Tyne And Wear, NE29 6QJ","NE29 6QJ",3111,"No data","","","","","","","","","","","","","",""]
["Y63","QHM","99C","V001688",null,null,"The Whitley Dental Clinic, 48 Roxburgh Terrace, WHITLEY BAY, Tyne And Wear, NE26 1DS","NE26 1DS",3277,"No data","","","","","","","","","","","","","",""]
["Y63","QOQ","02Y","V004026",null,null,"6 New Road, DRIFFIELD, North Humberside, YO25 5DL","YO25 5DL",1648,"No data","","","","","","","","","","","","","",""]
["Y63","QOQ","02Y","V005254",1007820000,"Dental Design Studio","Cliff Road Dental Practice, 9 Cliff Road, HORNSEA, North Humberside, HU18 1LL","HU18 1LL",362,1,"*","*","*","*","*","*","*","*","*","*","*","*","*","*"]
["Y63","QOQ","02Y","V008300",null,null,"Dental Surgery, 15 Burlington Crescent, GOOLE, North Humberside, DN14 5EF","DN14 5EF",1246,"No data","","","","","","","","","","","","","",""]
["Y63","QOQ","02Y","V008537",2136830001,"MRS C BOLLAND","Dental Surgery, 40 - 44 Church Street, South Cave, BROUGH, North Humberside, HU15 2EP","HU15 2EP",12506,8,1,0,6,2,0,0,0,0,8,0,0,0,0,0]
["Y63","QOQ","02Y","V011439",1012810121,"OASIS DENTAL CARE LTD","Suite 2A & B Bridlington House, Bridlington Business Park, Bessingby Industrial Estate, BRIDLINGTON, North Humberside, YO16 4SJ","YO16 4SJ",5125,0,"NA","NA",0,0,0,0,0,0,0,0,0,0,0,0]
["Y63","QOQ","02Y","V011868",null,null,"City Health Dental - Beverley, Manor Road, Beverley, HU17 9BZ","HU17 9BZ",2023,"No data","","","","","","","","","","","","","",""]
["Y63","QOQ","02Y","V013014",null,null,"4 Hull Road, WITHERNSEA, North Humberside, HU19 2DZ","HU19 2DZ",1759,"No data","","","","","","","","","","","","","",""]
["Y63","QOQ","03F","V004391",null,null,"Dental Surgery, 396 Anlaby Road, HULL, North Humberside, HU3 6PB","HU3 6PB",4571,"No data","","","","","","","","","","","","","",""]
["Y63","QOQ","03F","V008865",1573410001,"Freetown Way Surgery Limited","Freetown Way Dental Surgery, Suite Two, 15 Freetown Way, Kingston Upon Hull, HU2 8JQ","HU2 8JQ",2603,13,1,0,10,3,0,0,0,0,13,0,0,0,0,0]
["Y63","QOQ","03F","V008898",null,null,"243 Newland Avenue, HULL, North Humberside, HU5 2EJ","HU5 2EJ",5219,"No data","","","","","","","","","","","","","",""]
["Y63","QOQ","03F","V012202",null,null,"Pierce & Geddes Limited, The East Hull Dental Centre, 822 Holderness Road, Hull, HU9 3LP","HU9 3LP",8617,"No data","","","","","","","","","","","","","",""]
["Y63","QOQ","03F","V012881",1934450001,"Genesis Dental Care","Genesis Dental Care, Unit H, North Point Shopping Centre, Bransholme, Hull, HU7 4EE","HU7 4EE",6160,18,0.88888888888888884,0.1111111111111111,16,0,0,2,0,0,0,0,0,18,0,0]
["Y63","QOQ","03H","V005456",1807850001,"Emergency Dental Services Limited","17 - 19 Osborne Street, GRIMSBY, South Humberside, DN31 1EY","DN31 1EY",4667,11,1,0,9,2,0,0,0,0,11,0,0,0,0,0]
["Y63","QOQ","03H","V007184",null,null,"Dental Surgery, 10 New Road, Waltham, GRIMSBY, South Humberside, DN37 0EN","DN37 0EN",219,"No data","","","","","","","","","","","","","",""]
["Y63","QOQ","03H","V007238",null,null,"Dental Surgery, 34 Hainton Avenue, GRIMSBY, South Humberside, DN32 9BB","DN32 9BB",1857,"No data","","","","","","","","","","","","","",""]
["Y63","QOQ","03K","V007439",1697810001,"Scunthorpe Health Club Limited","Dental Health Club, 37 39 Oswald Road, SCUNTHORPE, South Humberside, DN15 7PN","DN15 7PN",3678,2,"*","*","*","*","*","*","*","*","*","*","*","*","*","*"]
["Y63","QOQ","03K","V007556",1008020000,"The Dental Design Studio","The Dental Design Studio, 215 Ashby Road, SCUNTHORPE, South Humberside, DN16 2AA","DN16 2AA",971,1,"*","*","*","*","*","*","*","*","*","*","*","*","*","*"]
["Y63","QOQ","03K","V008499",1326670001,"Barton Dental Care Limited","Barton Dental Centre, 34 - 38 High Street, BARTON UPON HUMBER, South Humberside, DN18 5PD","DN18 5PD",2636,0,"NA","NA",0,0,0,0,0,0,0,0,0,0,0,0]
["Y63","QOQ","03Q","V005135",null,null,"Dental Surgery, 27 Viking Road, Stamford Bridge, YORK, North Yorkshire, YO41 1BS","YO41 1BS",300,"No data","","","","","","","","","","","","","",""]
["Y63","QOQ","03Q","V007179",null,null,"Dental Surgery, 37 West End, Kirkbymoorside, YORK, North Yorkshire, YO62 6AD","YO62 6AD",4545,"No data","","","","","","","","","","","","","",""]
["Y63","QOQ","03Q","V007673",1913610001,"Hopkins & Poyner Dental Surgery","Dental Surgery, 29 High Petergate, YORK, North Yorkshire, YO1 7HP","YO1 7HP",4565,56,1,0,50,6,0,0,0,0,5,0,0,0,51,0]
["Y63","QOQ","03Q","V007732",null,null,"Holbrook Dental Practice, 1 Howard Street, YORK, North Yorkshire, YO10 4BQ","YO10 4BQ",145,"No data","","","","","","","","","","","","","",""]
["Y63","QOQ","03Q","V008219",null,null,"Wigginton Dental Practice, 18 Mill Lane, Wigginton, YORK, North Yorkshire, YO32 2PU","YO32 2PU",541,"No data","","","","","","","","","","","","","",""]
["Y63","QOQ","03Q","V011312",null,null,"1 Pioneer Business Park, Amy Johnson Way, Clifton Moor, York, YO30 4TN","YO30 4TN",6915,"No data","","","","","","","","","","","","","",""]
["Y63","QOQ","42D","V004401",null,null,"Mount Parade Dental Surgery, 14 Mount Parade, HARROGATE, North Yorkshire, HG1 1BX","HG1 1BX",2392,"No data","","","","","","","","","","","","","",""]
["Y63","QOQ","42D","V004414",1499180001,"North Park Dental Practice","Dental Surgery, 3 North Park Road, HARROGATE, North Yorkshire, HG1 5PD","HG1 5PD",3293,3,"*","*","*","*","*","*","*","*","*","*","*","*","*","*"]
["Y63","QOQ","42D","V004423",7621800001,"MR RJ BROMILEY","Beech House Dental Practice, 2 North Road, RIPON, North Yorkshire, HG4 1HN","HG4 1HN",5512,3,"*","*","*","*","*","*","*","*","*","*","*","*","*","*"]
["Y63","QOQ","42D","V004432",null,null,"Boroughbridge Dental Centre, Wetherby Road, Boroughbridge, YORK, YO51 9HS","YO51 9HS",2087,"No data","","","","","","","","","","","","","",""]
["Y63","QOQ","42D","V006666",8197940001,"Stokesley Dental Practice","Stokesley Dental Practice, 6 East End, Stokesley, MIDDLESBROUGH, Cleveland, TS9 5DP","TS9 5DP",4099,2,"*","*","*","*","*","*","*","*","*","*","*","*","*","*"]
["Y63","QOQ","42D","V007173",null,null,"Dental Surgery, Old Police House, Victoria Road, MALTON, North Yorkshire, YO17 7JJ","YO17 7JJ",1042,"No data","","","","","","","","","","","","","",""]
["Y63","QOQ","42D","V007281",null,null,"Filey Dental Care Centre, Station Avenue, FILEY, North Yorkshire, YO14 9AH","YO14 9AH",3715,"No data","","","","","","","","","","","","","",""]
["Y63","QOQ","42D","V012704",null,null,"Alpha Dental Studio, Brompton Road, NORTHALLERTON, North Yorkshire, DL6 1DY","DL6 1DY",7348,"No data","","","","","","","","","","","","","",""]
["Y63","QOQ","42D","V025549",null,null,"2 Hookstone Park, Hookstone Chase, Harrogate, HG2 7DB","HG2 7DB",4289,"No data","","","","","","","","","","","","","",""]
["Y63","QWO","02T","V001902",null,null,"Dental Surgery, 10 Church Street, BRIGHOUSE, West Yorkshire, HD6 3NF","HD6 3NF",271,"No data","","","","","","","","","","","","","",""]
["Y63","QWO","02T","V001997",null,null,"Dental Surgery, 176 Oldham Road, SOWERBY BRIDGE, West Yorkshire, HX6 4EB","HX6 4EB",466,"No data","","","","","","","","","","","","","",""]
["Y63","QWO","02T","V002005",null,null,"Dental Surgery, Carr Wood House, Carr House Road, HALIFAX, West Yorkshire, HX3 7RJ","HX3 7RJ",1786,"No data","","","","","","","","","","","","","",""]
["Y63","QWO","02T","V002626",null,null,"Grange Dene, Mytholmroyd, HEBDEN BRIDGE, West Yorkshire, HX7 5LL","HX7 5LL",3623,"No data","","","","","","","","","","","","","",""]
["Y63","QWO","03R","V001854",null,null,"Dental Surgery, 11 Station Lane, Featherstone, PONTEFRACT, West Yorkshire, WF7 5BE","WF7 5BE",690,"No data","","","","","","","","","","","","","",""]
["Y63","QWO","03R","V001855",1012810009,"OASIS DENTAL CARE LTD","Oasis Dental Care, 28 32 Market Place, PONTEFRACT, West Yorkshire, WF8 1AT","WF8 1AT",1930,0,"NA","NA",0,0,0,0,0,0,0,0,0,0,0,0]
["Y63","QWO","03R","V001863",1831800001,"Airedale Dental Practice","Airedale Dental Practice, The Square, CASTLEFORD, West Yorkshire, WF10 3JJ","WF10 3JJ",1619,9,1,0,7,2,0,0,0,0,9,0,0,0,0,0]
["Y63","QWO","03R","V001886",7219800007,"MR A HUSSAIN","Cheethams Dental Surgery, 21 High Street, NORMANTON, West Yorkshire, WF6 2AD","WF6 2AD",3027,4,"*","*","*","*","*","*","*","*","*","*","*","*","*","*"]
["Y63","QWO","03R","V001887",1512110002,"Milne, Spencer & Harris Dental Surgeons","Dental Surgery, 105 Station Lane, Featherstone, PONTEFRACT, West Yorkshire, WF7 5BA","WF7 5BA",2220,5,1,0,5,0,0,0,0,0,5,0,0,0,0,0]
["Y63","QWO","03R","V001890",9141260001,"Ropergate Dental Practice","Ropergate Dental Practice, 47 Ropergate, PONTEFRACT, West Yorkshire, WF8 1JY","WF8 1JY",4490,9,1,0,9,0,0,0,0,0,9,0,0,0,0,0]
["Y63","QWO","03R","V001892",null,null,"Dental Surgery, Belks Court, PONTEFRACT, West Yorkshire, WF8 1DF","WF8 1DF",1598,"No data","","","","","","","","","","","","","",""]
["Y63","QWO","03R","V001893",null,null,"P R Jones And Associates, 134 Southgate, PONTEFRACT, West Yorkshire, WF8 1QT","WF8 1QT",4251,"No data","","","","","","","","","","","","","",""]
["Y63","QWO","03R","V001896",1978900001,"Armstrong & Haire Ltd","Armstrong Haire And Associates, 38 Bank Street, CASTLEFORD, West Yorkshire, WF10 1JD","WF10 1JD",6307,286,0.97552447552447552,6.993006993006993E-3,254,25,5,2,0,0,0,0,0,0,286,0]
["Y63","QWO","03R","V001897",1594920001,"James Taylor & Partners Ltd","James Taylor and Partners, Elizabeth House, Bradley Street, CASTLEFORD, West Yorkshire, WF10 1HS","WF10 1HS",6810,0,"NA","NA",0,0,0,0,0,0,0,0,0,0,0,0]
["Y63","QWO","03R","V001899",1956500001,"MRS FY MARTIN","Market Dental Care, Barnsley Road, South Elmsall, Pontefract, West Yorkshire, WF9 2SE","WF9 2SE",634,0,"NA","NA",0,0,0,0,0,0,0,0,0,0,0,0]
["Y63","QWO","03R","V001901",7219800006,"MR A HUSSAIN","Dental Surgery, 11 - 11A Hill Top, KNOTTINGLEY, West Yorkshire, WF11 8EB","WF11 8EB",3453,0,"NA","NA",0,0,0,0,0,0,0,0,0,0,0,0]
["Y63","QWO","03R","V002345",null,null,"Outwood Dental Practice, 569 Leeds Road, WAKEFIELD, West Yorkshire, WF1 2JL","WF1 2JL",2803,"No data","","","","","","","","","","","","","",""]
["Y63","QWO","03R","V002346",null,null,"Dental Surgery, 39 - 41 Peterson Road, WAKEFIELD, West Yorkshire, WF1 4DU","WF1 4DU",2522,"No data","","","","","","","","","","","","","",""]
["Y63","QWO","03R","V002353",null,null,"Trinity House Orthodontics, Trinity House, Borough Road, WAKEFIELD, West Yorkshire, WF1 3AZ","WF1 3AZ",1606,"No data","","","","","","","","","","","","","",""]
["Y63","QWO","03R","V002357",null,null,"Dental Surgery, 155 Dewsbury Road, WAKEFIELD, West Yorkshire, WF2 9BQ","WF2 9BQ",436,"No data","","","","","","","","","","","","","",""]
["Y63","QWO","03R","V002359",8554640004,"MR JA KHAN","Wrenthorpe Dental Care, Wrenthorpe Health Centre, Wrenthorpe Lane, Wrenthorpe, WAKEFIELD, West Yorkshire, WF2 0NL","WF2 0NL",830,45,0.93333333333333335,2.2222222222222223E-2,31,11,1,0,1,1,45,0,0,0,0,0]
["Y63","QWO","03R","V002365",2024010004,"MR RS NICHOLSON","R S Nicholson's Dental Surgery, 27 High Street, Crofton, WAKEFIELD, West Yorkshire, WF4 1NF","WF4 1NF",2243,6,1,0,4,2,0,0,0,0,6,0,0,0,0,0]
["Y63","QWO","03R","V002367",null,null,"The Bungalow Dental Practice, 29 Upper Lane, Netherton, WAKEFIELD, West Yorkshire, WF4 4NQ","WF4 4NQ",2098,"No data","","","","","","","","","","","","","",""]
["Y63","QWO","03R","V002369",null,null,"Dental Surgery, 102 High Street, Crigglestone, WAKEFIELD, West Yorkshire, WF4 3EF","WF4 3EF",1438,"No data","","","","","","","","","","","","","",""]
["Y63","QWO","03R","V002372",1252370001,"Horbury Dental Care Limited","Horbury Dental Care, Vincent House, Queen Street, Horbury, WAKEFIELD, WF4 6LP","WF4 6LP",7175,229,0.9606986899563319,0,187,33,4,0,0,5,0,0,0,229,0,0]
["Y63","QWO","03R","V002378",null,null,"Dental Practice, 46 Bank Street, OSSETT, West Yorkshire, WF5 8NW","WF5 8NW",4987,"No data","","","","","","","","","","","","","",""]
["Y63","QWO","03R","V009006",null,null,"Newstead House, 11 Bond Street, WAKEFIELD, West Yorkshire, WF1 2QJ","WF1 2QJ",692,"No data","","","","","","","","","","","","","",""]
["Y63","QWO","03R","V010090",null,null,"Castleford Dental Clinic, Castleford Health Centre, Welbeck Street, CASTLEFORD, West Yorkshire, WF10 1HB","WF10 1HB",199,"No data","","","","","","","","","","","","","",""]
["Y63","QWO","03R","V010091",null,null,"Pontefract Dental Clinic, Pontefract Health Centre, Trinity Street, PONTEFRACT, West Yorkshire, WF8 1EY","WF8 1EY",140,"No data","","","","","","","","","","","","","",""]
["Y63","QWO","03R","V010106",null,null,"Dental Surgery, Newton Lodge, Forensic Phychiatry Unit, Fieldhead Hospital, Ouchthorpe Lane, Wakefield, WF1 3SP","WF1 3SP",44,"No data","","","","","","","","","","","","","",""]
["Y63","QWO","03R","V010107",null,null,"HMP & YOI New Hall, Dial Wood, Flockton, Wakefield, WF4 4AX","WF4 4AX",33,"No data","","","","","","","","","","","","","",""]
["Y63","QWO","03R","V010466",null,null,"The Mount Dental Practice, 1 Highfield Road, Hemsworth, Pontefract, West Yorkshire, WF9 4DP","WF9 4DP",9209,"No data","","","","","","","","","","","","","",""]
["Y63","QWO","03R","V011188",null,null,"Wesley Dental Care, 68 Bank Street, Ossett, West Yorkshire, WF5 8NW","WF5 8NW",796,"No data","","","","","","","","","","","","","",""]
["Y63","QWO","03R","V011373",null,null,"Jackro Healthcare Services Ltd, 28 Bond Street, Wakefield, WF1 2QP","WF1 2QP",5878,"No data","","","","","","","","","","","","","",""]
["Y63","QWO","03R","V011837",7219800004,"MR A HUSSAIN","11B Hill Top, Knottingley, West Yorkshire, WF11 8EB","WF11 8EB",4042,1,"*","*","*","*","*","*","*","*","*","*","*","*","*","*"]
["Y63","QWO","03R","V013030",1512110001,"Milne, Spencer & Harris Dental Surgeons","Dental Surgery, Kings Medical Centre, King Edward Street, Normanton, West Yorkshire, WF6 2AZ","WF6 2AZ",4467,8,1,0,7,1,0,0,0,0,8,0,0,0,0,0]
["Y63","QWO","03R","V013174",null,null,"Citrine House, Borough Road, WAKEFIELD, West Yorkshire, WF1 3AZ","WF1 3AZ",6264,"No data","","","","","","","","","","","","","",""]
["Y63","QWO","03R","V025576",null,null,"Community Dental Clinic, Church View Health Centre, Langthwaite Road, South Kirkby, WF9 3AP","WF9 3AP",136,"No data","","","","","","","","","","","","","",""]
["Y63","QWO","03R","V032671",null,null,"53 Wakefield Road, Pontefract, West Yorkshire, WF7 7AA","WF7 7AA",2236,"No data","","","","","","","","","","","","","",""]
["Y63","QWO","03R","V042304",null,null,"51 BARNSLEY ROAD, SOUTH ELMSALL, PONTEFRACT, WF9 2RN","WF9 2RN",463,"No data","","","","","","","","","","","","","",""]
["Y63","QWO","03R","V216380",null,null,"18 BEASTFAIR, PONTEFRACT, WF8 1AW","WF8 1AW",2517,"No data","","","","","","","","","","","","","",""]
["Y63","QWO","15F","V000058",null,null,"380 Broad Lane, LEEDS, West Yorkshire, LS13 2HS","LS13 2HS",3403,"No data","","","","","","","","","","","","","",""]
["Y63","QWO","15F","V000356",null,null,"3A Windsor Court, Morley, Leeds, LS27 9BG","LS27 9BG",3292,"No data","","","","","","","","","","","","","",""]
["Y63","QWO","15F","V002479",8278350001,"Dental Practice Hunslet","Dental Surgery, Fraternity House, 50 Church Street, Hunslet, LEEDS, LS10 2AR","LS10 2AR",3239,16,1,0,16,0,0,0,0,0,0,0,0,0,16,0]
["Y63","QWO","15F","V002479",8278350002,"Dental Practice Hunslet","Dental Surgery, Fraternity House, 50 Church Street, Hunslet, LEEDS, LS10 2AR","LS10 2AR",1049,16,1,0,16,0,0,0,0,0,0,0,0,0,16,0]
["Y63","QWO","15F","V002495",2330130003,"MR IS BOYD","Town Street Dental Practice, 75 Town Street, Middleton, LEEDS, West Yorkshire, LS10 3NG","LS10 3NG",2488,1,"*","*","*","*","*","*","*","*","*","*","*","*","*","*"]
["Y63","QWO","15F","V002526",1012810030,"OASIS DENTAL CARE LTD","Oasis Dental Care, 87 Old Lane, LEEDS, West Yorkshire, LS11 7AB","LS11 7AB",3955,5,1,0,4,1,0,0,0,0,0,0,0,0,5,0]
["Y63","QWO","15F","V002574",null,null,"Dental Surgery, 220 Dewsbury Road, LEEDS, West Yorkshire, LS11 6ER","LS11 6ER",2938,"No data","","","","","","","","","","","","","",""]
["Y63","QWO","15F","V002589",null,null,"Leeds City Dentalcare, 159 Beeston Road, Beeston, Leeds, West Yorkshire, LS11 6AW","LS11 6AW",2023,"No data","","","","","","","","","","","","","",""]
["Y63","QWO","15F","V002593",null,null,"2 Lady Pit Lane, LEEDS, West Yorkshire, LS11 6AJ","LS11 6AJ",3484,"No data","","","","","","","","","","","","","",""]
["Y63","QWO","15F","V002594",null,null,"Dental Surgery, 73 Domestic Street, LEEDS, West Yorkshire, LS11 9NS","LS11 9NS",1670,"No data","","","","","","","","","","","","","",""]
["Y63","QWO","15F","V002599",9292710001,"Rothwell Dental Surgery","Dental Surgery, 4 Butcher Lane, Rothwell, LEEDS, West Yorkshire, LS26 0DB","LS26 0DB",2881,33,0.96969696969696972,3.0303030303030304E-2,30,2,0,0,1,0,0,22,11,0,0,0]
["Y63","QWO","15F","V002627",null,null,"Gillett Bungalow Dental Surgery, Gillett Lane, Rothwell, LEEDS, West Yorkshire, LS26 0EG","LS26 0EG",186,"No data","","","","","","","","","","","","","",""]
["Y63","QWO","15F","V002628",null,null,"Quarry House Dental Practice, Quarry House, Quarry Hill, LEEDS, West Yorkshire, LS2 7PD","LS2 7PD",620,"No data","","","","","","","","","","","","","",""]
["Y63","QWO","15F","V002629",8348580003,"Jem Dental Care Practice Partnership","Dental Surgery, 210 214 Harehills Lane, LEEDS, West Yorkshire, LS8 5DH","LS8 5DH",3945,10,0.8,0.1,7,1,1,0,1,0,0,0,0,9,1,0]
["Y63","QWO","15F","V002630",8471940001,"MR MJ MILLICAN","Rothwell Dental Care, 22 Royds Lane, Rothwell, LEEDS, West Yorkshire, LS26 0BE","LS26 0BE",4301,8,1,0,7,1,0,0,0,0,8,0,0,0,0,0]
["Y63","QWO","15F","V002631",null,null,"Dental Surgery, The Fountain Medical Centre, Little Fountain Street, Morley, LEEDS, West Yorkshire, LS27 9EN","LS27 9EN",3555,"No data","","","","","","","","","","","","","",""]
["Y63","QWO","15F","V002634",null,null,"Dental Surgery, 386 York Road, LEEDS, West Yorkshire, LS9 9ED","LS9 9ED",2304,"No data","","","","","","","","","","","","","",""]
["Y63","QWO","15F","V002635",null,null,"Dental Surgery, 401 Harehills Lane, LEEDS, West Yorkshire, LS9 6AP","LS9 6AP",1749,"No data","","","","","","","","","","","","","",""]
["Y63","QWO","15F","V002636",null,null,"East Park Medical Centre, 5 - 7 East Park Road, LEEDS, West Yorkshire, LS9 9JD","LS9 9JD",1994,"No data","","","","","","","","","","","","","",""]
["Y63","QWO","15F","V002645",null,null,"S J Barrett And Associates, 896 York Road, LEEDS, West Yorkshire, LS14 6HT","LS14 6HT",1810,"No data","","","","","","","","","","","","","",""]
["Y63","QWO","15F","V002646",null,null,"Dental Surgery, 130 Cross Gates Lane, LEEDS, West Yorkshire, LS15 7PH","LS15 7PH",2689,"No data","","","","","","","","","","","","","",""]
["Y63","QWO","15F","V002647",null,null,"Church View Dental Care, 39 41 Austhorpe Road, LEEDS, West Yorkshire, LS15 8BA","LS15 8BA",1338,"No data","","","","","","","","","","","","","",""]
["Y63","QWO","15F","V002649",null,null,"Dental Surgery, 68 Austhorpe Road, LEEDS, West Yorkshire, LS15 8DZ","LS15 8DZ",1147,"No data","","","","","","","","","","","","","",""]
["Y63","QWO","15F","V002652",null,null,"Crossgates Dental Centre, 2 Manston Lane, LEEDS, West Yorkshire, LS15 8HZ","LS15 8HZ",2303,"No data","","","","","","","","","","","","","",""]
["Y63","QWO","15F","V002657",null,null,"Dental 192, 192 Selby Road, Halton, LEEDS, West Yorkshire, LS15 0LF","LS15 0LF",3098,"No data","","","","","","","","","","","","","",""]
["Y63","QWO","15F","V002659",null,null,"Selby Road Dental Practice, 95 Selby Road, LEEDS, West Yorkshire, LS15 7JL","LS15 7JL",1438,"No data","","","","","","","","","","","","","",""]
["Y63","QWO","15F","V002664",null,null,"Holme Lea Dental Surgery, 13 Watson Street, Morley, LEEDS, West Yorkshire, LS27 0AH","LS27 0AH",995,"No data","","","","","","","","","","","","","",""]
["Y63","QWO","15F","V002669",null,null,"Kippax Dental Centre, 271 Gibson Lane, Kippax, LEEDS, West Yorkshire, LS25 7JN","LS25 7JN",509,"No data","","","","","","","","","","","","","",""]
["Y63","QWO","15F","V002671",null,null,"Dental Surgery, 35A Main Street, Garforth, LEEDS, West Yorkshire, LS25 1DS","LS25 1DS",2993,"No data","","","","","","","","","","","","","",""]
["Y63","QWO","15F","V002675",null,null,"Dental Surgery, 54 Main Street, Garforth, LEEDS, West Yorkshire, LS25 1AA","LS25 1AA",5425,"No data","","","","","","","","","","","","","",""]
["Y63","QWO","15F","V002677",null,null,"Dental Surgery, 67A Wakefield Road, Garforth, LEEDS, West Yorkshire, LS25 1AR","LS25 1AR",2501,"No data","","","","","","","","","","","","","",""]
["Y63","QWO","15F","V002681",null,null,"M R Hanson & Associates Dental, York House, 16 Main Street, Garforth, LEEDS, LS25 1EZ","LS25 1EZ",963,"No data","","","","","","","","","","","","","",""]
["Y63","QWO","15F","V002685",null,null,"Dental Surgery, 12 Corporation Street, Morley, LEEDS, West Yorkshire, LS27 9NB","LS27 9NB",5474,"No data","","","","","","","","","","","","","",""]
["Y63","QWO","15F","V002715",null,null,"Dental Surgery, 4 Hall Road, LEEDS, West Yorkshire, LS12 1XB","LS12 1XB",2028,"No data","","","","","","","","","","","","","",""]
["Y63","QWO","15F","V002718",null,null,"Whingate Dental Care, 268 Tong Road, LEEDS, West Yorkshire, LS12 3BG","LS12 3BG",2934,"No data","","","","","","","","","","","","","",""]
["Y63","QWO","15F","V002728",null,null,"Dental Surgery, 97 Armley Ridge Road, LEEDS, West Yorkshire, LS12 3PE","LS12 3PE",2228,"No data","","","","","","","","","","","","","",""]
["Y63","QWO","15F","V002747",null,null,"Dental Surgery, 106A Dixon Lane, LEEDS, West Yorkshire, LS12 4AD","LS12 4AD",2104,"No data","","","","","","","","","","","","","",""]
["Y63","QWO","15F","V002770",null,null,"Dental Surgery, 8 Montreal Avenue, LEEDS, West Yorkshire, LS7 4LF","LS7 4LF",3278,"No data","","","","","","","","","","","","","",""]
["Y63","QWO","15F","V002782",null,null,"Stainbeck Dental Surgery, 58 Stainbeck Road, LEEDS, West Yorkshire, LS7 2PW","LS7 2PW",4658,"No data","","","","","","","","","","","","","",""]
["Y63","QWO","15F","V002787",1034620001,"Xen Smiles Ltd","241 Green Hill Road, LEEDS, West Yorkshire, LS13 4AJ","LS13 4AJ",2074,32,0.84375,0,16,11,5,0,0,0,32,0,0,0,0,0]
["Y63","QWO","15F","V002790",null,null,"Bramley Dental Care, 226 Stanningley Road, LEEDS, West Yorkshire, LS13 3BA","LS13 3BA",6833,"No data","","","","","","","","","","","","","",""]
["Y63","QWO","15F","V002794",6509860001,"Miss Laura Beardsmore","The Poplars Dental Surgery, 43 Rodley Lane, Rodley, LEEDS, West Yorkshire, LS13 1LT","LS13 1LT",3641,0,"NA","NA",0,0,0,0,0,0,0,0,0,0,0,0]
["Y63","QWO","15F","V002799",null,null,"Dental Surgery, 51 Richardshaw Lane, PUDSEY, West Yorkshire, LS28 7NB","LS28 7NB",6207,"No data","","","","","","","","","","","","","",""]
["Y63","QWO","15F","V002801",null,null,"Eastleigh Dental Health Practice, 103 Old Road, Farsley, PUDSEY, West Yorkshire, LS28 5BR","LS28 5BR",385,"No data","","","","","","","","","","","","","",""]
["Y63","QWO","15F","V002802",null,null,"Farsley Dental Practice, Town Street, Farsley, PUDSEY, West Yorkshire, LS28 5HX","LS28 5HX",3481,"No data","","","","","","","","","","","","","",""]
["Y63","QWO","15F","V002910",null,null,"Briggate Dental Practice, 4 Briggate, LEEDS, West Yorkshire, LS1 4AF","LS1 4AF",2676,"No data","","","","","","","","","","","","","",""]
["Y63","QWO","15F","V002950",null,null,"NewSmile Dentalcare, 176-178 Woodhouse Lane, LEEDS, West Yorkshire, LS2 9HB","LS2 9HB",1802,"No data","","","","","","","","","","","","","",""]
["Y63","QWO","15F","V002955",null,null,"Dental Surgery, 327 Kirkstall Road, LEEDS, West Yorkshire, LS4 2HD","LS4 2HD",978,"No data","","","","","","","","","","","","","",""]
["Y63","QWO","15F","V002968",3286930001,"Mr DE Kaufman","1 St Michaels Lane, LEEDS, West Yorkshire, LS6 3AN","LS6 3AN",3039,11,1,0,10,1,0,0,0,0,11,0,0,0,0,0]
["Y63","QWO","15F","V002972",3587890001,"MR BS PANESAR","Meanwood Dental Surgery, 583 Meanwood Road, LEEDS, West Yorkshire, LS6 4AY","LS6 4AY",3928,6,0.83333333333333337,0,4,1,1,0,0,0,6,0,0,0,0,0]
["Y63","QWO","15F","V002973",null,null,"Dental Surgery, 58 Brudenell Road, LEEDS, West Yorkshire, LS6 1EG","LS6 1EG",462,"No data","","","","","","","","","","","","","",""]
["Y63","QWO","15F","V002975",null,null,"Dental Surgery, 1 Moor View, Hyde Park Road, Headingley, LEEDS, West Yorkshire, LS6 1AQ","LS6 1AQ",2934,"No data","","","","","","","","","","","","","",""]
["Y63","QWO","15F","V002987",null,null,"Dental Surgery, 188 Butcher Hill, LEEDS, West Yorkshire, LS16 5BG","LS16 5BG",2110,"No data","","","","","","","","","","","","","",""]
["Y63","QWO","15F","V002993",9057550001,"Chelwood Dental Care","Dental Surgery, 21 Chelwood Drive, LEEDS, West Yorkshire, LS8 2AT","LS8 2AT",2984,24,0.95833333333333337,4.1666666666666664E-2,22,1,0,0,1,0,0,0,0,11,13,0]
["Y63","QWO","15F","V002995",null,null,"Dental Surgery, 68 Otley Old Road, LEEDS, West Yorkshire, LS16 6LQ","LS16 6LQ",605,"No data","","","","","","","","","","","","","",""]
["Y63","QWO","15F","V002998",null,null,"Precious Dental Practice, 20 Gledhow Avenue, LEEDS, West Yorkshire, LS8 1NU","LS8 1NU",2710,"No data","","","","","","","","","","","","","",""]
["Y63","QWO","15F","V003000",null,null,"Horsforth Smile Clinic, 2 Town Street, Horsforth, LEEDS, West Yorkshire, LS18 4RJ","LS18 4RJ",4469,"No data","","","","","","","","","","","","","",""]
["Y63","QWO","15F","V003004",null,null,"Dental Surgery, 2A Marshall Street, Yeadon, LEEDS, West Yorkshire, LS19 7SR","LS19 7SR",23,"No data","","","","","","","","","","","","","",""]
["Y63","QWO","15F","V003009",1933560001,"Guiseley Dental care","Guiseley Dental Care, 8 The Green, Guiseley, LEEDS, West Yorkshire, LS20 9BT","LS20 9BT",1266,0,"NA","NA",0,0,0,0,0,0,0,0,0,0,0,0]
["Y63","QWO","15F","V003010",null,null,"Dental Surgery, 313A Roundhay Road, LEEDS, West Yorkshire, LS8 4HT","LS8 4HT",3662,"No data","","","","","","","","","","","","","",""]
["Y63","QWO","15F","V003016",null,null,"Oakwood Dental Practice, 611 Roundhay Road, LEEDS, West Yorkshire, LS8 4AR","LS8 4AR",3491,"No data","","","","","","","","","","","","","",""]
["Y63","QWO","15F","V003027",2286720001,"Bridge Street Dental Practice","Dental Surgery, 1B Bridge Street, OTLEY, West Yorkshire, LS21 1BQ","LS21 1BQ",1196,20,1,0,19,1,0,0,0,0,20,0,0,0,0,0]
["Y63","QWO","15F","V003029",null,null,"69 Boroughgate, Otley, West Yorkshire, West Yorkshire, LS21 1AE","LS21 1AE",555,"No data","","","","","","","","","","","","","",""]
["Y63","QWO","15F","V003030",null,null,"Dental Surgery, 10 Manor Square, OTLEY, West Yorkshire, LS21 3AP","LS21 3AP",7308,"No data","","","","","","","","","","","","","",""]
["Y63","QWO","15F","V003036",null,null,"467 - 467A Otley Road, Adel, Leeds, LS16 7NR","LS16 7NR",85,"No data","","","","","","","","","","","","","",""]
["Y63","QWO","15F","V003042",null,null,"Orthosolutions, Unit A, Moor Allerton Centre, LEEDS, West Yorkshire, LS17 5NY","LS17 5NY",2806,"No data","","","","","","","","","","","","","",""]
["Y63","QWO","15F","V003057",null,null,"457 Street Lane, LEEDS, West Yorkshire, LS17 6HQ","LS17 6HQ",4219,"No data","","","","","","","","","","","","","",""]
["Y63","QWO","15F","V003064",8440980001,"MR AM QAYYUM","High Ash Dental Surgery, 88 High Ash Drive, LEEDS, West Yorkshire, LS17 8RE","LS17 8RE",2949,7,1,0,6,1,0,0,0,0,7,0,0,0,0,0]
["Y63","QWO","15F","V003070",1120030001,"King Lane Dental Care","King Lane Dental Care, 87 King Lane, LEEDS, West Yorkshire, LS17 5AX","LS17 5AX",1226,3,"*","*","*","*","*","*","*","*","*","*","*","*","*","*"]
["Y63","QWO","15F","V003075",null,null,"Glen Lea, 20 York Road, WETHERBY, West Yorkshire, LS22 6SL","LS22 6SL",4153,"No data","","","","","","","","","","","","","",""]
["Y63","QWO","15F","V003077",7828150001,"MR OJ WAINWRIGHT","York Place Dental Practice, 3 York Place, WETHERBY, West Yorkshire, LS22 6NZ","LS22 6NZ",771,2,"*","*","*","*","*","*","*","*","*","*","*","*","*","*"]
["Y63","QWO","15F","V003087",null,null,"H M Young Offenders Institute, York Road, WETHERBY, West Yorkshire, LS22 5ED","LS22 5ED",120,"No data","","","","","","","","","","","","","",""]
["Y63","QWO","15F","V003088",null,null,"Dental Department, H M Prison Wealstun, Walton Road, WETHERBY, West Yorkshire, LS23 7AZ","LS23 7AZ",145,"No data","","","","","","","","","","","","","",""]
["Y63","QWO","15F","V003273",null,null,"176 Nursery Lane, Leeds, West Yorkshire, LS17 7AQ","LS17 7AQ",3363,"No data","","","","","","","","","","","","","",""]
["Y63","QWO","15F","V003459",null,null,"Corner House Dental Practice, 5 6 Corner House Shops, Moortown Corner, LEEDS, West Yorkshire, LS17 6LD","LS17 6LD",541,"No data","","","","","","","","","","","","","",""]
["Y63","QWO","15F","V003460",null,null,"210 Dental Clinic, 1st Floor, 210 High Street, Boston Spa, Wetherby, LS23 6BT","LS23 6BT",null,"No data","","","","","","","","","","","","","",""]
["Y63","QWO","15F","V004491",null,null,"Dental Surgery, 74 Avenue Hill, LEEDS, West Yorkshire, LS8 4EZ","LS8 4EZ",642,"No data","","","","","","","","","","","","","",""]
["Y63","QWO","15F","V008198",1438390001,"Belle Isle Family Dental Practice","Belle Isle Family Dental Surgery, Middleton Road, Belle Isle, Leeds, LS10 3DZ","LS10 3DZ",3144,0,"NA","NA",0,0,0,0,0,0,0,0,0,0,0,0]
["Y63","QWO","15F","V009160",null,null,"Armley Moor Health Centre, 93 Town Street, Armley,, Leeds,, West Yorkshire, LS12 3HD","LS12 3HD",3,"No data","","","","","","","","","","","","","",""]
["Y63","QWO","15F","V009427",null,null,"Dental Surgery, 599 Harehills Lane, LEEDS, West Yorkshire, LS9 6NQ","LS9 6NQ",562,"No data","","","","","","","","","","","","","",""]
["Y63","QWO","15F","V009588",null,null,"Middleton Community Health Centr, Middleton Park Avenue, LEEDS, West Yorkshire, LS10 4HT","LS10 4HT",275,"No data","","","","","","","","","","","","","",""]
["Y63","QWO","15F","V010780",null,null,"Beeston Community Clinic, 123 Cemetery Road, Beestpm, Leeds, LS11 8LH","LS11 8LH",10,"No data","","","","","","","","","","","","","",""]
["Y63","QWO","15F","V011225",null,null,"Yeadon Health Centre, 17 South View Road, Yeadon, LEEDS, West Yorkshire, LS19 7PS","LS19 7PS",331,"No data","","","","","","","","","","","","","",""]
["Y63","QWO","15F","V011285",null,null,"Lingwell Croft Dental Surgery, 18 Shelldrake Drive, LEEDS, West Yorkshire, LS10 3NB","LS10 3NB",1826,"No data","","","","","","","","","","","","","",""]
["Y63","QWO","15F","V012058",null,null,"Clarendon Dental Spa, 9 Woodhouse Square, LEEDS, West Yorkshire, LS3 1AD","LS3 1AD",2296,"No data","","","","","","","","","","","","","",""]
["Y63","QWO","15F","V012078",null,null,"Perfect Smile, 252 254 Easterly Road, LEEDS, West Yorkshire, LS8 3ES","LS8 3ES",2986,"No data","","","","","","","","","","","","","",""]
["Y63","QWO","15F","V012146",1452030001,"Ross Dental Surgeons Ltd","2 Springfield Road, Guiseley, LEEDS, West Yorkshire, LS20 8AL","LS20 8AL",2132,17,1,0,16,1,0,0,0,0,0,0,0,0,17,0]
["Y63","QWO","15F","V012967",null,null,"Holt Park Dental Practice, Unit 16, Holt Park Shopping Centre, Holt Road, Holt Park, Leeds, LS16 7SR","LS16 7SR",1088,"No data","","","","","","","","","","","","","",""]
["Y63","QWO","15F","V013003",null,null,"Burmantofts Dental Practice, 7 & 8 Skinner Lane, Leeds, LS7 1BB","LS7 1BB",4342,"No data","","","","","","","","","","","","","",""]
["Y63","QWO","15F","V013209",null,null,"Unit 1 and 2, Windmill House, 277 Tong Road, Leeds, West Yorkshire, LS12 4NQ","LS12 4NQ",2621,"No data","","","","","","","","","","","","","",""]
["Y63","QWO","15F","V013307",null,null,"Horsforth Dental Practice, 2 Troy Road, Horsforth, LEEDS, West Yorkshire, LS18 5NQ","LS18 5NQ",1921,"No data","","","","","","","","","","","","","",""]
["Y63","QWO","15F","V013596",null,null,"5A Low Road, LEEDS, West Yorkshire, LS10 1QR","LS10 1QR",776,"No data","","","","","","","","","","","","","",""]
["Y63","QWO","15F","V014366",null,null,"Leeds Community Dental Services, 263 Chapeltown Road, Leeds, West Yorkshire, LS7 3EX","LS7 3EX",191,"No data","","","","","","","","","","","","","",""]
["Y63","QWO","15F","V017979",null,null,"7-9, Branch Road, Leeds, LS12 3AQ","LS12 3AQ",3249,"No data","","","","","","","","","","","","","",""]
["Y63","QWO","15F","V025011",1329260001,"The Leeds Dental Team Limited","375-377, Harrogate Road, Leeds, LS17 6DW","LS17 6DW",2355,6,1,0,3,3,0,0,0,0,6,0,0,0,0,0]
["Y63","QWO","15F","V183264",null,null,"251 NEW ROAD SIDE, HORSFORTH, LEEDS, LS18 4DR","LS18 4DR",1559,"No data","","","","","","","","","","","","","",""]
["Y63","QWO","36J","V001999",null,null,"Dental Practice, 1 Park Road, BINGLEY, West Yorkshire, BD16 4BD","BD16 4BD",586,"No data","","","","","","","","","","","","","",""]
["Y63","QWO","36J","V002001",1012810024,"OASIS DENTAL CARE LTD","Oasis Dental Care Ltd, 43 Park Road, BINGLEY, West Yorkshire, BD16 4BL","BD16 4BL",668,2,"*","*","*","*","*","*","*","*","*","*","*","*","*","*"]
["Y63","QWO","36J","V002004",8120800001,"Mr O Farooq","Plum Dental & Facial Clinic, 30 Devonshire Street, KEIGHLEY, West Yorkshire, BD21 2AU","BD21 2AU",1693,34,1,0,16,18,0,0,0,0,34,0,0,0,0,0]
["Y63","QWO","36J","V002025",null,null,"Ilkley Dental Care, 39 Leeds Road, ILKLEY, West Yorkshire, LS29 8DP","LS29 8DP",252,"No data","","","","","","","","","","","","","",""]
["Y63","QWO","36J","V002027",null,null,"Dental Surgery, 11 Wells Road, ILKLEY, West Yorkshire, LS29 9JB","LS29 9JB",518,"No data","","","","","","","","","","","","","",""]
["Y63","QWO","36J","V002049",null,null,"Acorn Dental Centre, 64 The Grove, ILKLEY, West Yorkshire, LS29 9PA","LS29 9PA",1536,"No data","","","","","","","","","","","","","",""]
["Y63","QWO","36J","V002067",null,null,"Regent Orthodontics, 2A Regent Road, ILKLEY, West Yorkshire, LS29 9EA","LS29 9EA",1208,"No data","","","","","","","","","","","","","",""]
["Y63","QWO","36J","V002174",null,null,"Leeds Road Dental Practice, 649 Leeds Road, BRADFORD, West Yorkshire, BD3 8EL","BD3 8EL",186,"No data","","","","","","","","","","","","","",""]
["Y63","QWO","36J","V002190",null,null,"Thornbury Dental Practice, 1 Roydstone Road, BRADFORD, West Yorkshire, BD3 7EH","BD3 7EH",2247,"No data","","","","","","","","","","","","","",""]
["Y63","QWO","36J","V002205",null,null,"Dental Surgery, 812A Leeds Road, BRADFORD, West Yorkshire, BD3 9TY","BD3 9TY",146,"No data","","","","","","","","","","","","","",""]
["Y63","QWO","36J","V002235",null,null,"207 Otley Road, BRADFORD, West Yorkshire, BD3 0JF","BD3 0JF",284,"No data","","","","","","","","","","","","","",""]
["Y63","QWO","36J","V002248",null,null,"Wakefield Road Surgery, 773-775 Wakefield Road, BRADFORD, West Yorkshire, BD4 7PT","BD4 7PT",257,"No data","","","","","","","","","","","","","",""]
["Y63","QWO","36J","V002253",null,null,"Dental Surgeon, 586 Little Horton Lane, BRADFORD, West Yorkshire, BD5 0PD","BD5 0PD",2528,"No data","","","","","","","","","","","","","",""]
["Y63","QWO","36J","V002267",7720380001,"MR Z HUSSAIN","Dental Surgery, 10 Southbrook Terrace, BRADFORD, West Yorkshire, BD7 1AD","BD7 1AD",860,9,1,0,7,2,0,0,0,0,9,0,0,0,0,0]
["Y63","QWO","36J","V002275",1013850000,"Rayner Dental Practice","J C And A A Rayner, 21 Whetley Lane, BRADFORD, West Yorkshire, BD8 9EH","BD8 9EH",2349,5,1,0,5,0,0,0,0,0,5,0,0,0,0,0]
["Y63","QWO","36J","V002305",null,null,"Manningham Lane Dental Practice, 259 Manningham Lane, BRADFORD, West Yorkshire, BD8 7EP","BD8 7EP",1464,"No data","","","","","","","","","","","","","",""]
["Y63","QWO","36J","V002424",1907480001,"A & S Dental Surgeons Ltd","Dental Surgery, 65 Duckworth Lane, BRADFORD, West Yorkshire, BD9 5EU","BD9 5EU",5412,1,"*","*","*","*","*","*","*","*","*","*","*","*","*","*"]
["Y63","QWO","36J","V002458",null,null,"Dental Surgery, 1 Hothfield Street, Silsden, KEIGHLEY, West Yorkshire, BD20 0PP","BD20 0PP",1211,"No data","","","","","","","","","","","","","",""]
["Y63","QWO","36J","V002539",null,null,"Oasis Dental Care Ltd, 32 - 34 Devonshire Street, KEIGHLEY, West Yorkshire, BD21 2AU","BD21 2AU",7014,"No data","","","","","","","","","","","","","",""]
["Y63","QWO","36J","V002563",null,null,"Dental Surgery, 1 Springwells, Wheathead Lane, KEIGHLEY, West Yorkshire, BD22 6NL","BD22 6NL",527,"No data","","","","","","","","","","","","","",""]
["Y63","QWO","36J","V002571",null,null,"Petrie Tucker & Partners Ltd, 165 Skipton Road, Keighley, West Yorkshire, BD21 3BG","BD21 3BG",8434,"No data","","","","","","","","","","","","","",""]
["Y63","QWO","36J","V002595",6933910001,"MR O FAROOQ","5 Lister Avenue, Bradford, West Yorkshire, BD4 7QP","BD4 7QP",932,23,1,0,17,6,0,0,0,0,23,0,0,0,0,0]
["Y63","QWO","36J","V002596",null,null,"Westend Apex Dental Surgery, 40 Little Horton Lane, BRADFORD, West Yorkshire, BD5 0AL","BD5 0AL",4497,"No data","","","","","","","","","","","","","",""]
["Y63","QWO","36J","V002606",null,null,"Dental Surgery, 206 Toller Lane, BRADFORD, West Yorkshire, BD9 5BU","BD9 5BU",1980,"No data","","","","","","","","","","","","","",""]
["Y63","QWO","36J","V002614",null,null,"Dental Surgery, 95 Oak Lane, BRADFORD, West Yorkshire, BD9 4QU","BD9 4QU",99,"No data","","","","","","","","","","","","","",""]
["Y63","QWO","36J","V002623",1007630000,"MR A HUSSAIN","Parkside Road Dental Care Unit, 29 Parkside Road, BRADFORD, West Yorkshire, BD5 8DN","BD5 8DN",96,11,1,0,3,8,0,0,0,0,11,0,0,0,0,0]
["Y63","QWO","36J","V002625",1016220000,"Rayner Dental Practice","Dental Surgery, 101 St Enochs Road, BRADFORD, West Yorkshire, BD6 3AD","BD6 3AD",4287,5,1,0,5,0,0,0,0,0,5,0,0,0,0,0]
["Y63","QWO","36J","V002639",1007560000,"Great Horton DentCare Limited","Great Horton Dental Practice, 784 Great Horton Road, BRADFORD, West Yorkshire, BD7 4PY","BD7 4PY",610,34,0.97058823529411764,0,31,2,1,0,0,0,34,0,0,0,0,0]
["Y63","QWO","36J","V002639",1020770000,"Great Horton DentCare Limited","Great Horton Dental Practice, 784 Great Horton Road, BRADFORD, West Yorkshire, BD7 4PY","BD7 4PY",1757,34,0.97058823529411764,0,31,2,1,0,0,0,34,0,0,0,0,0]
["Y63","QWO","36J","V002642",null,null,"Dental Surgery, 12 Beckside Road, BRADFORD, West Yorkshire, BD7 2LS","BD7 2LS",1147,"No data","","","","","","","","","","","","","",""]
["Y63","QWO","36J","V002655",null,null,"Dental Surgery, 261 Southfield Lane, BRADFORD, West Yorkshire, BD7 3NN","BD7 3NN",2319,"No data","","","","","","","","","","","","","",""]
["Y63","QWO","36J","V002694",null,null,"Dental Surgery, 11A West End, Queensbury, BRADFORD, West Yorkshire, BD13 2BD","BD13 2BD",1953,"No data","","","","","","","","","","","","","",""]
["Y63","QWO","36J","V002695",1691880001,"Thornton Dental Limited","Dental Surgery, 90A Market Street, Thornton, BRADFORD, West Yorkshire, BD13 3EY","BD13 3EY",2210,67,0.85074626865671643,2.9850746268656716E-2,47,10,3,1,1,5,0,0,0,67,0,0]
["Y63","QWO","36J","V002697",null,null,"Dental Surgery, 78 High Street, Queensbury, BRADFORD, West Yorkshire, BD13 2PA","BD13 2PA",3076,"No data","","","","","","","","","","","","","",""]
["Y63","QWO","36J","V002700",null,null,"Dental Surgery, 1 Cambridge Street, Clayton, BRADFORD, West Yorkshire, BD14 6RH","BD14 6RH",3006,"No data","","","","","","","","","","","","","",""]
["Y63","QWO","36J","V002703",1395990001,"Allerton Dental Limited","Allerton Dental Practice, 254 - 256 Allerton Road, Allerton, BRADFORD, West Yorkshire, BD15 7RA","BD15 7RA",8135,68,0.79411764705882348,4.4117647058823532E-2,37,17,8,0,3,3,4,0,0,0,64,0]
["Y63","QWO","36J","V002704",1012810013,"OASIS DENTAL CARE LTD","Oasis Dental Care, 136 Main Street, Wilsden, BRADFORD, West Yorkshire, BD15 0AS","BD15 0AS",1573,2,"*","*","*","*","*","*","*","*","*","*","*","*","*","*"]
["Y63","QWO","36J","V002708",1007640000,"MR RB LAD","Dental Surgery, 460 Idle Road, BRADFORD, West Yorkshire, BD2 2AR","BD2 2AR",174,13,0.92307692307692313,0,9,3,1,0,0,0,13,0,0,0,0,0]
["Y63","QWO","36J","V002710",null,null,"Five Lane Ends Dental Practice, 9 Wrose Road, BRADFORD, West Yorkshire, BD2 1LN","BD2 1LN",2709,"No data","","","","","","","","","","","","","",""]
["Y63","QWO","36J","V002713",1214870001,"Greengates Dental Care","Dental Surgery, 179 New Line, BRADFORD, West Yorkshire, BD10 0BN","BD10 0BN",2838,57,0.84210526315789469,5.2631578947368418E-2,33,15,4,1,2,2,0,0,0,0,57,0]
["Y63","QWO","36J","V002720",null,null,"Baildon Dental Centre, 8 Northgate, Baildon, SHIPLEY, West Yorkshire, BD17 6JX","BD17 6JX",279,"No data","","","","","","","","","","","","","",""]
["Y63","QWO","36J","V002723",null,null,"Saltaire Dental Practice, 203 Bingley Road, SHIPLEY, West Yorkshire, BD18 4DH","BD18 4DH",11007,"No data","","","","","","","","","","","","","",""]
["Y63","QWO","36J","V002727",null,null,"Dental Surgery, 204 Bradford Road, SHIPLEY, West Yorkshire, BD18 3AP","BD18 3AP",352,"No data","","","","","","","","","","","","","",""]
["Y63","QWO","36J","V002948",null,null,"Avondale Dental Practice, 54 Bradford Road, SHIPLEY, West Yorkshire, BD18 3NT","BD18 3NT",8130,"No data","","","","","","","","","","","","","",""]
["Y63","QWO","36J","V002960",null,null,"A One Dental Practice, 983 Leeds Road, Bradford, West Yorkshire, BD3 7ND","BD3 7ND",2863,"No data","","","","","","","","","","","","","",""]
["Y63","QWO","36J","V004384",null,null,"2 Albert Road, Cross Hills, KEIGHLEY, West Yorkshire, BD20 7LE","BD20 7LE",342,"No data","","","","","","","","","","","","","",""]
["Y63","QWO","36J","V004387",null,null,"Dental Surgery, 33 Otley Street, SKIPTON, North Yorkshire, BD23 1EL","BD23 1EL",79,"No data","","","","","","","","","","","","","",""]
["Y63","QWO","36J","V004388",null,null,"Muirhead And Associates, 52 - 54 Otley Street, SKIPTON, North Yorkshire, BD23 1ET","BD23 1ET",582,"No data","","","","","","","","","","","","","",""]
["Y63","QWO","36J","V004392",null,null,"Belle Vue Dental Practice, 32 Belle Vue Terrace, SKIPTON, North Yorkshire, BD23 1RU","BD23 1RU",419,"No data","","","","","","","","","","","","","",""]
["Y63","QWO","36J","V004393",null,null,"Dental Surgery, 18 East Street, Gargrave, SKIPTON, North Yorkshire, BD23 3RS","BD23 3RS",1253,"No data","","","","","","","","","","","","","",""]
["Y63","QWO","36J","V004397",null,null,"Dental Surgery, Grassington Medical Centre, 9 Station Road, Grassington, SKIPTON, BD23 5LS","BD23 5LS",4374,"No data","","","","","","","","","","","","","",""]
["Y63","QWO","36J","V004398",1012810089,"OASIS DENTAL CARE LTD","Oasis Dental Care Ltd, Station Road, SETTLE, North Yorkshire, BD24 9AA","BD24 9AA",2783,0,"NA","NA",0,0,0,0,0,0,0,0,0,0,0,0]
["Y63","QWO","36J","V005677",1013380049,"Skipton Acorn Business Park Dental Practice Partnership","Unit 4, Acorn Business Park, Keighley Road, SKIPTON, North Yorkshire, BD23 2UE","BD23 2UE",4344,73,0.9726027397260274,1.3698630136986301E-2,62,9,1,1,0,0,0,0,0,73,0,0]
["Y63","QWO","36J","V008344",1896690002,"NSS Properties Ltd","Saltaire Orthodontics, 3 - 4 Victoria Road, SHIPLEY, West Yorkshire, BD18 3LA","BD18 3LA",341,11,1,0,10,1,0,0,0,0,11,0,0,0,0,0]
["Y63","QWO","36J","V009177",null,null,"Dental Department, Horton Park Centre, 99 Horton Park Avenue, BRADFORD, West Yorkshire, BD7 3EG","BD7 3EG",3682,"No data","","","","","","","","","","","","","",""]
["Y63","QWO","36J","V009483",null,null,"Skipton General Hospital, Keighley Road, SKIPTON, North Yorkshire, BD23 2RJ","BD23 2RJ",363,"No data","","","","","","","","","","","","","",""]
["Y63","QWO","36J","V010590",null,null,"5 Marlborough Road, Manningham, Bradford, BD8 7LD","BD8 7LD",1076,"No data","","","","","","","","","","","","","",""]
["Y63","QWO","36J","V011005",null,null,"9-13 Leeds Road, Shipley, BD18 1BP","BD18 1BP",1593,"No data","","","","","","","","","","","","","",""]
["Y63","QWO","36J","V012642",null,null,"Dentistry@BD4, 134 Holme Lane, Bradford, West Yorkshire, BD4 0PY","BD4 0PY",5673,"No data","","","","","","","","","","","","","",""]
["Y63","QWO","36J","V013072",1846590001,"Humber & Yorkshire CDA Limited","Genesis Dental Care, 19-21 Springs Lane, Ilkley, West Yorkshire, LS29 8UA","LS29 8UA",1771,42,0.97619047619047616,2.3809523809523808E-2,33,8,0,0,1,0,0,0,0,42,0,0]
["Y63","QWO","36J","V014084",null,null,"Grange Interlink Community Centr, Summerville Road, BRADFORD, West Yorkshire, BD7 1PX","BD7 1PX",964,"No data","","","","","","","","","","","","","",""]
["Y63","QWO","36J","V014865",1943010002,"Ravat & Ray Dental Care Bradford","1 Bateman Street, Bradford, West Yorkshire, BD8 7DH","BD8 7DH",3598,18,1,0,15,3,0,0,0,0,18,0,0,0,0,0]
["Y63","QWO","36J","V016878",null,null,"Sunnybank House, 506 Huddersfield Road, Bradford, West Yorkshire, BD12 8AD","BD12 8AD",453,"No data","","","","","","","","","","","","","",""]
["Y63","QWO","36J","V018170",null,null,"165-167 SKIPTON ROAD, KEIGHLEY, WEST YORKSHIRE, BD21 3BG","BD21 3BG",2369,"No data","","","","","","","","","","","","","",""]
["Y63","QWO","36J","V028991",null,null,"Brunel House, Ground Floor, 87 Manningham Lane, Bradford, BD1 3BN","BD1 3BN",857,"No data","","","","","","","","","","","","","",""]
["Y63","QWO","36J","V255729",null,null,"RILLINGTON MEAD, ECCLESHILL, BRADFORD, BD10 0ED","BD10 0ED",2155,"No data","","","","","","","","","","","","","",""]
["Y63","QWO","X2C4Y","V002562",null,null,"Northgate Dental Practice, 5 Northgate, CLECKHEATON, West Yorkshire, BD19 3HH","BD19 3HH",4474,"No data","","","","","","","","","","","","","",""]
["Y63","QWO","X2C4Y","V002564",null,null,"Greenside Dental Clinic, 1 Mortimer Street, CLECKHEATON, West Yorkshire, BD19 5AR","BD19 5AR",1072,"No data","","","","","","","","","","","","","",""]
["Y63","QWO","X2C4Y","V002566",null,null,"Dental Surgery, 17 Hick Lane, BATLEY, West Yorkshire, WF17 5TD","WF17 5TD",4459,"No data","","","","","","","","","","","","","",""]
["Y63","QWO","X2C4Y","V002570",null,null,"Mount Pleasant Dentist, 67A Purlwell Lane, BATLEY, West Yorkshire, WF17 7QF","WF17 7QF",3000,"No data","","","","","","","","","","","","","",""]
["Y63","QWO","X2C4Y","V002573",null,null,"Dental Surgery, 1 High Street, Birstall, BATLEY, West Yorkshire, WF17 9ES","WF17 9ES",5465,"No data","","","","","","","","","","","","","",""]
["Y63","QWO","X2C4Y","V002583",null,null,"Dewsbury Dental Care, 43 Savile Road, DEWSBURY, West Yorkshire, WF12 9PJ","WF12 9PJ",1129,"No data","","","","","","","","","","","","","",""]
["Y63","QWO","X2C4Y","V002584",null,null,"Dental Surgery, 98 Huddersfield Road, MIRFIELD, West Yorkshire, WF14 8AF","WF14 8AF",295,"No data","","","","","","","","","","","","","",""]
["Y63","QWO","X2C4Y","V002585",null,null,"Baker And Rigby Dental Surgeons, 10 Church Street, DEWSBURY, West Yorkshire, WF13 1LB","WF13 1LB",578,"No data","","","","","","","","","","","","","",""]
["Y63","QWO","X2C4Y","V002590",null,null,"57 Bradford Road, CLECKHEATON, West Yorkshire, BD19 3LB","BD19 3LB",3218,"No data","","","","","","","","","","","","","",""]
["Y63","QWO","X2C4Y","V002591",1012810012,"OASIS DENTAL CARE LTD","Oasis Dental Care, 19 Cemetery Road, HECKMONDWIKE, West Yorkshire, WF16 9QS","WF16 9QS",9441,1,"*","*","*","*","*","*","*","*","*","*","*","*","*","*"]
["Y63","QWO","X2C4Y","V002938",null,null,"Empire House Dental Surgery, Unit 10, Empire House, Wakefield Road, DEWSBURY, WF12 8DJ","WF12 8DJ",776,"No data","","","","","","","","","","","","","",""]
["Y63","QWO","X2C4Y","V002939",null,null,"Thornhill Dental Surgery, 4 Edge Lane, DEWSBURY, West Yorkshire, WF12 0QR","WF12 0QR",482,"No data","","","","","","","","","","","","","",""]
["Y63","QWO","X2C4Y","V002942",null,null,"37, 39 and 41 Town Street, Batley Carr, DEWSBURY, WF13 2HQ","WF13 2HQ",2358,"No data","","","","","","","","","","","","","",""]
["Y63","QWO","X2C4Y","V002944",1295420001,"Dental Care Centre Ltd","Dental Care Centre, 4 Taylor Hall Lane, MIRFIELD, West Yorkshire, WF14 0HW","WF14 0HW",1062,17,1,0,11,6,0,0,0,0,17,0,0,0,0,0]
["Y63","QWO","X2C4Y","V002946",2044120002,"Junction Dental Practice","Dental Surgery, 169 - 171 High Street, HECKMONDWIKE, West Yorkshire, WF16 0DY","WF16 0DY",4280,1,"*","*","*","*","*","*","*","*","*","*","*","*","*","*"]
["Y63","QWO","X2C4Y","V002947",null,null,"Mr & Mrs Odai, Dental Practice, 12 Market Street, Heckmondwike, WF16 0JU","WF16 0JU",797,"No data","","","","","","","","","","","","","",""]
["Y63","QWO","X2C4Y","V002949",1299410001,"Eclipse (Batley) Ltd","Eclipse Dental Care, Branch Road Dental Surgery, 27 Branch Road, Batley, WF17 5SB","WF17 5SB",4125,30,1,0,29,1,0,0,0,0,0,0,0,7,23,0]
["Y63","QWO","X2C4Y","V003190",2248040001,"Linthwaite Dental Health Centre","Dental Surgery, 613 Manchester Road, Linthwaite, HUDDERSFIELD, HD7 5QX","HD7 5QX",3613,13,1,0,8,5,0,0,0,0,13,0,0,0,0,0]
["Y63","QWO","X2C4Y","V003191",null,null,"The Dental Practice, 4 Huddersfield Road, Skelmanthorpe, HUDDERSFIELD, West Yorkshire, HD8 9AE","HD8 9AE",740,"No data","","","","","","","","","","","","","",""]
["Y63","QWO","X2C4Y","V003192",null,null,"Osborne And Oboyle, 147 Wakefield Road, Scissett, HUDDERSFIELD, West Yorkshire, HD8 9HR","HD8 9HR",1317,"No data","","","","","","","","","","","","","",""]
["Y63","QWO","X2C4Y","V003193",null,null,"Dental Surgery, 21 Marsh Lane, Shepley, HUDDERSFIELD, HD8 8AQ","HD8 8AQ",2376,"No data","","","","","","","","","","","","","",""]
["Y63","QWO","X2C4Y","V003194",1173580001,"Kirkburton Dental Care Ltd","Kirkburton Dental Care, 125 - 127 North Road, Kirkburton, HUDDERSFIELD, West Yorkshire, HD8 0RN","HD8 0RN",2696,1,"*","*","*","*","*","*","*","*","*","*","*","*","*","*"]
["Y63","QWO","X2C4Y","V003195",null,null,"Dental Surgery, 30 Highgate Lane, Lepton, HUDDERSFIELD, West Yorkshire, HD8 0HB","HD8 0HB",2557,"No data","","","","","","","","","","","","","",""]
["Y63","QWO","X2C4Y","V003200",null,null,"Honley Dental Practice, 12 Southgate, Honley, HOLMFIRTH, West Yorkshire, HD9 6NT","HD9 6NT",2476,"No data","","","","","","","","","","","","","",""]
["Y63","QWO","X2C4Y","V003278",1356580001,"Fartown Limited","Fartown Dental Practice, 306 Bradford Road, HUDDERSFIELD, West Yorkshire, HD1 6LQ","HD1 6LQ",3756,6,0.66666666666666663,0.16666666666666666,4,0,1,1,0,0,0,0,6,0,0,0]
["Y63","QWO","X2C4Y","V003279",null,null,"Dental Surgery, 60 Bradford Road, HUDDERSFIELD, West Yorkshire, HD1 6JE","HD1 6JE",1304,"No data","","","","","","","","","","","","","",""]
["Y63","QWO","X2C4Y","V003280",null,null,"Dental Surgery, Croydon House, 25 Queensgate, HUDDERSFIELD, West Yorkshire, HD1 2RD","HD1 2RD",4076,"No data","","","","","","","","","","","","","",""]
["Y63","QWO","X2C4Y","V003284",null,null,"Marsh Dental Care, 116 Westbourne Road, HUDDERSFIELD, West Yorkshire, HD1 4LF","HD1 4LF",211,"No data","","","","","","","","","","","","","",""]
["Y63","QWO","X2C4Y","V003291",null,null,"Parkview Dental Practice, 122 Trinity Street, HUDDERSFIELD, West Yorkshire, HD1 4DT","HD1 4DT",7604,"No data","","","","","","","","","","","","","",""]
["Y63","QWO","X2C4Y","V003300",2630950001,"MISS F SHAKOOR","215-219 Lockwood Road, Lockwood, HUDDERSFIELD, West Yorkshire, HD1 3TG","HD1 3TG",2003,0,"NA","NA",0,0,0,0,0,0,0,0,0,0,0,0]
["Y63","QWO","X2C4Y","V003303",1452110001,"Shaw & Associates Dental Surgeons Ltd","Dental Surgery, 73 Market Street, Milnsbridge, HUDDERSFIELD, West Yorkshire, HD3 4HZ","HD3 4HZ",6981,0,"NA","NA",0,0,0,0,0,0,0,0,0,0,0,0]
["Y63","QWO","X2C4Y","V003304",null,null,"Pennine Dental, Unit 7, 144 Moor Hill Road, Salindine Nook, Huddersfield, HD3 3XA","HD3 3XA",19,"No data","","","","","","","","","","","","","",""]
["Y63","QWO","X2C4Y","V003305",null,null,"Dental Surgery, 99 East Street, HUDDERSFIELD, West Yorkshire, HD3 3NF","HD3 3NF",2674,"No data","","","","","","","","","","","","","",""]
["Y63","QWO","X2C4Y","V003308",1814630001,"Dhinsa Dental Limited","Crosland Moor Dental Clinic, 122 Blackmoorfoot Road, HUDDERSFIELD, West Yorkshire, HD4 5RL","HD4 5RL",1654,20,0.95,0,17,2,1,0,0,0,20,0,0,0,0,0]
["Y63","QWO","X2C4Y","V003309",1458230001,"Newsome Practice limited","Newsome Dental Practice, 9 Church Lane, Newsome, HUDDERSFIELD, West Yorkshire, HD4 6JE","HD4 6JE",899,0,"NA","NA",0,0,0,0,0,0,0,0,0,0,0,0]
["Y63","QWO","X2C4Y","V003311",null,null,"Almondbury Dental Practice, 5 Benomley Road, HUDDERSFIELD, West Yorkshire, HD5 8LR","HD5 8LR",4847,"No data","","","","","","","","","","","","","",""]
["Y63","QWO","X2C4Y","V003312",null,null,"Dental Surgery, 13 Bankfield Lane, HUDDERSFIELD, West Yorkshire, HD5 0JE","HD5 0JE",798,"No data","","","","","","","","","","","","","",""]
["Y63","QWO","X2C4Y","V003313",null,null,"Grayes Dental Care, 626 Wakefield Road, HUDDERSFIELD, West Yorkshire, HD5 8PZ","HD5 8PZ",642,"No data","","","","","","","","","","","","","",""]
["Y63","QWO","X2C4Y","V003314",null,null,"Dental Surgery, 17 Broad Lane, HUDDERSFIELD, West Yorkshire, HD5 9BU","HD5 9BU",3302,"No data","","","","","","","","","","","","","",""]
["Y63","QWO","X2C4Y","V003315",7519360001,"MR P HARTLEY","Dental Surgery, 409 Wakefield Road, HUDDERSFIELD, West Yorkshire, HD5 8DB","HD5 8DB",2142,7,1,0,7,0,0,0,0,0,7,0,0,0,0,0]
["Y63","QWO","X2C4Y","V003349",null,null,"Dental Surgery, 80 New North Road, Huddersfield, HD1 5NE","HD1 5NE",3773,"No data","","","","","","","","","","","","","",""]
["Y63","QWO","X2C4Y","V011259",6737140001,"Majid, Elia & O'Donovan","Dewsbury Dental Centre, 15 Halifax Road,, DEWSBURY, West Yorkshire, WF13 2JH","WF13 2JH",3008,2,"*","*","*","*","*","*","*","*","*","*","*","*","*","*"]
["Y63","QWO","X2C4Y","V011619",null,null,"Britannia Buildings, St Georges Square, Huddersfield, West Yorkshire, HD1 1LG","HD1 1LG",1039,"No data","","","","","","","","","","","","","",""]
["Y63","QWO","X2C4Y","V012131",1619420001,"Greenhead Dental Practice Limited","Greenhead Dental Practice Ltd, 29, Greenhead Road, Huddersfield, HD1 4EN","HD1 4EN",3450,0,"NA","NA",0,0,0,0,0,0,0,0,0,0,0,0]
["Y63","QWO","X2C4Y","V012315",null,null,"Saltaire Orthodontics, 84 New North Road, HUDDERSFIELD, West Yorkshire, HD1 5NE","HD1 5NE",799,"No data","","","","","","","","","","","","","",""]
["Y63","QWO","X2C4Y","V012428",6580490001,"Baljinder Singh Dhesi","Holmfirth Dental Surgery, Oaklands, Huddersfield Road, Holmfirth, Huddersfield, HD9 3TP","HD9 3TP",3045,10,1,0,4,6,0,0,0,0,4,6,0,0,0,0]
["Y63","QWO","X2C4Y","V017614",1653600001,"Meltham Dental Care Ltd","13 Station Street, Holmfirth, HD9 5NX","HD9 5NX",5862,8,1,0,7,1,0,0,0,0,7,1,0,0,0,0]
["Y63","QWO","X2C4Y","V021985",null,null,"VICTORIA COURT, 91 HUDDERSFIELD ROAD, HOLMFIRTH, HD9 3JA","HD9 3JA",401,"No data","","","","","","","","","","","","","",""]
["Y63","QWO","X2C4Y","V032182",null,null,"CLECKHEATON HEALTH CENTRE, GREENSIDE, CLECKHEATON, WEST YORKSHIRE, BD19 5AP","BD19 5AP",1733,"No data","","","","","","","","","","","","","",""]
["Y63","QWO","X2C4Y","V055676",null,null,"Night Dental Limited, 23 New North Parade, Huddersfield, HD1 5JU","HD1 5JU",25107,"No data","","","","","","","","","","","","","",""]
["Y63","QWO","X2C4Y","V084440",null,null,"Birkby Dental Care, 2 Grimscar Avenue, Birkby, Huddersfield, HD2 2TW","HD2 2TW",652,"No data","","","","","","","","","","","","","",""]
["Y63","QWO","X2C4Y","V180318",1015190000,"NSS Properties Ltd","215 BRADFORD ROAD, DEWSBURY, West Yorkshire, WF13 2HD","WF13 2HD",689,15,0.93333333333333335,0,10,4,1,0,0,0,15,0,0,0,0,0]

{"sheet":"BS","index":4,"n_rows":6994,"n_cols":25,"rows_kept":2250,"cut":true,"hidden":true,"merged":[],"bounds":{"rows_first":1000,"rows_last":250,"rows_between":1000,"halvings":1}}
[null,"Region","Practices","Sort Lists:","Sort range…","Sort range…",null,"Reference Region List:","Code…","Name…","Linked Region List:","Code…","Name…",null,"Refence Lists:","Code…","Name…","Code…","Name…","Location ID…","Name and Address…","Postcode…","Postcode…",null,"Linked Lists:"]
["Sort",1,1,null,"Region Code","Region Code",null,null,"QE1","Healthier Lancashire and South Cumbria",null,"QE1","Healthier Lancashire and South Cumbria",null,null,"QKK",{"$f":"VLOOKUP(P2,'[1]CCG & RG names'!D:E,2,0)","v":"Our Healthier South East London STP"},"36L",{"$f":"VLOOKUP(R2,'[1]CCG & RG names'!A:B,2,0)","v":"NHS South West London CCG"},"V233168","HMP Wandsworth, Heathfield Rd, London, SW18 3HU","SW18 3HU",{"$f":"IF(MID(V2,3,1) =\" \",LEFT(V2,3),LEFT(V2,4))","v":"SW18"}]
["Region code",1,1,null,"STP Code","STP Code",null,null,"QF7","South Yorkshire and Bassetlaw STP",null,"QF7","South Yorkshire and Bassetlaw STP",null,null,"QKK",{"$f":"VLOOKUP(P3,'[1]CCG & RG names'!D:E,2,0)","v":"Our Healthier South East London STP"},"72Q",{"$f":"VLOOKUP(R3,'[1]CCG & RG names'!A:B,2,0)","v":"NHS South East London CCG"},"V000063","Crofton Park Dental Practice, 18 Brockley Grove, Crofton Park, London, SE4 1QY","SE4 1QY",{"$f":"IF(MID(V3,3,1) =\" \",LEFT(V3,3),LEFT(V3,4))","v":"SE4 "}]
["Region name",1,1,null,"STP Name","CCG Code",null,null,"QGH","Herefordshire and Worcestershire STP",null,"QGH","Herefordshire and Worcestershire STP",null,null,"QKK",{"$f":"VLOOKUP(P4,'[1]CCG & RG names'!D:E,2,0)","v":"Our Healthier South East London STP"},"72Q",{"$f":"VLOOKUP(R4,'[1]CCG & RG names'!A:B,2,0)","v":"NHS South East London CCG"},"V000180","Dental Surgery, 24 Acre Lane, LONDON, SW2 5SG","SW2 5SG","SW2 "]
["CCG code","N/A",1,null,"Patients Treated","Location ID",null,null,"QH8","Mid and South Essex STP",null,"QH8","Mid and South Essex STP",null,null,"QKK",{"$f":"VLOOKUP(P5,'[1]CCG & RG names'!D:E,2,0)","v":"Our Healthier South East London STP"},"72Q",{"$f":"VLOOKUP(R5,'[1]CCG & RG names'!A:B,2,0)","v":"NHS South East London CCG"},"V000223","Dental Surgery, 234 Kennington Park Road, LONDON, SE11 4DA","SE11 4DA","SE11"]
["CCG name","N/A",1,null,"Total Responses","Contract Code",null,null,"QHG","Bedfordshire, Luton and Milton Keynes STP",null,"QHG","Bedfordshire, Luton and Milton Keynes STP",null,null,"QKK",{"$f":"VLOOKUP(P6,'[1]CCG & RG names'!D:E,2,0)","v":"Our Healthier South East London STP"},"72Q",{"$f":"VLOOKUP(R6,'[1]CCG & RG names'!A:B,2,0)","v":"NHS South East London CCG"},"V000224","The Dental Practice, 167 Camberwell New Road, LONDON, SE5 0TJ","SE5 0TJ","SE5 "]
["Postcode","N/A",1,null,"Percentage Positive","Name or Company Name",null,null,"QHL","Birmingham and Solihull STP",null,"QHL","Birmingham and Solihull STP",null,null,"QKK",{"$f":"VLOOKUP(P7,'[1]CCG & RG names'!D:E,2,0)","v":"Our Healthier South East London STP"},"72Q",{"$f":"VLOOKUP(R7,'[1]CCG & RG names'!A:B,2,0)","v":"NHS South East London CCG"},"V000225","Dental Surgery, 25 Tower Bridge Road, LONDON, SE1 4TL","SE1 4TL","SE1 "]
["Practice code","N/A",1,null,"Percentage Negative","Address",null,null,"QHM","Cumbria and North East STP",null,"QHM","Cumbria and North East STP",null,null,"QKK",{"$f":"VLOOKUP(P8,'[1]CCG & RG names'!D:E,2,0)","v":"Our Healthier South East London STP"},"72Q",{"$f":"VLOOKUP(R8,'[1]CCG & RG names'!A:B,2,0)","v":"NHS South East London CCG"},"V000228","Dental Surgery, 302 - 304 Kennington Road, LONDON, SE11 4LD","SE11 4LD","SE11"]
["Practice name","N/A",1,null,"Very Good","Postcode",null,null,"QJ2","Joined Up Care Derbyshire STP",null,"QJ2","Joined Up Care Derbyshire STP",null,null,"QKK",{"$f":"VLOOKUP(P9,'[1]CCG & RG names'!D:E,2,0)","v":"Our Healthier South East London STP"},"72Q",{"$f":"VLOOKUP(R9,'[1]CCG & RG names'!A:B,2,0)","v":"NHS South East London CCG"},"V000232","Dental Surgery, 184 Peckham High Street, LONDON, SE15 5EG","SE15 5EG","SE15"]
[null,null,null,null,"Good","Patients Treated",null,null,"QJG","Suffolk and North East Essex STP",null,"QJG","Suffolk and North East Essex STP",null,null,"QKK",{"$f":"VLOOKUP(P10,'[1]CCG & RG names'!D:E,2,0)","v":"Our Healthier South East London STP"},"72Q",{"$f":"VLOOKUP(R10,'[1]CCG & RG names'!A:B,2,0)","v":"NHS South East London CCG"},"V000235","Colegrove Dental Care, 2 - 4 Colegrove Road, LONDON, SE15 6ND","SE15 6ND","SE15"]
[null,null,null,null,"Neither Good nor Poor","Total Responses",null,null,"QJK","Devon STP",null,"QJK","Devon STP",null,null,"QKK",{"$f":"VLOOKUP(P11,'[1]CCG & RG names'!D:E,2,0)","v":"Our Healthier South East London STP"},"72Q",{"$f":"VLOOKUP(R11,'[1]CCG & RG names'!A:B,2,0)","v":"NHS South East London CCG"},"V000238","Hillview Dental Centre, 299 Brownhill Road, LONDON, SE6 1AG","SE6 1AG","SE6 "]
[null,null,null,null,"Poor","Percentage Positive",null,null,"QJM","Lincolnshire STP",null,"QJM","Lincolnshire STP",null,null,"QKK",{"$f":"VLOOKUP(P12,'[1]CCG & RG names'!D:E,2,0)","v":"Our Healthier South East London STP"},"72Q",{"$f":"VLOOKUP(R12,'[1]CCG & RG names'!A:B,2,0)","v":"NHS South East London CCG"},"V000239","Southside Dental Care, 4 & 5 Leigham Hall Parade, Streatham High Road, LONDON, SW16 1DR","SW16 1DR","SW16"]
[null,null,null,null,"Very Poor","Percentage Negative",null,null,"QK1","Leicester, Leicestershire and Rutland STP",null,"QK1","Leicester, Leicestershire and Rutland STP",null,null,"QKK",{"$f":"VLOOKUP(P13,'[1]CCG & RG names'!D:E,2,0)","v":"Our Healthier South East London STP"},"72Q",{"$f":"VLOOKUP(R13,'[1]CCG & RG names'!A:B,2,0)","v":"NHS South East London CCG"},"V000459","L Ziman & Associates Ltd, 349-351 Brockley Road, Crofton Park, London, SE4 2AQ","SE4 2AQ","SE4 "]
[null,null,null,null,"Don't Know","Very Good",null,null,"QKK","Our Healthier South East London STP",null,"QKK","Our Healthier South East London STP",null,null,"QKK",{"$f":"VLOOKUP(P14,'[1]CCG & RG names'!D:E,2,0)","v":"Our Healthier South East London STP"},"72Q",{"$f":"VLOOKUP(R14,'[1]CCG & RG names'!A:B,2,0)","v":"NHS South East London CCG"},"V000460","Creekside Dental, Anaesthetic Clinic, 176 Deptford High Street, LOndon, SE8 3PR","SE8 3PR","SE8 "]
[null,null,null,null,null,"Good",null,null,"QKS","Kent and Medway STP",null,"QKS","Kent and Medway STP",null,null,"QKK",{"$f":"VLOOKUP(P15,'[1]CCG & RG names'!D:E,2,0)","v":"Our Healthier South East London STP"},"72Q",{"$f":"VLOOKUP(R15,'[1]CCG & RG names'!A:B,2,0)","v":"NHS South East London CCG"},"V000461","Dental Surgery, 49 Lewisham Way, LONDON, SE14 6QD","SE14 6QD","SE14"]
[null,null,null,null,null,"Neither Good nor Poor",null,null,"QM7","Hertfordshire and West Essex STP",null,"QM7","Hertfordshire and West Essex STP",null,null,"QKK",{"$f":"VLOOKUP(P16,'[1]CCG & RG names'!D:E,2,0)","v":"Our Healthier South East London STP"},"72Q",{"$f":"VLOOKUP(R16,'[1]CCG & RG names'!A:B,2,0)","v":"NHS South East London CCG"},"V000463","DEPTFORD DENTAL PRACTICE, 343 Evelyn Street, LONDON, SE8 5QW","SE8 5QW","SE8 "]
[null,null,null,null,null,"Poor",null,null,"QMF","East London Health & Care Partnership (STP)",null,"QMF","East London Health & Care Partnership (STP)",null,null,"QKK",{"$f":"VLOOKUP(P17,'[1]CCG & RG names'!D:E,2,0)","v":"Our Healthier South East London STP"},"72Q",{"$f":"VLOOKUP(R17,'[1]CCG & RG names'!A:B,2,0)","v":"NHS South East London CCG"},"V000464","Dental Care Centre, 195 New Cross Road, LONDON, SE14 5DG","SE14 5DG","SE14"]
[null,null,null,null,null,"Very Poor",null,null,"QMJ","North London Partners in Health & Care (STP)",null,"QMJ","North London Partners in Health & Care (STP)",null,null,"QKK",{"$f":"VLOOKUP(P18,'[1]CCG & RG names'!D:E,2,0)","v":"Our Healthier South East London STP"},"72Q",{"$f":"VLOOKUP(R18,'[1]CCG & RG names'!A:B,2,0)","v":"NHS South East London CCG"},"V000465","Dental Surgery, 54 Micheldever Road, LONDON, SE12 8LU","SE12 8LU","SE12"]
[null,null,null,null,null,"Don't Know",null,null,"QMM","Norfolk and Waveney Health & Care Partnership (STP)",null,"QMM","Norfolk and Waveney Health & Care Partnership (STP)",null,null,"QKK",{"$f":"VLOOKUP(P19,'[1]CCG & RG names'!D:E,2,0)","v":"Our Healthier South East London STP"},"72Q",{"$f":"VLOOKUP(R19,'[1]CCG & RG names'!A:B,2,0)","v":"NHS South East London CCG"},"V000466","Dental Surgery, First and Second Floors, 8 12 Lee High Road, LONDON, SE13 5LQ","SE13 5LQ","SE13"]
[null,null,null,null,null,"Handwritten",null,null,"QNC","Staffordshire & Stoke on Trent STP",null,"QNC","Staffordshire & Stoke on Trent STP",null,null,"QKK",{"$f":"VLOOKUP(P20,'[1]CCG & RG names'!D:E,2,0)","v":"Our Healthier South East London STP"},"72Q",{"$f":"VLOOKUP(R20,'[1]CCG & RG names'!A:B,2,0)","v":"NHS South East London CCG"},"V000471","Dental Surgery, 4 Belmont Park, LONDON, SE13 5BJ","SE13 5BJ","SE13"]
[null,null,null,null,null,"Telephone Call",null,null,"QNQ","Frimley Health & Care (STP)",null,"QNQ","Frimley Health & Care (STP)",null,null,"QKK",{"$f":"VLOOKUP(P21,'[1]CCG & RG names'!D:E,2,0)","v":"Our Healthier South East London STP"},"72Q",{"$f":"VLOOKUP(R21,'[1]CCG & RG names'!A:B,2,0)","v":"NHS South East London CCG"},"V000475","Dental Surgery, 134 Burnt Ash Road, LONDON, SE12 8PU","SE12 8PU","SE12"]
[null,null,null,null,null,"Tablet/\nKiosk",null,null,"QNX","Sussex Health and Care Partnership STP",null,"QNX","Sussex Health and Care Partnership STP",null,null,"QKK",{"$f":"VLOOKUP(P22,'[1]CCG & RG names'!D:E,2,0)","v":"Our Healthier South East London STP"},"72Q",{"$f":"VLOOKUP(R22,'[1]CCG & RG names'!A:B,2,0)","v":"NHS South East London CCG"},"V000477","Dental Surgery, 7 Montpelier Row, LONDON, SE3 0RL","SE3 0RL","SE3 "]
[null,null,null,null,null,"SMS/Text Message",null,null,"QOC","Shropshire and Telford and Wrekin STP",null,"QOC","Shropshire and Telford and Wrekin STP",null,null,"QKK",{"$f":"VLOOKUP(P23,'[1]CCG & RG names'!D:E,2,0)","v":"Our Healthier South East London STP"},"72Q",{"$f":"VLOOKUP(R23,'[1]CCG & RG names'!A:B,2,0)","v":"NHS South East London CCG"},"V000478","Dental Surgery, 3 Lewis Grove, LONDON, SE13 6BG","SE13 6BG","SE13"]
[null,null,null,null,null,"Smartphone App/Online",null,null,"QOP","Greater Manchester Health & Social Care Partnership",null,"QOP","Greater Manchester Health & Social Care Partnership",null,null,"QKK",{"$f":"VLOOKUP(P24,'[1]CCG & RG names'!D:E,2,0)","v":"Our Healthier South East London STP"},"72Q",{"$f":"VLOOKUP(R24,'[1]CCG & RG names'!A:B,2,0)","v":"NHS South East London CCG"},"V000482","Dental Surgery, 71 Jevington Way, LONDON, SE12 9NG","SE12 9NG","SE12"]
[null,null,null,null,null,"Other",null,null,"QOQ","Humber, Coast and Vale STP",null,"QOQ","Humber, Coast and Vale STP",null,null,"QKK",{"$f":"VLOOKUP(P25,'[1]CCG & RG names'!D:E,2,0)","v":"Our Healthier South East London STP"},"72Q",{"$f":"VLOOKUP(R25,'[1]CCG & RG names'!A:B,2,0)","v":"NHS South East London CCG"},"V000488","Dental Surgery, 23 Catford Broadway, LONDON, SE6 4SN","SE6 4SN","SE6 "]
[null,null,null,null,null,null,null,null,"QOX","Bath and North East Somerset, Swindon and Wiltshire STP",null,"QOX","Bath and North East Somerset, Swindon and Wiltshire STP",null,null,"QKK",{"$f":"VLOOKUP(P26,'[1]CCG & RG names'!D:E,2,0)","v":"Our Healthier South East London STP"},"72Q",{"$f":"VLOOKUP(R26,'[1]CCG & RG names'!A:B,2,0)","v":"NHS South East London CCG"},"V000490","Denticare Group, 8 Penerley Road, LONDON, SE6 2LQ","SE6 2LQ","SE6 "]
[null,null,null,null,null,null,null,null,"QPM","Northamptonshire STP",null,"QPM","Northamptonshire STP",null,null,"QKK",{"$f":"VLOOKUP(P27,'[1]CCG & RG names'!D:E,2,0)","v":"Our Healthier South East London STP"},"72Q",{"$f":"VLOOKUP(R27,'[1]CCG & RG names'!A:B,2,0)","v":"NHS South East London CCG"},"V000492","Dental Surgery, 455 Bromley Road, BROMLEY, Kent, BR1 4PH","BR1 4PH","BR1 "]
[null,null,null,null,null,null,null,null,"QR1","Gloucestershire STP",null,"QR1","Gloucestershire STP",null,null,"QKK",{"$f":"VLOOKUP(P28,'[1]CCG & RG names'!D:E,2,0)","v":"Our Healthier South East London STP"},"72Q",{"$f":"VLOOKUP(R28,'[1]CCG & RG names'!A:B,2,0)","v":"NHS South East London CCG"},"V000494","First Dental Grove Park, 139 Marvels Lane, LONDON, SE12 9PP","SE12 9PP","SE12"]
[null,null,null,null,null,null,null,null,"QRL","Hampshire and the Isle of Wight STP",null,"QRL","Hampshire and the Isle of Wight STP",null,null,"QKK",{"$f":"VLOOKUP(P29,'[1]CCG & RG names'!D:E,2,0)","v":"Our Healthier South East London STP"},"72Q",{"$f":"VLOOKUP(R29,'[1]CCG & RG names'!A:B,2,0)","v":"NHS South East London CCG"},"V000500","Maxident Clinic, 161 Bromley Road, LONDON, SE6 2NZ","SE6 2NZ","SE6 "]
[null,null,null,null,null,null,null,null,"QRV","North West London Health & Care Partnership (STP)",null,"QRV","North West London Health & Care Partnership (STP)",null,null,"QKK",{"$f":"VLOOKUP(P30,'[1]CCG & RG names'!D:E,2,0)","v":"Our Healthier South East London STP"},"72Q",{"$f":"VLOOKUP(R30,'[1]CCG & RG names'!A:B,2,0)","v":"NHS South East London CCG"},"V000501","Dental Surgery, 59A Dartmouth Road, Forest Hill, London, SE23 3HN","SE23 3HN","SE23"]
[null,null,null,null,null,null,null,null,"QSL","Somerset STP",null,"QSL","Somerset STP",null,null,"QKK",{"$f":"VLOOKUP(P31,'[1]CCG & RG names'!D:E,2,0)","v":"Our Healthier South East London STP"},"72Q",{"$f":"VLOOKUP(R31,'[1]CCG & RG names'!A:B,2,0)","v":"NHS South East London CCG"},"V000503","Vass Dental Practice, 22A London Road, LONDON, SE23 3HF","SE23 3HF","SE23"]
[null,null,null,null,null,null,null,null,"QT1","Nottingham and Nottinghamshire Health and Care STP",null,"QT1","Nottingham and Nottinghamshire Health and Care STP",null,null,"QKK",{"$f":"VLOOKUP(P32,'[1]CCG & RG names'!D:E,2,0)","v":"Our Healthier South East London STP"},"72Q",{"$f":"VLOOKUP(R32,'[1]CCG & RG names'!A:B,2,0)","v":"NHS South East London CCG"},"V000504","IDH Ltd, 201 Sydenham Road, LONDON, SE26 5HF","SE26 5HF","SE26"]
[null,null,null,null,null,null,null,null,"QT6","Cornwall and the Isles of Scilly Health & Social Care Partnership (STP)",null,"QT6","Cornwall and the Isles of Scilly Health & Social Care Partnership (STP)",null,null,"QKK",{"$f":"VLOOKUP(P33,'[1]CCG & RG names'!D:E,2,0)","v":"Our Healthier South East London STP"},"72Q",{"$f":"VLOOKUP(R33,'[1]CCG & RG names'!A:B,2,0)","v":"NHS South East London CCG"},"V000505","Stanstead Road Dental Practice, 138 Stanstead Road, LONDON, SE23 1BX","SE23 1BX","SE23"]
[null,null,null,null,null,null,null,null,"QU9","Buckinghamshire, Oxfordshire and Berkshire West STP",null,"QU9","Buckinghamshire, Oxfordshire and Berkshire West STP",null,null,"QKK",{"$f":"VLOOKUP(P34,'[1]CCG & RG names'!D:E,2,0)","v":"Our Healthier South East London STP"},"72Q",{"$f":"VLOOKUP(R34,'[1]CCG & RG names'!A:B,2,0)","v":"NHS South East London CCG"},"V000506","Dental Surgery, 16 Bellingham Green, LONDON, SE6 3HQ","SE6 3HQ","SE6 "]
[null,null,null,null,null,null,null,null,"QUA","The Black Country and West Birmingham STP",null,"QUA","The Black Country and West Birmingham STP",null,null,"QKK",{"$f":"VLOOKUP(P35,'[1]CCG & RG names'!D:E,2,0)","v":"Our Healthier South East London STP"},"72Q",{"$f":"VLOOKUP(R35,'[1]CCG & RG names'!A:B,2,0)","v":"NHS South East London CCG"},"V000508","Dental Surgery, 158 Perry Vale, LONDON, SE23 2LR","SE23 2LR","SE23"]
[null,null,null,null,null,null,null,null,"QUE","Cambridgeshire and Peterborough STP",null,"QUE","Cambridgeshire and Peterborough STP",null,null,"QKK",{"$f":"VLOOKUP(P36,'[1]CCG & RG names'!D:E,2,0)","v":"Our Healthier South East London STP"},"72Q",{"$f":"VLOOKUP(R36,'[1]CCG & RG names'!A:B,2,0)","v":"NHS South East London CCG"},"V000513","Dental Surgery, 263 Clapham Road, LONDON, SW9 9BQ","SW9 9BQ","SW9 "]
[null,null,null,null,null,null,null,null,"QUY","Bristol, North Somerset and South Gloucestershire STP",null,"QUY","Bristol, North Somerset and South Gloucestershire STP",null,null,"QKK",{"$f":"VLOOKUP(P37,'[1]CCG & RG names'!D:E,2,0)","v":"Our Healthier South East London STP"},"72Q",{"$f":"VLOOKUP(R37,'[1]CCG & RG names'!A:B,2,0)","v":"NHS South East London CCG"},"V000514","Wandsworth Dental Care Partnership, 258 Wandsworth Road, LONDON, SW8 2JS","SW8 2JS","SW8 "]
[null,null,null,null,null,null,null,null,"QVV","Dorset STP",null,"QVV","Dorset STP",null,null,"QKK",{"$f":"VLOOKUP(P38,'[1]CCG & RG names'!D:E,2,0)","v":"Our Healthier South East London STP"},"72Q",{"$f":"VLOOKUP(R38,'[1]CCG & RG names'!A:B,2,0)","v":"NHS South East London CCG"},"V000517","Dental Surgery, 41 Clapham Road, LONDON, SW9 0JD","SW9 0JD","SW9 "]
[null,null,null,null,null,null,null,null,"QWE","South West London Health & Care Partnership (STP)",null,"QWE","South West London Health & Care Partnership (STP)",null,null,"QKK",{"$f":"VLOOKUP(P39,'[1]CCG & RG names'!D:E,2,0)","v":"Our Healthier South East London STP"},"72Q",{"$f":"VLOOKUP(R39,'[1]CCG & RG names'!A:B,2,0)","v":"NHS South East London CCG"},"V000519","J P Osullivan And Associates, Stockwell Dental Practice, 9 Stockwell Road, LONDON, SW9 9AU","SW9 9AU","SW9 "]
[null,null,null,null,null,null,null,null,"QWO","West Yorkshire and Harrogate Health & Care Partnership (STP)",null,"QWO","West Yorkshire and Harrogate Health & Care Partnership (STP)",null,null,"QKK",{"$f":"VLOOKUP(P40,'[1]CCG & RG names'!D:E,2,0)","v":"Our Healthier South East London STP"},"72Q",{"$f":"VLOOKUP(R40,'[1]CCG & RG names'!A:B,2,0)","v":"NHS South East London CCG"},"V000521","Dental Surgery, 330 Kennington Park Road, LONDON, SE11 4PP","SE11 4PP","SE11"]
[null,null,null,null,null,null,null,null,"QWU","Coventry and Warwickshire STP",null,"QWU","Coventry and Warwickshire STP",null,null,"QKK",{"$f":"VLOOKUP(P41,'[1]CCG & RG names'!D:E,2,0)","v":"Our Healthier South East London STP"},"72Q",{"$f":"VLOOKUP(R41,'[1]CCG & RG names'!A:B,2,0)","v":"NHS South East London CCG"},"V000523","Dental Surgery, 5 Gipsy Hill, LONDON, SE19 1QG","SE19 1QG","SE19"]
[null,null,null,null,null,null,null,null,"QXU","Surrey Heartlands Health & Care Partnership (STP)",null,"QXU","Surrey Heartlands Health & Care Partnership (STP)",null,null,"QKK",{"$f":"VLOOKUP(P42,'[1]CCG & RG names'!D:E,2,0)","v":"Our Healthier South East London STP"},"72Q",{"$f":"VLOOKUP(R42,'[1]CCG & RG names'!A:B,2,0)","v":"NHS South East London CCG"},"V000526","Dental Surgery, Saunders House, Tulse Hill, LONDON, SW2 3PJ","SW2 3PJ","SW2 "]
[null,null,null,null,null,null,null,null,"QYG","Cheshire and Merseyside STP",null,"QYG","Cheshire and Merseyside STP",null,null,"QKK",{"$f":"VLOOKUP(P43,'[1]CCG & RG names'!D:E,2,0)","v":"Our Healthier South East London STP"},"72Q",{"$f":"VLOOKUP(R43,'[1]CCG & RG names'!A:B,2,0)","v":"NHS South East London CCG"},"V000528","M Kanani & E Harunani & Assoc., Brixton Dental Care, 35 Gresham Road, LONDON, SW9 7NU","SW9 7NU","SW9 "]
[null,null,null,null,null,null,null,null,null,null,null,null,null,null,null,"QKK",{"$f":"VLOOKUP(P44,'[1]CCG & RG names'!D:E,2,0)","v":"Our Healthier South East London STP"},"72Q",{"$f":"VLOOKUP(R44,'[1]CCG & RG names'!A:B,2,0)","v":"NHS South East London CCG"},"V000529","Dental Surgery, 132 Knights Hill, LONDON, SE27 0SR","SE27 0SR","SE27"]
[null,null,null,null,null,null,null,null,null,null,null,null,null,null,null,"QKK",{"$f":"VLOOKUP(P45,'[1]CCG & RG names'!D:E,2,0)","v":"Our Healthier South East London STP"},"72Q",{"$f":"VLOOKUP(R45,'[1]CCG & RG names'!A:B,2,0)","v":"NHS South East London CCG"},"V000531","Dental Surgery, 221 Brixton Hill, LONDON, SW2 1NP","SW2 1NP","SW2 "]
[null,null,null,null,null,null,null,null,null,null,null,null,null,null,null,"QKK",{"$f":"VLOOKUP(P46,'[1]CCG & RG names'!D:E,2,0)","v":"Our Healthier South East London STP"},"72Q",{"$f":"VLOOKUP(R46,'[1]CCG & RG names'!A:B,2,0)","v":"NHS South East London CCG"},"V000532","170A Denmark Hill, LONDON, SE5 8EE","SE5 8EE","SE5 "]
[null,null,null,null,null,null,null,null,null,null,null,null,null,null,null,"QKK",{"$f":"VLOOKUP(P47,'[1]CCG & RG names'!D:E,2,0)","v":"Our Healthier South East London STP"},"72Q",{"$f":"VLOOKUP(R47,'[1]CCG & RG names'!A:B,2,0)","v":"NHS South East London CCG"},"V000533","409 Norwood Road, LONDON, SE27 9BU","SE27 9BU","SE27"]
[null,null,null,null,null,null,null,null,null,null,null,null,null,null,null,"QKK",{"$f":"VLOOKUP(P48,'[1]CCG & RG names'!D:E,2,0)","v":"Our Healthier South East London STP"},"72Q",{"$f":"VLOOKUP(R48,'[1]CCG & RG names'!A:B,2,0)","v":"NHS South East London CCG"},"V000534","Dental Surgery, 9 Thurlow Park Road, LONDON, SE21 8JB","SE21 8JB","SE21"]
[null,null,null,null,null,null,null,null,null,null,null,null,null,null,null,"QKK",{"$f":"VLOOKUP(P49,'[1]CCG & RG names'!D:E,2,0)","v":"Our Healthier South East London STP"},"72Q",{"$f":"VLOOKUP(R49,'[1]CCG & RG names'!A:B,2,0)","v":"NHS South East London CCG"},"V000535","Norwood Dental Surgery, 99 Norwood High Street, LONDON, SE27 9JF","SE27 9JF","SE27"]
[null,null,null,null,null,null,null,null,null,null,null,null,null,null,null,"QKK",{"$f":"VLOOKUP(P50,'[1]CCG & RG names'!D:E,2,0)","v":"Our Healthier South East London STP"},"72Q",{"$f":"VLOOKUP(R50,'[1]CCG & RG names'!A:B,2,0)","v":"NHS South East London CCG"},"V000605","Dental Surgery, 1A Picardy Street, BELVEDERE, Kent, DA17 5QQ","DA17 5QQ","DA17"]
[null,null,null,null,null,null,null,null,null,null,null,null,null,null,null,"QKK",{"$f":"VLOOKUP(P51,'[1]CCG & RG names'!D:E,2,0)","v":"Our Healthier South East London STP"},"72Q",{"$f":"VLOOKUP(R51,'[1]CCG & RG names'!A:B,2,0)","v":"NHS South East London CCG"},"V000632","Arkh-View Dental Centre, 3 Station Rise, LONDON, SE27 9BW","SE27 9BW","SE27"]
[null,null,null,null,null,null,null,null,null,null,null,null,null,null,null,"QKK",{"$f":"VLOOKUP(P52,'[1]CCG & RG names'!D:E,2,0)","v":"Our Healthier South East London STP"},"72Q",{"$f":"VLOOKUP(R52,'[1]CCG & RG names'!A:B,2,0)","v":"NHS South East London CCG"},"V000633","Confidental Clinic Dental Surgery, 19 New Park Road, LONDON, SW2 4DU","SW2 4DU","SW2 "]
[null,null,null,null,null,null,null,null,null,null,null,null,null,null,null,"QKK",{"$f":"VLOOKUP(P53,'[1]CCG & RG names'!D:E,2,0)","v":"Our Healthier South East London STP"},"72Q",{"$f":"VLOOKUP(R53,'[1]CCG & RG names'!A:B,2,0)","v":"NHS South East London CCG"},"V000636","Brixton Dental Clinic, 232 Stockwell Road, LONDON, SW9 9SU","SW9 9SU","SW9 "]
[null,null,null,null,null,null,null,null,null,null,null,null,null,null,null,"QKK",{"$f":"VLOOKUP(P54,'[1]CCG & RG names'!D:E,2,0)","v":"Our Healthier South East London STP"},"72Q",{"$f":"VLOOKUP(R54,'[1]CCG & RG names'!A:B,2,0)","v":"NHS South East London CCG"},"V000638","Wai C Yeap And Associates, 4 Hannen Road, LONDON, SE27 0DT","SE27 0DT","SE27"]
[null,null,null,null,null,null,null,null,null,null,null,null,null,null,null,"QKK",{"$f":"VLOOKUP(P55,'[1]CCG & RG names'!D:E,2,0)","v":"Our Healthier South East London STP"},"72Q",{"$f":"VLOOKUP(R55,'[1]CCG & RG names'!A:B,2,0)","v":"NHS South East London CCG"},"V000639","PEARL DENTAL, 14 Streatham Road, LONDON, SW16 1DB","SW16 1DB","SW16"]
[null,null,null,null,null,null,null,null,null,null,null,null,null,null,null,"QKK",{"$f":"VLOOKUP(P56,'[1]CCG & RG names'!D:E,2,0)","v":"Our Healthier South East London STP"},"72Q",{"$f":"VLOOKUP(R56,'[1]CCG & RG names'!A:B,2,0)","v":"NHS South East London CCG"},"V000640","Dental Surgery, 40 Streatham Vale, LONDON, SW16 5TD","SW16 5TD","SW16"]
[null,null,null,null,null,null,null,null,null,null,null,null,null,null,null,"QKK",{"$f":"VLOOKUP(P57,'[1]CCG & RG names'!D:E,2,0)","v":"Our Healthier South East London STP"},"72Q",{"$f":"VLOOKUP(R57,'[1]CCG & RG names'!A:B,2,0)","v":"NHS South East London CCG"},"V000641","Dental Surgery, 17 Prentis Road, LONDON, SW16 1QB","SW16 1QB","SW16"]
[null,null,null,null,null,null,null,null,null,null,null,null,null,null,null,"QKK",{"$f":"VLOOKUP(P58,'[1]CCG & RG names'!D:E,2,0)","v":"Our Healthier South East London STP"},"72Q",{"$f":"VLOOKUP(R58,'[1]CCG & RG names'!A:B,2,0)","v":"NHS South East London CCG"},"V000642","Streatham Common DentalSurgery, 202 Eardley Road, Streatham, London, SW16 5TF","SW16 5TF","SW16"]
[null,null,null,null,null,null,null,null,null,null,null,null,null,null,null,"QKK",{"$f":"VLOOKUP(P59,'[1]CCG & RG names'!D:E,2,0)","v":"Our Healthier South East London STP"},"72Q",{"$f":"VLOOKUP(R59,'[1]CCG & RG names'!A:B,2,0)","v":"NHS South East London CCG"},"V000644","Infinity Dental Care, 2nd Floor, Streatham Health Centre, 41A-C Streatham Hill, London, SW2 4TP","SW2 4TP","SW2 "]
[null,null,null,null,null,null,null,null,null,null,null,null,null,null,null,"QKK",{"$f":"VLOOKUP(P60,'[1]CCG & RG names'!D:E,2,0)","v":"Our Healthier South East London STP"},"72Q",{"$f":"VLOOKUP(R60,'[1]CCG & RG names'!A:B,2,0)","v":"NHS South East London CCG"},"V000645","Dental Surgery, 9 Gracefield Gardens, LONDON, SW16 2SZ","SW16 2SZ","SW16"]
[null,null,null,null,null,null,null,null,null,null,null,null,null,null,null,"QKK",{"$f":"VLOOKUP(P61,'[1]CCG & RG names'!D:E,2,0)","v":"Our Healthier South East London STP"},"72Q",{"$f":"VLOOKUP(R61,'[1]CCG & RG names'!A:B,2,0)","v":"NHS South East London CCG"},"V000646","Dental Surgery, 393 - 395 Streatham High Road, LONDON, SW16 3PE","SW16 3PE","SW16"]
[null,null,null,null,null,null,null,null,null,null,null,null,null,null,null,"QKK",{"$f":"VLOOKUP(P62,'[1]CCG & RG names'!D:E,2,0)","v":"Our Healthier South East London STP"},"72Q",{"$f":"VLOOKUP(R62,'[1]CCG & RG names'!A:B,2,0)","v":"NHS South East London CCG"},"V000648","Dental Surgery, 142 Streatham High Road, LONDON, SW16 1BJ","SW16 1BJ","SW16"]
[null,null,null,null,null,null,null,null,null,null,null,null,null,null,null,"QKK",{"$f":"VLOOKUP(P63,'[1]CCG & RG names'!D:E,2,0)","v":"Our Healthier South East London STP"},"72Q",{"$f":"VLOOKUP(R63,'[1]CCG & RG names'!A:B,2,0)","v":"NHS South East London CCG"},"V000650","Surrey Quays Dental Practice, 204 Lower Road, LONDON, SE8 5DJ","SE8 5DJ","SE8 "]
[null,null,null,null,null,null,null,null,null,null,null,null,null,null,null,"QKK",{"$f":"VLOOKUP(P64,'[1]CCG & RG names'!D:E,2,0)","v":"Our Healthier South East London STP"},"72Q",{"$f":"VLOOKUP(R64,'[1]CCG & RG names'!A:B,2,0)","v":"NHS South East London CCG"},"V000651","M P Dental Practice, 186-188 Jamaica Road, LONDON, SE16 4RT","SE16 4RT","SE16"]
[null,null,null,null,null,null,null,null,null,null,null,null,null,null,null,"QKK",{"$f":"VLOOKUP(P65,'[1]CCG & RG names'!D:E,2,0)","v":"Our Healthier South East London STP"},"72Q",{"$f":"VLOOKUP(R65,'[1]CCG & RG names'!A:B,2,0)","v":"NHS South East London CCG"},"V000653","Dental Surgery, 36 Brunel Road, LONDON, SE16 6HZ","SE16 6HZ","SE16"]
[null,null,null,null,null,null,null,null,null,null,null,null,null,null,null,"QKK",{"$f":"VLOOKUP(P66,'[1]CCG & RG names'!D:E,2,0)","v":"Our Healthier South East London STP"},"72Q",{"$f":"VLOOKUP(R66,'[1]CCG & RG names'!A:B,2,0)","v":"NHS South East London CCG"},"V000654","Dental Surgery, 164 Jamaica Road, LONDON, SE16 4RT","SE16 4RT","SE16"]
[null,null,null,null,null,null,null,null,null,null,null,null,null,null,null,"QKK",{"$f":"VLOOKUP(P67,'[1]CCG & RG names'!D:E,2,0)","v":"Our Healthier South East London STP"},"72Q",{"$f":"VLOOKUP(R67,'[1]CCG & RG names'!A:B,2,0)","v":"NHS South East London CCG"},"V000661","Dental Surgery, 223 Waterloo Road, LONDON, SE1 8XH","SE1 8XH",{"$f":"IF(MID(V67,3,1) =\" \",LEFT(V67,3),LEFT(V67,4))","v":"SE1 "}]
[null,null,null,null,null,null,null,null,null,null,null,null,null,null,null,"QKK",{"$f":"VLOOKUP(P68,'[1]CCG & RG names'!D:E,2,0)","v":"Our Healthier South East London STP"},"72Q",{"$f":"VLOOKUP(R68,'[1]CCG & RG names'!A:B,2,0)","v":"NHS South East London CCG"},"V000662","Dental Surgery, 296 Walworth Road, LONDON, SE17 2TE","SE17 2TE","SE17"]
[null,null,null,null,null,null,null,null,null,null,null,null,null,null,null,"QKK",{"$f":"VLOOKUP(P69,'[1]CCG & RG names'!D:E,2,0)","v":"Our Healthier South East London STP"},"72Q",{"$f":"VLOOKUP(R69,'[1]CCG & RG names'!A:B,2,0)","v":"NHS South East London CCG"},"V000663","Dental Surgery, 156 Old Kent Road, LONDON, SE1 5TY","SE1 5TY","SE1 "]
[null,null,null,null,null,null,null,null,null,null,null,null,null,null,null,"QKK",{"$f":"VLOOKUP(P70,'[1]CCG & RG names'!D:E,2,0)","v":"Our Healthier South East London STP"},"72Q",{"$f":"VLOOKUP(R70,'[1]CCG & RG names'!A:B,2,0)","v":"NHS South East London CCG"},"V000671","71 - 79 Peckham High Street, LONDON, SE15 5RS","SE15 5RS","SE15"]
[null,null,null,null,null,null,null,null,null,null,null,null,null,null,null,"QKK",{"$f":"VLOOKUP(P71,'[1]CCG & RG names'!D:E,2,0)","v":"Our Healthier South East London STP"},"72Q",{"$f":"VLOOKUP(R71,'[1]CCG & RG names'!A:B,2,0)","v":"NHS South East London CCG"},"V000674","Dental Surgery, 10 Station Way, LONDON, SE15 4RX","SE15 4RX","SE15"]
[null,null,null,null,null,null,null,null,null,null,null,null,null,null,null,"QKK",{"$f":"VLOOKUP(P72,'[1]CCG & RG names'!D:E,2,0)","v":"Our Healthier South East London STP"},"72Q",{"$f":"VLOOKUP(R72,'[1]CCG & RG names'!A:B,2,0)","v":"NHS South East London CCG"},"V000675","Dental Surgery, 82 Camberwell Church Street, LONDON, SE5 8QZ","SE5 8QZ","SE5 "]
[null,null,null,null,null,null,null,null,null,null,null,null,null,null,null,"QKK",{"$f":"VLOOKUP(P73,'[1]CCG & RG names'!D:E,2,0)","v":"Our Healthier South East London STP"},"72Q",{"$f":"VLOOKUP(R73,'[1]CCG & RG names'!A:B,2,0)","v":"NHS South East London CCG"},"V000676","The Lacey Dental Practice, 591 Old Kent Road, LONDON, SE15 1LA","SE15 1LA","SE15"]
[null,null,null,null,null,null,null,null,null,null,null,null,null,null,null,"QKK",{"$f":"VLOOKUP(P74,'[1]CCG & RG names'!D:E,2,0)","v":"Our Healthier South East London STP"},"72Q",{"$f":"VLOOKUP(R74,'[1]CCG & RG names'!A:B,2,0)","v":"NHS South East London CCG"},"V000677","Dental Surgery, 276B Camberwell Road, LONDON, SE5 0DL","SE5 0DL","SE5 "]
[null,null,null,null,null,null,null,null,null,null,null,null,null,null,null,"QKK",{"$f":"VLOOKUP(P75,'[1]CCG & RG names'!D:E,2,0)","v":"Our Healthier South East London STP"},"72Q",{"$f":"VLOOKUP(R75,'[1]CCG & RG names'!A:B,2,0)","v":"NHS South East London CCG"},"V000678","Half Moon Dental Centre, 1 3 Half Moon Lane, LONDON, SE24 9JU","SE24 9JU","SE24"]
[null,null,null,null,null,null,null,null,null,null,null,null,null,null,null,"QKK",{"$f":"VLOOKUP(P76,'[1]CCG & RG names'!D:E,2,0)","v":"Our Healthier South East London STP"},"72Q",{"$f":"VLOOKUP(R76,'[1]CCG & RG names'!A:B,2,0)","v":"NHS South East London CCG"},"V000679","Dental Surgery, 1 Townley Road, LONDON, SE22 8SW","SE22 8SW","SE22"]
[null,null,null,null,null,null,null,null,null,null,null,null,null,null,null,"QKK",{"$f":"VLOOKUP(P77,'[1]CCG & RG names'!D:E,2,0)","v":"Our Healthier South East London STP"},"72Q",{"$f":"VLOOKUP(R77,'[1]CCG & RG names'!A:B,2,0)","v":"NHS South East London CCG"},"V000685","Dental Surgery, 42 Linden Grove, LONDON, SE15 3LF","SE15 3LF","SE15"]
[null,null,null,null,null,null,null,null,null,null,null,null,null,null,null,"QKK",{"$f":"VLOOKUP(P78,'[1]CCG & RG names'!D:E,2,0)","v":"Our Healthier South East London STP"},"72Q",{"$f":"VLOOKUP(R78,'[1]CCG & RG names'!A:B,2,0)","v":"NHS South East London CCG"},"V000688","Smile@SE22, 43 - 45 North Cross Road, LONDON, SE22 9ET","SE22 9ET","SE22"]
[null,null,null,null,null,null,null,null,null,null,null,null,null,null,null,"QKK",{"$f":"VLOOKUP(P79,'[1]CCG & RG names'!D:E,2,0)","v":"Our Healthier South East London STP"},"72Q",{"$f":"VLOOKUP(R79,'[1]CCG & RG names'!A:B,2,0)","v":"NHS South East London CCG"},"V000689","Dental Surgery, 78 Lordship Lane, LONDON, SE22 8HF","SE22 8HF","SE22"]
[null,null,null,null,null,null,null,null,null,null,null,null,null,null,null,"QKK",{"$f":"VLOOKUP(P80,'[1]CCG & RG names'!D:E,2,0)","v":"Our Healthier South East London STP"},"72Q",{"$f":"VLOOKUP(R80,'[1]CCG & RG names'!A:B,2,0)","v":"NHS South East London CCG"},"V000690","The Dental Surgery Denmark Hill, 179 Denmark Hill, LONDON, SE5 8DX","SE5 8DX","SE5 "]
[null,null,null,null,null,null,null,null,null,null,null,null,null,null,null,"QKK",{"$f":"VLOOKUP(P81,'[1]CCG & RG names'!D:E,2,0)","v":"Our Healthier South East London STP"},"72Q",{"$f":"VLOOKUP(R81,'[1]CCG & RG names'!A:B,2,0)","v":"NHS South East London CCG"},"V000693","Dental Surgery, 142 Gipsy Hill, LONDON, SE19 1PW","SE19 1PW","SE19"]
[null,null,null,null,null,null,null,null,null,null,null,null,null,null,null,"QKK",{"$f":"VLOOKUP(P82,'[1]CCG & RG names'!D:E,2,0)","v":"Our Healthier South East London STP"},"72Q",{"$f":"VLOOKUP(R82,'[1]CCG & RG names'!A:B,2,0)","v":"NHS South East London CCG"},"V000695","Dulwich Orthodontic Centre, 82 Park Hall Road, LONDON, SE21 8BW","SE21 8BW","SE21"]
[null,null,null,null,null,null,null,null,null,null,null,null,null,null,null,"QKK",{"$f":"VLOOKUP(P83,'[1]CCG & RG names'!D:E,2,0)","v":"Our Healthier South East London STP"},"72Q",{"$f":"VLOOKUP(R83,'[1]CCG & RG names'!A:B,2,0)","v":"NHS South East London CCG"},"V000932","The White House Dental Surgery, 52 High Street, LONDON, SE20 7HB","SE20 7HB","SE20"]
[null,null,null,null,null,null,null,null,null,null,null,null,null,null,null,"QKK",{"$f":"VLOOKUP(P84,'[1]CCG & RG names'!D:E,2,0)","v":"Our Healthier South East London STP"},"72Q",{"$f":"VLOOKUP(R84,'[1]CCG & RG names'!A:B,2,0)","v":"NHS South East London CCG"},"V000957","Jenner Health Centre, Dental Surgery, 14 St Germans Road, LONDON, SE23 1RJ","SE23 1RJ","SE23"]
[null,null,null,null,null,null,null,null,null,null,null,null,null,null,null,"QKK",{"$f":"VLOOKUP(P85,'[1]CCG & RG names'!D:E,2,0)","v":"Our Healthier South East London STP"},"72Q",{"$f":"VLOOKUP(R85,'[1]CCG & RG names'!A:B,2,0)","v":"NHS South East London CCG"},"V001797","12 Joyce Dawson Way, Thamesmead, London, SE28 8RA","SE28 8RA","SE28"]
[null,null,null,null,null,null,null,null,null,null,null,null,null,null,null,"QKK",{"$f":"VLOOKUP(P86,'[1]CCG & RG names'!D:E,2,0)","v":"Our Healthier South East London STP"},"72Q",{"$f":"VLOOKUP(R86,'[1]CCG & RG names'!A:B,2,0)","v":"NHS South East London CCG"},"V001860","Dental Surgery, Bolney Court, 3 Lawrie Park Road, LONDON, SE26 6DP","SE26 6DP","SE26"]
[null,null,null,null,null,null,null,null,null,null,null,null,null,null,null,"QKK",{"$f":"VLOOKUP(P87,'[1]CCG & RG names'!D:E,2,0)","v":"Our Healthier South East London STP"},"72Q",{"$f":"VLOOKUP(R87,'[1]CCG & RG names'!A:B,2,0)","v":"NHS South East London CCG"},"V002791","Dental Surgery, 305 - 307 Borough High Street, LONDON, SE1 1JH","SE1 1JH","SE1 "]
[null,null,null,null,null,null,null,null,null,null,null,null,null,null,null,"QKK",{"$f":"VLOOKUP(P88,'[1]CCG & RG names'!D:E,2,0)","v":"Our Healthier South East London STP"},"72Q",{"$f":"VLOOKUP(R88,'[1]CCG & RG names'!A:B,2,0)","v":"NHS South East London CCG"},"V004331","Camberwell Dental Care, 6 Camberwell Church Street, LONDON, SE5 8QU","SE5 8QU","SE5 "]
[null,null,null,null,null,null,null,null,null,null,null,null,null,null,null,"QKK",{"$f":"VLOOKUP(P89,'[1]CCG & RG names'!D:E,2,0)","v":"Our Healthier South East London STP"},"72Q",{"$f":"VLOOKUP(R89,'[1]CCG & RG names'!A:B,2,0)","v":"NHS South East London CCG"},"V004527","Pavilion Dental Centre, 9 Brighton Terrace, LONDON, SW9 8DJ","SW9 8DJ","SW9 "]
[null,null,null,null,null,null,null,null,null,null,null,null,null,null,null,"QKK",{"$f":"VLOOKUP(P90,'[1]CCG & RG names'!D:E,2,0)","v":"Our Healthier South East London STP"},"72Q",{"$f":"VLOOKUP(R90,'[1]CCG & RG names'!A:B,2,0)","v":"NHS South East London CCG"},"V004587","Forest Hill Dental Surgery, 3 Dartmouth Road, Forest Hill, London, SE23 3HN","SE23 3HN","SE23"]
[null,null,null,null,null,null,null,null,null,null,null,null,null,null,null,"QKK",{"$f":"VLOOKUP(P91,'[1]CCG & RG names'!D:E,2,0)","v":"Our Healthier South East London STP"},"72Q",{"$f":"VLOOKUP(R91,'[1]CCG & RG names'!A:B,2,0)","v":"NHS South East London CCG"},"V004794","335 Stanstead Road, LONDON, SE6 4UE","SE6 4UE","SE6 "]
[null,null,null,null,null,null,null,null,null,null,null,null,null,null,null,"QKK",{"$f":"VLOOKUP(P92,'[1]CCG & RG names'!D:E,2,0)","v":"Our Healthier South East London STP"},"72Q",{"$f":"VLOOKUP(R92,'[1]CCG & RG names'!A:B,2,0)","v":"NHS South East London CCG"},"V004815","2nd Floor Akerman Health Centre, 60 Patmos Road, LONDON, SW9 6AF","SW9 6AF","SW9 "]
[null,null,null,null,null,null,null,null,null,null,null,null,null,null,null,"QKK",{"$f":"VLOOKUP(P93,'[1]CCG & RG names'!D:E,2,0)","v":"Our Healthier South East London STP"},"72Q",{"$f":"VLOOKUP(R93,'[1]CCG & RG names'!A:B,2,0)","v":"NHS South East London CCG"},"V005459","Dental Surgery, 171 Sunningvale Avenue, Biggin Hill, WESTERHAM, Kent, TN16 3TL","TN16 3TL","TN16"]
[null,null,null,null,null,null,null,null,null,null,null,null,null,null,null,"QKK",{"$f":"VLOOKUP(P94,'[1]CCG & RG names'!D:E,2,0)","v":"Our Healthier South East London STP"},"72Q",{"$f":"VLOOKUP(R94,'[1]CCG & RG names'!A:B,2,0)","v":"NHS South East London CCG"},"V005468","Dental Surgery, 284 Croydon Road, BECKENHAM, Kent, BR3 4DA","BR3 4DA","BR3 "]
[null,null,null,null,null,null,null,null,null,null,null,null,null,null,null,"QKK",{"$f":"VLOOKUP(P95,'[1]CCG & RG names'!D:E,2,0)","v":"Our Healthier South East London STP"},"72Q",{"$f":"VLOOKUP(R95,'[1]CCG & RG names'!A:B,2,0)","v":"NHS South East London CCG"},"V005470","MFA Dental Practice, 91A High Street, ORPINGTON, Kent, BR6 0LF","BR6 0LF","BR6 "]
[null,null,null,null,null,null,null,null,null,null,null,null,null,null,null,"QKK",{"$f":"VLOOKUP(P96,'[1]CCG & RG names'!D:E,2,0)","v":"Our Healthier South East London STP"},"72Q",{"$f":"VLOOKUP(R96,'[1]CCG & RG names'!A:B,2,0)","v":"NHS South East London CCG"},"V005613","Chatterton Dental Surgery, 51 Chatterton Road, BROMLEY, Kent, BR2 9QQ","BR2 9QQ","BR2 "]
[null,null,null,null,null,null,null,null,null,null,null,null,null,null,null,"QKK",{"$f":"VLOOKUP(P97,'[1]CCG & RG names'!D:E,2,0)","v":"Our Healthier South East London STP"},"72Q",{"$f":"VLOOKUP(R97,'[1]CCG & RG names'!A:B,2,0)","v":"NHS South East London CCG"},"V005625","Dental Surgery, 11 Kelsey Park Road, BECKENHAM, Kent, BR3 6LH","BR3 6LH","BR3 "]
[null,null,null,null,null,null,null,null,null,null,null,null,null,null,null,"QKK",{"$f":"VLOOKUP(P98,'[1]CCG & RG names'!D:E,2,0)","v":"Our Healthier South East London STP"},"72Q",{"$f":"VLOOKUP(R98,'[1]CCG & RG names'!A:B,2,0)","v":"NHS South East London CCG"},"V005632","K J Brophy Dental Surgery, 63 Tweedy Road, BROMLEY, Kent, BR1 3NH","BR1 3NH","BR1 "]
[null,null,null,null,null,null,null,null,null,null,null,null,null,null,null,"QKK",{"$f":"VLOOKUP(P99,'[1]CCG & RG names'!D:E,2,0)","v":"Our Healthier South East London STP"},"72Q",{"$f":"VLOOKUP(R99,'[1]CCG & RG names'!A:B,2,0)","v":"NHS South East London CCG"},"V005664","Dental Surgery, 18 Blyth Road, BROMLEY, Kent, BR1 3RX","BR1 3RX","BR1 "]
[null,null,null,null,null,null,null,null,null,null,null,null,null,null,null,"QKK",{"$f":"VLOOKUP(P100,'[1]CCG & RG names'!D:E,2,0)","v":"Our Healthier South East London STP"},"72Q",{"$f":"VLOOKUP(R100,'[1]CCG & RG names'!A:B,2,0)","v":"NHS South East London CCG"},"V005920","7 Sevenoaks Road, ORPINGTON, Kent, BR6 9JH","BR6 9JH","BR6 "]
[null,null,null,null,null,null,null,null,null,null,null,null,null,null,null,"QKK",{"$f":"VLOOKUP(P101,'[1]CCG & RG names'!D:E,2,0)","v":"Our Healthier South East London STP"},"72Q",{"$f":"VLOOKUP(R101,'[1]CCG & RG names'!A:B,2,0)","v":"NHS South East London CCG"},"V005924","Chelsfield Dental Practice, 17 Windsor Drive, CHELSFIELD, BR6 6EY","BR6 6EY","BR6 "]
[null,null,null,null,null,null,null,null,null,null,null,null,null,null,null,"QKK",{"$f":"VLOOKUP(P102,'[1]CCG & RG names'!D:E,2,0)","v":"Our Healthier South East London STP"},"72Q",{"$f":"VLOOKUP(R102,'[1]CCG & RG names'!A:B,2,0)","v":"NHS South East London CCG"},"V006494","Ferndale House Dental Practice, 250 Bromley Road, Shortlands, BROMLEY, Kent, BR2 0BW","BR2 0BW","BR2 "]
[null,null,null,null,null,null,null,null,null,null,null,null,null,null,null,"QKK",{"$f":"VLOOKUP(P103,'[1]CCG & RG names'!D:E,2,0)","v":"Our Healthier South East London STP"},"72Q",{"$f":"VLOOKUP(R103,'[1]CCG & RG names'!A:B,2,0)","v":"NHS South East London CCG"},"V006520","Shortlands Dental Practice, 98 Martins Road, BROMLEY, Kent, BR2 0EF","BR2 0EF","BR2 "]
[null,null,null,null,null,null,null,null,null,null,null,null,null,null,null,"QKK",{"$f":"VLOOKUP(P104,'[1]CCG & RG names'!D:E,2,0)","v":"Our Healthier South East London STP"},"72Q",{"$f":"VLOOKUP(R104,'[1]CCG & RG names'!A:B,2,0)","v":"NHS South East London CCG"},"V006523","Confidental Care, 207 Southborough Lane, BROMLEY, Kent, BR2 8AR","BR2 8AR","BR2 "]
[null,null,null,null,null,null,null,null,null,null,null,null,null,null,null,"QKK",{"$f":"VLOOKUP(P105,'[1]CCG & RG names'!D:E,2,0)","v":"Our Healthier South East London STP"},"72Q",{"$f":"VLOOKUP(R105,'[1]CCG & RG names'!A:B,2,0)","v":"NHS South East London CCG"},"V006552","Total Orthodontics, 18 Beckenham Road, BECKENHAM, Kent, BR3 4LS","BR3 4LS","BR3 "]
[null,null,null,null,null,null,null,null,null,null,null,null,null,null,null,"QKK",{"$f":"VLOOKUP(P106,'[1]CCG & RG names'!D:E,2,0)","v":"Our Healthier South East London STP"},"72Q",{"$f":"VLOOKUP(R106,'[1]CCG & RG names'!A:B,2,0)","v":"NHS South East London CCG"},"V006676","H Bs Dental Practice, 117 Burnt Ash Lane, BROMLEY, Kent, BR1 5AB","BR1 5AB","BR1 "]
[null,null,null,null,null,null,null,null,null,null,null,null,null,null,null,"QKK",{"$f":"VLOOKUP(P107,'[1]CCG & RG names'!D:E,2,0)","v":"Our Healthier South East London STP"},"72Q",{"$f":"VLOOKUP(R107,'[1]CCG & RG names'!A:B,2,0)","v":"NHS South East London CCG"},"V006680","Dental Surgery, 1 Beckenham Road, WEST WICKHAM, Kent, BR4 0QR","BR4 0QR","BR4 "]
[null,null,null,null,null,null,null,null,null,null,null,null,null,null,null,"QKK",{"$f":"VLOOKUP(P108,'[1]CCG & RG names'!D:E,2,0)","v":"Our Healthier South East London STP"},"72Q",{"$f":"VLOOKUP(R108,'[1]CCG & RG names'!A:B,2,0)","v":"NHS South East London CCG"},"V006686","Dental Surgery, 322 High Street, St Mary Cray, ORPINGTON, Kent, BR5 4AR","BR5 4AR","BR5 "]
[null,null,null,null,null,null,null,null,null,null,null,null,null,null,null,"QKK",{"$f":"VLOOKUP(P109,'[1]CCG & RG names'!D:E,2,0)","v":"Our Healthier South East London STP"},"72Q",{"$f":"VLOOKUP(R109,'[1]CCG & RG names'!A:B,2,0)","v":"NHS South East London CCG"},"V006693","Beaconsfield Dental Practice, 9 - 10 Beaconsfield Parade, LONDON, SE9 4EA","SE9 4EA","SE9 "]
[null,null,null,null,null,null,null,null,null,null,null,null,null,null,null,"QKK",{"$f":"VLOOKUP(P110,'[1]CCG & RG names'!D:E,2,0)","v":"Our Healthier South East London STP"},"72Q",{"$f":"VLOOKUP(R110,'[1]CCG & RG names'!A:B,2,0)","v":"NHS South East London CCG"},"V006707","Dental Surgery, 180 Beckenham Road, BECKENHAM, Kent, BR3 4RJ","BR3 4RJ","BR3 "]
[null,null,null,null,null,null,null,null,null,null,null,null,null,null,null,"QKK",{"$f":"VLOOKUP(P111,'[1]CCG & RG names'!D:E,2,0)","v":"Our Healthier South East London STP"},"72Q",{"$f":"VLOOKUP(R111,'[1]CCG & RG names'!A:B,2,0)","v":"NHS South East London CCG"},"V006722","Dental Surgery, 88 Manor Park Road, WEST WICKHAM, Kent, BR4 0JZ","BR4 0JZ","BR4 "]
[null,null,null,null,null,null,null,null,null,null,null,null,null,null,null,"QKK",{"$f":"VLOOKUP(P112,'[1]CCG & RG names'!D:E,2,0)","v":"Our Healthier South East London STP"},"72Q",{"$f":"VLOOKUP(R112,'[1]CCG & RG names'!A:B,2,0)","v":"NHS South East London CCG"},"V006735","Dental Surgery, 52 Cotmandene Crescent, ORPINGTON, Kent, BR5 2RG","BR5 2RG","BR5 "]
[null,null,null,null,null,null,null,null,null,null,null,null,null,null,null,"QKK",{"$f":"VLOOKUP(P113,'[1]CCG & RG names'!D:E,2,0)","v":"Our Healthier South East London STP"},"72Q",{"$f":"VLOOKUP(R113,'[1]CCG & RG names'!A:B,2,0)","v":"NHS South East London CCG"},"V006738","Green Lane Dental Centre, 17 Green Lane, LONDON, SE20 7JA","SE20 7JA","SE20"]
[null,null,null,null,null,null,null,null,null,null,null,null,null,null,null,"QKK",{"$f":"VLOOKUP(P114,'[1]CCG & RG names'!D:E,2,0)","v":"Our Healthier South East London STP"},"72Q",{"$f":"VLOOKUP(R114,'[1]CCG & RG names'!A:B,2,0)","v":"NHS South East London CCG"},"V006745","Dental Surgery, Prince Imperial Road, CHISLEHURST, Kent, BR7 5LX","BR7 5LX","BR7 "]
[null,null,null,null,null,null,null,null,null,null,null,null,null,null,null,"QKK",{"$f":"VLOOKUP(P115,'[1]CCG & RG names'!D:E,2,0)","v":"Our Healthier South East London STP"},"72Q",{"$f":"VLOOKUP(R115,'[1]CCG & RG names'!A:B,2,0)","v":"NHS South East London CCG"},"V007224","Rochester Lodge Dental Practice, 14 Rochester Avenue, BROMLEY, Kent, BR1 3DD","BR1 3DD","BR1 "]
[null,null,null,null,null,null,null,null,null,null,null,null,null,null,null,"QKK",{"$f":"VLOOKUP(P116,'[1]CCG & RG names'!D:E,2,0)","v":"Our Healthier South East London STP"},"72Q",{"$f":"VLOOKUP(R116,'[1]CCG & RG names'!A:B,2,0)","v":"NHS South East London CCG"},"V007375","Lister Primary Care Centre, 101 Peckham Road, LONDON, SE15 5LJ","SE15 5LJ","SE15"]
[null,null,null,null,null,null,null,null,null,null,null,null,null,null,null,"QKK",{"$f":"VLOOKUP(P117,'[1]CCG & RG names'!D:E,2,0)","v":"Our Healthier South East London STP"},"72Q",{"$f":"VLOOKUP(R117,'[1]CCG & RG names'!A:B,2,0)","v":"NHS South East London CCG"},"V007526","Dental Surgery, 259 High Street, Plumstead, LONDON, SE18 1HF","SE18 1HF","SE18"]
[null,null,null,null,null,null,null,null,null,null,null,null,null,null,null,"QKK",{"$f":"VLOOKUP(P118,'[1]CCG & RG names'!D:E,2,0)","v":"Our Healthier South East London STP"},"72Q",{"$f":"VLOOKUP(R118,'[1]CCG & RG names'!A:B,2,0)","v":"NHS South East London CCG"},"V007528","Dental Surgery, 92 Ampleforth Road, LONDON, SE2 9BH","SE2 9BH","SE2 "]
[null,null,null,null,null,null,null,null,null,null,null,null,null,null,null,"QKK",{"$f":"VLOOKUP(P119,'[1]CCG & RG names'!D:E,2,0)","v":"Our Healthier South East London STP"},"72Q",{"$f":"VLOOKUP(R119,'[1]CCG & RG names'!A:B,2,0)","v":"NHS South East London CCG"},"V007529","Lakeside Dental Practice, Lakeside Health Centre, Yarnton Way, Thamesmead, SE2 9LH","SE2 9LH","SE2 "]
[null,null,null,null,null,null,null,null,null,null,null,null,null,null,null,"QKK",{"$f":"VLOOKUP(P120,'[1]CCG & RG names'!D:E,2,0)","v":"Our Healthier South East London STP"},"72Q",{"$f":"VLOOKUP(R120,'[1]CCG & RG names'!A:B,2,0)","v":"NHS South East London CCG"},"V007531","Herons Gate Dental Centre, 1B Goosander Way, LONDON, SE28 0ER","SE28 0ER","SE28"]
[null,null,null,null,null,null,null,null,null,null,null,null,null,null,null,"QKK",{"$f":"VLOOKUP(P121,'[1]CCG & RG names'!D:E,2,0)","v":"Our Healthier South East London STP"},"72Q",{"$f":"VLOOKUP(R121,'[1]CCG & RG names'!A:B,2,0)","v":"NHS South East London CCG"},"V007535","Gallions Reach Dental Clinic, Gallions Reach Health Centre, Bentham Road, LONDON, SE28 8BE","SE28 8BE","SE28"]
[null,null,null,null,null,null,null,null,null,null,null,null,null,null,null,"QKK",{"$f":"VLOOKUP(P122,'[1]CCG & RG names'!D:E,2,0)","v":"Our Healthier South East London STP"},"72Q",{"$f":"VLOOKUP(R122,'[1]CCG & RG names'!A:B,2,0)","v":"NHS South East London CCG"},"V007543","Dental Surgery, 19 Glenshiel Road, LONDON, SE9 1AQ","SE9 1AQ","SE9 "]
[null,null,null,null,null,null,null,null,null,null,null,null,null,null,null,"QKK",{"$f":"VLOOKUP(P123,'[1]CCG & RG names'!D:E,2,0)","v":"Our Healthier South East London STP"},"72Q",{"$f":"VLOOKUP(R123,'[1]CCG & RG names'!A:B,2,0)","v":"NHS South East London CCG"},"V007554","Sunnydent Dental Practice, 188 Bexley Road, LONDON, SE9 2PH","SE9 2PH","SE9 "]
[null,null,null,null,null,null,null,null,null,null,null,null,null,null,null,"QKK",{"$f":"VLOOKUP(P124,'[1]CCG & RG names'!D:E,2,0)","v":"Our Healthier South East London STP"},"72Q",{"$f":"VLOOKUP(R124,'[1]CCG & RG names'!A:B,2,0)","v":"NHS South East London CCG"},"V007555","Green Lane Dental Practice, 377 Green Lane, LONDON, SE9 3TE","SE9 3TE","SE9 "]
[null,null,null,null,null,null,null,null,null,null,null,null,null,null,null,"QKK",{"$f":"VLOOKUP(P125,'[1]CCG & RG names'!D:E,2,0)","v":"Our Healthier South East London STP"},"72Q",{"$f":"VLOOKUP(R125,'[1]CCG & RG names'!A:B,2,0)","v":"NHS South East London CCG"},"V007560","78 Dunvegan Road, LONDON, SE9 1SB","SE9 1SB","SE9 "]
[null,null,null,null,null,null,null,null,null,null,null,null,null,null,null,"QKK",{"$f":"VLOOKUP(P126,'[1]CCG & RG names'!D:E,2,0)","v":"Our Healthier South East London STP"},"72Q",{"$f":"VLOOKUP(R126,'[1]CCG & RG names'!A:B,2,0)","v":"NHS South East London CCG"},"V007567","Dental Surgery, 13 Station Crescent, LONDON, SE3 7EQ","SE3 7EQ","SE3 "]
[null,null,null,null,null,null,null,null,null,null,null,null,null,null,null,"QKK",{"$f":"VLOOKUP(P127,'[1]CCG & RG names'!D:E,2,0)","v":"Our Healthier South East London STP"},"72Q",{"$f":"VLOOKUP(R127,'[1]CCG & RG names'!A:B,2,0)","v":"NHS South East London CCG"},"V007573","Dental Surgery, 72 Eastbrook Road, LONDON, SE3 8BT","SE3 8BT","SE3 "]
[null,null,null,null,null,null,null,null,null,null,null,null,null,null,null,"QKK",{"$f":"VLOOKUP(P128,'[1]CCG & RG names'!D:E,2,0)","v":"Our Healthier South East London STP"},"72Q",{"$f":"VLOOKUP(R128,'[1]CCG & RG names'!A:B,2,0)","v":"NHS South East London CCG"},"V007576","The Dental Surgery, 1 Cleveley Close, LONDON, SE7 8DP","SE7 8DP","SE7 "]
[null,null,null,null,null,null,null,null,null,null,null,null,null,null,null,"QKK",{"$f":"VLOOKUP(P129,'[1]CCG & RG names'!D:E,2,0)","v":"Our Healthier South East London STP"},"72Q",{"$f":"VLOOKUP(R129,'[1]CCG & RG names'!A:B,2,0)","v":"NHS South East London CCG"},"V007580","Charlton Dental Practice, 88 Charlton Road, Charlton, LONDON, SE7 7EY","SE7 7EY","SE7 "]
[null,null,null,null,null,null,null,null,null,null,null,null,null,null,null,"QKK",{"$f":"VLOOKUP(P130,'[1]CCG & RG names'!D:E,2,0)","v":"Our Healthier South East London STP"},"72Q",{"$f":"VLOOKUP(R130,'[1]CCG & RG names'!A:B,2,0)","v":"NHS South East London CCG"},"V007585","Greenwich Dental Practice, 207 Greenwich High Road, LONDON, SE10 8NB","SE10 8NB","SE10"]
[null,null,null,null,null,null,null,null,null,null,null,null,null,null,null,"QKK",{"$f":"VLOOKUP(P131,'[1]CCG & RG names'!D:E,2,0)","v":"Our Healthier South East London STP"},"72Q",{"$f":"VLOOKUP(R131,'[1]CCG & RG names'!A:B,2,0)","v":"NHS South East London CCG"},"V007591","Woolwich Dental Practice, 7 - 9 Woolwich New Road, LONDON, SE18 6EX","SE18 6EX",{"$f":"IF(MID(V131,3,1) =\" \",LEFT(V131,3),LEFT(V131,4))","v":"SE18"}]
[null,null,null,null,null,null,null,null,null,null,null,null,null,null,null,"QKK",{"$f":"VLOOKUP(P132,'[1]CCG & RG names'!D:E,2,0)","v":"Our Healthier South East London STP"},"72Q",{"$f":"VLOOKUP(R132,'[1]CCG & RG names'!A:B,2,0)","v":"NHS South East London CCG"},"V007593","Woolwich Gentle Dental Care, 37 - 39 Powis Street, LONDON, SE18 6HZ","SE18 6HZ","SE18"]
[null,null,null,null,null,null,null,null,null,null,null,null,null,null,null,"QKK",{"$f":"VLOOKUP(P133,'[1]CCG & RG names'!D:E,2,0)","v":"Our Healthier South East London STP"},"72Q",{"$f":"VLOOKUP(R133,'[1]CCG & RG names'!A:B,2,0)","v":"NHS South East London CCG"},"V007594","J H Patel & Partners, Dental Surgery, 81A Powis Street, London, SE18 6JB","SE18 6JB","SE18"]
[null,null,null,null,null,null,null,null,null,null,null,null,null,null,null,"QKK",{"$f":"VLOOKUP(P134,'[1]CCG & RG names'!D:E,2,0)","v":"Our Healthier South East London STP"},"72Q",{"$f":"VLOOKUP(R134,'[1]CCG & RG names'!A:B,2,0)","v":"NHS South East London CCG"},"V007595","Plumstead Dental Surgery Limited, 8 - 14 Herbert Road, Plumstead, LONDON, SE18 3SH","SE18 3SH","SE18"]
[null,null,null,null,null,null,null,null,null,null,null,null,null,null,null,"QKK",{"$f":"VLOOKUP(P135,'[1]CCG & RG names'!D:E,2,0)","v":"Our Healthier South East London STP"},"72Q",{"$f":"VLOOKUP(R135,'[1]CCG & RG names'!A:B,2,0)","v":"NHS South East London CCG"},"V007596","J K S Dental Care, 108 - 110 Plumstead High Street, LONDON, SE18 1SJ","SE18 1SJ","SE18"]
[null,null,null,null,null,null,null,null,null,null,null,null,null,null,null,"QKK",{"$f":"VLOOKUP(P136,'[1]CCG & RG names'!D:E,2,0)","v":"Our Healthier South East London STP"},"72Q",{"$f":"VLOOKUP(R136,'[1]CCG & RG names'!A:B,2,0)","v":"NHS South East London CCG"},"V007612","V K Dhanda's Dental Surgery, 257 Shooters Hill Road, London, LONDON, SE3 8UN","SE3 8UN","SE3 "]
[null,null,null,null,null,null,null,null,null,null,null,null,null,null,null,"QKK",{"$f":"VLOOKUP(P137,'[1]CCG & RG names'!D:E,2,0)","v":"Our Healthier South East London STP"},"72Q",{"$f":"VLOOKUP(R137,'[1]CCG & RG names'!A:B,2,0)","v":"NHS South East London CCG"},"V007643","Honor Oak Dental Clinic, 76 St Norbert Road, LONDON, SE4 2EY","SE4 2EY","SE4 "]
[null,null,null,null,null,null,null,null,null,null,null,null,null,null,null,"QKK",{"$f":"VLOOKUP(P138,'[1]CCG & RG names'!D:E,2,0)","v":"Our Healthier South East London STP"},"72Q",{"$f":"VLOOKUP(R138,'[1]CCG & RG names'!A:B,2,0)","v":"NHS South East London CCG"},"V007753","Riverside Dental Surgery, 30 Lakedale Road, Plumstead, London, SE18 1PP","SE18 1PP","SE18"]
[null,null,null,null,null,null,null,null,null,null,null,null,null,null,null,"QKK",{"$f":"VLOOKUP(P139,'[1]CCG & RG names'!D:E,2,0)","v":"Our Healthier South East London STP"},"72Q",{"$f":"VLOOKUP(R139,'[1]CCG & RG names'!A:B,2,0)","v":"NHS South East London CCG"},"V007884","Dental Practice, 220 High Street, BROMLEY, Kent, BR1 1PW","BR1 1PW","BR1 "]
[null,null,null,null,null,null,null,null,null,null,null,null,null,null,null,"QKK",{"$f":"VLOOKUP(P140,'[1]CCG & RG names'!D:E,2,0)","v":"Our Healthier South East London STP"},"72Q",{"$f":"VLOOKUP(R140,'[1]CCG & RG names'!A:B,2,0)","v":"NHS South East London CCG"},"V008286","Dental Surgery, 14 Bromley Road, BECKENHAM, Kent, BR3 5JE","BR3 5JE","BR3 "]
[null,null,null,null,null,null,null,null,null,null,null,null,null,null,null,"QKK",{"$f":"VLOOKUP(P141,'[1]CCG & RG names'!D:E,2,0)","v":"Our Healthier South East London STP"},"72Q",{"$f":"VLOOKUP(R141,'[1]CCG & RG names'!A:B,2,0)","v":"NHS South East London CCG"},"V008442","Bromley PCT, Eldred Drive Clinic, Eldred Drive, ORPINGTON, Kent, BR5 4PE","BR5 4PE","BR5 "]
[null,null,null,null,null,null,null,null,null,null,null,null,null,null,null,"QKK",{"$f":"VLOOKUP(P142,'[1]CCG & RG names'!D:E,2,0)","v":"Our Healthier South East London STP"},"72Q",{"$f":"VLOOKUP(R142,'[1]CCG & RG names'!A:B,2,0)","v":"NHS South East London CCG"},"V008500","Smile Family, Dental Health Practice, 196 - 198 Main Road, Biggin Hill, WESTERHAM, Kent, TN16 3BB","TN16 3BB","TN16"]
[null,null,null,null,null,null,null,null,null,null,null,null,null,null,null,"QKK",{"$f":"VLOOKUP(P143,'[1]CCG & RG names'!D:E,2,0)","v":"Our Healthier South East London STP"},"72Q",{"$f":"VLOOKUP(R143,'[1]CCG & RG names'!A:B,2,0)","v":"NHS South East London CCG"},"V008501","Dental Surgery, 81 Crofton Road, ORPINGTON, Kent, BR6 8HU","BR6 8HU","BR6 "]
[null,null,null,null,null,null,null,null,null,null,null,null,null,null,null,"QKK",{"$f":"VLOOKUP(P144,'[1]CCG & RG names'!D:E,2,0)","v":"Our Healthier South East London STP"},"72Q",{"$f":"VLOOKUP(R144,'[1]CCG & RG names'!A:B,2,0)","v":"NHS South East London CCG"},"V008578","Dental Surgery, 153 Anerley Road, LONDON, SE20 8EF","SE20 8EF","SE20"]
[null,null,null,null,null,null,null,null,null,null,null,null,null,null,null,"QKK",{"$f":"VLOOKUP(P145,'[1]CCG & RG names'!D:E,2,0)","v":"Our Healthier South East London STP"},"72Q",{"$f":"VLOOKUP(R145,'[1]CCG & RG names'!A:B,2,0)","v":"NHS South East London CCG"},"V008580","Dental Surgery, Stock Hill, Biggin Hill, WESTERHAM, Kent, TN16 3TJ","TN16 3TJ","TN16"]
[null,null,null,null,null,null,null,null,null,null,null,null,null,null,null,"QKK",{"$f":"VLOOKUP(P146,'[1]CCG & RG names'!D:E,2,0)","v":"Our Healthier South East London STP"},"72Q",{"$f":"VLOOKUP(R146,'[1]CCG & RG names'!A:B,2,0)","v":"NHS South East London CCG"},"V008598","Dental Surgery, 88B Sidcup High Street, SIDCUP, Kent, DA14 6DS","DA14 6DS","DA14"]
[null,null,null,null,null,null,null,null,null,null,null,null,null,null,null,"QKK",{"$f":"VLOOKUP(P147,'[1]CCG & RG names'!D:E,2,0)","v":"Our Healthier South East London STP"},"72Q",{"$f":"VLOOKUP(R147,'[1]CCG & RG names'!A:B,2,0)","v":"NHS South East London CCG"},"V008608","S3 Dental, 72 Well Hall Road, LONDON, SE9 6SL","SE9 6SL","SE9 "]
[null,null,null,null,null,null,null,null,null,null,null,null,null,null,null,"QKK",{"$f":"VLOOKUP(P148,'[1]CCG & RG names'!D:E,2,0)","v":"Our Healthier South East London STP"},"72Q",{"$f":"VLOOKUP(R148,'[1]CCG & RG names'!A:B,2,0)","v":"NHS South East London CCG"},"V008641","Creek Road Dental Practice, 20 Creek Road, London, SE8 3BN","SE8 3BN","SE8 "]
[null,null,null,null,null,null,null,null,null,null,null,null,null,null,null,"QKK",{"$f":"VLOOKUP(P149,'[1]CCG & RG names'!D:E,2,0)","v":"Our Healthier South East London STP"},"72Q",{"$f":"VLOOKUP(R149,'[1]CCG & RG names'!A:B,2,0)","v":"NHS South East London CCG"},"V008679","Mottingham Dental Practice, 102 William Barefoot Drive, Mottingham, London, SE9 3BB","SE9 3BB","SE9 "]
[null,null,null,null,null,null,null,null,null,null,null,null,null,null,null,"QKK",{"$f":"VLOOKUP(P150,'[1]CCG & RG names'!D:E,2,0)","v":"Our Healthier South East London STP"},"72Q",{"$f":"VLOOKUP(R150,'[1]CCG & RG names'!A:B,2,0)","v":"NHS South East London CCG"},"V008697","Dental Surgery, 150 Halfway Street, SIDCUP, Kent, DA15 8DG","DA15 8DG","DA15"]
[null,null,null,null,null,null,null,null,null,null,null,null,null,null,null,"QKK",{"$f":"VLOOKUP(P151,'[1]CCG & RG names'!D:E,2,0)","v":"Our Healthier South East London STP"},"72Q",{"$f":"VLOOKUP(R151,'[1]CCG & RG names'!A:B,2,0)","v":"NHS South East London CCG"},"V008698","Dental Surgery, 10A Sidcup Hill, SIDCUP, Kent, DA14 6HH","DA14 6HH","DA14"]
[null,null,null,null,null,null,null,null,null,null,null,null,null,null,null,"QKK",{"$f":"VLOOKUP(P152,'[1]CCG & RG names'!D:E,2,0)","v":"Our Healthier South East London STP"},"72Q",{"$f":"VLOOKUP(R152,'[1]CCG & RG names'!A:B,2,0)","v":"NHS South East London CCG"},"V008701","Dental Surgery, 201 Bellegrove Road, WELLING, Kent, DA16 3RA","DA16 3RA","DA16"]
[null,null,null,null,null,null,null,null,null,null,null,null,null,null,null,"QKK",{"$f":"VLOOKUP(P153,'[1]CCG & RG names'!D:E,2,0)","v":"Our Healthier South East London STP"},"72Q",{"$f":"VLOOKUP(R153,'[1]CCG & RG names'!A:B,2,0)","v":"NHS South East London CCG"},"V008702","180 - 184 Upper Wickham Lane, Welling, Kent, DA16 3EB","DA16 3EB","DA16"]
[null,null,null,null,null,null,null,null,null,null,null,null,null,null,null,"QKK",{"$f":"VLOOKUP(P154,'[1]CCG & RG names'!D:E,2,0)","v":"Our Healthier South East London STP"},"72Q",{"$f":"VLOOKUP(R154,'[1]CCG & RG names'!A:B,2,0)","v":"NHS South East London CCG"},"V008706","Dental Surgery, 101A Welling High Street, WELLING, Kent, DA16 1TY","DA16 1TY","DA16"]
[null,null,null,null,null,null,null,null,null,null,null,null,null,null,null,"QKK",{"$f":"VLOOKUP(P155,'[1]CCG & RG names'!D:E,2,0)","v":"Our Healthier South East London STP"},"72Q",{"$f":"VLOOKUP(R155,'[1]CCG & RG names'!A:B,2,0)","v":"NHS South East London CCG"},"V008708","Dental Surgery, 61 65 Hadlow Road, WELLING, Kent, DA16 1AX","DA16 1AX","DA16"]
[null,null,null,null,null,null,null,null,null,null,null,null,null,null,null,"QKK",{"$f":"VLOOKUP(P156,'[1]CCG & RG names'!D:E,2,0)","v":"Our Healthier South East London STP"},"72Q",{"$f":"VLOOKUP(R156,'[1]CCG & RG names'!A:B,2,0)","v":"NHS South East London CCG"},"V008709","Dent Cross Dental Surgery, 11 Falconwood Parade, WELLING, Kent, DA16 2PL","DA16 2PL","DA16"]
[null,null,null,null,null,null,null,null,null,null,null,null,null,null,null,"QKK",{"$f":"VLOOKUP(P157,'[1]CCG & RG names'!D:E,2,0)","v":"Our Healthier South East London STP"},"72Q",{"$f":"VLOOKUP(R157,'[1]CCG & RG names'!A:B,2,0)","v":"NHS South East London CCG"},"V008710","Dental Surgery, 24 Wellington Avenue, SIDCUP, Kent, DA15 9HG","DA15 9HG","DA15"]
[null,null,null,null,null,null,null,null,null,null,null,null,null,null,null,"QKK",{"$f":"VLOOKUP(P158,'[1]CCG & RG names'!D:E,2,0)","v":"Our Healthier South East London STP"},"72Q",{"$f":"VLOOKUP(R158,'[1]CCG & RG names'!A:B,2,0)","v":"NHS South East London CCG"},"V008712","Days Lane Dental, 268-270 Days Lane, SIDCUP, Kent, DA15 8PG","DA15 8PG","DA15"]
[null,null,null,null,null,null,null,null,null,null,null,null,null,null,null,"QKK",{"$f":"VLOOKUP(P159,'[1]CCG & RG names'!D:E,2,0)","v":"Our Healthier South East London STP"},"72Q",{"$f":"VLOOKUP(R159,'[1]CCG & RG names'!A:B,2,0)","v":"NHS South East London CCG"},"V008716","8 Vicarage Road, BEXLEY, Kent, DA5 2AL","DA5 2AL","DA5 "]
[null,null,null,null,null,null,null,null,null,null,null,null,null,null,null,"QKK",{"$f":"VLOOKUP(P160,'[1]CCG & RG names'!D:E,2,0)","v":"Our Healthier South East London STP"},"72Q",{"$f":"VLOOKUP(R160,'[1]CCG & RG names'!A:B,2,0)","v":"NHS South East London CCG"},"V008717","Dental Surgery, 318 Erith Road, BEXLEYHEATH, Kent, DA7 6HJ","DA7 6HJ","DA7 "]
[null,null,null,null,null,null,null,null,null,null,null,null,null,null,null,"QKK",{"$f":"VLOOKUP(P161,'[1]CCG & RG names'!D:E,2,0)","v":"Our Healthier South East London STP"},"72Q",{"$f":"VLOOKUP(R161,'[1]CCG & RG names'!A:B,2,0)","v":"NHS South East London CCG"},"V008719","Bexleyheath Dental Practice, 306 Broadway, BEXLEYHEATH, Kent, DA6 8AA","DA6 8AA","DA6 "]
[null,null,null,null,null,null,null,null,null,null,null,null,null,null,null,"QKK",{"$f":"VLOOKUP(P162,'[1]CCG & RG names'!D:E,2,0)","v":"Our Healthier South East London STP"},"72Q",{"$f":"VLOOKUP(R162,'[1]CCG & RG names'!A:B,2,0)","v":"NHS South East London CCG"},"V008720","Dental Surgery, 144 Long Lane, BEXLEYHEATH, Kent, DA7 5AH","DA7 5AH","DA7 "]
[null,null,null,null,null,null,null,null,null,null,null,null,null,null,null,"QKK",{"$f":"VLOOKUP(P163,'[1]CCG & RG names'!D:E,2,0)","v":"Our Healthier South East London STP"},"72Q",{"$f":"VLOOKUP(R163,'[1]CCG & RG names'!A:B,2,0)","v":"NHS South East London CCG"},"V008721","Dental Surgery, 42 Crook Log, BEXLEYHEATH, Kent, DA6 8BS","DA6 8BS","DA6 "]
[null,null,null,null,null,null,null,null,null,null,null,null,null,null,null,"QKK",{"$f":"VLOOKUP(P164,'[1]CCG & RG names'!D:E,2,0)","v":"Our Healthier South East London STP"},"72Q",{"$f":"VLOOKUP(R164,'[1]CCG & RG names'!A:B,2,0)","v":"NHS South East London CCG"},"V008723","Chapel Road Orthodontics, 39 Chapel Road, BEXLEYHEATH, Kent, DA7 4HW","DA7 4HW","DA7 "]
[null,null,null,null,null,null,null,null,null,null,null,null,null,null,null,"QKK",{"$f":"VLOOKUP(P165,'[1]CCG & RG names'!D:E,2,0)","v":"Our Healthier South East London STP"},"72Q",{"$f":"VLOOKUP(R165,'[1]CCG & RG names'!A:B,2,0)","v":"NHS South East London CCG"},"V008725","Dental Surgery, 2 Green Walk, DARTFORD, Kent, DA1 4JL","DA1 4JL","DA1 "]
[null,null,null,null,null,null,null,null,null,null,null,null,null,null,null,"QKK",{"$f":"VLOOKUP(P166,'[1]CCG & RG names'!D:E,2,0)","v":"Our Healthier South East London STP"},"72Q",{"$f":"VLOOKUP(R166,'[1]CCG & RG names'!A:B,2,0)","v":"NHS South East London CCG"},"V008728","Dental Surgery, 184 Bexley Road, ERITH, Kent, DA8 3HF","DA8 3HF","DA8 "]
[null,null,null,null,null,null,null,null,null,null,null,null,null,null,null,"QKK",{"$f":"VLOOKUP(P167,'[1]CCG & RG names'!D:E,2,0)","v":"Our Healthier South East London STP"},"72Q",{"$f":"VLOOKUP(R167,'[1]CCG & RG names'!A:B,2,0)","v":"NHS South East London CCG"},"V008749","Orpington Dental Care Centre, 342 High Street, ORPINGTON, Kent, BR6 0NQ","BR6 0NQ","BR6 "]
[null,null,null,null,null,null,null,null,null,null,null,null,null,null,null,"QKK",{"$f":"VLOOKUP(P168,'[1]CCG & RG names'!D:E,2,0)","v":"Our Healthier South East London STP"},"72Q",{"$f":"VLOOKUP(R168,'[1]CCG & RG names'!A:B,2,0)","v":"NHS South East London CCG"},"V008756","The Buckley Dental Practice, 31 Tweedy Road, BROMLEY, Kent, BR1 3PR","BR1 3PR","BR1 "]
[null,null,null,null,null,null,null,null,null,null,null,null,null,null,null,"QKK",{"$f":"VLOOKUP(P169,'[1]CCG & RG names'!D:E,2,0)","v":"Our Healthier South East London STP"},"72Q",{"$f":"VLOOKUP(R169,'[1]CCG & RG names'!A:B,2,0)","v":"NHS South East London CCG"},"V008758","Dental Surgery, 419 Crofton Road, ORPINGTON, Kent, BR6 8NL","BR6 8NL","BR6 "]
[null,null,null,null,null,null,null,null,null,null,null,null,null,null,null,"QKK",{"$f":"VLOOKUP(P170,'[1]CCG & RG names'!D:E,2,0)","v":"Our Healthier South East London STP"},"72Q",{"$f":"VLOOKUP(R170,'[1]CCG & RG names'!A:B,2,0)","v":"NHS South East London CCG"},"V008781","13 - 15 Picardy Road, BELVEDERE, Kent, DA17 5QH","DA17 5QH","DA17"]
[null,null,null,null,null,null,null,null,null,null,null,null,null,null,null,"QKK",{"$f":"VLOOKUP(P171,'[1]CCG & RG names'!D:E,2,0)","v":"Our Healthier South East London STP"},"72Q",{"$f":"VLOOKUP(R171,'[1]CCG & RG names'!A:B,2,0)","v":"NHS South East London CCG"},"V008789","The Dental Surgery, 416 Well Hall Road, Eltham, London, SE9 6UD","SE9 6UD","SE9 "]
[null,null,null,null,null,null,null,null,null,null,null,null,null,null,null,"QKK",{"$f":"VLOOKUP(P172,'[1]CCG & RG names'!D:E,2,0)","v":"Our Healthier South East London STP"},"72Q",{"$f":"VLOOKUP(R172,'[1]CCG & RG names'!A:B,2,0)","v":"NHS South East London CCG"},"V008791","Orchard House Dental Practice, 61 South Eden Park Road, BECKENHAM, Kent, BR3 3BQ","BR3 3BQ","BR3 "]
[null,null,null,null,null,null,null,null,null,null,null,null,null,null,null,"QKK",{"$f":"VLOOKUP(P173,'[1]CCG & RG names'!D:E,2,0)","v":"Our Healthier South East London STP"},"72Q",{"$f":"VLOOKUP(R173,'[1]CCG & RG names'!A:B,2,0)","v":"NHS South East London CCG"},"V008805","Smile Dental Practice Bromley, 155 Hastings Road, BROMLEY, Kent, BR2 8NQ","BR2 8NQ","BR2 "]
[null,null,null,null,null,null,null,null,null,null,null,null,null,null,null,"QKK",{"$f":"VLOOKUP(P174,'[1]CCG & RG names'!D:E,2,0)","v":"Our Healthier South East London STP"},"72Q",{"$f":"VLOOKUP(R174,'[1]CCG & RG names'!A:B,2,0)","v":"NHS South East London CCG"},"V008806","Dental Surgery, 9 Crofton Road, ORPINGTON, Kent, BR6 8AE","BR6 8AE","BR6 "]
[null,null,null,null,null,null,null,null,null,null,null,null,null,null,null,"QKK",{"$f":"VLOOKUP(P175,'[1]CCG & RG names'!D:E,2,0)","v":"Our Healthier South East London STP"},"72Q",{"$f":"VLOOKUP(R175,'[1]CCG & RG names'!A:B,2,0)","v":"NHS South East London CCG"},"V008822","Dental Surgery, 29 Station Road, ORPINGTON, Kent, BR6 0RZ","BR6 0RZ","BR6 "]
[null,null,null,null,null,null,null,null,null,null,null,null,null,null,null,"QKK",{"$f":"VLOOKUP(P176,'[1]CCG & RG names'!D:E,2,0)","v":"Our Healthier South East London STP"},"72Q",{"$f":"VLOOKUP(R176,'[1]CCG & RG names'!A:B,2,0)","v":"NHS South East London CCG"},"V008842","Hayes Dental Surgery, 33 Pickhurst Lane, Bromley, Kent, BR2 7JE","BR2 7JE","BR2 "]
[null,null,null,null,null,null,null,null,null,null,null,null,null,null,null,"QKK",{"$f":"VLOOKUP(P177,'[1]CCG & RG names'!D:E,2,0)","v":"Our Healthier South East London STP"},"72Q",{"$f":"VLOOKUP(R177,'[1]CCG & RG names'!A:B,2,0)","v":"NHS South East London CCG"},"V009401","Dulwich Oak Dental Practice, 3a Fellbridge House, Dog Kennel Hill, LONDON, SE22 8BQ","SE22 8BQ","SE22"]
[null,null,null,null,null,null,null,null,null,null,null,null,null,null,null,"QKK",{"$f":"VLOOKUP(P178,'[1]CCG & RG names'!D:E,2,0)","v":"Our Healthier South East London STP"},"72Q",{"$f":"VLOOKUP(R178,'[1]CCG & RG names'!A:B,2,0)","v":"NHS South East London CCG"},"V009490","23 Calderwood Street, Woolwich, London, SE18 6QW","SE18 6QW","SE18"]
[null,null,null,null,null,null,null,null,null,null,null,null,null,null,null,"QKK",{"$f":"VLOOKUP(P179,'[1]CCG & RG names'!D:E,2,0)","v":"Our Healthier South East London STP"},"72Q",{"$f":"VLOOKUP(R179,'[1]CCG & RG names'!A:B,2,0)","v":"NHS South East London CCG"},"V009988","H M Prison, Brixton, Jebb Avenue, LONDON, SW2 5XF","SW2 5XF","SW2 "]
[null,null,null,null,null,null,null,null,null,null,null,null,null,null,null,"QKK",{"$f":"VLOOKUP(P180,'[1]CCG & RG names'!D:E,2,0)","v":"Our Healthier South East London STP"},"72Q",{"$f":"VLOOKUP(R180,'[1]CCG & RG names'!A:B,2,0)","v":"NHS South East London CCG"},"V010471","Pickhurst Dental Care, 317 Pickhurst Lane, West Wickham, Kent, BR4 0HW","BR4 0HW","BR4 "]
[null,null,null,null,null,null,null,null,null,null,null,null,null,null,null,"QKK",{"$f":"VLOOKUP(P181,'[1]CCG & RG names'!D:E,2,0)","v":"Our Healthier South East London STP"},"72Q",{"$f":"VLOOKUP(R181,'[1]CCG & RG names'!A:B,2,0)","v":"NHS South East London CCG"},"V010679","328 Baring Road, LONDON, SE12 0DU","SE12 0DU","SE12"]
[null,null,null,null,null,null,null,null,null,null,null,null,null,null,null,"QKK",{"$f":"VLOOKUP(P182,'[1]CCG & RG names'!D:E,2,0)","v":"Our Healthier South East London STP"},"72Q",{"$f":"VLOOKUP(R182,'[1]CCG & RG names'!A:B,2,0)","v":"NHS South East London CCG"},"V011514","140 Clapham Park Road, Clapham Common, London, SW4 7DE","SW4 7DE","SW4 "]
[null,null,null,null,null,null,null,null,null,null,null,null,null,null,null,"QKK",{"$f":"VLOOKUP(P183,'[1]CCG & RG names'!D:E,2,0)","v":"Our Healthier South East London STP"},"72Q",{"$f":"VLOOKUP(R183,'[1]CCG & RG names'!A:B,2,0)","v":"NHS South East London CCG"},"V011539","Rushey Green Dental Practice, 87A Rushey Green, LONDON, SE6 4AF","SE6 4AF","SE6 "]
[null,null,null,null,null,null,null,null,null,null,null,null,null,null,null,"QKK",{"$f":"VLOOKUP(P184,'[1]CCG & RG names'!D:E,2,0)","v":"Our Healthier South East London STP"},"72Q",{"$f":"VLOOKUP(R184,'[1]CCG & RG names'!A:B,2,0)","v":"NHS South East London CCG"},"V012111","P.S.Ellisdon Ortho Surgery, Suite B, Victory House, 131 Queensway, Petts Wood, Orpington, Kent, BR5 1DG","BR5 1DG","BR5 "]
[null,null,null,null,null,null,null,null,null,null,null,null,null,null,null,"QKK",{"$f":"VLOOKUP(P185,'[1]CCG & RG names'!D:E,2,0)","v":"Our Healthier South East London STP"},"72Q",{"$f":"VLOOKUP(R185,'[1]CCG & RG names'!A:B,2,0)","v":"NHS South East London CCG"},"V012511","Eltham Park Dental Practice Ltd, 5 Westmount Road, Eltham, London, SE9 1JB","SE9 1JB","SE9 "]
[null,null,null,null,null,null,null,null,null,null,null,null,null,null,null,"QKK",{"$f":"VLOOKUP(P186,'[1]CCG & RG names'!D:E,2,0)","v":"Our Healthier South East London STP"},"72Q",{"$f":"VLOOKUP(R186,'[1]CCG & RG names'!A:B,2,0)","v":"NHS South East London CCG"},"V012522","Beckenham Beacon, 379 Croydon Road, BECKENHAM, Kent, BR3 3QL","BR3 3QL","BR3 "]
[null,null,null,null,null,null,null,null,null,null,null,null,null,null,null,"QKK",{"$f":"VLOOKUP(P187,'[1]CCG & RG names'!D:E,2,0)","v":"Our Healthier South East London STP"},"72Q",{"$f":"VLOOKUP(R187,'[1]CCG & RG names'!A:B,2,0)","v":"NHS South East London CCG"},"V012600","Streatham Dental Care, Ground Floor, 11 Becmead Avenue, London, SW16 1UN","SW16 1UN","SW16"]
[null,null,null,null,null,null,null,null,null,null,null,null,null,null,null,"QKK",{"$f":"VLOOKUP(P188,'[1]CCG & RG names'!D:E,2,0)","v":"Our Healthier South East London STP"},"72Q",{"$f":"VLOOKUP(R188,'[1]CCG & RG names'!A:B,2,0)","v":"NHS South East London CCG"},"V013079","Dental Beauty Bexleyheath, 70 Pickford Lane, BEXLEYHEATH, DA7 4QX","DA7 4QX","DA7 "]
[null,null,null,null,null,null,null,null,null,null,null,null,null,null,null,"QKK",{"$f":"VLOOKUP(P189,'[1]CCG & RG names'!D:E,2,0)","v":"Our Healthier South East London STP"},"72Q",{"$f":"VLOOKUP(R189,'[1]CCG & RG names'!A:B,2,0)","v":"NHS South East London CCG"},"V013126","Mobile Dental Unit, Kings College Hospital, Denmark Hill, London, SE5 9RS","SE5 9RS","SE5 "]
[null,null,null,null,null,null,null,null,null,null,null,null,null,null,null,"QKK",{"$f":"VLOOKUP(P190,'[1]CCG & RG names'!D:E,2,0)","v":"Our Healthier South East London STP"},"72Q",{"$f":"VLOOKUP(R190,'[1]CCG & RG names'!A:B,2,0)","v":"NHS South East London CCG"},"V013162","10 Belmont Parade, Green Lane, Chislehurst, Kent, BR7 6AN","BR7 6AN","BR7 "]
[null,null,null,null,null,null,null,null,null,null,null,null,null,null,null,"QKK",{"$f":"VLOOKUP(P191,'[1]CCG & RG names'!D:E,2,0)","v":"Our Healthier South East London STP"},"72Q",{"$f":"VLOOKUP(R191,'[1]CCG & RG names'!A:B,2,0)","v":"NHS South East London CCG"},"V013217","Charlton Village Dental Practice, 20 The Village, LONDON, SE7 8UD","SE7 8UD","SE7 "]
[null,null,null,null,null,null,null,null,null,null,null,null,null,null,null,"QKK",{"$f":"VLOOKUP(P192,'[1]CCG & RG names'!D:E,2,0)","v":"Our Healthier South East London STP"},"72Q",{"$f":"VLOOKUP(R192,'[1]CCG & RG names'!A:B,2,0)","v":"NHS South East London CCG"},"V013252","The Grange Dental Surgery, 134 Grange Road, London, SE1 3GF","SE1 3GF","SE1 "]
[null,null,null,null,null,null,null,null,null,null,null,null,null,null,null,"QKK",{"$f":"VLOOKUP(P193,'[1]CCG & RG names'!D:E,2,0)","v":"Our Healthier South East London STP"},"72Q",{"$f":"VLOOKUP(R193,'[1]CCG & RG names'!A:B,2,0)","v":"NHS South East London CCG"},"V013525","Canada Water Dental Health, Toronto House, Surrey Quays Road, London, SE16 7AJ","SE16 7AJ","SE16"]
[null,null,null,null,null,null,null,null,null,null,null,null,null,null,null,"QKK",{"$f":"VLOOKUP(P194,'[1]CCG & RG names'!D:E,2,0)","v":"Our Healthier South East London STP"},"72Q",{"$f":"VLOOKUP(R194,'[1]CCG & RG names'!A:B,2,0)","v":"NHS South East London CCG"},"V013731","SmileShines Beckenham, 233-235 High Street, Beckenham, Kent, BR3 1BN","BR3 1BN","BR3 "]
[null,null,null,null,null,null,null,null,null,null,null,null,null,null,null,"QKK",{"$f":"VLOOKUP(P195,'[1]CCG & RG names'!D:E,2,0)","v":"Our Healthier South East London STP"},"72Q",{"$f":"VLOOKUP(R195,'[1]CCG & RG names'!A:B,2,0)","v":"NHS South East London CCG"},"V014462","Clapham South Dental Centre, 15 Balham Hill, London, SW12 9DY","SW12 9DY",{"$f":"IF(MID(V195,3,1) =\" \",LEFT(V195,3),LEFT(V195,4))","v":"SW12"}]
[null,null,null,null,null,null,null,null,null,null,null,null,null,null,null,"QKK",{"$f":"VLOOKUP(P196,'[1]CCG & RG names'!D:E,2,0)","v":"Our Healthier South East London STP"},"72Q",{"$f":"VLOOKUP(R196,'[1]CCG & RG names'!A:B,2,0)","v":"NHS South East London CCG"},"V018528","44b The Gardens, East Dulwich, London, SE22 9QQ","SE22 9QQ","SE22"]
[null,null,null,null,null,null,null,null,null,null,null,null,null,null,null,"QKK",{"$f":"VLOOKUP(P197,'[1]CCG & RG names'!D:E,2,0)","v":"Our Healthier South East London STP"},"72Q",{"$f":"VLOOKUP(R197,'[1]CCG & RG names'!A:B,2,0)","v":"NHS South East London CCG"},"V020413","Dr Pourreza, Dental Surgery, 3 Elford Close, Kidbrooke, London, SE3 9FA","SE3 9FA","SE3 "]
[null,null,null,null,null,null,null,null,null,null,null,null,null,null,null,"QKK",{"$f":"VLOOKUP(P198,'[1]CCG & RG names'!D:E,2,0)","v":"Our Healthier South East London STP"},"72Q",{"$f":"VLOOKUP(R198,'[1]CCG & RG names'!A:B,2,0)","v":"NHS South East London CCG"},"V023237","Beaconsfield Dental Practice, 86 High Street, Orpington, BR6 0LZ","BR6 0LZ","BR6 "]
[null,null,null,null,null,null,null,null,null,null,null,null,null,null,null,"QKK",{"$f":"VLOOKUP(P199,'[1]CCG & RG names'!D:E,2,0)","v":"Our Healthier South East London STP"},"72Q",{"$f":"VLOOKUP(R199,'[1]CCG & RG names'!A:B,2,0)","v":"NHS South East London CCG"},"V025103","East Dulwich Dental Care, 4 Forest Hill Road, London, SE22 0RR","SE22 0RR","SE22"]
[null,null,null,null,null,null,null,null,null,null,null,null,null,null,null,"QKK",{"$f":"VLOOKUP(P200,'[1]CCG & RG names'!D:E,2,0)","v":"Our Healthier South East London STP"},"72Q",{"$f":"VLOOKUP(R200,'[1]CCG & RG names'!A:B,2,0)","v":"NHS South East London CCG"},"V026454","172 Bexley Road, Erith, Kent, DA8 3HG","DA8 3HG","DA8 "]
[null,null,null,null,null,null,null,null,null,null,null,null,null,null,null,"QKK",{"$f":"VLOOKUP(P201,'[1]CCG & RG names'!D:E,2,0)","v":"Our Healthier South East London STP"},"72Q",{"$f":"VLOOKUP(R201,'[1]CCG & RG names'!A:B,2,0)","v":"NHS South East London CCG"},"V028149","Downtown Health Centre, 11 Blondin Way, London, SE16 6AE","SE16 6AE","SE16"]
[null,null,null,null,null,null,null,null,null,null,null,null,null,null,null,"QKK",{"$f":"VLOOKUP(P202,'[1]CCG & RG names'!D:E,2,0)","v":"Our Healthier South East London STP"},"72Q",{"$f":"VLOOKUP(R202,'[1]CCG & RG names'!A:B,2,0)","v":"NHS South East London CCG"},"V029381","1-3, Garland Road, London, SE18 2RU","SE18 2RU","SE18"]
[null,null,null,null,null,null,null,null,null,null,null,null,null,null,null,"QKK",{"$f":"VLOOKUP(P203,'[1]CCG & RG names'!D:E,2,0)","v":"Our Healthier South East London STP"},"72Q",{"$f":"VLOOKUP(R203,'[1]CCG & RG names'!A:B,2,0)","v":"NHS South East London CCG"},"V029986","Habashi Dental Practice, 176 Eynsham Drive, Abbey Wood, London, SE2 9PT","SE2 9PT","SE2 "]
[null,null,null,null,null,null,null,null,null,null,null,null,null,null,null,"QKK",{"$f":"VLOOKUP(P204,'[1]CCG & RG names'!D:E,2,0)","v":"Our Healthier South East London STP"},"72Q",{"$f":"VLOOKUP(R204,'[1]CCG & RG names'!A:B,2,0)","v":"NHS South East London CCG"},"V030186","10 - 12 Crayford High Street, Crayford, Dartford, DA1 4HG, DA1 4HG","DA1 4HG","DA1 "]
[null,null,null,null,null,null,null,null,null,null,null,null,null,null,null,"QKK",{"$f":"VLOOKUP(P205,'[1]CCG & RG names'!D:E,2,0)","v":"Our Healthier South East London STP"},"72Q",{"$f":"VLOOKUP(R205,'[1]CCG & RG names'!A:B,2,0)","v":"NHS South East London CCG"},"V031351","Griffin Manor Way, London, SE28 0FJ","SE28 0FJ","SE28"]
[null,null,null,null,null,null,null,null,null,null,null,null,null,null,null,"QKK",{"$f":"VLOOKUP(P206,'[1]CCG & RG names'!D:E,2,0)","v":"Our Healthier South East London STP"},"72Q",{"$f":"VLOOKUP(R206,'[1]CCG & RG names'!A:B,2,0)","v":"NHS South East London CCG"},"V031352","Belmarsh, 1 Belmarsh Road, London, SE28 0EB","SE28 0EB","SE28"]
[null,null,null,null,null,null,null,null,null,null,null,null,null,null,null,"QKK",{"$f":"VLOOKUP(P207,'[1]CCG & RG names'!D:E,2,0)","v":"Our Healthier South East London STP"},"72Q",{"$f":"VLOOKUP(R207,'[1]CCG & RG names'!A:B,2,0)","v":"NHS South East London CCG"},"V031364","HMP/YOI Isis, Western Way, Thamesmead, SE28 0NZ","SE28 0NZ","SE28"]
[null,null,null,null,null,null,null,null,null,null,null,null,null,null,null,"QKK",{"$f":"VLOOKUP(P208,'[1]CCG & RG names'!D:E,2,0)","v":"Our Healthier South East London STP"},"72Q",{"$f":"VLOOKUP(R208,'[1]CCG & RG names'!A:B,2,0)","v":"NHS South East London CCG"},"V032643","15 HOOK LANE, WELLING, KENT, DA16 2DH","DA16 2DH","DA16"]
[null,null,null,null,null,null,null,null,null,null,null,null,null,null,null,"QKK",{"$f":"VLOOKUP(P209,'[1]CCG & RG names'!D:E,2,0)","v":"Our Healthier South East London STP"},"72Q",{"$f":"VLOOKUP(R209,'[1]CCG & RG names'!A:B,2,0)","v":"NHS South East London CCG"},"V040292","20 The Village, Charlton, London, SE7 8UD","SE7 8UD","SE7 "]
[null,null,null,null,null,null,null,null,null,null,null,null,null,null,null,"QKK",{"$f":"VLOOKUP(P210,'[1]CCG & RG names'!D:E,2,0)","v":"Our Healthier South East London STP"},"72Q",{"$f":"VLOOKUP(R210,'[1]CCG & RG names'!A:B,2,0)","v":"NHS South East London CCG"},"V042530","65 THANET ROAD, BEXLEY, KENT, DA5 1AP","DA5 1AP","DA5 "]
[null,null,null,null,null,null,null,null,null,null,null,null,null,null,null,"QKK",{"$f":"VLOOKUP(P211,'[1]CCG & RG names'!D:E,2,0)","v":"Our Healthier South East London STP"},"72Q",{"$f":"VLOOKUP(R211,'[1]CCG & RG names'!A:B,2,0)","v":"NHS South East London CCG"},"V042596","Mint Dental Clinic, 3 St Georges Court, Garden Row, SE1 6HD","SE1 6HD","SE1 "]
[null,null,null,null,null,null,null,null,null,null,null,null,null,null,null,"QKK",{"$f":"VLOOKUP(P212,'[1]CCG & RG names'!D:E,2,0)","v":"Our Healthier South East London STP"},"72Q",{"$f":"VLOOKUP(R212,'[1]CCG & RG names'!A:B,2,0)","v":"NHS South East London CCG"},"V043065","Greenwich Dental Care, 3 HAZEL LANE, LONDON, SE10 9FZ","SE10 9FZ","SE10"]
[null,null,null,null,null,null,null,null,null,null,null,null,null,null,null,"QKK",{"$f":"VLOOKUP(P213,'[1]CCG & RG names'!D:E,2,0)","v":"Our Healthier South East London STP"},"72Q",{"$f":"VLOOKUP(R213,'[1]CCG & RG names'!A:B,2,0)","v":"NHS South East London CCG"},"V043874","Adams House Dental Practice, 215-217 Petts Wood Road, Petts Wood, Orpington, BR5 1LA","BR5 1LA","BR5 "]
[null,null,null,null,null,null,null,null,null,null,null,null,null,null,null,"QKK",{"$f":"VLOOKUP(P214,'[1]CCG & RG names'!D:E,2,0)","v":"Our Healthier South East London STP"},"72Q",{"$f":"VLOOKUP(R214,'[1]CCG & RG names'!A:B,2,0)","v":"NHS South East London CCG"},"V045283","126 HIGH STREET, WEST WICKHAM, BR4 0LZ","BR4 0LZ","BR4 "]
[null,null,null,null,null,null,null,null,null,null,null,null,null,null,null,"QKK",{"$f":"VLOOKUP(P215,'[1]CCG & RG names'!D:E,2,0)","v":"Our Healthier South East London STP"},"72Q",{"$f":"VLOOKUP(R215,'[1]CCG & RG names'!A:B,2,0)","v":"NHS South East London CCG"},"V136955","Simply Orthodontics, 11 Station Road, Orpington, BR6 0RZ","BR6 0RZ","BR6 "]
[null,null,null,null,null,null,null,null,null,null,null,null,null,null,null,"QKK",{"$f":"VLOOKUP(P216,'[1]CCG & RG names'!D:E,2,0)","v":"Our Healthier South East London STP"},"72Q",{"$f":"VLOOKUP(R216,'[1]CCG & RG names'!A:B,2,0)","v":"NHS South East London CCG"},"V138701","Orchard Orthodontics, 8 Brixton Hill, London, SW2 1EG","SW2 1EG","SW2 "]
[null,null,null,null,null,null,null,null,null,null,null,null,null,null,null,"QKK",{"$f":"VLOOKUP(P217,'[1]CCG & RG names'!D:E,2,0)","v":"Our Healthier South East London STP"},"72Q",{"$f":"VLOOKUP(R217,'[1]CCG & RG names'!A:B,2,0)","v":"NHS South East London CCG"},"V138701","Orchard Orthodontics, 8 Brixton Hill, London, SW2 1EG","SW2 1EG","SW2 "]
[null,null,null,null,null,null,null,null,null,null,null,null,null,null,null,"QKK",{"$f":"VLOOKUP(P218,'[1]CCG & RG names'!D:E,2,0)","v":"Our Healthier South East London STP"},"72Q",{"$f":"VLOOKUP(R218,'[1]CCG & RG names'!A:B,2,0)","v":"NHS South East London CCG"},"V169019","Total Orthodontics, 10-14 Mercy Terrace, Ladywell, London, SE13 7UX","SE13 7UX","SE13"]
[null,null,null,null,null,null,null,null,null,null,null,null,null,null,null,"QKK",{"$f":"VLOOKUP(P219,'[1]CCG & RG names'!D:E,2,0)","v":"Our Healthier South East London STP"},"72Q",{"$f":"VLOOKUP(R219,'[1]CCG & RG names'!A:B,2,0)","v":"NHS South East London CCG"},"V169050","Portman Smile Clinic, Unit 2c, Renaissance, Loampit Vale, London, SE13 7DJ","SE13 7DJ","SE13"]
[null,null,null,null,null,null,null,null,null,null,null,null,null,null,null,"QKK",{"$f":"VLOOKUP(P220,'[1]CCG & RG names'!D:E,2,0)","v":"Our Healthier South East London STP"},"72Q",{"$f":"VLOOKUP(R220,'[1]CCG & RG names'!A:B,2,0)","v":"NHS South East London CCG"},"V207205","Wytes Elephant & Castle, 94-96 Walworth Road, London, SE1 6SW","SE1 6SW","SE1 "]
[null,null,null,null,null,null,null,null,null,null,null,null,null,null,null,"QKK",{"$f":"VLOOKUP(P221,'[1]CCG & RG names'!D:E,2,0)","v":"Our Healthier South East London STP"},"93C",{"$f":"VLOOKUP(R221,'[1]CCG & RG names'!A:B,2,0)","v":"NHS North Central London CCG"},"V004893","263 Victoria Road, LONDON, N22 7XH","N22 7XH","N22 "]
[null,null,null,null,null,null,null,null,null,null,null,null,null,null,null,"QMF",{"$f":"VLOOKUP(P222,'[1]CCG & RG names'!D:E,2,0)","v":"East London Health & Care Partnership (STP)"},"A3A8R",{"$f":"VLOOKUP(R222,'[1]CCG & RG names'!A:B,2,0)","v":"NHS NORTH EAST LONDON CCG"},"V000048","Dental Surgery, 224 - 226 Whitechapel Road, LONDON, E1 1BJ","E1 1BJ","E1 "]
[null,null,null,null,null,null,null,null,null,null,null,null,null,null,null,"QMF",{"$f":"VLOOKUP(P223,'[1]CCG & RG names'!D:E,2,0)","v":"East London Health & Care Partnership (STP)"},"A3A8R",{"$f":"VLOOKUP(R223,'[1]CCG & RG names'!A:B,2,0)","v":"NHS NORTH EAST LONDON CCG"},"V000051","21 Commercial Street, LONDON, E1 6BD","E1 6BD","E1 "]
[null,null,null,null,null,null,null,null,null,null,null,null,null,null,null,"QMF",{"$f":"VLOOKUP(P224,'[1]CCG & RG names'!D:E,2,0)","v":"East London Health & Care Partnership (STP)"},"A3A8R",{"$f":"VLOOKUP(R224,'[1]CCG & RG names'!A:B,2,0)","v":"NHS NORTH EAST LONDON CCG"},"V000190","All Saints Dental Care, 211 East India Dock Road, London, E14 0ED","E14 0ED","E14 "]
[null,null,null,null,null,null,null,null,null,null,null,null,null,null,null,"QMF",{"$f":"VLOOKUP(P225,'[1]CCG & RG names'!D:E,2,0)","v":"East London Health & Care Partnership (STP)"},"A3A8R",{"$f":"VLOOKUP(R225,'[1]CCG & RG names'!A:B,2,0)","v":"NHS NORTH EAST LONDON CCG"},"V000294","Dental Surgery, 83 Chatsworth Road, LONDON, E5 0LH","E5 0LH","E5 "]
[null,null,null,null,null,null,null,null,null,null,null,null,null,null,null,"QMF",{"$f":"VLOOKUP(P226,'[1]CCG & RG names'!D:E,2,0)","v":"East London Health & Care Partnership (STP)"},"A3A8R",{"$f":"VLOOKUP(R226,'[1]CCG & RG names'!A:B,2,0)","v":"NHS NORTH EAST LONDON CCG"},"V001510","1215 High Road, Chadwell Heath, ROMFORD, RM6 4AL","RM6 4AL","RM6 "]
[null,null,null,null,null,null,null,null,null,null,null,null,null,null,null,"QMF",{"$f":"VLOOKUP(P227,'[1]CCG & RG names'!D:E,2,0)","v":"East London Health & Care Partnership (STP)"},"A3A8R",{"$f":"VLOOKUP(R227,'[1]CCG & RG names'!A:B,2,0)","v":"NHS NORTH EAST LONDON CCG"},"V002113","Dental Surgery, 44 - 56 Hessel Street, LONDON, E1 2LP","E1 2LP","E1 "]
[null,null,null,null,null,null,null,null,null,null,null,null,null,null,null,"QMF",{"$f":"VLOOKUP(P228,'[1]CCG & RG names'!D:E,2,0)","v":"East London Health & Care Partnership (STP)"},"A3A8R",{"$f":"VLOOKUP(R228,'[1]CCG & RG names'!A:B,2,0)","v":"NHS NORTH EAST LONDON CCG"},"V002180","Dental Surgery, 227 Mile End Road, LONDON, E1 4AA","E1 4AA","E1 "]
[null,null,null,null,null,null,null,null,null,null,null,null,null,null,null,"QMF",{"$f":"VLOOKUP(P229,'[1]CCG & RG names'!D:E,2,0)","v":"East London Health & Care Partnership (STP)"},"A3A8R",{"$f":"VLOOKUP(R229,'[1]CCG & RG names'!A:B,2,0)","v":"NHS NORTH EAST LONDON CCG"},"V002182","Dental Surgery, 211 Roman Road, LONDON, E2 0QY","E2 0QY","E2 "]
[null,null,null,null,null,null,null,null,null,null,null,null,null,null,null,"QMF",{"$f":"VLOOKUP(P230,'[1]CCG & RG names'!D:E,2,0)","v":"East London Health & Care Partnership (STP)"},"A3A8R",{"$f":"VLOOKUP(R230,'[1]CCG & RG names'!A:B,2,0)","v":"NHS NORTH EAST LONDON CCG"},"V002182","Dental Surgery, 211 Roman Road, LONDON, E2 0QY","E2 0QY","E2 "]
[null,null,null,null,null,null,null,null,null,null,null,null,null,null,null,"QMF",{"$f":"VLOOKUP(P231,'[1]CCG & RG names'!D:E,2,0)","v":"East London Health & Care Partnership (STP)"},"A3A8R",{"$f":"VLOOKUP(R231,'[1]CCG & RG names'!A:B,2,0)","v":"NHS NORTH EAST LONDON CCG"},"V002186","AP Dental Practice, 238 - 240 Bethnal Green Road, LONDON, E2 0AA","E2 0AA","E2 "]
[null,null,null,null,null,null,null,null,null,null,null,null,null,null,null,"QMF",{"$f":"VLOOKUP(P232,'[1]CCG & RG names'!D:E,2,0)","v":"East London Health & Care Partnership (STP)"},"A3A8R",{"$f":"VLOOKUP(R232,'[1]CCG & RG names'!A:B,2,0)","v":"NHS NORTH EAST LONDON CCG"},"V002206","Chrisp Street Dental Centre, 24 Market Way, LONDON, E14 6AH","E14 6AH","E14 "]
[null,null,null,null,null,null,null,null,null,null,null,null,null,null,null,"QMF",{"$f":"VLOOKUP(P233,'[1]CCG & RG names'!D:E,2,0)","v":"East London Health & Care Partnership (STP)"},"A3A8R",{"$f":"VLOOKUP(R233,'[1]CCG & RG names'!A:B,2,0)","v":"NHS NORTH EAST LONDON CCG"},"V002220","Dental Surgery, 320A Burdett Road, LONDON, E14 7DL","E14 7DL","E14 "]
[null,null,null,null,null,null,null,null,null,null,null,null,null,null,null,"QMF",{"$f":"VLOOKUP(P234,'[1]CCG & RG names'!D:E,2,0)","v":"East London Health & Care Partnership (STP)"},"A3A8R",{"$f":"VLOOKUP(R234,'[1]CCG & RG names'!A:B,2,0)","v":"NHS NORTH EAST LONDON CCG"},"V002239","222A Whitechapel Road, LONDON, E1 1BJ","E1 1BJ","E1 "]
[null,null,null,null,null,null,null,null,null,null,null,null,null,null,null,"QMF",{"$f":"VLOOKUP(P235,'[1]CCG & RG names'!D:E,2,0)","v":"East London Health & Care Partnership (STP)"},"A3A8R",{"$f":"VLOOKUP(R235,'[1]CCG & RG names'!A:B,2,0)","v":"NHS NORTH EAST LONDON CCG"},"V002256","32 Toynbee Street, LONDON, E1 7NE","E1 7NE","E1 "]
[null,null,null,null,null,null,null,null,null,null,null,null,null,null,null,"QMF",{"$f":"VLOOKUP(P236,'[1]CCG & RG names'!D:E,2,0)","v":"East London Health & Care Partnership (STP)"},"A3A8R",{"$f":"VLOOKUP(R236,'[1]CCG & RG names'!A:B,2,0)","v":"NHS NORTH EAST LONDON CCG"},"V002256","32 Toynbee Street, LONDON, E1 7NE","E1 7NE","E1 "]
[null,null,null,null,null,null,null,null,null,null,null,null,null,null,null,"QMF",{"$f":"VLOOKUP(P237,'[1]CCG & RG names'!D:E,2,0)","v":"East London Health & Care Partnership (STP)"},"A3A8R",{"$f":"VLOOKUP(R237,'[1]CCG & RG names'!A:B,2,0)","v":"NHS NORTH EAST LONDON CCG"},"V002286","2nd Floor Dental Practice, Turner Street, London, E1 2AD","E1 2AD","E1 "]
[null,null,null,null,null,null,null,null,null,null,null,null,null,null,null,"QMF",{"$f":"VLOOKUP(P238,'[1]CCG & RG names'!D:E,2,0)","v":"East London Health & Care Partnership (STP)"},"A3A8R",{"$f":"VLOOKUP(R238,'[1]CCG & RG names'!A:B,2,0)","v":"NHS NORTH EAST LONDON CCG"},"V002297","Dental Surgery, 29 Roman Road, LONDON, E2 0HU","E2 0HU","E2 "]
[null,null,null,null,null,null,null,null,null,null,null,null,null,null,null,"QMF",{"$f":"VLOOKUP(P239,'[1]CCG & RG names'!D:E,2,0)","v":"East London Health & Care Partnership (STP)"},"A3A8R",{"$f":"VLOOKUP(R239,'[1]CCG & RG names'!A:B,2,0)","v":"NHS NORTH EAST LONDON CCG"},"V002322","Dental Surgery, 427A Bethnal Green Road, LONDON, E2 0AN","E2 0AN","E2 "]
[null,null,null,null,null,null,null,null,null,null,null,null,null,null,null,"QMF",{"$f":"VLOOKUP(P240,'[1]CCG & RG names'!D:E,2,0)","v":"East London Health & Care Partnership (STP)"},"A3A8R",{"$f":"VLOOKUP(R240,'[1]CCG & RG names'!A:B,2,0)","v":"NHS NORTH EAST LONDON CCG"},"V002326","Bow Dental Surgery, 143 Bow Road, LONDON, E3 2AN","E3 2AN","E3 "]
[null,null,null,null,null,null,null,null,null,null,null,null,null,null,null,"QMF",{"$f":"VLOOKUP(P241,'[1]CCG & RG names'!D:E,2,0)","v":"East London Health & Care Partnership (STP)"},"A3A8R",{"$f":"VLOOKUP(R241,'[1]CCG & RG names'!A:B,2,0)","v":"NHS NORTH EAST LONDON CCG"},"V002389","Dental Surgery, 126 Salmon Lane, LONDON, E14 7PQ","E14 7PQ","E14 "]
[null,null,null,null,null,null,null,null,null,null,null,null,null,null,null,"QMF",{"$f":"VLOOKUP(P242,'[1]CCG & RG names'!D:E,2,0)","v":"East London Health & Care Partnership (STP)"},"A3A8R",{"$f":"VLOOKUP(R242,'[1]CCG & RG names'!A:B,2,0)","v":"NHS NORTH EAST LONDON CCG"},"V002399","Island Health Dental Surgery, 145 East Ferry Road, LONDON, E14 3BQ","E14 3BQ","E14 "]
[null,null,null,null,null,null,null,null,null,null,null,null,null,null,null,"QMF",{"$f":"VLOOKUP(P243,'[1]CCG & RG names'!D:E,2,0)","v":"East London Health & Care Partnership (STP)"},"A3A8R",{"$f":"VLOOKUP(R243,'[1]CCG & RG names'!A:B,2,0)","v":"NHS NORTH EAST LONDON CCG"},"V002471","Dental Surgery, 29 New Road, LONDON, E1 1HE","E1 1HE","E1 "]
[null,null,null,null,null,null,null,null,null,null,null,null,null,null,null,"QMF",{"$f":"VLOOKUP(P244,'[1]CCG & RG names'!D:E,2,0)","v":"East London Health & Care Partnership (STP)"},"A3A8R",{"$f":"VLOOKUP(R244,'[1]CCG & RG names'!A:B,2,0)","v":"NHS NORTH EAST LONDON CCG"},"V002472","Dental Surgery, 53 - 55 Old Ford Road, LONDON, E2 9PJ","E2 9PJ","E2 "]
[null,null,null,null,null,null,null,null,null,null,null,null,null,null,null,"QMF",{"$f":"VLOOKUP(P245,'[1]CCG & RG names'!D:E,2,0)","v":"East London Health & Care Partnership (STP)"},"A3A8R",{"$f":"VLOOKUP(R245,'[1]CCG & RG names'!A:B,2,0)","v":"NHS NORTH EAST LONDON CCG"},"V002473","Altmore Dental Practice, 33 - 37 Amsterdam Road, LONDON, E14 3UU","E14 3UU","E14 "]
[null,null,null,null,null,null,null,null,null,null,null,null,null,null,null,"QMF",{"$f":"VLOOKUP(P246,'[1]CCG & RG names'!D:E,2,0)","v":"East London Health & Care Partnership (STP)"},"A3A8R",{"$f":"VLOOKUP(R246,'[1]CCG & RG names'!A:B,2,0)","v":"NHS NORTH EAST LONDON CCG"},"V002481","Dental Surgery, 1 Nutter Lane, LONDON, E11 2HY","E11 2HY","E11 "]
[null,null,null,null,null,null,null,null,null,null,null,null,null,null,null,"QMF",{"$f":"VLOOKUP(P247,'[1]CCG & RG names'!D:E,2,0)","v":"East London Health & Care Partnership (STP)"},"A3A8R",{"$f":"VLOOKUP(R247,'[1]CCG & RG names'!A:B,2,0)","v":"NHS NORTH EAST LONDON CCG"},"V002482","Cambridge Park Dental Practice, 19 Cambridge Park, LONDON, E11 2PU","E11 2PU","E11 "]
[null,null,null,null,null,null,null,null,null,null,null,null,null,null,null,"QMF",{"$f":"VLOOKUP(P248,'[1]CCG & RG names'!D:E,2,0)","v":"East London Health & Care Partnership (STP)"},"A3A8R",{"$f":"VLOOKUP(R248,'[1]CCG & RG names'!A:B,2,0)","v":"NHS NORTH EAST LONDON CCG"},"V002483","Dental Surgery, 16 Glebelands Avenue, LONDON, E18 2AB","E18 2AB","E18 "]
[null,null,null,null,null,null,null,null,null,null,null,null,null,null,null,"QMF",{"$f":"VLOOKUP(P249,'[1]CCG & RG names'!D:E,2,0)","v":"East London Health & Care Partnership (STP)"},"A3A8R",{"$f":"VLOOKUP(R249,'[1]CCG & RG names'!A:B,2,0)","v":"NHS NORTH EAST LONDON CCG"},"V002485","Dental Surgery, Unit 3, Lower Level, The Exchange, High Road, IG1 1AR","IG1 1AR","IG1 "]
[null,null,null,null,null,null,null,null,null,null,null,null,null,null,null,"QMF",{"$f":"VLOOKUP(P250,'[1]CCG & RG names'!D:E,2,0)","v":"East London Health & Care Partnership (STP)"},"A3A8R",{"$f":"VLOOKUP(R250,'[1]CCG & RG names'!A:B,2,0)","v":"NHS NORTH EAST LONDON CCG"},"V002486","Dental Surgery, 152 Clements Road, ILFORD, Essex, IG1 1BE","IG1 1BE","IG1 "]
[null,null,null,null,null,null,null,null,null,null,null,null,null,null,null,"QMF",{"$f":"VLOOKUP(P251,'[1]CCG & RG names'!D:E,2,0)","v":"East London Health & Care Partnership (STP)"},"A3A8R",{"$f":"VLOOKUP(R251,'[1]CCG & RG names'!A:B,2,0)","v":"NHS NORTH EAST LONDON CCG"},"V002488","Dental Surgery, 26 Belmont Road, ILFORD, Essex, IG1 1YN","IG1 1YN","IG1 "]
[null,null,null,null,null,null,null,null,null,null,null,null,null,null,null,"QMF",{"$f":"VLOOKUP(P252,'[1]CCG & RG names'!D:E,2,0)","v":"East London Health & Care Partnership (STP)"},"A3A8R",{"$f":"VLOOKUP(R252,'[1]CCG & RG names'!A:B,2,0)","v":"NHS NORTH EAST LONDON CCG"},"V002492","Wellesley House Dental Surgery, 9 Wellesley Road, ILFORD, Essex, IG1 4JT","IG1 4JT","IG1 "]
[null,null,null,null,null,null,null,null,null,null,null,null,null,null,null,"QMF",{"$f":"VLOOKUP(P253,'[1]CCG & RG names'!D:E,2,0)","v":"East London Health & Care Partnership (STP)"},"A3A8R",{"$f":"VLOOKUP(R253,'[1]CCG & RG names'!A:B,2,0)","v":"NHS NORTH EAST LONDON CCG"},"V002494","Dental Surgery, 274 Cranbrook Road, ILFORD, Essex, IG1 4UR","IG1 4UR","IG1 "]
[null,null,null,null,null,null,null,null,null,null,null,null,null,null,null,"QMF",{"$f":"VLOOKUP(P254,'[1]CCG & RG names'!D:E,2,0)","v":"East London Health & Care Partnership (STP)"},"A3A8R",{"$f":"VLOOKUP(R254,'[1]CCG & RG names'!A:B,2,0)","v":"NHS NORTH EAST LONDON CCG"},"V002496","Dental Surgery, 58 Clarence Avenue, ILFORD, Essex, IG2 6JE","IG2 6JE","IG2 "]
[null,null,null,null,null,null,null,null,null,null,null,null,null,null,null,"QMF",{"$f":"VLOOKUP(P255,'[1]CCG & RG names'!D:E,2,0)","v":"East London Health & Care Partnership (STP)"},"A3A8R",{"$f":"VLOOKUP(R255,'[1]CCG & RG names'!A:B,2,0)","v":"NHS NORTH EAST LONDON CCG"},"V002498","Dental Surgery, 630 Eastern Avenue, ILFORD, Essex, IG2 6PQ","IG2 6PQ","IG2 "]
[null,null,null,null,null,null,null,null,null,null,null,null,null,null,null,"QMF",{"$f":"VLOOKUP(P256,'[1]CCG & RG names'!D:E,2,0)","v":"East London Health & Care Partnership (STP)"},"A3A8R",{"$f":"VLOOKUP(R256,'[1]CCG & RG names'!A:B,2,0)","v":"NHS NORTH EAST LONDON CCG"},"V002500","Dental Health Centre, 128 Woodford Avenue, ILFORD, Essex, IG2 6XA","IG2 6XA","IG2 "]
[null,null,null,null,null,null,null,null,null,null,null,null,null,null,null,"QMF",{"$f":"VLOOKUP(P257,'[1]CCG & RG names'!D:E,2,0)","v":"East London Health & Care Partnership (STP)"},"A3A8R",{"$f":"VLOOKUP(R257,'[1]CCG & RG names'!A:B,2,0)","v":"NHS NORTH EAST LONDON CCG"},"V002501","271-273 Aldborough Road South, ILFORD, Essex, IG3 8JB","IG3 8JB","IG3 "]
[null,null,null,null,null,null,null,null,null,null,null,null,null,null,null,"QMF",{"$f":"VLOOKUP(P258,'[1]CCG & RG names'!D:E,2,0)","v":"East London Health & Care Partnership (STP)"},"A3A8R",{"$f":"VLOOKUP(R258,'[1]CCG & RG names'!A:B,2,0)","v":"NHS NORTH EAST LONDON CCG"},"V002502","Dental Wizards, 50 Cameron Road, ILFORD, Essex, IG3 8LF","IG3 8LF","IG3 "]
[null,null,null,null,null,null,null,null,null,null,null,null,null,null,null,"QMF",{"$f":"VLOOKUP(P259,'[1]CCG & RG names'!D:E,2,0)","v":"East London Health & Care Partnership (STP)"},"A3A8R",{"$f":"VLOOKUP(R259,'[1]CCG & RG names'!A:B,2,0)","v":"NHS NORTH EAST LONDON CCG"},"V002503","Dental Surgery, 732 High Road, ILFORD, Essex, IG3 8SU","IG3 8SU",{"$f":"IF(MID(V259,3,1) =\" \",LEFT(V259,3),LEFT(V259,4))","v":"IG3 "}]
[null,null,null,null,null,null,null,null,null,null,null,null,null,null,null,"QMF",{"$f":"VLOOKUP(P260,'[1]CCG & RG names'!D:E,2,0)","v":"East London Health & Care Partnership (STP)"},"A3A8R",{"$f":"VLOOKUP(R260,'[1]CCG & RG names'!A:B,2,0)","v":"NHS NORTH EAST LONDON CCG"},"V002504","Dental Surgery, 438 Green Lane, ILFORD, Essex, IG3 9LD","IG3 9LD","IG3 "]
[null,null,null,null,null,null,null,null,null,null,null,null,null,null,null,"QMF",{"$f":"VLOOKUP(P261,'[1]CCG & RG names'!D:E,2,0)","v":"East London Health & Care Partnership (STP)"},"A3A8R",{"$f":"VLOOKUP(R261,'[1]CCG & RG names'!A:B,2,0)","v":"NHS NORTH EAST LONDON CCG"},"V002506","Dental Surgery, 624 Green Lane, ILFORD, Essex, IG3 9SD","IG3 9SD","IG3 "]
[null,null,null,null,null,null,null,null,null,null,null,null,null,null,null,"QMF",{"$f":"VLOOKUP(P262,'[1]CCG & RG names'!D:E,2,0)","v":"East London Health & Care Partnership (STP)"},"A3A8R",{"$f":"VLOOKUP(R262,'[1]CCG & RG names'!A:B,2,0)","v":"NHS NORTH EAST LONDON CCG"},"V002507","Sweet Tooth Dental Care, 185 Redbridge Lane East, ILFORD, Essex, IG4 5DF","IG4 5DF","IG4 "]
[null,null,null,null,null,null,null,null,null,null,null,null,null,null,null,"QMF",{"$f":"VLOOKUP(P263,'[1]CCG & RG names'!D:E,2,0)","v":"East London Health & Care Partnership (STP)"},"A3A8R",{"$f":"VLOOKUP(R263,'[1]CCG & RG names'!A:B,2,0)","v":"NHS NORTH EAST LONDON CCG"},"V002508","Dental Surgery, 51 Redbridge Lane East, ILFORD, Essex, IG4 5EU","IG4 5EU","IG4 "]
[null,null,null,null,null,null,null,null,null,null,null,null,null,null,null,"QMF",{"$f":"VLOOKUP(P264,'[1]CCG & RG names'!D:E,2,0)","v":"East London Health & Care Partnership (STP)"},"A3A8R",{"$f":"VLOOKUP(R264,'[1]CCG & RG names'!A:B,2,0)","v":"NHS NORTH EAST LONDON CCG"},"V002509","Dental Surgery, 161 Clayhall Avenue, ILFORD, Essex, IG5 0NZ","IG5 0NZ","IG5 "]
[null,null,null,null,null,null,null,null,null,null,null,null,null,null,null,"QMF",{"$f":"VLOOKUP(P265,'[1]CCG & RG names'!D:E,2,0)","v":"East London Health & Care Partnership (STP)"},"A3A8R",{"$f":"VLOOKUP(R265,'[1]CCG & RG names'!A:B,2,0)","v":"NHS NORTH EAST LONDON CCG"},"V002510","Clayhall Avenue Dental Health, 137 Clayhall Avenue, ILFORD, Essex, IG5 0PN","IG5 0PN","IG5 "]
[null,null,null,null,null,null,null,null,null,null,null,null,null,null,null,"QMF",{"$f":"VLOOKUP(P266,'[1]CCG & RG names'!D:E,2,0)","v":"East London Health & Care Partnership (STP)"},"A3A8R",{"$f":"VLOOKUP(R266,'[1]CCG & RG names'!A:B,2,0)","v":"NHS NORTH EAST LONDON CCG"},"V002514","Barkingside Dental Care, 47A High Street, Barkingside, ILFORD, Essex, IG6 2AD","IG6 2AD","IG6 "]
[null,null,null,null,null,null,null,null,null,null,null,null,null,null,null,"QMF",{"$f":"VLOOKUP(P267,'[1]CCG & RG names'!D:E,2,0)","v":"East London Health & Care Partnership (STP)"},"A3A8R",{"$f":"VLOOKUP(R267,'[1]CCG & RG names'!A:B,2,0)","v":"NHS NORTH EAST LONDON CCG"},"V002515","Dental Surgery, 2 Fencepiece Road, ILFORD, Essex, IG6 2JX","IG6 2JX","IG6 "]
[null,null,null,null,null,null,null,null,null,null,null,null,null,null,null,"QMF",{"$f":"VLOOKUP(P268,'[1]CCG & RG names'!D:E,2,0)","v":"East London Health & Care Partnership (STP)"},"A3A8R",{"$f":"VLOOKUP(R268,'[1]CCG & RG names'!A:B,2,0)","v":"NHS NORTH EAST LONDON CCG"},"V002517","Bluebell Dentistry & Aesthetics, 140 Tomswood Hill, ILFORD, Essex, IG6 2QP","IG6 2QP","IG6 "]
[null,null,null,null,null,null,null,null,null,null,null,null,null,null,null,"QMF",{"$f":"VLOOKUP(P269,'[1]CCG & RG names'!D:E,2,0)","v":"East London Health & Care Partnership (STP)"},"A3A8R",{"$f":"VLOOKUP(R269,'[1]CCG & RG names'!A:B,2,0)","v":"NHS NORTH EAST LONDON CCG"},"V002518","Dental Surgery, 299-301 New North Road, ILFORD, Essex, IG6 3DX","IG6 3DX","IG6 "]
[null,null,null,null,null,null,null,null,null,null,null,null,null,null,null,"QMF",{"$f":"VLOOKUP(P270,'[1]CCG & RG names'!D:E,2,0)","v":"East London Health & Care Partnership (STP)"},"A3A8R",{"$f":"VLOOKUP(R270,'[1]CCG & RG names'!A:B,2,0)","v":"NHS NORTH EAST LONDON CCG"},"V002519","Hainault Gentle Dental Care, 434 New North Road, ILFORD, Essex, IG6 3EB","IG6 3EB","IG6 "]
[null,null,null,null,null,null,null,null,null,null,null,null,null,null,null,"QMF",{"$f":"VLOOKUP(P271,'[1]CCG & RG names'!D:E,2,0)","v":"East London Health & Care Partnership (STP)"},"A3A8R",{"$f":"VLOOKUP(R271,'[1]CCG & RG names'!A:B,2,0)","v":"NHS NORTH EAST LONDON CCG"},"V002521","L D'Cruz & A Grew, Dental Surgery, 6 The Broadway, Woodford Green, Essex, IG8 0HL","IG8 0HL","IG8 "]
[null,null,null,null,null,null,null,null,null,null,null,null,null,null,null,"QMF",{"$f":"VLOOKUP(P272,'[1]CCG & RG names'!D:E,2,0)","v":"East London Health & Care Partnership (STP)"},"A3A8R",{"$f":"VLOOKUP(R272,'[1]CCG & RG names'!A:B,2,0)","v":"NHS NORTH EAST LONDON CCG"},"V002522","Woodford Green Dental, 80 Snakes Lane East, WOODFORD GREEN, Essex, IG8 7QQ","IG8 7QQ","IG8 "]
[null,null,null,null,null,null,null,null,null,null,null,null,null,null,null,"QMF",{"$f":"VLOOKUP(P273,'[1]CCG & RG names'!D:E,2,0)","v":"East London Health & Care Partnership (STP)"},"A3A8R",{"$f":"VLOOKUP(R273,'[1]CCG & RG names'!A:B,2,0)","v":"NHS NORTH EAST LONDON CCG"},"V002523","Dental Surgery, 723 Chigwell Road, WOODFORD GREEN, Essex, IG8 8AS","IG8 8AS","IG8 "]
[null,null,null,null,null,null,null,null,null,null,null,null,null,null,null,"QMF",{"$f":"VLOOKUP(P274,'[1]CCG & RG names'!D:E,2,0)","v":"East London Health & Care Partnership (STP)"},"A3A8R",{"$f":"VLOOKUP(R274,'[1]CCG & RG names'!A:B,2,0)","v":"NHS NORTH EAST LONDON CCG"},"V002527","Woodford House Dental Practice, 162 High Road, WOODFORD GREEN, Essex, IG8 9EF","IG8 9EF","IG8 "]
[null,null,null,null,null,null,null,null,null,null,null,null,null,null,null,"QMF",{"$f":"VLOOKUP(P275,'[1]CCG & RG names'!D:E,2,0)","v":"East London Health & Care Partnership (STP)"},"A3A8R",{"$f":"VLOOKUP(R275,'[1]CCG & RG names'!A:B,2,0)","v":"NHS NORTH EAST LONDON CCG"},"V002528","Dental Surgery, 101 Oak Hill, WOODFORD GREEN, Essex, IG8 9PF","IG8 9PF","IG8 "]
[null,null,null,null,null,null,null,null,null,null,null,null,null,null,null,"QMF",{"$f":"VLOOKUP(P276,'[1]CCG & RG names'!D:E,2,0)","v":"East London Health & Care Partnership (STP)"},"A3A8R",{"$f":"VLOOKUP(R276,'[1]CCG & RG names'!A:B,2,0)","v":"NHS NORTH EAST LONDON CCG"},"V002532","Dental Surgery, 1054 High Road, ROMFORD, Essex, RM6 4BB","RM6 4BB","RM6 "]
[null,null,null,null,null,null,null,null,null,null,null,null,null,null,null,"QMF",{"$f":"VLOOKUP(P277,'[1]CCG & RG names'!D:E,2,0)","v":"East London Health & Care Partnership (STP)"},"A3A8R",{"$f":"VLOOKUP(R277,'[1]CCG & RG names'!A:B,2,0)","v":"NHS NORTH EAST LONDON CCG"},"V002545","Dental Solutions, 161 Ilford Lane, ILFORD, Essex, IG1 2RR","IG1 2RR","IG1 "]
[null,null,null,null,null,null,null,null,null,null,null,null,null,null,null,"QMF",{"$f":"VLOOKUP(P278,'[1]CCG & RG names'!D:E,2,0)","v":"East London Health & Care Partnership (STP)"},"A3A8R",{"$f":"VLOOKUP(R278,'[1]CCG & RG names'!A:B,2,0)","v":"NHS NORTH EAST LONDON CCG"},"V002547","The Gants Hill Dental Practice, 532 Cranbrook Road, ILFORD, Essex, IG2 6RD","IG2 6RD","IG2 "]
[null,null,null,null,null,null,null,null,null,null,null,null,null,null,null,"QMF",{"$f":"VLOOKUP(P279,'[1]CCG & RG names'!D:E,2,0)","v":"East London Health & Care Partnership (STP)"},"A3A8R",{"$f":"VLOOKUP(R279,'[1]CCG & RG names'!A:B,2,0)","v":"NHS NORTH EAST LONDON CCG"},"V002560","Dental Practice, 11 High Street, Wanstead, London, E11 2AA","E11 2AA","E11 "]
[null,null,null,null,null,null,null,null,null,null,null,null,null,null,null,"QMF",{"$f":"VLOOKUP(P280,'[1]CCG & RG names'!D:E,2,0)","v":"East London Health & Care Partnership (STP)"},"A3A8R",{"$f":"VLOOKUP(R280,'[1]CCG & RG names'!A:B,2,0)","v":"NHS NORTH EAST LONDON CCG"},"V002641","Dental Surgery, 344 Old Street, LONDON, EC1V 9DS","EC1V 9DS","EC1V"]
[null,null,null,null,null,null,null,null,null,null,null,null,null,null,null,"QMF",{"$f":"VLOOKUP(P281,'[1]CCG & RG names'!D:E,2,0)","v":"East London Health & Care Partnership (STP)"},"A3A8R",{"$f":"VLOOKUP(R281,'[1]CCG & RG names'!A:B,2,0)","v":"NHS NORTH EAST LONDON CCG"},"V002644","Dental Surgery, 77 Upper Clapton Road, LONDON, E5 9BU","E5 9BU","E5 "]
[null,null,null,null,null,null,null,null,null,null,null,null,null,null,null,"QMF",{"$f":"VLOOKUP(P282,'[1]CCG & RG names'!D:E,2,0)","v":"East London Health & Care Partnership (STP)"},"A3A8R",{"$f":"VLOOKUP(R282,'[1]CCG & RG names'!A:B,2,0)","v":"NHS NORTH EAST LONDON CCG"},"V002648","Dental Surgery, 319A Mare Street, LONDON, E8 1EJ","E8 1EJ","E8 "]
[null,null,null,null,null,null,null,null,null,null,null,null,null,null,null,"QMF",{"$f":"VLOOKUP(P283,'[1]CCG & RG names'!D:E,2,0)","v":"East London Health & Care Partnership (STP)"},"A3A8R",{"$f":"VLOOKUP(R283,'[1]CCG & RG names'!A:B,2,0)","v":"NHS NORTH EAST LONDON CCG"},"V002650","Dental Care, 177 Homerton High Street, LONDON, E9 6BB","E9 6BB","E9 "]
[null,null,null,null,null,null,null,null,null,null,null,null,null,null,null,"QMF",{"$f":"VLOOKUP(P284,'[1]CCG & RG names'!D:E,2,0)","v":"East London Health & Care Partnership (STP)"},"A3A8R",{"$f":"VLOOKUP(R284,'[1]CCG & RG names'!A:B,2,0)","v":"NHS NORTH EAST LONDON CCG"},"V002651","Dental Surgery, 307 Seven Sisters Road, LONDON, N4 1QR","N4 1QR","N4 "]
[null,null,null,null,null,null,null,null,null,null,null,null,null,null,null,"QMF",{"$f":"VLOOKUP(P285,'[1]CCG & RG names'!D:E,2,0)","v":"East London Health & Care Partnership (STP)"},"A3A8R",{"$f":"VLOOKUP(R285,'[1]CCG & RG names'!A:B,2,0)","v":"NHS NORTH EAST LONDON CCG"},"V002654","Abney Dental Practice, Unit 4, 230 Stoke Newington High Street, LONDON, N16 7HU","N16 7HU","N16 "]
[null,null,null,null,null,null,null,null,null,null,null,null,null,null,null,"QMF",{"$f":"VLOOKUP(P286,'[1]CCG & RG names'!D:E,2,0)","v":"East London Health & Care Partnership (STP)"},"A3A8R",{"$f":"VLOOKUP(R286,'[1]CCG & RG names'!A:B,2,0)","v":"NHS NORTH EAST LONDON CCG"},"V002656","Dentessentials, 75 Curtain Road, LONDON, EC2A 3BS","EC2A 3BS","EC2A"]
[null,null,null,null,null,null,null,null,null,null,null,null,null,null,null,"QMF",{"$f":"VLOOKUP(P287,'[1]CCG & RG names'!D:E,2,0)","v":"East London Health & Care Partnership (STP)"},"A3A8R",{"$f":"VLOOKUP(R287,'[1]CCG & RG names'!A:B,2,0)","v":"NHS NORTH EAST LONDON CCG"},"V002663","Trinity Dental Care, 167 Clarence Road, LONDON, E5 8EE","E5 8EE","E5 "]
[null,null,null,null,null,null,null,null,null,null,null,null,null,null,null,"QMF",{"$f":"VLOOKUP(P288,'[1]CCG & RG names'!D:E,2,0)","v":"East London Health & Care Partnership (STP)"},"A3A8R",{"$f":"VLOOKUP(R288,'[1]CCG & RG names'!A:B,2,0)","v":"NHS NORTH EAST LONDON CCG"},"V002666","Dental Surgery, 84 Lower Clapton Road, LONDON, E5 0RN","E5 0RN","E5 "]
[null,null,null,null,null,null,null,null,null,null,null,null,null,null,null,"QMF",{"$f":"VLOOKUP(P289,'[1]CCG & RG names'!D:E,2,0)","v":"East London Health & Care Partnership (STP)"},"A3A8R",{"$f":"VLOOKUP(R289,'[1]CCG & RG names'!A:B,2,0)","v":"NHS NORTH EAST LONDON CCG"},"V002667","Dental Surgery, 257C Mare Street, LONDON, E8 3NS","E8 3NS","E8 "]
[null,null,null,null,null,null,null,null,null,null,null,null,null,null,null,"QMF",{"$f":"VLOOKUP(P290,'[1]CCG & RG names'!D:E,2,0)","v":"East London Health & Care Partnership (STP)"},"A3A8R",{"$f":"VLOOKUP(R290,'[1]CCG & RG names'!A:B,2,0)","v":"NHS NORTH EAST LONDON CCG"},"V002668","Dental Surgery, 380A Mare Street, LONDON, E8 1HR","E8 1HR","E8 "]
[null,null,null,null,null,null,null,null,null,null,null,null,null,null,null,"QMF",{"$f":"VLOOKUP(P291,'[1]CCG & RG names'!D:E,2,0)","v":"East London Health & Care Partnership (STP)"},"A3A8R",{"$f":"VLOOKUP(R291,'[1]CCG & RG names'!A:B,2,0)","v":"NHS NORTH EAST LONDON CCG"},"V002670","Kingsland Dental Surgery, 535 - 537 Kingsland Road, London, E8 4AR","E8 4AR","E8 "]
[null,null,null,null,null,null,null,null,null,null,null,null,null,null,null,"QMF",{"$f":"VLOOKUP(P292,'[1]CCG & RG names'!D:E,2,0)","v":"East London Health & Care Partnership (STP)"},"A3A8R",{"$f":"VLOOKUP(R292,'[1]CCG & RG names'!A:B,2,0)","v":"NHS NORTH EAST LONDON CCG"},"V002672","Dental Surgery, 33 Kingsland High Street, LONDON, E8 2JS","E8 2JS","E8 "]
[null,null,null,null,null,null,null,null,null,null,null,null,null,null,null,"QMF",{"$f":"VLOOKUP(P293,'[1]CCG & RG names'!D:E,2,0)","v":"East London Health & Care Partnership (STP)"},"A3A8R",{"$f":"VLOOKUP(R293,'[1]CCG & RG names'!A:B,2,0)","v":"NHS NORTH EAST LONDON CCG"},"V002674","Dental Surgery, 139 Well Street, LONDON, E9 7LJ","E9 7LJ","E9 "]
[null,null,null,null,null,null,null,null,null,null,null,null,null,null,null,"QMF",{"$f":"VLOOKUP(P294,'[1]CCG & RG names'!D:E,2,0)","v":"East London Health & Care Partnership (STP)"},"A3A8R",{"$f":"VLOOKUP(R294,'[1]CCG & RG names'!A:B,2,0)","v":"NHS NORTH EAST LONDON CCG"},"V002676","Dental Surgery, 220 Well Street, LONDON, E9 6QT","E9 6QT","E9 "]
[null,null,null,null,null,null,null,null,null,null,null,null,null,null,null,"QMF",{"$f":"VLOOKUP(P295,'[1]CCG & RG names'!D:E,2,0)","v":"East London Health & Care Partnership (STP)"},"A3A8R",{"$f":"VLOOKUP(R295,'[1]CCG & RG names'!A:B,2,0)","v":"NHS NORTH EAST LONDON CCG"},"V002678","Nile Street Dental Practice, 77 Nile Street, LONDON, N1 7RD","N1 7RD","N1 "]
[null,null,null,null,null,null,null,null,null,null,null,null,null,null,null,"QMF",{"$f":"VLOOKUP(P296,'[1]CCG & RG names'!D:E,2,0)","v":"East London Health & Care Partnership (STP)"},"A3A8R",{"$f":"VLOOKUP(R296,'[1]CCG & RG names'!A:B,2,0)","v":"NHS NORTH EAST LONDON CCG"},"V002679","1 Balls Pond Road, LONDON, N1 4AX","N1 4AX","N1 "]
[null,null,null,null,null,null,null,null,null,null,null,null,null,null,null,"QMF",{"$f":"VLOOKUP(P297,'[1]CCG & RG names'!D:E,2,0)","v":"East London Health & Care Partnership (STP)"},"A3A8R",{"$f":"VLOOKUP(R297,'[1]CCG & RG names'!A:B,2,0)","v":"NHS NORTH EAST LONDON CCG"},"V002680","St Leonards Family Dental, Practice, St Leonards Hospital, Nuttall Street, London, N1 5LZ","N1 5LZ","N1 "]
[null,null,null,null,null,null,null,null,null,null,null,null,null,null,null,"QMF",{"$f":"VLOOKUP(P298,'[1]CCG & RG names'!D:E,2,0)","v":"East London Health & Care Partnership (STP)"},"A3A8R",{"$f":"VLOOKUP(R298,'[1]CCG & RG names'!A:B,2,0)","v":"NHS NORTH EAST LONDON CCG"},"V002682","B Davidoff Dental Surgery, 103 Stamford Hill, LONDON, N16 5TR","N16 5TR","N16 "]
[null,null,null,null,null,null,null,null,null,null,null,null,null,null,null,"QMF",{"$f":"VLOOKUP(P299,'[1]CCG & RG names'!D:E,2,0)","v":"East London Health & Care Partnership (STP)"},"A3A8R",{"$f":"VLOOKUP(R299,'[1]CCG & RG names'!A:B,2,0)","v":"NHS NORTH EAST LONDON CCG"},"V002683","Stoke Newington Dental Surgery, 83 Stoke Newington High Street, LONDON, N16 8EL","N16 8EL","N16 "]
[null,null,null,null,null,null,null,null,null,null,null,null,null,null,null,"QMF",{"$f":"VLOOKUP(P300,'[1]CCG & RG names'!D:E,2,0)","v":"East London Health & Care Partnership (STP)"},"A3A8R",{"$f":"VLOOKUP(R300,'[1]CCG & RG names'!A:B,2,0)","v":"NHS NORTH EAST LONDON CCG"},"V002688","Vital Dental Care, 169 Stoke Newington Church Stree, LONDON, N16 0UL","N16 0UL","N16 "]
[null,null,null,null,null,null,null,null,null,null,null,null,null,null,null,"QMF",{"$f":"VLOOKUP(P301,'[1]CCG & RG names'!D:E,2,0)","v":"East London Health & Care Partnership (STP)"},"A3A8R",{"$f":"VLOOKUP(R301,'[1]CCG & RG names'!A:B,2,0)","v":"NHS NORTH EAST LONDON CCG"},"V002729","Dental Surgery, 288 Seven Sisters Road, LONDON, N4 2AA","N4 2AA","N4 "]
[null,null,null,null,null,null,null,null,null,null,null,null,null,null,null,"QMF",{"$f":"VLOOKUP(P302,'[1]CCG & RG names'!D:E,2,0)","v":"East London Health & Care Partnership (STP)"},"A3A8R",{"$f":"VLOOKUP(R302,'[1]CCG & RG names'!A:B,2,0)","v":"NHS NORTH EAST LONDON CCG"},"V002805","Dental Surgery, 515A Gale Street, DAGENHAM, Essex, RM9 4TP","RM9 4TP","RM9 "]
[null,null,null,null,null,null,null,null,null,null,null,null,null,null,null,"QMF",{"$f":"VLOOKUP(P303,'[1]CCG & RG names'!D:E,2,0)","v":"East London Health & Care Partnership (STP)"},"A3A8R",{"$f":"VLOOKUP(R303,'[1]CCG & RG names'!A:B,2,0)","v":"NHS NORTH EAST LONDON CCG"},"V002806","I Levitan And Associates, 1 - 5 Orchard Road, DAGENHAM, Essex, RM10 9PT","RM10 9PT","RM10"]
[null,null,null,null,null,null,null,null,null,null,null,null,null,null,null,"QMF",{"$f":"VLOOKUP(P304,'[1]CCG & RG names'!D:E,2,0)","v":"East London Health & Care Partnership (STP)"},"A3A8R",{"$f":"VLOOKUP(R304,'[1]CCG & RG names'!A:B,2,0)","v":"NHS NORTH EAST LONDON CCG"},"V002807","Dental Surgery, 221 Heathway, DAGENHAM, Essex, RM9 6AE","RM9 6AE","RM9 "]
[null,null,null,null,null,null,null,null,null,null,null,null,null,null,null,"QMF",{"$f":"VLOOKUP(P305,'[1]CCG & RG names'!D:E,2,0)","v":"East London Health & Care Partnership (STP)"},"A3A8R",{"$f":"VLOOKUP(R305,'[1]CCG & RG names'!A:B,2,0)","v":"NHS NORTH EAST LONDON CCG"},"V002808","Dental Surgery, 618 Becontree Avenue, DAGENHAM, Essex, RM8 3HB","RM8 3HB","RM8 "]
[null,null,null,null,null,null,null,null,null,null,null,null,null,null,null,"QMF",{"$f":"VLOOKUP(P306,'[1]CCG & RG names'!D:E,2,0)","v":"East London Health & Care Partnership (STP)"},"A3A8R",{"$f":"VLOOKUP(R306,'[1]CCG & RG names'!A:B,2,0)","v":"NHS NORTH EAST LONDON CCG"},"V002809","The Heathway Dental Surgery, 276A Heathway, DAGENHAM, Essex, RM10 8QS","RM10 8QS","RM10"]
[null,null,null,null,null,null,null,null,null,null,null,null,null,null,null,"QMF",{"$f":"VLOOKUP(P307,'[1]CCG & RG names'!D:E,2,0)","v":"East London Health & Care Partnership (STP)"},"A3A8R",{"$f":"VLOOKUP(R307,'[1]CCG & RG names'!A:B,2,0)","v":"NHS NORTH EAST LONDON CCG"},"V002813","479 Wood Lane, DAGENHAM, Essex, RM8 3NT","RM8 3NT","RM8 "]
[null,null,null,null,null,null,null,null,null,null,null,null,null,null,null,"QMF",{"$f":"VLOOKUP(P308,'[1]CCG & RG names'!D:E,2,0)","v":"East London Health & Care Partnership (STP)"},"A3A8R",{"$f":"VLOOKUP(R308,'[1]CCG & RG names'!A:B,2,0)","v":"NHS NORTH EAST LONDON CCG"},"V002816","474 Whalebone Lane North, ROMFORD, Essex, RM6 6RL","RM6 6RL","RM6 "]
[null,null,null,null,null,null,null,null,null,null,null,null,null,null,null,"QMF",{"$f":"VLOOKUP(P309,'[1]CCG & RG names'!D:E,2,0)","v":"East London Health & Care Partnership (STP)"},"A3A8R",{"$f":"VLOOKUP(R309,'[1]CCG & RG names'!A:B,2,0)","v":"NHS NORTH EAST LONDON CCG"},"V002819","Dental Surgeon, 25 - 27 London Road, BARKING, Essex, IG11 8AA","IG11 8AA","IG11"]
[null,null,null,null,null,null,null,null,null,null,null,null,null,null,null,"QMF",{"$f":"VLOOKUP(P310,'[1]CCG & RG names'!D:E,2,0)","v":"East London Health & Care Partnership (STP)"},"A3A8R",{"$f":"VLOOKUP(R310,'[1]CCG & RG names'!A:B,2,0)","v":"NHS NORTH EAST LONDON CCG"},"V002822","M C Dentistry Ltd, Dental Surgery, 208 Longbridge Road, BARKING, Essex, IG11 8SY","IG11 8SY","IG11"]
[null,null,null,null,null,null,null,null,null,null,null,null,null,null,null,"QMF",{"$f":"VLOOKUP(P311,'[1]CCG & RG names'!D:E,2,0)","v":"East London Health & Care Partnership (STP)"},"A3A8R",{"$f":"VLOOKUP(R311,'[1]CCG & RG names'!A:B,2,0)","v":"NHS NORTH EAST LONDON CCG"},"V002823","The Orchard Health Centre, Gascoigne Road, BARKING, Essex, IG11 7RS","IG11 7RS","IG11"]
[null,null,null,null,null,null,null,null,null,null,null,null,null,null,null,"QMF",{"$f":"VLOOKUP(P312,'[1]CCG & RG names'!D:E,2,0)","v":"East London Health & Care Partnership (STP)"},"A3A8R",{"$f":"VLOOKUP(R312,'[1]CCG & RG names'!A:B,2,0)","v":"NHS NORTH EAST LONDON CCG"},"V002831","Dental Surgery, 228 Oxlow Lane, DAGENHAM, Essex, RM10 7YX","RM10 7YX","RM10"]
[null,null,null,null,null,null,null,null,null,null,null,null,null,null,null,"QMF",{"$f":"VLOOKUP(P313,'[1]CCG & RG names'!D:E,2,0)","v":"East London Health & Care Partnership (STP)"},"A3A8R",{"$f":"VLOOKUP(R313,'[1]CCG & RG names'!A:B,2,0)","v":"NHS NORTH EAST LONDON CCG"},"V002832","East Street Dental Practice, 63 - 65 East Street, Barking, Essex, IG11 8EN","IG11 8EN","IG11"]
[null,null,null,null,null,null,null,null,null,null,null,null,null,null,null,"QMF",{"$f":"VLOOKUP(P314,'[1]CCG & RG names'!D:E,2,0)","v":"East London Health & Care Partnership (STP)"},"A3A8R",{"$f":"VLOOKUP(R314,'[1]CCG & RG names'!A:B,2,0)","v":"NHS NORTH EAST LONDON CCG"},"V002833","Castle Dental Practice, 812 Green Lane, Dagenham, Essex, RM8 1YR","RM8 1YR","RM8 "]
[null,null,null,null,null,null,null,null,null,null,null,null,null,null,null,"QMF",{"$f":"VLOOKUP(P315,'[1]CCG & RG names'!D:E,2,0)","v":"East London Health & Care Partnership (STP)"},"A3A8R",{"$f":"VLOOKUP(R315,'[1]CCG & RG names'!A:B,2,0)","v":"NHS NORTH EAST LONDON CCG"},"V002888","Cedars Dental Practice, 775 High Road Leyton, LONDON, E10 5AB","E10 5AB","E10 "]
[null,null,null,null,null,null,null,null,null,null,null,null,null,null,null,"QMF",{"$f":"VLOOKUP(P316,'[1]CCG & RG names'!D:E,2,0)","v":"East London Health & Care Partnership (STP)"},"A3A8R",{"$f":"VLOOKUP(R316,'[1]CCG & RG names'!A:B,2,0)","v":"NHS NORTH EAST LONDON CCG"},"V002889","Dental Care Centre, 399 High Road Leyton, LONDON, E10 5NA","E10 5NA","E10 "]
[null,null,null,null,null,null,null,null,null,null,null,null,null,null,null,"QMF",{"$f":"VLOOKUP(P317,'[1]CCG & RG names'!D:E,2,0)","v":"East London Health & Care Partnership (STP)"},"A3A8R",{"$f":"VLOOKUP(R317,'[1]CCG & RG names'!A:B,2,0)","v":"NHS NORTH EAST LONDON CCG"},"V002892","Dental Surgery, 229 High Road Leyton, LONDON, E10 5QE","E10 5QE","E10 "]
[null,null,null,null,null,null,null,null,null,null,null,null,null,null,null,"QMF",{"$f":"VLOOKUP(P318,'[1]CCG & RG names'!D:E,2,0)","v":"East London Health & Care Partnership (STP)"},"A3A8R",{"$f":"VLOOKUP(R318,'[1]CCG & RG names'!A:B,2,0)","v":"NHS NORTH EAST LONDON CCG"},"V002894","Leyton Dental Surgery, 724 High Road Leyton, LONDON, E10 6AA","E10 6AA","E10 "]
[null,null,null,null,null,null,null,null,null,null,null,null,null,null,null,"QMF",{"$f":"VLOOKUP(P319,'[1]CCG & RG names'!D:E,2,0)","v":"East London Health & Care Partnership (STP)"},"A3A8R",{"$f":"VLOOKUP(R319,'[1]CCG & RG names'!A:B,2,0)","v":"NHS NORTH EAST LONDON CCG"},"V002897","Key 2 Smile, 622 Lea Bridge Road, LONDON, E10 6AP","E10 6AP","E10 "]
[null,null,null,null,null,null,null,null,null,null,null,null,null,null,null,"QMF",{"$f":"VLOOKUP(P320,'[1]CCG & RG names'!D:E,2,0)","v":"East London Health & Care Partnership (STP)"},"A3A8R",{"$f":"VLOOKUP(R320,'[1]CCG & RG names'!A:B,2,0)","v":"NHS NORTH EAST LONDON CCG"},"V002900","Dental Surgery, 433 Lea Bridge Road, LONDON, E10 7EA","E10 7EA","E10 "]
[null,null,null,null,null,null,null,null,null,null,null,null,null,null,null,"QMF",{"$f":"VLOOKUP(P321,'[1]CCG & RG names'!D:E,2,0)","v":"East London Health & Care Partnership (STP)"},"A3A8R",{"$f":"VLOOKUP(R321,'[1]CCG & RG names'!A:B,2,0)","v":"NHS NORTH EAST LONDON CCG"},"V002903","Dental Surgery, 153 Hainault Road, LONDON, E11 1DT","E11 1DT","E11 "]
[null,null,null,null,null,null,null,null,null,null,null,null,null,null,null,"QMF",{"$f":"VLOOKUP(P322,'[1]CCG & RG names'!D:E,2,0)","v":"East London Health & Care Partnership (STP)"},"A3A8R",{"$f":"VLOOKUP(R322,'[1]CCG & RG names'!A:B,2,0)","v":"NHS NORTH EAST LONDON CCG"},"V002907","Wongs Dental Surgery, 845-847 High Street Leytonstone, LONDON, E11 1HH","E11 1HH","E11 "]
[null,null,null,null,null,null,null,null,null,null,null,null,null,null,null,"QMF",{"$f":"VLOOKUP(P323,'[1]CCG & RG names'!D:E,2,0)","v":"East London Health & Care Partnership (STP)"},"A3A8R",{"$f":"VLOOKUP(R323,'[1]CCG & RG names'!A:B,2,0)","v":"NHS NORTH EAST LONDON CCG"},"V002909","Dental Practice, Dental Surgery, 318 High Road Leytonstone, LONDON, E11 3HS","E11 3HS",{"$f":"IF(MID(V323,3,1) =\" \",LEFT(V323,3),LEFT(V323,4))","v":"E11 "}]
[null,null,null,null,null,null,null,null,null,null,null,null,null,null,null,"QMF",{"$f":"VLOOKUP(P324,'[1]CCG & RG names'!D:E,2,0)","v":"East London Health & Care Partnership (STP)"},"A3A8R",{"$f":"VLOOKUP(R324,'[1]CCG & RG names'!A:B,2,0)","v":"NHS NORTH EAST LONDON CCG"},"V002912","Park Vue Dental Practice, 330 Cann Hall Road, LONDON, E11 3NW","E11 3NW","E11 "]
[null,null,null,null,null,null,null,null,null,null,null,null,null,null,null,"QMF",{"$f":"VLOOKUP(P325,'[1]CCG & RG names'!D:E,2,0)","v":"East London Health & Care Partnership (STP)"},"A3A8R",{"$f":"VLOOKUP(R325,'[1]CCG & RG names'!A:B,2,0)","v":"NHS NORTH EAST LONDON CCG"},"V002915","Thatched House Dental Practice, 154 High Road Leytonstone, LONDON, E15 1UA","E15 1UA","E15 "]
[null,null,null,null,null,null,null,null,null,null,null,null,null,null,null,"QMF",{"$f":"VLOOKUP(P326,'[1]CCG & RG names'!D:E,2,0)","v":"East London Health & Care Partnership (STP)"},"A3A8R",{"$f":"VLOOKUP(R326,'[1]CCG & RG names'!A:B,2,0)","v":"NHS NORTH EAST LONDON CCG"},"V002916","Dental Surgery, 18 Church Hill, LONDON, E17 3AG","E17 3AG","E17 "]
[null,null,null,null,null,null,null,null,null,null,null,null,null,null,null,"QMF",{"$f":"VLOOKUP(P327,'[1]CCG & RG names'!D:E,2,0)","v":"East London Health & Care Partnership (STP)"},"A3A8R",{"$f":"VLOOKUP(R327,'[1]CCG & RG names'!A:B,2,0)","v":"NHS NORTH EAST LONDON CCG"},"V002917","Wood Street Dental Practice, 176 Wood Street, LONDON, E17 3HX","E17 3HX","E17 "]
[null,null,null,null,null,null,null,null,null,null,null,null,null,null,null,"QMF",{"$f":"VLOOKUP(P328,'[1]CCG & RG names'!D:E,2,0)","v":"East London Health & Care Partnership (STP)"},"A3A8R",{"$f":"VLOOKUP(R328,'[1]CCG & RG names'!A:B,2,0)","v":"NHS NORTH EAST LONDON CCG"},"V002919","Dental Surgery, 31 Chingford Road, LONDON, E17 4PW","E17 4PW","E17 "]
[null,null,null,null,null,null,null,null,null,null,null,null,null,null,null,"QMF",{"$f":"VLOOKUP(P329,'[1]CCG & RG names'!D:E,2,0)","v":"East London Health & Care Partnership (STP)"},"A3A8R",{"$f":"VLOOKUP(R329,'[1]CCG & RG names'!A:B,2,0)","v":"NHS NORTH EAST LONDON CCG"},"V002920","M Wong & Assoc. Dental Surgery, 123 Hoe Street, LONDON, E17 4RX","E17 4RX","E17 "]
[null,null,null,null,null,null,null,null,null,null,null,null,null,null,null,"QMF",{"$f":"VLOOKUP(P330,'[1]CCG & RG names'!D:E,2,0)","v":"East London Health & Care Partnership (STP)"},"A3A8R",{"$f":"VLOOKUP(R330,'[1]CCG & RG names'!A:B,2,0)","v":"NHS NORTH EAST LONDON CCG"},"V002921","Dental Surgery, 288 Forest Road, LONDON, E17 5JN","E17 5JN","E17 "]
[null,null,null,null,null,null,null,null,null,null,null,null,null,null,null,"QMF",{"$f":"VLOOKUP(P331,'[1]CCG & RG names'!D:E,2,0)","v":"East London Health & Care Partnership (STP)"},"A3A8R",{"$f":"VLOOKUP(R331,'[1]CCG & RG names'!A:B,2,0)","v":"NHS NORTH EAST LONDON CCG"},"V002922","Palmerston Dental Practice, 67-69 Palmerston Road, LONDON, E17 6PU","E17 6PU","E17 "]
[null,null,null,null,null,null,null,null,null,null,null,null,null,null,null,"QMF",{"$f":"VLOOKUP(P332,'[1]CCG & RG names'!D:E,2,0)","v":"East London Health & Care Partnership (STP)"},"A3A8R",{"$f":"VLOOKUP(R332,'[1]CCG & RG names'!A:B,2,0)","v":"NHS NORTH EAST LONDON CCG"},"V002924","129 High Street, LONDON, E17 7DB","E17 7DB","E17 "]
[null,null,null,null,null,null,null,null,null,null,null,null,null,null,null,"QMF",{"$f":"VLOOKUP(P333,'[1]CCG & RG names'!D:E,2,0)","v":"East London Health & Care Partnership (STP)"},"A3A8R",{"$f":"VLOOKUP(R333,'[1]CCG & RG names'!A:B,2,0)","v":"NHS NORTH EAST LONDON CCG"},"V002924","129 High Street, LONDON, E17 7DB","E17 7DB","E17 "]
[null,null,null,null,null,null,null,null,null,null,null,null,null,null,null,"QMF",{"$f":"VLOOKUP(P334,'[1]CCG & RG names'!D:E,2,0)","v":"East London Health & Care Partnership (STP)"},"A3A8R",{"$f":"VLOOKUP(R334,'[1]CCG & RG names'!A:B,2,0)","v":"NHS NORTH EAST LONDON CCG"},"V002925","Abbey Dental Practice, 25 St Jamess Street, LONDON, E17 7PJ","E17 7PJ","E17 "]
[null,null,null,null,null,null,null,null,null,null,null,null,null,null,null,"QMF",{"$f":"VLOOKUP(P335,'[1]CCG & RG names'!D:E,2,0)","v":"East London Health & Care Partnership (STP)"},"A3A8R",{"$f":"VLOOKUP(R335,'[1]CCG & RG names'!A:B,2,0)","v":"NHS NORTH EAST LONDON CCG"},"V002928","Dental Surgery, 337 Hoe Street, LONDON, E17 9BD","E17 9BD","E17 "]
[null,null,null,null,null,null,null,null,null,null,null,null,null,null,null,"QMF",{"$f":"VLOOKUP(P336,'[1]CCG & RG names'!D:E,2,0)","v":"East London Health & Care Partnership (STP)"},"A3A8R",{"$f":"VLOOKUP(R336,'[1]CCG & RG names'!A:B,2,0)","v":"NHS NORTH EAST LONDON CCG"},"V002930","Chingford Mount Dental Practice, 35 Hall Lane, LONDON, E4 8HH","E4 8HH","E4 "]
[null,null,null,null,null,null,null,null,null,null,null,null,null,null,null,"QMF",{"$f":"VLOOKUP(P337,'[1]CCG & RG names'!D:E,2,0)","v":"East London Health & Care Partnership (STP)"},"A3A8R",{"$f":"VLOOKUP(R337,'[1]CCG & RG names'!A:B,2,0)","v":"NHS NORTH EAST LONDON CCG"},"V002931","Dental Surgery, 252A Chingford Mount Road, LONDON, E4 8JL","E4 8JL","E4 "]
[null,null,null,null,null,null,null,null,null,null,null,null,null,null,null,"QMF",{"$f":"VLOOKUP(P338,'[1]CCG & RG names'!D:E,2,0)","v":"East London Health & Care Partnership (STP)"},"A3A8R",{"$f":"VLOOKUP(R338,'[1]CCG & RG names'!A:B,2,0)","v":"NHS NORTH EAST LONDON CCG"},"V003100","Newham Dental Care, 2 Burges Road, LONDON, E6 2BH","E6 2BH","E6 "]
[null,null,null,null,null,null,null,null,null,null,null,null,null,null,null,"QMF",{"$f":"VLOOKUP(P339,'[1]CCG & RG names'!D:E,2,0)","v":"East London Health & Care Partnership (STP)"},"A3A8R",{"$f":"VLOOKUP(R339,'[1]CCG & RG names'!A:B,2,0)","v":"NHS NORTH EAST LONDON CCG"},"V003102","Green Street Dental Surgery, 244 Green Street, LONDON, E7 8LE","E7 8LE","E7 "]
[null,null,null,null,null,null,null,null,null,null,null,null,null,null,null,"QMF",{"$f":"VLOOKUP(P340,'[1]CCG & RG names'!D:E,2,0)","v":"East London Health & Care Partnership (STP)"},"A3A8R",{"$f":"VLOOKUP(R340,'[1]CCG & RG names'!A:B,2,0)","v":"NHS NORTH EAST LONDON CCG"},"V003106","The Principal Dentist, 78 Plashet Road, LONDON, E13 0RQ","E13 0RQ","E13 "]
[null,null,null,null,null,null,null,null,null,null,null,null,null,null,null,"QMF",{"$f":"VLOOKUP(P341,'[1]CCG & RG names'!D:E,2,0)","v":"East London Health & Care Partnership (STP)"},"A3A8R",{"$f":"VLOOKUP(R341,'[1]CCG & RG names'!A:B,2,0)","v":"NHS NORTH EAST LONDON CCG"},"V003109","Stratford Village Dental, Practice, 42A Romford Road, London, E15 4BZ","E15 4BZ","E15 "]
[null,null,null,null,null,null,null,null,null,null,null,null,null,null,null,"QMF",{"$f":"VLOOKUP(P342,'[1]CCG & RG names'!D:E,2,0)","v":"East London Health & Care Partnership (STP)"},"A3A8R",{"$f":"VLOOKUP(R342,'[1]CCG & RG names'!A:B,2,0)","v":"NHS NORTH EAST LONDON CCG"},"V003111","Beckton Dental Surgery, Tollgate Medical Centre, 220 Tollgate Road, LONDON, E6 5JS","E6 5JS","E6 "]
[null,null,null,null,null,null,null,null,null,null,null,null,null,null,null,"QMF",{"$f":"VLOOKUP(P343,'[1]CCG & RG names'!D:E,2,0)","v":"East London Health & Care Partnership (STP)"},"A3A8R",{"$f":"VLOOKUP(R343,'[1]CCG & RG names'!A:B,2,0)","v":"NHS NORTH EAST LONDON CCG"},"V003114","Dental Surgery, 480 Barking Road, LONDON, E6 2LT","E6 2LT","E6 "]
[null,null,null,null,null,null,null,null,null,null,null,null,null,null,null,"QMF",{"$f":"VLOOKUP(P344,'[1]CCG & RG names'!D:E,2,0)","v":"East London Health & Care Partnership (STP)"},"A3A8R",{"$f":"VLOOKUP(R344,'[1]CCG & RG names'!A:B,2,0)","v":"NHS NORTH EAST LONDON CCG"},"V003116","Dental Surgery, 21 Plashet Grove, LONDON, E6 1AD","E6 1AD","E6 "]
[null,null,null,null,null,null,null,null,null,null,null,null,null,null,null,"QMF",{"$f":"VLOOKUP(P345,'[1]CCG & RG names'!D:E,2,0)","v":"East London Health & Care Partnership (STP)"},"A3A8R",{"$f":"VLOOKUP(R345,'[1]CCG & RG names'!A:B,2,0)","v":"NHS NORTH EAST LONDON CCG"},"V003122","Dental Surgery, 270 Barking Road, LONDON, E6 3BA","E6 3BA","E6 "]
[null,null,null,null,null,null,null,null,null,null,null,null,null,null,null,"QMF",{"$f":"VLOOKUP(P346,'[1]CCG & RG names'!D:E,2,0)","v":"East London Health & Care Partnership (STP)"},"A3A8R",{"$f":"VLOOKUP(R346,'[1]CCG & RG names'!A:B,2,0)","v":"NHS NORTH EAST LONDON CCG"},"V003124","Woodgrange Dental Surgery, 80 Woodgrange Road, LONDON, E7 0EW","E7 0EW","E7 "]
[null,null,null,null,null,null,null,null,null,null,null,null,null,null,null,"QMF",{"$f":"VLOOKUP(P347,'[1]CCG & RG names'!D:E,2,0)","v":"East London Health & Care Partnership (STP)"},"A3A8R",{"$f":"VLOOKUP(R347,'[1]CCG & RG names'!A:B,2,0)","v":"NHS NORTH EAST LONDON CCG"},"V003125","Dental Surgery, 394 Katherine Road, LONDON, E7 8NW","E7 8NW","E7 "]
[null,null,null,null,null,null,null,null,null,null,null,null,null,null,null,"QMF",{"$f":"VLOOKUP(P348,'[1]CCG & RG names'!D:E,2,0)","v":"East London Health & Care Partnership (STP)"},"A3A8R",{"$f":"VLOOKUP(R348,'[1]CCG & RG names'!A:B,2,0)","v":"NHS NORTH EAST LONDON CCG"},"V003132","Romford Road Dental Centre, 669 Romford Road, LONDON, E12 5AD","E12 5AD","E12 "]
[null,null,null,null,null,null,null,null,null,null,null,null,null,null,null,"QMF",{"$f":"VLOOKUP(P349,'[1]CCG & RG names'!D:E,2,0)","v":"East London Health & Care Partnership (STP)"},"A3A8R",{"$f":"VLOOKUP(R349,'[1]CCG & RG names'!A:B,2,0)","v":"NHS NORTH EAST LONDON CCG"},"V003134","Dental Surgery, 290 High Street North, LONDON, E12 6SA","E12 6SA","E12 "]
[null,null,null,null,null,null,null,null,null,null,null,null,null,null,null,"QMF",{"$f":"VLOOKUP(P350,'[1]CCG & RG names'!D:E,2,0)","v":"East London Health & Care Partnership (STP)"},"A3A8R",{"$f":"VLOOKUP(R350,'[1]CCG & RG names'!A:B,2,0)","v":"NHS NORTH EAST LONDON CCG"},"V003136","Manor Park Dental Practice, 620 Romford Road, LONDON, E12 5AQ","E12 5AQ","E12 "]
[null,null,null,null,null,null,null,null,null,null,null,null,null,null,null,"QMF",{"$f":"VLOOKUP(P351,'[1]CCG & RG names'!D:E,2,0)","v":"East London Health & Care Partnership (STP)"},"A3A8R",{"$f":"VLOOKUP(R351,'[1]CCG & RG names'!A:B,2,0)","v":"NHS NORTH EAST LONDON CCG"},"V003139","4 Terrace Road, LONDON, E13 0PB","E13 0PB","E13 "]
[null,null,null,null,null,null,null,null,null,null,null,null,null,null,null,"QMF",{"$f":"VLOOKUP(P352,'[1]CCG & RG names'!D:E,2,0)","v":"East London Health & Care Partnership (STP)"},"A3A8R",{"$f":"VLOOKUP(R352,'[1]CCG & RG names'!A:B,2,0)","v":"NHS NORTH EAST LONDON CCG"},"V003141","Dental Surgery, 1st Fl 368-370 Barking Road, LONDON, E13 8HL","E13 8HL","E13 "]
[null,null,null,null,null,null,null,null,null,null,null,null,null,null,null,"QMF",{"$f":"VLOOKUP(P353,'[1]CCG & RG names'!D:E,2,0)","v":"East London Health & Care Partnership (STP)"},"A3A8R",{"$f":"VLOOKUP(R353,'[1]CCG & RG names'!A:B,2,0)","v":"NHS NORTH EAST LONDON CCG"},"V003143","Greengate Dental Surgery, 540 Barking Road, LONDON, E13 8QE","E13 8QE","E13 "]
[null,null,null,null,null,null,null,null,null,null,null,null,null,null,null,"QMF",{"$f":"VLOOKUP(P354,'[1]CCG & RG names'!D:E,2,0)","v":"East London Health & Care Partnership (STP)"},"A3A8R",{"$f":"VLOOKUP(R354,'[1]CCG & RG names'!A:B,2,0)","v":"NHS NORTH EAST LONDON CCG"},"V003148","679 Barking Road, London, LONDON, E13 9EU","E13 9EU","E13 "]
[null,null,null,null,null,null,null,null,null,null,null,null,null,null,null,"QMF",{"$f":"VLOOKUP(P355,'[1]CCG & RG names'!D:E,2,0)","v":"East London Health & Care Partnership (STP)"},"A3A8R",{"$f":"VLOOKUP(R355,'[1]CCG & RG names'!A:B,2,0)","v":"NHS NORTH EAST LONDON CCG"},"V003151","Dental Surgery, 499 Barking Road, LONDON, E13 8PS","E13 8PS","E13 "]
[null,null,null,null,null,null,null,null,null,null,null,null,null,null,null,"QMF",{"$f":"VLOOKUP(P356,'[1]CCG & RG names'!D:E,2,0)","v":"East London Health & Care Partnership (STP)"},"A3A8R",{"$f":"VLOOKUP(R356,'[1]CCG & RG names'!A:B,2,0)","v":"NHS NORTH EAST LONDON CCG"},"V003154","Upton Park Dental Care, Unit 1, 386 - 388 Green Street, LONDON, E13 9AP","E13 9AP","E13 "]
[null,null,null,null,null,null,null,null,null,null,null,null,null,null,null,"QMF",{"$f":"VLOOKUP(P357,'[1]CCG & RG names'!D:E,2,0)","v":"East London Health & Care Partnership (STP)"},"A3A8R",{"$f":"VLOOKUP(R357,'[1]CCG & RG names'!A:B,2,0)","v":"NHS NORTH EAST LONDON CCG"},"V003156","Wisteria House Dental Practice, 55 Romford Road, Stratford, E15 4LY","E15 4LY","E15 "]
[null,null,null,null,null,null,null,null,null,null,null,null,null,null,null,"QMF",{"$f":"VLOOKUP(P358,'[1]CCG & RG names'!D:E,2,0)","v":"East London Health & Care Partnership (STP)"},"A3A8R",{"$f":"VLOOKUP(R358,'[1]CCG & RG names'!A:B,2,0)","v":"NHS NORTH EAST LONDON CCG"},"V003159","Dental Surgery, 156 Barking Road, LONDON, E16 1EN","E16 1EN","E16 "]
[null,null,null,null,null,null,null,null,null,null,null,null,null,null,null,"QMF",{"$f":"VLOOKUP(P359,'[1]CCG & RG names'!D:E,2,0)","v":"East London Health & Care Partnership (STP)"},"A3A8R",{"$f":"VLOOKUP(R359,'[1]CCG & RG names'!A:B,2,0)","v":"NHS NORTH EAST LONDON CCG"},"V003161","Sunny Smiles Dental Innovations, 51 Barking Road, LONDON, E16 4HB","E16 4HB","E16 "]
[null,null,null,null,null,null,null,null,null,null,null,null,null,null,null,"QMF",{"$f":"VLOOKUP(P360,'[1]CCG & RG names'!D:E,2,0)","v":"East London Health & Care Partnership (STP)"},"A3A8R",{"$f":"VLOOKUP(R360,'[1]CCG & RG names'!A:B,2,0)","v":"NHS NORTH EAST LONDON CCG"},"V003162","City Airport Dental Surgery, 1 Saville Road, LONDON, E16 2DS","E16 2DS","E16 "]
[null,null,null,null,null,null,null,null,null,null,null,null,null,null,null,"QMF",{"$f":"VLOOKUP(P361,'[1]CCG & RG names'!D:E,2,0)","v":"East London Health & Care Partnership (STP)"},"A3A8R",{"$f":"VLOOKUP(R361,'[1]CCG & RG names'!A:B,2,0)","v":"NHS NORTH EAST LONDON CCG"},"V003202","Phoenix Orthodontic Practice, Over Units 10 & 11 Units 13&14, Mary Rose Mall, Beckton, London, E6 5LX","E6 5LX","E6 "]
[null,null,null,null,null,null,null,null,null,null,null,null,null,null,null,"QMF",{"$f":"VLOOKUP(P362,'[1]CCG & RG names'!D:E,2,0)","v":"East London Health & Care Partnership (STP)"},"A3A8R",{"$f":"VLOOKUP(R362,'[1]CCG & RG names'!A:B,2,0)","v":"NHS NORTH EAST LONDON CCG"},"V003499","Dental Surgery, 109 Mawney Road, ROMFORD, Essex, RM7 7JA","RM7 7JA","RM7 "]
[null,null,null,null,null,null,null,null,null,null,null,null,null,null,null,"QMF",{"$f":"VLOOKUP(P363,'[1]CCG & RG names'!D:E,2,0)","v":"East London Health & Care Partnership (STP)"},"A3A8R",{"$f":"VLOOKUP(R363,'[1]CCG & RG names'!A:B,2,0)","v":"NHS NORTH EAST LONDON CCG"},"V003500","Dental Surgery, 193 Rush Green Road, ROMFORD, Essex, RM7 0PX","RM7 0PX","RM7 "]
[null,null,null,null,null,null,null,null,null,null,null,null,null,null,null,"QMF",{"$f":"VLOOKUP(P364,'[1]CCG & RG names'!D:E,2,0)","v":"East London Health & Care Partnership (STP)"},"A3A8R",{"$f":"VLOOKUP(R364,'[1]CCG & RG names'!A:B,2,0)","v":"NHS NORTH EAST LONDON CCG"},"V003508","Dental Surgery, 167 North Street, ROMFORD, Essex, RM1 1DT","RM1 1DT","RM1 "]
[null,null,null,null,null,null,null,null,null,null,null,null,null,null,null,"QMF",{"$f":"VLOOKUP(P365,'[1]CCG & RG names'!D:E,2,0)","v":"East London Health & Care Partnership (STP)"},"A3A8R",{"$f":"VLOOKUP(R365,'[1]CCG & RG names'!A:B,2,0)","v":"NHS NORTH EAST LONDON CCG"},"V003510","St Johns Dental Practice, 56 Western Road, ROMFORD, Essex, RM1 3LP","RM1 3LP","RM1 "]
[null,null,null,null,null,null,null,null,null,null,null,null,null,null,null,"QMF",{"$f":"VLOOKUP(P366,'[1]CCG & RG names'!D:E,2,0)","v":"East London Health & Care Partnership (STP)"},"A3A8R",{"$f":"VLOOKUP(R366,'[1]CCG & RG names'!A:B,2,0)","v":"NHS NORTH EAST LONDON CCG"},"V003512","Dental Surgery, 17 Chase Cross Road, ROMFORD, Essex, RM5 3PJ","RM5 3PJ","RM5 "]
[null,null,null,null,null,null,null,null,null,null,null,null,null,null,null,"QMF",{"$f":"VLOOKUP(P367,'[1]CCG & RG names'!D:E,2,0)","v":"East London Health & Care Partnership (STP)"},"A3A8R",{"$f":"VLOOKUP(R367,'[1]CCG & RG names'!A:B,2,0)","v":"NHS NORTH EAST LONDON CCG"},"V003514","Dental Surgery, 132 Gubbins Lane, ROMFORD, Essex, RM3 0DP","RM3 0DP","RM3 "]
[null,null,null,null,null,null,null,null,null,null,null,null,null,null,null,"QMF",{"$f":"VLOOKUP(P368,'[1]CCG & RG names'!D:E,2,0)","v":"East London Health & Care Partnership (STP)"},"A3A8R",{"$f":"VLOOKUP(R368,'[1]CCG & RG names'!A:B,2,0)","v":"NHS NORTH EAST LONDON CCG"},"V003515","Dental Surgery, 79 Retford Road, ROMFORD, Essex, RM3 9ND","RM3 9ND","RM3 "]
[null,null,null,null,null,null,null,null,null,null,null,null,null,null,null,"QMF",{"$f":"VLOOKUP(P369,'[1]CCG & RG names'!D:E,2,0)","v":"East London Health & Care Partnership (STP)"},"A3A8R",{"$f":"VLOOKUP(R369,'[1]CCG & RG names'!A:B,2,0)","v":"NHS NORTH EAST LONDON CCG"},"V003517","Dental Surgery, 219 - 221 Straight Road, ROMFORD, Essex, RM3 7JP","RM3 7JP","RM3 "]
[null,null,null,null,null,null,null,null,null,null,null,null,null,null,null,"QMF",{"$f":"VLOOKUP(P370,'[1]CCG & RG names'!D:E,2,0)","v":"East London Health & Care Partnership (STP)"},"A3A8R",{"$f":"VLOOKUP(R370,'[1]CCG & RG names'!A:B,2,0)","v":"NHS NORTH EAST LONDON CCG"},"V003518","Dental Surgery, 261 Hornchurch Road, HORNCHURCH, Essex, RM12 4TG","RM12 4TG","RM12"]
[null,null,null,null,null,null,null,null,null,null,null,null,null,null,null,"QMF",{"$f":"VLOOKUP(P371,'[1]CCG & RG names'!D:E,2,0)","v":"East London Health & Care Partnership (STP)"},"A3A8R",{"$f":"VLOOKUP(R371,'[1]CCG & RG names'!A:B,2,0)","v":"NHS NORTH EAST LONDON CCG"},"V003523","Ardleigh Green Dental Clinic, 102 Ardleigh Green Road, HORNCHURCH, Essex, RM11 2LG","RM11 2LG","RM11"]
[null,null,null,null,null,null,null,null,null,null,null,null,null,null,null,"QMF",{"$f":"VLOOKUP(P372,'[1]CCG & RG names'!D:E,2,0)","v":"East London Health & Care Partnership (STP)"},"A3A8R",{"$f":"VLOOKUP(R372,'[1]CCG & RG names'!A:B,2,0)","v":"NHS NORTH EAST LONDON CCG"},"V003525","98 North Street, HORNCHURCH, Essex, RM11 1SU","RM11 1SU","RM11"]
[null,null,null,null,null,null,null,null,null,null,null,null,null,null,null,"QMF",{"$f":"VLOOKUP(P373,'[1]CCG & RG names'!D:E,2,0)","v":"East London Health & Care Partnership (STP)"},"A3A8R",{"$f":"VLOOKUP(R373,'[1]CCG & RG names'!A:B,2,0)","v":"NHS NORTH EAST LONDON CCG"},"V003527","Oasis Dental Care, Slewins Lane, Hornchurch, Essex, RM11 2BS","RM11 2BS","RM11"]
[null,null,null,null,null,null,null,null,null,null,null,null,null,null,null,"QMF",{"$f":"VLOOKUP(P374,'[1]CCG & RG names'!D:E,2,0)","v":"East London Health & Care Partnership (STP)"},"A3A8R",{"$f":"VLOOKUP(R374,'[1]CCG & RG names'!A:B,2,0)","v":"NHS NORTH EAST LONDON CCG"},"V003532","Parkview Dental Practice, 300 Upper Rainham Road, HORNCHURCH, Essex, RM12 4EQ","RM12 4EQ","RM12"]
[null,null,null,null,null,null,null,null,null,null,null,null,null,null,null,"QMF",{"$f":"VLOOKUP(P375,'[1]CCG & RG names'!D:E,2,0)","v":"East London Health & Care Partnership (STP)"},"A3A8R",{"$f":"VLOOKUP(R375,'[1]CCG & RG names'!A:B,2,0)","v":"NHS NORTH EAST LONDON CCG"},"V003534","Dental Surgery, 28 Rosewood Avenue, HORNCHURCH, Essex, RM12 5LH","RM12 5LH","RM12"]
[null,null,null,null,null,null,null,null,null,null,null,null,null,null,null,"QMF",{"$f":"VLOOKUP(P376,'[1]CCG & RG names'!D:E,2,0)","v":"East London Health & Care Partnership (STP)"},"A3A8R",{"$f":"VLOOKUP(R376,'[1]CCG & RG names'!A:B,2,0)","v":"NHS NORTH EAST LONDON CCG"},"V003535","South End Road Dental Surgery, 166 South End Road, RAINHAM, Essex, RM13 7XR","RM13 7XR","RM13"]
[null,null,null,null,null,null,null,null,null,null,null,null,null,null,null,"QMF",{"$f":"VLOOKUP(P377,'[1]CCG & RG names'!D:E,2,0)","v":"East London Health & Care Partnership (STP)"},"A3A8R",{"$f":"VLOOKUP(R377,'[1]CCG & RG names'!A:B,2,0)","v":"NHS NORTH EAST LONDON CCG"},"V003536","Raydens Dental Surgery, Raydens, Upminster Road South, RAINHAM, Essex, RM13 9AB","RM13 9AB","RM13"]
[null,null,null,null,null,null,null,null,null,null,null,null,null,null,null,"QMF",{"$f":"VLOOKUP(P378,'[1]CCG & RG names'!D:E,2,0)","v":"East London Health & Care Partnership (STP)"},"A3A8R",{"$f":"VLOOKUP(R378,'[1]CCG & RG names'!A:B,2,0)","v":"NHS NORTH EAST LONDON CCG"},"V003537","Dental Surgery, 10 Hall Lane, UPMINSTER, Essex, RM14 1AE","RM14 1AE","RM14"]
[null,null,null,null,null,null,null,null,null,null,null,null,null,null,null,"QMF",{"$f":"VLOOKUP(P379,'[1]CCG & RG names'!D:E,2,0)","v":"East London Health & Care Partnership (STP)"},"A3A8R",{"$f":"VLOOKUP(R379,'[1]CCG & RG names'!A:B,2,0)","v":"NHS NORTH EAST LONDON CCG"},"V003539","Dr P E Algra, 34A Station Road, UPMINSTER, Essex, RM14 2TR","RM14 2TR","RM14"]
[null,null,null,null,null,null,null,null,null,null,null,null,null,null,null,"QMF",{"$f":"VLOOKUP(P380,'[1]CCG & RG names'!D:E,2,0)","v":"East London Health & Care Partnership (STP)"},"A3A8R",{"$f":"VLOOKUP(R380,'[1]CCG & RG names'!A:B,2,0)","v":"NHS NORTH EAST LONDON CCG"},"V003540","Dental Surgery, 36A Corbets Tey Road, UPMINSTER, Essex, RM14 2AD","RM14 2AD","RM14"]
[null,null,null,null,null,null,null,null,null,null,null,null,null,null,null,"QMF",{"$f":"VLOOKUP(P381,'[1]CCG & RG names'!D:E,2,0)","v":"East London Health & Care Partnership (STP)"},"A3A8R",{"$f":"VLOOKUP(R381,'[1]CCG & RG names'!A:B,2,0)","v":"NHS NORTH EAST LONDON CCG"},"V003542","163 St Marys Lane, UPMINSTER, Essex, RM14 3BL","RM14 3BL","RM14"]
[null,null,null,null,null,null,null,null,null,null,null,null,null,null,null,"QMF",{"$f":"VLOOKUP(P382,'[1]CCG & RG names'!D:E,2,0)","v":"East London Health & Care Partnership (STP)"},"A3A8R",{"$f":"VLOOKUP(R382,'[1]CCG & RG names'!A:B,2,0)","v":"NHS NORTH EAST LONDON CCG"},"V003543","Dental Surgery, 141 Ingrebourne Gardens, UPMINSTER, Essex, RM14 1BJ","RM14 1BJ","RM14"]
[null,null,null,null,null,null,null,null,null,null,null,null,null,null,null,"QMF",{"$f":"VLOOKUP(P383,'[1]CCG & RG names'!D:E,2,0)","v":"East London Health & Care Partnership (STP)"},"A3A8R",{"$f":"VLOOKUP(R383,'[1]CCG & RG names'!A:B,2,0)","v":"NHS NORTH EAST LONDON CCG"},"V003604","63 Eastern Road, ROMFORD, Essex, RM1 3PB","RM1 3PB","RM1 "]
[null,null,null,null,null,null,null,null,null,null,null,null,null,null,null,"QMF",{"$f":"VLOOKUP(P384,'[1]CCG & RG names'!D:E,2,0)","v":"East London Health & Care Partnership (STP)"},"A3A8R",{"$f":"VLOOKUP(R384,'[1]CCG & RG names'!A:B,2,0)","v":"NHS NORTH EAST LONDON CCG"},"V006429","Forest Dental Care, 73 Hoe Street, LONDON, E17 4SA","E17 4SA","E17 "]
[null,null,null,null,null,null,null,null,null,null,null,null,null,null,null,"QMF",{"$f":"VLOOKUP(P385,'[1]CCG & RG names'!D:E,2,0)","v":"East London Health & Care Partnership (STP)"},"A3A8R",{"$f":"VLOOKUP(R385,'[1]CCG & RG names'!A:B,2,0)","v":"NHS NORTH EAST LONDON CCG"},"V008474","The Health Centre Dental Surgery, Bastable Avenue, Barking, Essex, IG11 0LG","IG11 0LG","IG11"]
[null,null,null,null,null,null,null,null,null,null,null,null,null,null,null,"QMF",{"$f":"VLOOKUP(P386,'[1]CCG & RG names'!D:E,2,0)","v":"East London Health & Care Partnership (STP)"},"A3A8R",{"$f":"VLOOKUP(R386,'[1]CCG & RG names'!A:B,2,0)","v":"NHS NORTH EAST LONDON CCG"},"V008803","Dental Surgery, 76 Plashet Grove, LONDON, E6 1AB","E6 1AB","E6 "]
[null,null,null,null,null,null,null,null,null,null,null,null,null,null,null,"QMF",{"$f":"VLOOKUP(P387,'[1]CCG & RG names'!D:E,2,0)","v":"East London Health & Care Partnership (STP)"},"A3A8R",{"$f":"VLOOKUP(R387,'[1]CCG & RG names'!A:B,2,0)","v":"NHS NORTH EAST LONDON CCG"},"V008948","34A Barley Lane, ILFORD, Essex, IG3 8XF","IG3 8XF",{"$f":"IF(MID(V387,3,1) =\" \",LEFT(V387,3),LEFT(V387,4))","v":"IG3 "}]
[null,null,null,null,null,null,null,null,null,null,null,null,null,null,null,"QMF",{"$f":"VLOOKUP(P388,'[1]CCG & RG names'!D:E,2,0)","v":"East London Health & Care Partnership (STP)"},"A3A8R",{"$f":"VLOOKUP(R388,'[1]CCG & RG names'!A:B,2,0)","v":"NHS NORTH EAST LONDON CCG"},"V009311","Church Road Dental Practice, 30 Church Road, Manor Park, E12 6AQ","E12 6AQ","E12 "]
[null,null,null,null,null,null,null,null,null,null,null,null,null,null,null,"QMF",{"$f":"VLOOKUP(P389,'[1]CCG & RG names'!D:E,2,0)","v":"East London Health & Care Partnership (STP)"},"A3A8R",{"$f":"VLOOKUP(R389,'[1]CCG & RG names'!A:B,2,0)","v":"NHS NORTH EAST LONDON CCG"},"V009769","Five Elms Health Centre, Five Elms Road, DAGENHAM, Essex, RM9 5TT","RM9 5TT","RM9 "]
[null,null,null,null,null,null,null,null,null,null,null,null,null,null,null,"QMF",{"$f":"VLOOKUP(P390,'[1]CCG & RG names'!D:E,2,0)","v":"East London Health & Care Partnership (STP)"},"A3A8R",{"$f":"VLOOKUP(R390,'[1]CCG & RG names'!A:B,2,0)","v":"NHS NORTH EAST LONDON CCG"},"V010440","Wanstead Village Dental & Health Centre, Phoenix House, 24 High Street, Wanstead, LONDON, E11 2AQ","E11 2AQ","E11 "]
[null,null,null,null,null,null,null,null,null,null,null,null,null,null,null,"QMF",{"$f":"VLOOKUP(P391,'[1]CCG & RG names'!D:E,2,0)","v":"East London Health & Care Partnership (STP)"},"A3A8R",{"$f":"VLOOKUP(R391,'[1]CCG & RG names'!A:B,2,0)","v":"NHS NORTH EAST LONDON CCG"},"V010644","The Avenue Dental Centre, 180 The Avenue, Highams Park, LONDON, E4 9RD","E4 9RD","E4 "]
[null,null,null,null,null,null,null,null,null,null,null,null,null,null,null,"QMF",{"$f":"VLOOKUP(P392,'[1]CCG & RG names'!D:E,2,0)","v":"East London Health & Care Partnership (STP)"},"A3A8R",{"$f":"VLOOKUP(R392,'[1]CCG & RG names'!A:B,2,0)","v":"NHS NORTH EAST LONDON CCG"},"V010760","Apples & Spice Dental Surgery, 119 Plaistow Road, Stratford, E15 3ET","E15 3ET","E15 "]
[null,null,null,null,null,null,null,null,null,null,null,null,null,null,null,"QMF",{"$f":"VLOOKUP(P393,'[1]CCG & RG names'!D:E,2,0)","v":"East London Health & Care Partnership (STP)"},"A3A8R",{"$f":"VLOOKUP(R393,'[1]CCG & RG names'!A:B,2,0)","v":"NHS NORTH EAST LONDON CCG"},"V010875","7 St Marys Lane, UPMINSTER, Essex, RM14 2QU","RM14 2QU","RM14"]
[null,null,null,null,null,null,null,null,null,null,null,null,null,null,null,"QMF",{"$f":"VLOOKUP(P394,'[1]CCG & RG names'!D:E,2,0)","v":"East London Health & Care Partnership (STP)"},"A3A8R",{"$f":"VLOOKUP(R394,'[1]CCG & RG names'!A:B,2,0)","v":"NHS NORTH EAST LONDON CCG"},"V012170","15 Artillery Passage, London, E1 7LJ","E1 7LJ","E1 "]
[null,null,null,null,null,null,null,null,null,null,null,null,null,null,null,"QMF",{"$f":"VLOOKUP(P395,'[1]CCG & RG names'!D:E,2,0)","v":"East London Health & Care Partnership (STP)"},"A3A8R",{"$f":"VLOOKUP(R395,'[1]CCG & RG names'!A:B,2,0)","v":"NHS NORTH EAST LONDON CCG"},"V012268","Dental Surgery, 237 Hall Lane, LONDON, E4 8HX","E4 8HX","E4 "]
[null,null,null,null,null,null,null,null,null,null,null,null,null,null,null,"QMF",{"$f":"VLOOKUP(P396,'[1]CCG & RG names'!D:E,2,0)","v":"East London Health & Care Partnership (STP)"},"A3A8R",{"$f":"VLOOKUP(R396,'[1]CCG & RG names'!A:B,2,0)","v":"NHS NORTH EAST LONDON CCG"},"V012505","Collier Row Dental Practice, 21 Collier Row Road, Collier Row, Romford, Essex, RM5 3NR","RM5 3NR","RM5 "]
[null,null,null,null,null,null,null,null,null,null,null,null,null,null,null,"QMF",{"$f":"VLOOKUP(P397,'[1]CCG & RG names'!D:E,2,0)","v":"East London Health & Care Partnership (STP)"},"A3A8R",{"$f":"VLOOKUP(R397,'[1]CCG & RG names'!A:B,2,0)","v":"NHS NORTH EAST LONDON CCG"},"V012519","Chingford Dental Surgery, 66 Station Road, London, E4 7BA","E4 7BA","E4 "]
[null,null,null,null,null,null,null,null,null,null,null,null,null,null,null,"QMF",{"$f":"VLOOKUP(P398,'[1]CCG & RG names'!D:E,2,0)","v":"East London Health & Care Partnership (STP)"},"A3A8R",{"$f":"VLOOKUP(R398,'[1]CCG & RG names'!A:B,2,0)","v":"NHS NORTH EAST LONDON CCG"},"V012539","Waterside Dental Health, Units 1-2, Raleigh House, Admirals Way, South Quay, LONDON, E14 9SN","E14 9SN","E14 "]
[null,null,null,null,null,null,null,null,null,null,null,null,null,null,null,"QMF",{"$f":"VLOOKUP(P399,'[1]CCG & RG names'!D:E,2,0)","v":"East London Health & Care Partnership (STP)"},"A3A8R",{"$f":"VLOOKUP(R399,'[1]CCG & RG names'!A:B,2,0)","v":"NHS NORTH EAST LONDON CCG"},"V012564","WILLIAM PLACE DENTAL AESTHETICS, William Place, London, E3 5ED","E3 5ED","E3 "]
[null,null,null,null,null,null,null,null,null,null,null,null,null,null,null,"QMF",{"$f":"VLOOKUP(P400,'[1]CCG & RG names'!D:E,2,0)","v":"East London Health & Care Partnership (STP)"},"A3A8R",{"$f":"VLOOKUP(R400,'[1]CCG & RG names'!A:B,2,0)","v":"NHS NORTH EAST LONDON CCG"},"V012684","Forest Dental Surgery, 76 Upton Lane, Forest Gate, London, E7 9LW","E7 9LW","E7 "]
[null,null,null,null,null,null,null,null,null,null,null,null,null,null,null,"QMF",{"$f":"VLOOKUP(P401,'[1]CCG & RG names'!D:E,2,0)","v":"East London Health & Care Partnership (STP)"},"A3A8R",{"$f":"VLOOKUP(R401,'[1]CCG & RG names'!A:B,2,0)","v":"NHS NORTH EAST LONDON CCG"},"V013560","1-3 Dewey Road, Dagenham, Essex, RM10 8AP","RM10 8AP","RM10"]
[null,null,null,null,null,null,null,null,null,null,null,null,null,null,null,"QMF",{"$f":"VLOOKUP(P402,'[1]CCG & RG names'!D:E,2,0)","v":"East London Health & Care Partnership (STP)"},"A3A8R",{"$f":"VLOOKUP(R402,'[1]CCG & RG names'!A:B,2,0)","v":"NHS NORTH EAST LONDON CCG"},"V013607","Unit 6, New Providence Wharf, Blackwall Way, LONDON, E14 9PA","E14 9PA","E14 "]
[null,null,null,null,null,null,null,null,null,null,null,null,null,null,null,"QMF",{"$f":"VLOOKUP(P403,'[1]CCG & RG names'!D:E,2,0)","v":"East London Health & Care Partnership (STP)"},"A3A8R",{"$f":"VLOOKUP(R403,'[1]CCG & RG names'!A:B,2,0)","v":"NHS NORTH EAST LONDON CCG"},"V013607","Unit 6, New Providence Wharf, Blackwall Way, LONDON, E14 9PA","E14 9PA","E14 "]
[null,null,null,null,null,null,null,null,null,null,null,null,null,null,null,"QMF",{"$f":"VLOOKUP(P404,'[1]CCG & RG names'!D:E,2,0)","v":"East London Health & Care Partnership (STP)"},"A3A8R",{"$f":"VLOOKUP(R404,'[1]CCG & RG names'!A:B,2,0)","v":"NHS NORTH EAST LONDON CCG"},"V013607","Unit 6, New Providence Wharf, Blackwall Way, LONDON, E14 9PA","E14 9PA","E14 "]
[null,null,null,null,null,null,null,null,null,null,null,null,null,null,null,"QMF",{"$f":"VLOOKUP(P405,'[1]CCG & RG names'!D:E,2,0)","v":"East London Health & Care Partnership (STP)"},"A3A8R",{"$f":"VLOOKUP(R405,'[1]CCG & RG names'!A:B,2,0)","v":"NHS NORTH EAST LONDON CCG"},"V013715","Dental Suite, Docklands Medical Centre, 100 Spindrift avenue, london, E14 9WU","E14 9WU","E14 "]
[null,null,null,null,null,null,null,null,null,null,null,null,null,null,null,"QMF",{"$f":"VLOOKUP(P406,'[1]CCG & RG names'!D:E,2,0)","v":"East London Health & Care Partnership (STP)"},"A3A8R",{"$f":"VLOOKUP(R406,'[1]CCG & RG names'!A:B,2,0)","v":"NHS NORTH EAST LONDON CCG"},"V014123","6 Fremantle Road, ILFORD, Essex, IG6 2AZ","IG6 2AZ","IG6 "]
[null,null,null,null,null,null,null,null,null,null,null,null,null,null,null,"QMF",{"$f":"VLOOKUP(P407,'[1]CCG & RG names'!D:E,2,0)","v":"East London Health & Care Partnership (STP)"},"A3A8R",{"$f":"VLOOKUP(R407,'[1]CCG & RG names'!A:B,2,0)","v":"NHS NORTH EAST LONDON CCG"},"V014982","Abbey Dental Practice, 2 Arboretum Place, Barking, Essex, IG11 7RL","IG11 7RL","IG11"]
[null,null,null,null,null,null,null,null,null,null,null,null,null,null,null,"QMF",{"$f":"VLOOKUP(P408,'[1]CCG & RG names'!D:E,2,0)","v":"East London Health & Care Partnership (STP)"},"A3A8R",{"$f":"VLOOKUP(R408,'[1]CCG & RG names'!A:B,2,0)","v":"NHS NORTH EAST LONDON CCG"},"V016763","Whitechapel Dental Centre, 132-134 Whitechapel Road, London, E1 1JE","E1 1JE","E1 "]
[null,null,null,null,null,null,null,null,null,null,null,null,null,null,null,"QMF",{"$f":"VLOOKUP(P409,'[1]CCG & RG names'!D:E,2,0)","v":"East London Health & Care Partnership (STP)"},"A3A8R",{"$f":"VLOOKUP(R409,'[1]CCG & RG names'!A:B,2,0)","v":"NHS NORTH EAST LONDON CCG"},"V017978","16-18, Goswell Road, London, EC1M 7AA","EC1M 7AA","EC1M"]
[null,null,null,null,null,null,null,null,null,null,null,null,null,null,null,"QMF",{"$f":"VLOOKUP(P410,'[1]CCG & RG names'!D:E,2,0)","v":"East London Health & Care Partnership (STP)"},"A3A8R",{"$f":"VLOOKUP(R410,'[1]CCG & RG names'!A:B,2,0)","v":"NHS NORTH EAST LONDON CCG"},"V018269","Harford Health Centre, 115 Harford Street, London, E1 4FG","E1 4FG","E1 "]
[null,null,null,null,null,null,null,null,null,null,null,null,null,null,null,"QMF",{"$f":"VLOOKUP(P411,'[1]CCG & RG names'!D:E,2,0)","v":"East London Health & Care Partnership (STP)"},"A3A8R",{"$f":"VLOOKUP(R411,'[1]CCG & RG names'!A:B,2,0)","v":"NHS NORTH EAST LONDON CCG"},"V020154","831 Longbridge Road, Dagenham, Essex, RM8 2DA","RM8 2DA","RM8 "]
[null,null,null,null,null,null,null,null,null,null,null,null,null,null,null,"QMF",{"$f":"VLOOKUP(P412,'[1]CCG & RG names'!D:E,2,0)","v":"East London Health & Care Partnership (STP)"},"A3A8R",{"$f":"VLOOKUP(R412,'[1]CCG & RG names'!A:B,2,0)","v":"NHS NORTH EAST LONDON CCG"},"V023602","Rose Lane Dental Surgery, 129 Rose Lane, Chadwell Heath, Romford, Essex, RM6 5NR","RM6 5NR","RM6 "]
[null,null,null,null,null,null,null,null,null,null,null,null,null,null,null,"QMF",{"$f":"VLOOKUP(P413,'[1]CCG & RG names'!D:E,2,0)","v":"East London Health & Care Partnership (STP)"},"A3A8R",{"$f":"VLOOKUP(R413,'[1]CCG & RG names'!A:B,2,0)","v":"NHS NORTH EAST LONDON CCG"},"V023750","23 High Street, Hornchurch, Essex, RM11 1TP","RM11 1TP","RM11"]
[null,null,null,null,null,null,null,null,null,null,null,null,null,null,null,"QMF",{"$f":"VLOOKUP(P414,'[1]CCG & RG names'!D:E,2,0)","v":"East London Health & Care Partnership (STP)"},"A3A8R",{"$f":"VLOOKUP(R414,'[1]CCG & RG names'!A:B,2,0)","v":"NHS NORTH EAST LONDON CCG"},"V028499","Millharbour Dentistry, 38 West Quay Walk, London, E14 9DH","E14 9DH","E14 "]
[null,null,null,null,null,null,null,null,null,null,null,null,null,null,null,"QMF",{"$f":"VLOOKUP(P415,'[1]CCG & RG names'!D:E,2,0)","v":"East London Health & Care Partnership (STP)"},"A3A8R",{"$f":"VLOOKUP(R415,'[1]CCG & RG names'!A:B,2,0)","v":"NHS NORTH EAST LONDON CCG"},"V030174","121 Stoke Newington High Street, London, N16 0PH","N16 0PH","N16 "]
[null,null,null,null,null,null,null,null,null,null,null,null,null,null,null,"QMF",{"$f":"VLOOKUP(P416,'[1]CCG & RG names'!D:E,2,0)","v":"East London Health & Care Partnership (STP)"},"A3A8R",{"$f":"VLOOKUP(R416,'[1]CCG & RG names'!A:B,2,0)","v":"NHS NORTH EAST LONDON CCG"},"V030919","Wapping Dental Centre, 172 The Highway, Wapping, London, E1W 3DD","E1W 3DD","E1W "]
[null,null,null,null,null,null,null,null,null,null,null,null,null,null,null,"QMF",{"$f":"VLOOKUP(P417,'[1]CCG & RG names'!D:E,2,0)","v":"East London Health & Care Partnership (STP)"},"A3A8R",{"$f":"VLOOKUP(R417,'[1]CCG & RG names'!A:B,2,0)","v":"NHS NORTH EAST LONDON CCG"},"V041942","Barbican Orthodontic Clinic, 84-85 Long Lane, London, EC1A 9ET","EC1A 9ET","EC1A"]
[null,null,null,null,null,null,null,null,null,null,null,null,null,null,null,"QMF",{"$f":"VLOOKUP(P418,'[1]CCG & RG names'!D:E,2,0)","v":"East London Health & Care Partnership (STP)"},"A3A8R",{"$f":"VLOOKUP(R418,'[1]CCG & RG names'!A:B,2,0)","v":"NHS NORTH EAST LONDON CCG"},"V042641","Ilford Dental Centre, 131 Ley Street, Ilford, Essex, IG1 4BH","IG1 4BH","IG1 "]
[null,null,null,null,null,null,null,null,null,null,null,null,null,null,null,"QMF",{"$f":"VLOOKUP(P419,'[1]CCG & RG names'!D:E,2,0)","v":"East London Health & Care Partnership (STP)"},"A3A8R",{"$f":"VLOOKUP(R419,'[1]CCG & RG names'!A:B,2,0)","v":"NHS NORTH EAST LONDON CCG"},"V042652","3 MIRABELLE GARDENS, OLYMPIC PARK, LONDON, E20 1BX","E20 1BX","E20 "]
[null,null,null,null,null,null,null,null,null,null,null,null,null,null,null,"QMF",{"$f":"VLOOKUP(P420,'[1]CCG & RG names'!D:E,2,0)","v":"East London Health & Care Partnership (STP)"},"A3A8R",{"$f":"VLOOKUP(R420,'[1]CCG & RG names'!A:B,2,0)","v":"NHS NORTH EAST LONDON CCG"},"V043101","37-39, MARE STREET, LONDON, E8 4RP","E8 4RP","E8 "]
[null,null,null,null,null,null,null,null,null,null,null,null,null,null,null,"QMF",{"$f":"VLOOKUP(P421,'[1]CCG & RG names'!D:E,2,0)","v":"East London Health & Care Partnership (STP)"},"A3A8R",{"$f":"VLOOKUP(R421,'[1]CCG & RG names'!A:B,2,0)","v":"NHS NORTH EAST LONDON CCG"},"V043380","202 Commercial Road, London, E1 2JT","E1 2JT","E1 "]
[null,null,null,null,null,null,null,null,null,null,null,null,null,null,null,"QMF",{"$f":"VLOOKUP(P422,'[1]CCG & RG names'!D:E,2,0)","v":"East London Health & Care Partnership (STP)"},"A3A8R",{"$f":"VLOOKUP(R422,'[1]CCG & RG names'!A:B,2,0)","v":"NHS NORTH EAST LONDON CCG"},"V044836","815 Commercial Road, London, E14 7HG","E14 7HG","E14 "]
[null,null,null,null,null,null,null,null,null,null,null,null,null,null,null,"QMF",{"$f":"VLOOKUP(P423,'[1]CCG & RG names'!D:E,2,0)","v":"East London Health & Care Partnership (STP)"},"A3A8R",{"$f":"VLOOKUP(R423,'[1]CCG & RG names'!A:B,2,0)","v":"NHS NORTH EAST LONDON CCG"},"V045254","106 SOUTH END ROAD, RAINHAM, RM13 7XJ","RM13 7XJ","RM13"]
[null,null,null,null,null,null,null,null,null,null,null,null,null,null,null,"QMF",{"$f":"VLOOKUP(P424,'[1]CCG & RG names'!D:E,2,0)","v":"East London Health & Care Partnership (STP)"},"A3A8R",{"$f":"VLOOKUP(R424,'[1]CCG & RG names'!A:B,2,0)","v":"NHS NORTH EAST LONDON CCG"},"V045588","14 Collent Street, London, E9 6SG","E9 6SG","E9 "]
[null,null,null,null,null,null,null,null,null,null,null,null,null,null,null,"QMF",{"$f":"VLOOKUP(P425,'[1]CCG & RG names'!D:E,2,0)","v":"East London Health & Care Partnership (STP)"},"A3A8R",{"$f":"VLOOKUP(R425,'[1]CCG & RG names'!A:B,2,0)","v":"NHS NORTH EAST LONDON CCG"},"V134979","Manor Orthodontic & Implant clinic, 48 Woodberry Grove, London, N4 1SN","N4 1SN","N4 "]
[null,null,null,null,null,null,null,null,null,null,null,null,null,null,null,"QMF",{"$f":"VLOOKUP(P426,'[1]CCG & RG names'!D:E,2,0)","v":"East London Health & Care Partnership (STP)"},"A3A8R",{"$f":"VLOOKUP(R426,'[1]CCG & RG names'!A:B,2,0)","v":"NHS NORTH EAST LONDON CCG"},"V134980","Malmin Orthodontic, 544 Green Lane, Ilford, Essex, IG3 9LL","IG3 9LL","IG3 "]
[null,null,null,null,null,null,null,null,null,null,null,null,null,null,null,"QMF",{"$f":"VLOOKUP(P427,'[1]CCG & RG names'!D:E,2,0)","v":"East London Health & Care Partnership (STP)"},"A3A8R",{"$f":"VLOOKUP(R427,'[1]CCG & RG names'!A:B,2,0)","v":"NHS NORTH EAST LONDON CCG"},"V134984","Angle House Orthodontics, 237 Hall Lane, Chingford, London, E4 8HX","E4 8HX","E4 "]
[null,null,null,null,null,null,null,null,null,null,null,null,null,null,null,"QMF",{"$f":"VLOOKUP(P428,'[1]CCG & RG names'!D:E,2,0)","v":"East London Health & Care Partnership (STP)"},"A3A8R",{"$f":"VLOOKUP(R428,'[1]CCG & RG names'!A:B,2,0)","v":"NHS NORTH EAST LONDON CCG"},"V139020","Chadwell Heath Orthodontic Practice, 165 High Road, Chadwell Heath, Chadwell Heath, RM6 6NL","RM6 6NL","RM6 "]
[null,null,null,null,null,null,null,null,null,null,null,null,null,null,null,"QMF",{"$f":"VLOOKUP(P429,'[1]CCG & RG names'!D:E,2,0)","v":"East London Health & Care Partnership (STP)"},"A3A8R",{"$f":"VLOOKUP(R429,'[1]CCG & RG names'!A:B,2,0)","v":"NHS NORTH EAST LONDON CCG"},"V177441","3 Rowallen Parade, Green Lane, Dagenham, RM8 1XU","RM8 1XU","RM8 "]
[null,null,null,null,null,null,null,null,null,null,null,null,null,null,null,"QMF",{"$f":"VLOOKUP(P430,'[1]CCG & RG names'!D:E,2,0)","v":"East London Health & Care Partnership (STP)"},"A3A8R",{"$f":"VLOOKUP(R430,'[1]CCG & RG names'!A:B,2,0)","v":"NHS NORTH EAST LONDON CCG"},"V204035","72 DALSTON LANE, LONDON, E8 3AH","E8 3AH","E8 "]
[null,null,null,null,null,null,null,null,null,null,null,null,null,null,null,"QMF",{"$f":"VLOOKUP(P431,'[1]CCG & RG names'!D:E,2,0)","v":"East London Health & Care Partnership (STP)"},"A3A8R",{"$f":"VLOOKUP(R431,'[1]CCG & RG names'!A:B,2,0)","v":"NHS NORTH EAST LONDON CCG"},"V205855","6 - 7 Rathbone Market, Barking Road, Canning Town, E16 1EH","E16 1EH","E16 "]
[null,null,null,null,null,null,null,null,null,null,null,null,null,null,null,"QMF",{"$f":"VLOOKUP(P432,'[1]CCG & RG names'!D:E,2,0)","v":"East London Health & Care Partnership (STP)"},"A3A8R",{"$f":"VLOOKUP(R432,'[1]CCG & RG names'!A:B,2,0)","v":"NHS NORTH EAST LONDON CCG"},"V212376","Ilford Lane Family Dental Surgery, 210 Ilford Lane, Ilford, IG1 2LW","IG1 2LW","IG1 "]
[null,null,null,null,null,null,null,null,null,null,null,null,null,null,null,"QMF",{"$f":"VLOOKUP(P433,'[1]CCG & RG names'!D:E,2,0)","v":"East London Health & Care Partnership (STP)"},"A3A8R",{"$f":"VLOOKUP(R433,'[1]CCG & RG names'!A:B,2,0)","v":"NHS NORTH EAST LONDON CCG"},"V222401","Cosmo Clinic Ltd, 167-169 Kingsland Road, London, E2 8AL","E2 8AL","E2 "]
[null,null,null,null,null,null,null,null,null,null,null,null,null,null,null,"QMJ",{"$f":"VLOOKUP(P434,'[1]CCG & RG names'!D:E,2,0)","v":"North London Partners in Health & Care (STP)"},"93C",{"$f":"VLOOKUP(R434,'[1]CCG & RG names'!A:B,2,0)","v":"NHS North Central London CCG"},"V000040","Dental Surgery, 61 The Market Square, LONDON, N9 0TZ","N9 0TZ","N9 "]
[null,null,null,null,null,null,null,null,null,null,null,null,null,null,null,"QMJ",{"$f":"VLOOKUP(P435,'[1]CCG & RG names'!D:E,2,0)","v":"North London Partners in Health & Care (STP)"},"93C",{"$f":"VLOOKUP(R435,'[1]CCG & RG names'!A:B,2,0)","v":"NHS North Central London CCG"},"V000621","The Green Dental Practice, 701 High Road, North Finchley, London, N12 0BT","N12 0BT","N12 "]
[null,null,null,null,null,null,null,null,null,null,null,null,null,null,null,"QMJ",{"$f":"VLOOKUP(P436,'[1]CCG & RG names'!D:E,2,0)","v":"North London Partners in Health & Care (STP)"},"93C",{"$f":"VLOOKUP(R436,'[1]CCG & RG names'!A:B,2,0)","v":"NHS North Central London CCG"},"V000802","Dental Surgery, 188 Seven Sisters Road, London, N7 7PX","N7 7PX","N7 "]
[null,null,null,null,null,null,null,null,null,null,null,null,null,null,null,"QMJ",{"$f":"VLOOKUP(P437,'[1]CCG & RG names'!D:E,2,0)","v":"North London Partners in Health & Care (STP)"},"93C",{"$f":"VLOOKUP(R437,'[1]CCG & RG names'!A:B,2,0)","v":"NHS North Central London CCG"},"V001746","Arrow Dental Surgery, 89A Robert Street, LONDON, NW1 3QT","NW1 3QT","NW1 "]
[null,null,null,null,null,null,null,null,null,null,null,null,null,null,null,"QMJ",{"$f":"VLOOKUP(P438,'[1]CCG & RG names'!D:E,2,0)","v":"North London Partners in Health & Care (STP)"},"93C",{"$f":"VLOOKUP(R438,'[1]CCG & RG names'!A:B,2,0)","v":"NHS North Central London CCG"},"V001942","The Surgery, 102A Cricklewood Broadway, LONDON, NW2 3EJ","NW2 3EJ","NW2 "]
[null,null,null,null,null,null,null,null,null,null,null,null,null,null,null,"QMJ",{"$f":"VLOOKUP(P439,'[1]CCG & RG names'!D:E,2,0)","v":"North London Partners in Health & Care (STP)"},"93C",{"$f":"VLOOKUP(R439,'[1]CCG & RG names'!A:B,2,0)","v":"NHS North Central London CCG"},"V003422","Church Street Dental Practice, 25 Church Street, LONDON, N9 9DY","N9 9DY","N9 "]
[null,null,null,null,null,null,null,null,null,null,null,null,null,null,null,"QMJ",{"$f":"VLOOKUP(P440,'[1]CCG & RG names'!D:E,2,0)","v":"North London Partners in Health & Care (STP)"},"93C",{"$f":"VLOOKUP(R440,'[1]CCG & RG names'!A:B,2,0)","v":"NHS North Central London CCG"},"V003430","Bounces Dental Surgery, 82 Bounces Road, LONDON, N9 8JS","N9 8JS","N9 "]
[null,null,null,null,null,null,null,null,null,null,null,null,null,null,null,"QMJ",{"$f":"VLOOKUP(P441,'[1]CCG & RG names'!D:E,2,0)","v":"North London Partners in Health & Care (STP)"},"93C",{"$f":"VLOOKUP(R441,'[1]CCG & RG names'!A:B,2,0)","v":"NHS North Central London CCG"},"V003433","John Trewella And Associate, 461 Hertford Road, LONDON, N9 7DU","N9 7DU","N9 "]
[null,null,null,null,null,null,null,null,null,null,null,null,null,null,null,"QMJ",{"$f":"VLOOKUP(P442,'[1]CCG & RG names'!D:E,2,0)","v":"North London Partners in Health & Care (STP)"},"93C",{"$f":"VLOOKUP(R442,'[1]CCG & RG names'!A:B,2,0)","v":"NHS North Central London CCG"},"V003439","Perfect Teeth, 324 Bowes Road, LONDON, N11 1AT","N11 1AT","N11 "]
[null,null,null,null,null,null,null,null,null,null,null,null,null,null,null,"QMJ",{"$f":"VLOOKUP(P443,'[1]CCG & RG names'!D:E,2,0)","v":"North London Partners in Health & Care (STP)"},"93C",{"$f":"VLOOKUP(R443,'[1]CCG & RG names'!A:B,2,0)","v":"NHS North Central London CCG"},"V003443","Bowes Road Dental Practice, 3 Chiltern Court, 359 Bowes Road, LONDON, N11 1AF","N11 1AF","N11 "]
[null,null,null,null,null,null,null,null,null,null,null,null,null,null,null,"QMJ",{"$f":"VLOOKUP(P444,'[1]CCG & RG names'!D:E,2,0)","v":"North London Partners in Health & Care (STP)"},"93C",{"$f":"VLOOKUP(R444,'[1]CCG & RG names'!A:B,2,0)","v":"NHS North Central London CCG"},"V003445","456 Green Lanes, LONDON, N13 5XD","N13 5XD","N13 "]
[null,null,null,null,null,null,null,null,null,null,null,null,null,null,null,"QMJ",{"$f":"VLOOKUP(P445,'[1]CCG & RG names'!D:E,2,0)","v":"North London Partners in Health & Care (STP)"},"93C",{"$f":"VLOOKUP(R445,'[1]CCG & RG names'!A:B,2,0)","v":"NHS North Central London CCG"},"V003449","Dental Surgery, 138 Bowes Road, LONDON, N13 4NP","N13 4NP","N13 "]
[null,null,null,null,null,null,null,null,null,null,null,null,null,null,null,"QMJ",{"$f":"VLOOKUP(P446,'[1]CCG & RG names'!D:E,2,0)","v":"North London Partners in Health & Care (STP)"},"93C",{"$f":"VLOOKUP(R446,'[1]CCG & RG names'!A:B,2,0)","v":"NHS North Central London CCG"},"V003450","Fox Lane Dental Care, 12 Fox Lane, LONDON, N13 4AH","N13 4AH","N13 "]
[null,null,null,null,null,null,null,null,null,null,null,null,null,null,null,"QMJ",{"$f":"VLOOKUP(P447,'[1]CCG & RG names'!D:E,2,0)","v":"North London Partners in Health & Care (STP)"},"93C",{"$f":"VLOOKUP(R447,'[1]CCG & RG names'!A:B,2,0)","v":"NHS North Central London CCG"},"V003451","Park Parade Dental Practice, 86 Aldermans Hill, LONDON, N13 4PP","N13 4PP","N13 "]
[null,null,null,null,null,null,null,null,null,null,null,null,null,null,null,"QMJ",{"$f":"VLOOKUP(P448,'[1]CCG & RG names'!D:E,2,0)","v":"North London Partners in Health & Care (STP)"},"93C",{"$f":"VLOOKUP(R448,'[1]CCG & RG names'!A:B,2,0)","v":"NHS North Central London CCG"},"V003453","Smilelounge, 489 Green Lanes, LONDON, N13 4BS","N13 4BS","N13 "]
[null,null,null,null,null,null,null,null,null,null,null,null,null,null,null,"QMJ",{"$f":"VLOOKUP(P449,'[1]CCG & RG names'!D:E,2,0)","v":"North London Partners in Health & Care (STP)"},"93C",{"$f":"VLOOKUP(R449,'[1]CCG & RG names'!A:B,2,0)","v":"NHS North Central London CCG"},"V003454","Dental Surgery, 45 The Grove, LONDON, N13 5LD","N13 5LD","N13 "]
[null,null,null,null,null,null,null,null,null,null,null,null,null,null,null,"QMJ",{"$f":"VLOOKUP(P450,'[1]CCG & RG names'!D:E,2,0)","v":"North London Partners in Health & Care (STP)"},"93C",{"$f":"VLOOKUP(R450,'[1]CCG & RG names'!A:B,2,0)","v":"NHS North Central London CCG"},"V003456","Adams Dental Surgery, 244A Chase Side, LONDON, N14 4PL","N14 4PL","N14 "]
[null,null,null,null,null,null,null,null,null,null,null,null,null,null,null,"QMJ",{"$f":"VLOOKUP(P451,'[1]CCG & RG names'!D:E,2,0)","v":"North London Partners in Health & Care (STP)"},"93C",{"$f":"VLOOKUP(R451,'[1]CCG & RG names'!A:B,2,0)","v":"NHS North Central London CCG"},"V004124","Dental Surgery, Shaldon Mansions, 132 Charing Cross Road, LONDON, WC2H 0LA","WC2H 0LA",{"$f":"IF(MID(V451,3,1) =\" \",LEFT(V451,3),LEFT(V451,4))","v":"WC2H"}]
[null,null,null,null,null,null,null,null,null,null,null,null,null,null,null,"QMJ",{"$f":"VLOOKUP(P452,'[1]CCG & RG names'!D:E,2,0)","v":"North London Partners in Health & Care (STP)"},"93C",{"$f":"VLOOKUP(R452,'[1]CCG & RG names'!A:B,2,0)","v":"NHS North Central London CCG"},"V004131","Dental Surgery, 64 Mill Lane, LONDON, NW6 1NJ","NW6 1NJ","NW6 "]
[null,null,null,null,null,null,null,null,null,null,null,null,null,null,null,"QMJ",{"$f":"VLOOKUP(P453,'[1]CCG & RG names'!D:E,2,0)","v":"North London Partners in Health & Care (STP)"},"93C",{"$f":"VLOOKUP(R453,'[1]CCG & RG names'!A:B,2,0)","v":"NHS North Central London CCG"},"V004133","The Practice On The Hill, 36 Rosslyn Hill, LONDON, NW3 1NH","NW3 1NH","NW3 "]
[null,null,null,null,null,null,null,null,null,null,null,null,null,null,null,"QMJ",{"$f":"VLOOKUP(P454,'[1]CCG & RG names'!D:E,2,0)","v":"North London Partners in Health & Care (STP)"},"93C",{"$f":"VLOOKUP(R454,'[1]CCG & RG names'!A:B,2,0)","v":"NHS North Central London CCG"},"V004137","Dental Surgery, 34 Malden Road, LONDON, NW5 3HH","NW5 3HH","NW5 "]
[null,null,null,null,null,null,null,null,null,null,null,null,null,null,null,"QMJ",{"$f":"VLOOKUP(P455,'[1]CCG & RG names'!D:E,2,0)","v":"North London Partners in Health & Care (STP)"},"93C",{"$f":"VLOOKUP(R455,'[1]CCG & RG names'!A:B,2,0)","v":"NHS North Central London CCG"},"V004144","Ace Dental, 158 Kentish Town Road, LONDON, NW5 2AG","NW5 2AG","NW5 "]
[null,null,null,null,null,null,null,null,null,null,null,null,null,null,null,"QMJ",{"$f":"VLOOKUP(P456,'[1]CCG & RG names'!D:E,2,0)","v":"North London Partners in Health & Care (STP)"},"93C",{"$f":"VLOOKUP(R456,'[1]CCG & RG names'!A:B,2,0)","v":"NHS North Central London CCG"},"V004162","Dental Surgery, 231 Grays Inn Road, LONDON, WC1X 8RH","WC1X 8RH","WC1X"]
[null,null,null,null,null,null,null,null,null,null,null,null,null,null,null,"QMJ",{"$f":"VLOOKUP(P457,'[1]CCG & RG names'!D:E,2,0)","v":"North London Partners in Health & Care (STP)"},"93C",{"$f":"VLOOKUP(R457,'[1]CCG & RG names'!A:B,2,0)","v":"NHS North Central London CCG"},"V004179","Dental Surgery, 192 Caledonian Road, LONDON, N1 0SQ","N1 0SQ","N1 "]
[null,null,null,null,null,null,null,null,null,null,null,null,null,null,null,"QMJ",{"$f":"VLOOKUP(P458,'[1]CCG & RG names'!D:E,2,0)","v":"North London Partners in Health & Care (STP)"},"93C",{"$f":"VLOOKUP(R458,'[1]CCG & RG names'!A:B,2,0)","v":"NHS North Central London CCG"},"V004183","Dental Surgery, 74 Cleveland Street, LONDON, W1T 6NA","W1T 6NA","W1T "]
[null,null,null,null,null,null,null,null,null,null,null,null,null,null,null,"QMJ",{"$f":"VLOOKUP(P459,'[1]CCG & RG names'!D:E,2,0)","v":"North London Partners in Health & Care (STP)"},"93C",{"$f":"VLOOKUP(R459,'[1]CCG & RG names'!A:B,2,0)","v":"NHS North Central London CCG"},"V004185","Dental Surgery, 139 Fortess Road, LONDON, NW5 2HR","NW5 2HR","NW5 "]
[null,null,null,null,null,null,null,null,null,null,null,null,null,null,null,"QMJ",{"$f":"VLOOKUP(P460,'[1]CCG & RG names'!D:E,2,0)","v":"North London Partners in Health & Care (STP)"},"93C",{"$f":"VLOOKUP(R460,'[1]CCG & RG names'!A:B,2,0)","v":"NHS North Central London CCG"},"V004186","Dental Surgery, 93 Mildmay Park, LONDON, N1 4NB","N1 4NB","N1 "]
[null,null,null,null,null,null,null,null,null,null,null,null,null,null,null,"QMJ",{"$f":"VLOOKUP(P461,'[1]CCG & RG names'!D:E,2,0)","v":"North London Partners in Health & Care (STP)"},"93C",{"$f":"VLOOKUP(R461,'[1]CCG & RG names'!A:B,2,0)","v":"NHS North Central London CCG"},"V004190","105 Stroud Green Road, LONDON, N4 3PX","N4 3PX","N4 "]
[null,null,null,null,null,null,null,null,null,null,null,null,null,null,null,"QMJ",{"$f":"VLOOKUP(P462,'[1]CCG & RG names'!D:E,2,0)","v":"North London Partners in Health & Care (STP)"},"93C",{"$f":"VLOOKUP(R462,'[1]CCG & RG names'!A:B,2,0)","v":"NHS North Central London CCG"},"V004192","Quex Dental Practice, 10 Quex Road, LONDON, NW6 4PL","NW6 4PL","NW6 "]
[null,null,null,null,null,null,null,null,null,null,null,null,null,null,null,"QMJ",{"$f":"VLOOKUP(P463,'[1]CCG & RG names'!D:E,2,0)","v":"North London Partners in Health & Care (STP)"},"93C",{"$f":"VLOOKUP(R463,'[1]CCG & RG names'!A:B,2,0)","v":"NHS North Central London CCG"},"V004193","Highbury Dental Practice, 3 Hamilton Park, LONDON, N5 1SH","N5 1SH","N5 "]
[null,null,null,null,null,null,null,null,null,null,null,null,null,null,null,"QMJ",{"$f":"VLOOKUP(P464,'[1]CCG & RG names'!D:E,2,0)","v":"North London Partners in Health & Care (STP)"},"93C",{"$f":"VLOOKUP(R464,'[1]CCG & RG names'!A:B,2,0)","v":"NHS North Central London CCG"},"V004196","Dental Surgery, Ground Floor, 376B Hornsey Road, LONDON, N19 4HT","N19 4HT","N19 "]
[null,null,null,null,null,null,null,null,null,null,null,null,null,null,null,"QMJ",{"$f":"VLOOKUP(P465,'[1]CCG & RG names'!D:E,2,0)","v":"North London Partners in Health & Care (STP)"},"93C",{"$f":"VLOOKUP(R465,'[1]CCG & RG names'!A:B,2,0)","v":"NHS North Central London CCG"},"V004198","Northwest Dental Care, 196 Kilburn High Road, LONDON, NW6 4JD","NW6 4JD","NW6 "]
[null,null,null,null,null,null,null,null,null,null,null,null,null,null,null,"QMJ",{"$f":"VLOOKUP(P466,'[1]CCG & RG names'!D:E,2,0)","v":"North London Partners in Health & Care (STP)"},"93C",{"$f":"VLOOKUP(R466,'[1]CCG & RG names'!A:B,2,0)","v":"NHS North Central London CCG"},"V004199","41 Lambs Conduit Street, LONDON, WC1N 3NG","WC1N 3NG","WC1N"]
[null,null,null,null,null,null,null,null,null,null,null,null,null,null,null,"QMJ",{"$f":"VLOOKUP(P467,'[1]CCG & RG names'!D:E,2,0)","v":"North London Partners in Health & Care (STP)"},"93C",{"$f":"VLOOKUP(R467,'[1]CCG & RG names'!A:B,2,0)","v":"NHS North Central London CCG"},"V004201","Blackstock Dental Care, 60 Blackstock Road, LONDON, N4 2DW","N4 2DW","N4 "]
[null,null,null,null,null,null,null,null,null,null,null,null,null,null,null,"QMJ",{"$f":"VLOOKUP(P468,'[1]CCG & RG names'!D:E,2,0)","v":"North London Partners in Health & Care (STP)"},"93C",{"$f":"VLOOKUP(R468,'[1]CCG & RG names'!A:B,2,0)","v":"NHS North Central London CCG"},"V004203","Kindan Dental, 99 Newington Green Road, LONDON, N1 4QY","N1 4QY","N1 "]
[null,null,null,null,null,null,null,null,null,null,null,null,null,null,null,"QMJ",{"$f":"VLOOKUP(P469,'[1]CCG & RG names'!D:E,2,0)","v":"North London Partners in Health & Care (STP)"},"93C",{"$f":"VLOOKUP(R469,'[1]CCG & RG names'!A:B,2,0)","v":"NHS North Central London CCG"},"V004204","Dental Surgery, 2 - 3 Vincent Parade, Hanley Road, LONDON, N4 3DS","N4 3DS","N4 "]
[null,null,null,null,null,null,null,null,null,null,null,null,null,null,null,"QMJ",{"$f":"VLOOKUP(P470,'[1]CCG & RG names'!D:E,2,0)","v":"North London Partners in Health & Care (STP)"},"93C",{"$f":"VLOOKUP(R470,'[1]CCG & RG names'!A:B,2,0)","v":"NHS North Central London CCG"},"V004207","Old Street Dental Clinic, 169 Old Street, LONDON, EC1V 9NJ","EC1V 9NJ","EC1V"]
[null,null,null,null,null,null,null,null,null,null,null,null,null,null,null,"QMJ",{"$f":"VLOOKUP(P471,'[1]CCG & RG names'!D:E,2,0)","v":"North London Partners in Health & Care (STP)"},"93C",{"$f":"VLOOKUP(R471,'[1]CCG & RG names'!A:B,2,0)","v":"NHS North Central London CCG"},"V004209","N7 Dental Care, 355 Holloway Road, LONDON, LONDON, N7 0RN","N7 0RN","N7 "]
[null,null,null,null,null,null,null,null,null,null,null,null,null,null,null,"QMJ",{"$f":"VLOOKUP(P472,'[1]CCG & RG names'!D:E,2,0)","v":"North London Partners in Health & Care (STP)"},"93C",{"$f":"VLOOKUP(R472,'[1]CCG & RG names'!A:B,2,0)","v":"NHS North Central London CCG"},"V004210","Pickerings Dental Surgery, 103 - 104 Upper Street, LONDON, N1 1QN","N1 1QN","N1 "]
[null,null,null,null,null,null,null,null,null,null,null,null,null,null,null,"QMJ",{"$f":"VLOOKUP(P473,'[1]CCG & RG names'!D:E,2,0)","v":"North London Partners in Health & Care (STP)"},"93C",{"$f":"VLOOKUP(R473,'[1]CCG & RG names'!A:B,2,0)","v":"NHS North Central London CCG"},"V004211","Ivy House Dental Practice, 51 Kentish Town Road, LONDON, NW1 8NX","NW1 8NX","NW1 "]
[null,null,null,null,null,null,null,null,null,null,null,null,null,null,null,"QMJ",{"$f":"VLOOKUP(P474,'[1]CCG & RG names'!D:E,2,0)","v":"North London Partners in Health & Care (STP)"},"93C",{"$f":"VLOOKUP(R474,'[1]CCG & RG names'!A:B,2,0)","v":"NHS North Central London CCG"},"V004214","Dental Dept., H M Prison, North Wall Gate, Pentonville, Caledonian Road, LONDON, N7 8TT","N7 8TT","N7 "]
[null,null,null,null,null,null,null,null,null,null,null,null,null,null,null,"QMJ",{"$f":"VLOOKUP(P475,'[1]CCG & RG names'!D:E,2,0)","v":"North London Partners in Health & Care (STP)"},"93C",{"$f":"VLOOKUP(R475,'[1]CCG & RG names'!A:B,2,0)","v":"NHS North Central London CCG"},"V004216","Dental Surgery, 300 Caledonian Road, LONDON, N1 1BB","N1 1BB","N1 "]
[null,null,null,null,null,null,null,null,null,null,null,null,null,null,null,"QMJ",{"$f":"VLOOKUP(P476,'[1]CCG & RG names'!D:E,2,0)","v":"North London Partners in Health & Care (STP)"},"93C",{"$f":"VLOOKUP(R476,'[1]CCG & RG names'!A:B,2,0)","v":"NHS North Central London CCG"},"V004217","Albany Dental Centre, 50 Haverstock Hill, LONDON, NW3 2BH","NW3 2BH","NW3 "]
[null,null,null,null,null,null,null,null,null,null,null,null,null,null,null,"QMJ",{"$f":"VLOOKUP(P477,'[1]CCG & RG names'!D:E,2,0)","v":"North London Partners in Health & Care (STP)"},"93C",{"$f":"VLOOKUP(R477,'[1]CCG & RG names'!A:B,2,0)","v":"NHS North Central London CCG"},"V004220","Family Dental Care, 51 Junction Road, LONDON, N19 5QU","N19 5QU","N19 "]
[null,null,null,null,null,null,null,null,null,null,null,null,null,null,null,"QMJ",{"$f":"VLOOKUP(P478,'[1]CCG & RG names'!D:E,2,0)","v":"North London Partners in Health & Care (STP)"},"93C",{"$f":"VLOOKUP(R478,'[1]CCG & RG names'!A:B,2,0)","v":"NHS North Central London CCG"},"V004221","N1 Dental Surgery, 372 Essex Road, LONDON, N1 3PF","N1 3PF","N1 "]
[null,null,null,null,null,null,null,null,null,null,null,null,null,null,null,"QMJ",{"$f":"VLOOKUP(P479,'[1]CCG & RG names'!D:E,2,0)","v":"North London Partners in Health & Care (STP)"},"93C",{"$f":"VLOOKUP(R479,'[1]CCG & RG names'!A:B,2,0)","v":"NHS North Central London CCG"},"V004222","Smilecare Dental Centre, 25 Junction Road, LONDON, N19 5QT","N19 5QT","N19 "]
[null,null,null,null,null,null,null,null,null,null,null,null,null,null,null,"QMJ",{"$f":"VLOOKUP(P480,'[1]CCG & RG names'!D:E,2,0)","v":"North London Partners in Health & Care (STP)"},"93C",{"$f":"VLOOKUP(R480,'[1]CCG & RG names'!A:B,2,0)","v":"NHS North Central London CCG"},"V004224","Dental Surgery, 16 Tavistock Place, LONDON, WC1H 9RU","WC1H 9RU","WC1H"]
[null,null,null,null,null,null,null,null,null,null,null,null,null,null,null,"QMJ",{"$f":"VLOOKUP(P481,'[1]CCG & RG names'!D:E,2,0)","v":"North London Partners in Health & Care (STP)"},"93C",{"$f":"VLOOKUP(R481,'[1]CCG & RG names'!A:B,2,0)","v":"NHS North Central London CCG"},"V004226","Confident Dental Practice, 66 Hampstead Road, LONDON, NW1 2NT","NW1 2NT","NW1 "]
[null,null,null,null,null,null,null,null,null,null,null,null,null,null,null,"QMJ",{"$f":"VLOOKUP(P482,'[1]CCG & RG names'!D:E,2,0)","v":"North London Partners in Health & Care (STP)"},"93C",{"$f":"VLOOKUP(R482,'[1]CCG & RG names'!A:B,2,0)","v":"NHS North Central London CCG"},"V004229","Dental Surgery, 4 Bray, Fellows Road, LONDON, NW3 3JX","NW3 3JX","NW3 "]
[null,null,null,null,null,null,null,null,null,null,null,null,null,null,null,"QMJ",{"$f":"VLOOKUP(P483,'[1]CCG & RG names'!D:E,2,0)","v":"North London Partners in Health & Care (STP)"},"93C",{"$f":"VLOOKUP(R483,'[1]CCG & RG names'!A:B,2,0)","v":"NHS North Central London CCG"},"V004232","Raval Dental Surgery, 86 Cromer Street, LONDON, WC1H 8DG","WC1H 8DG","WC1H"]
[null,null,null,null,null,null,null,null,null,null,null,null,null,null,null,"QMJ",{"$f":"VLOOKUP(P484,'[1]CCG & RG names'!D:E,2,0)","v":"North London Partners in Health & Care (STP)"},"93C",{"$f":"VLOOKUP(R484,'[1]CCG & RG names'!A:B,2,0)","v":"NHS North Central London CCG"},"V004239","Shape Dental Clinic, 44 Kilburn High Road, LONDON, NW6 4HJ","NW6 4HJ","NW6 "]
[null,null,null,null,null,null,null,null,null,null,null,null,null,null,null,"QMJ",{"$f":"VLOOKUP(P485,'[1]CCG & RG names'!D:E,2,0)","v":"North London Partners in Health & Care (STP)"},"93C",{"$f":"VLOOKUP(R485,'[1]CCG & RG names'!A:B,2,0)","v":"NHS North Central London CCG"},"V004247","Dental Surgery, 333 Kentish Town Road, LONDON, NW5 2TJ","NW5 2TJ","NW5 "]
[null,null,null,null,null,null,null,null,null,null,null,null,null,null,null,"QMJ",{"$f":"VLOOKUP(P486,'[1]CCG & RG names'!D:E,2,0)","v":"North London Partners in Health & Care (STP)"},"93C",{"$f":"VLOOKUP(R486,'[1]CCG & RG names'!A:B,2,0)","v":"NHS North Central London CCG"},"V004249","Perfect Smile Dental Practice, 269 West End Lane, LONDON, NW6 1QS","NW6 1QS","NW6 "]
[null,null,null,null,null,null,null,null,null,null,null,null,null,null,null,"QMJ",{"$f":"VLOOKUP(P487,'[1]CCG & RG names'!D:E,2,0)","v":"North London Partners in Health & Care (STP)"},"93C",{"$f":"VLOOKUP(R487,'[1]CCG & RG names'!A:B,2,0)","v":"NHS North Central London CCG"},"V004252","Dental Surgery, 86 Parkway, LONDON, NW1 7AN","NW1 7AN","NW1 "]
[null,null,null,null,null,null,null,null,null,null,null,null,null,null,null,"QMJ",{"$f":"VLOOKUP(P488,'[1]CCG & RG names'!D:E,2,0)","v":"North London Partners in Health & Care (STP)"},"93C",{"$f":"VLOOKUP(R488,'[1]CCG & RG names'!A:B,2,0)","v":"NHS North Central London CCG"},"V004255","Dental Surgery, 22 Camden High Street, LONDON, NW1 0JH","NW1 0JH","NW1 "]
[null,null,null,null,null,null,null,null,null,null,null,null,null,null,null,"QMJ",{"$f":"VLOOKUP(P489,'[1]CCG & RG names'!D:E,2,0)","v":"North London Partners in Health & Care (STP)"},"93C",{"$f":"VLOOKUP(R489,'[1]CCG & RG names'!A:B,2,0)","v":"NHS North Central London CCG"},"V004256","Camden Dental Surgery, 77 Camden High Street, LONDON, NW1 7JL","NW1 7JL","NW1 "]
[null,null,null,null,null,null,null,null,null,null,null,null,null,null,null,"QMJ",{"$f":"VLOOKUP(P490,'[1]CCG & RG names'!D:E,2,0)","v":"North London Partners in Health & Care (STP)"},"93C",{"$f":"VLOOKUP(R490,'[1]CCG & RG names'!A:B,2,0)","v":"NHS North Central London CCG"},"V004260","Hampstead Orthodontic Practice, 4 Elm Terrace, Constantine Road, LONDON, NW3 2LL","NW3 2LL","NW3 "]
[null,null,null,null,null,null,null,null,null,null,null,null,null,null,null,"QMJ",{"$f":"VLOOKUP(P491,'[1]CCG & RG names'!D:E,2,0)","v":"North London Partners in Health & Care (STP)"},"93C",{"$f":"VLOOKUP(R491,'[1]CCG & RG names'!A:B,2,0)","v":"NHS North Central London CCG"},"V004266","Mistry And Others Dental Surgery, 19 Reservoir Road, LONDON, N14 4BB","N14 4BB","N14 "]
[null,null,null,null,null,null,null,null,null,null,null,null,null,null,null,"QMJ",{"$f":"VLOOKUP(P492,'[1]CCG & RG names'!D:E,2,0)","v":"North London Partners in Health & Care (STP)"},"93C",{"$f":"VLOOKUP(R492,'[1]CCG & RG names'!A:B,2,0)","v":"NHS North Central London CCG"},"V004268","Chase Side Dental Practice, 117 Chase Side, London, N14 5HD","N14 5HD","N14 "]
[null,null,null,null,null,null,null,null,null,null,null,null,null,null,null,"QMJ",{"$f":"VLOOKUP(P493,'[1]CCG & RG names'!D:E,2,0)","v":"North London Partners in Health & Care (STP)"},"93C",{"$f":"VLOOKUP(R493,'[1]CCG & RG names'!A:B,2,0)","v":"NHS North Central London CCG"},"V004273","Sterling Way Dental Surgery, 40 Sterling Way, LONDON, N18 2XZ","N18 2XZ","N18 "]
[null,null,null,null,null,null,null,null,null,null,null,null,null,null,null,"QMJ",{"$f":"VLOOKUP(P494,'[1]CCG & RG names'!D:E,2,0)","v":"North London Partners in Health & Care (STP)"},"93C",{"$f":"VLOOKUP(R494,'[1]CCG & RG names'!A:B,2,0)","v":"NHS North Central London CCG"},"V004275","Dental Surgery, 17 Kendal Parade, Silver Street, LONDON, N18 1ND","N18 1ND","N18 "]
[null,null,null,null,null,null,null,null,null,null,null,null,null,null,null,"QMJ",{"$f":"VLOOKUP(P495,'[1]CCG & RG names'!D:E,2,0)","v":"North London Partners in Health & Care (STP)"},"93C",{"$f":"VLOOKUP(R495,'[1]CCG & RG names'!A:B,2,0)","v":"NHS North Central London CCG"},"V004276","Angle House Orthodontics, 38 Harington Terrace, Edmonton, London, N18 1JX","N18 1JX","N18 "]
[null,null,null,null,null,null,null,null,null,null,null,null,null,null,null,"QMJ",{"$f":"VLOOKUP(P496,'[1]CCG & RG names'!D:E,2,0)","v":"North London Partners in Health & Care (STP)"},"93C",{"$f":"VLOOKUP(R496,'[1]CCG & RG names'!A:B,2,0)","v":"NHS North Central London CCG"},"V004283","Dental Surgery, 96 Marchmont Street, LONDON, WC1N 1AG","WC1N 1AG","WC1N"]
[null,null,null,null,null,null,null,null,null,null,null,null,null,null,null,"QMJ",{"$f":"VLOOKUP(P497,'[1]CCG & RG names'!D:E,2,0)","v":"North London Partners in Health & Care (STP)"},"93C",{"$f":"VLOOKUP(R497,'[1]CCG & RG names'!A:B,2,0)","v":"NHS North Central London CCG"},"V004285","91 Fore Street, LONDON, N18 2TW","N18 2TW","N18 "]
[null,null,null,null,null,null,null,null,null,null,null,null,null,null,null,"QMJ",{"$f":"VLOOKUP(P498,'[1]CCG & RG names'!D:E,2,0)","v":"North London Partners in Health & Care (STP)"},"93C",{"$f":"VLOOKUP(R498,'[1]CCG & RG names'!A:B,2,0)","v":"NHS North Central London CCG"},"V004287","N W London Smile Centre, 5 - 6 Regency Parade, Finchley Road, London, NW3 5EG","NW3 5EG","NW3 "]
[null,null,null,null,null,null,null,null,null,null,null,null,null,null,null,"QMJ",{"$f":"VLOOKUP(P499,'[1]CCG & RG names'!D:E,2,0)","v":"North London Partners in Health & Care (STP)"},"93C",{"$f":"VLOOKUP(R499,'[1]CCG & RG names'!A:B,2,0)","v":"NHS North Central London CCG"},"V004290","Kentish Town Dental Surgery, 50 Malden Road, LONDON, NW5 3HG","NW5 3HG","NW5 "]
[null,null,null,null,null,null,null,null,null,null,null,null,null,null,null,"QMJ",{"$f":"VLOOKUP(P500,'[1]CCG & RG names'!D:E,2,0)","v":"North London Partners in Health & Care (STP)"},"93C",{"$f":"VLOOKUP(R500,'[1]CCG & RG names'!A:B,2,0)","v":"NHS North Central London CCG"},"V004291","Dental Surgery, 33 The Green, LONDON, N21 1HS","N21 1HS","N21 "]
[null,null,null,null,null,null,null,null,null,null,null,null,null,null,null,"QMJ",{"$f":"VLOOKUP(P501,'[1]CCG & RG names'!D:E,2,0)","v":"North London Partners in Health & Care (STP)"},"93C",{"$f":"VLOOKUP(R501,'[1]CCG & RG names'!A:B,2,0)","v":"NHS North Central London CCG"},"V004292","Dental Surgery, 6 Fernleigh Road, LONDON, N21 3AL","N21 3AL","N21 "]
[null,null,null,null,null,null,null,null,null,null,null,null,null,null,null,"QMJ",{"$f":"VLOOKUP(P502,'[1]CCG & RG names'!D:E,2,0)","v":"North London Partners in Health & Care (STP)"},"93C",{"$f":"VLOOKUP(R502,'[1]CCG & RG names'!A:B,2,0)","v":"NHS North Central London CCG"},"V004293","Dental Surgery, 20 Green Dragon Lane, LONDON, N21 2LD","N21 2LD","N21 "]
[null,null,null,null,null,null,null,null,null,null,null,null,null,null,null,"QMJ",{"$f":"VLOOKUP(P503,'[1]CCG & RG names'!D:E,2,0)","v":"North London Partners in Health & Care (STP)"},"93C",{"$f":"VLOOKUP(R503,'[1]CCG & RG names'!A:B,2,0)","v":"NHS North Central London CCG"},"V004294","1 Compton Road, LONDON, N21 3PA","N21 3PA","N21 "]
[null,null,null,null,null,null,null,null,null,null,null,null,null,null,null,"QMJ",{"$f":"VLOOKUP(P504,'[1]CCG & RG names'!D:E,2,0)","v":"North London Partners in Health & Care (STP)"},"93C",{"$f":"VLOOKUP(R504,'[1]CCG & RG names'!A:B,2,0)","v":"NHS North Central London CCG"},"V004295","Dental Surgery, 3 Westpole Avenue, Cockfosters, BARNET, Hertfordshire, EN4 0AX","EN4 0AX","EN4 "]
[null,null,null,null,null,null,null,null,null,null,null,null,null,null,null,"QMJ",{"$f":"VLOOKUP(P505,'[1]CCG & RG names'!D:E,2,0)","v":"North London Partners in Health & Care (STP)"},"93C",{"$f":"VLOOKUP(R505,'[1]CCG & RG names'!A:B,2,0)","v":"NHS North Central London CCG"},"V004298","Cockfosters Dental Practice, 23 Station Parade, Cockfosters Road, BARNET, Hertfordshire, EN4 0DW","EN4 0DW","EN4 "]
[null,null,null,null,null,null,null,null,null,null,null,null,null,null,null,"QMJ",{"$f":"VLOOKUP(P506,'[1]CCG & RG names'!D:E,2,0)","v":"North London Partners in Health & Care (STP)"},"93C",{"$f":"VLOOKUP(R506,'[1]CCG & RG names'!A:B,2,0)","v":"NHS North Central London CCG"},"V004301","Dental Surgery, 415 Hertford Road, ENFIELD, Middlesex, EN3 5PT","EN3 5PT","EN3 "]
[null,null,null,null,null,null,null,null,null,null,null,null,null,null,null,"QMJ",{"$f":"VLOOKUP(P507,'[1]CCG & RG names'!D:E,2,0)","v":"North London Partners in Health & Care (STP)"},"93C",{"$f":"VLOOKUP(R507,'[1]CCG & RG names'!A:B,2,0)","v":"NHS North Central London CCG"},"V004302","Dental Surgery, 253 Hertford Road, ENFIELD, Middlesex, EN3 5JL","EN3 5JL","EN3 "]
[null,null,null,null,null,null,null,null,null,null,null,null,null,null,null,"QMJ",{"$f":"VLOOKUP(P508,'[1]CCG & RG names'!D:E,2,0)","v":"North London Partners in Health & Care (STP)"},"93C",{"$f":"VLOOKUP(R508,'[1]CCG & RG names'!A:B,2,0)","v":"NHS North Central London CCG"},"V004304","Dental Surgery, 63 Bullsmoor Lane, ENFIELD, Middlesex, EN3 6TG","EN3 6TG","EN3 "]
[null,null,null,null,null,null,null,null,null,null,null,null,null,null,null,"QMJ",{"$f":"VLOOKUP(P509,'[1]CCG & RG names'!D:E,2,0)","v":"North London Partners in Health & Care (STP)"},"93C",{"$f":"VLOOKUP(R509,'[1]CCG & RG names'!A:B,2,0)","v":"NHS North Central London CCG"},"V004305","Dental Surgery, Angle House, 39 The Ridgeway, ENFIELD, Middlesex, EN2 8PD","EN2 8PD","EN2 "]
[null,null,null,null,null,null,null,null,null,null,null,null,null,null,null,"QMJ",{"$f":"VLOOKUP(P510,'[1]CCG & RG names'!D:E,2,0)","v":"North London Partners in Health & Care (STP)"},"93C",{"$f":"VLOOKUP(R510,'[1]CCG & RG names'!A:B,2,0)","v":"NHS North Central London CCG"},"V004308","Dental Surgery, 87 Trinity Avenue, ENFIELD, Middlesex, EN1 1HT","EN1 1HT","EN1 "]
[null,null,null,null,null,null,null,null,null,null,null,null,null,null,null,"QMJ",{"$f":"VLOOKUP(P511,'[1]CCG & RG names'!D:E,2,0)","v":"North London Partners in Health & Care (STP)"},"93C",{"$f":"VLOOKUP(R511,'[1]CCG & RG names'!A:B,2,0)","v":"NHS North Central London CCG"},"V004309","Dental Practice, 11 Old Park Avenue, ENFIELD, Middlesex, EN2 6PJ","EN2 6PJ","EN2 "]
[null,null,null,null,null,null,null,null,null,null,null,null,null,null,null,"QMJ",{"$f":"VLOOKUP(P512,'[1]CCG & RG names'!D:E,2,0)","v":"North London Partners in Health & Care (STP)"},"93C",{"$f":"VLOOKUP(R512,'[1]CCG & RG names'!A:B,2,0)","v":"NHS North Central London CCG"},"V004310","Dental Arts Studio, 6 - 8 London Road, ENFIELD, Middlesex, EN2 6EB","EN2 6EB","EN2 "]
[null,null,null,null,null,null,null,null,null,null,null,null,null,null,null,"QMJ",{"$f":"VLOOKUP(P513,'[1]CCG & RG names'!D:E,2,0)","v":"North London Partners in Health & Care (STP)"},"93C",{"$f":"VLOOKUP(R513,'[1]CCG & RG names'!A:B,2,0)","v":"NHS North Central London CCG"},"V004313","Petrie Tucker And Partners, Waltham Cross Dental Centre, 966 Hertford Road, WALTHAM CROSS, Hertfordshire, EN8 7RU","EN8 7RU","EN8 "]
[null,null,null,null,null,null,null,null,null,null,null,null,null,null,null,"QMJ",{"$f":"VLOOKUP(P514,'[1]CCG & RG names'!D:E,2,0)","v":"North London Partners in Health & Care (STP)"},"93C",{"$f":"VLOOKUP(R514,'[1]CCG & RG names'!A:B,2,0)","v":"NHS North Central London CCG"},"V004447","Brecknock Dental, 37 Brecknock Road, LONDON, N7 0BT","N7 0BT","N7 "]
[null,null,null,null,null,null,null,null,null,null,null,null,null,null,null,"QMJ",{"$f":"VLOOKUP(P515,'[1]CCG & RG names'!D:E,2,0)","v":"North London Partners in Health & Care (STP)"},"93C",{"$f":"VLOOKUP(R515,'[1]CCG & RG names'!A:B,2,0)","v":"NHS North Central London CCG"},"V004452","Kilburn Dental & Oral Surgery, 98A Kilburn High Road, London, NW6 4HS","NW6 4HS",{"$f":"IF(MID(V515,3,1) =\" \",LEFT(V515,3),LEFT(V515,4))","v":"NW6 "}]
[null,null,null,null,null,null,null,null,null,null,null,null,null,null,null,"QMJ",{"$f":"VLOOKUP(P516,'[1]CCG & RG names'!D:E,2,0)","v":"North London Partners in Health & Care (STP)"},"93C",{"$f":"VLOOKUP(R516,'[1]CCG & RG names'!A:B,2,0)","v":"NHS North Central London CCG"},"V004459","Holloway Dental Centre, 405 - 407 Holloway Road, London, N7 6HP","N7 6HP","N7 "]
[null,null,null,null,null,null,null,null,null,null,null,null,null,null,null,"QMJ",{"$f":"VLOOKUP(P517,'[1]CCG & RG names'!D:E,2,0)","v":"North London Partners in Health & Care (STP)"},"93C",{"$f":"VLOOKUP(R517,'[1]CCG & RG names'!A:B,2,0)","v":"NHS North Central London CCG"},"V004571","Dental Surgery, 5 The Approach, LONDON, NW4 2HS","NW4 2HS","NW4 "]
[null,null,null,null,null,null,null,null,null,null,null,null,null,null,null,"QMJ",{"$f":"VLOOKUP(P518,'[1]CCG & RG names'!D:E,2,0)","v":"North London Partners in Health & Care (STP)"},"93C",{"$f":"VLOOKUP(R518,'[1]CCG & RG names'!A:B,2,0)","v":"NHS North Central London CCG"},"V004574","Mill Hill Broadway Dental, Surgery, 1 Broadway House, The Broadway, LONDON, NW7 3LJ","NW7 3LJ","NW7 "]
[null,null,null,null,null,null,null,null,null,null,null,null,null,null,null,"QMJ",{"$f":"VLOOKUP(P519,'[1]CCG & RG names'!D:E,2,0)","v":"North London Partners in Health & Care (STP)"},"93C",{"$f":"VLOOKUP(R519,'[1]CCG & RG names'!A:B,2,0)","v":"NHS North Central London CCG"},"V004584","Dental Surgery, 107 Deansbrook Road, EDGWARE, Middlesex, HA8 9BP","HA8 9BP","HA8 "]
[null,null,null,null,null,null,null,null,null,null,null,null,null,null,null,"QMJ",{"$f":"VLOOKUP(P520,'[1]CCG & RG names'!D:E,2,0)","v":"North London Partners in Health & Care (STP)"},"93C",{"$f":"VLOOKUP(R520,'[1]CCG & RG names'!A:B,2,0)","v":"NHS North Central London CCG"},"V004744","Dental Surgery, 383 Archway Road, LONDON, N6 4ER","N6 4ER","N6 "]
[null,null,null,null,null,null,null,null,null,null,null,null,null,null,null,"QMJ",{"$f":"VLOOKUP(P521,'[1]CCG & RG names'!D:E,2,0)","v":"North London Partners in Health & Care (STP)"},"93C",{"$f":"VLOOKUP(R521,'[1]CCG & RG names'!A:B,2,0)","v":"NHS North Central London CCG"},"V004799","Dental Surgery, 16 Grand Parade, Green Lanes, LONDON, N4 1LA","N4 1LA","N4 "]
[null,null,null,null,null,null,null,null,null,null,null,null,null,null,null,"QMJ",{"$f":"VLOOKUP(P522,'[1]CCG & RG names'!D:E,2,0)","v":"North London Partners in Health & Care (STP)"},"93C",{"$f":"VLOOKUP(R522,'[1]CCG & RG names'!A:B,2,0)","v":"NHS North Central London CCG"},"V004801","Smiledent Dental Centre, 467 Green Lanes, LONDON, N4 1HE","N4 1HE","N4 "]
[null,null,null,null,null,null,null,null,null,null,null,null,null,null,null,"QMJ",{"$f":"VLOOKUP(P523,'[1]CCG & RG names'!D:E,2,0)","v":"North London Partners in Health & Care (STP)"},"93C",{"$f":"VLOOKUP(R523,'[1]CCG & RG names'!A:B,2,0)","v":"NHS North Central London CCG"},"V004803","Dental Surgery, 401 Green Lanes, LONDON, N4 1EU","N4 1EU","N4 "]
[null,null,null,null,null,null,null,null,null,null,null,null,null,null,null,"QMJ",{"$f":"VLOOKUP(P524,'[1]CCG & RG names'!D:E,2,0)","v":"North London Partners in Health & Care (STP)"},"93C",{"$f":"VLOOKUP(R524,'[1]CCG & RG names'!A:B,2,0)","v":"NHS North Central London CCG"},"V004804","82 Stroud Green Road, LONDON, N4 3EN","N4 3EN","N4 "]
[null,null,null,null,null,null,null,null,null,null,null,null,null,null,null,"QMJ",{"$f":"VLOOKUP(P525,'[1]CCG & RG names'!D:E,2,0)","v":"North London Partners in Health & Care (STP)"},"93C",{"$f":"VLOOKUP(R525,'[1]CCG & RG names'!A:B,2,0)","v":"NHS North Central London CCG"},"V004806","Manor House Dental Surgery, 363 Green Lanes, LONDON, N4 1DY","N4 1DY","N4 "]
[null,null,null,null,null,null,null,null,null,null,null,null,null,null,null,"QMJ",{"$f":"VLOOKUP(P526,'[1]CCG & RG names'!D:E,2,0)","v":"North London Partners in Health & Care (STP)"},"93C",{"$f":"VLOOKUP(R526,'[1]CCG & RG names'!A:B,2,0)","v":"NHS North Central London CCG"},"V004808","Dental Surgery, 224 Archway Road, LONDON, N6 5AX","N6 5AX","N6 "]
[null,null,null,null,null,null,null,null,null,null,null,null,null,null,null,"QMJ",{"$f":"VLOOKUP(P527,'[1]CCG & RG names'!D:E,2,0)","v":"North London Partners in Health & Care (STP)"},"93C",{"$f":"VLOOKUP(R527,'[1]CCG & RG names'!A:B,2,0)","v":"NHS North Central London CCG"},"V004813","Weston Park Dental Surgery, 8 Weston Park, LONDON, N8 9TJ","N8 9TJ","N8 "]
[null,null,null,null,null,null,null,null,null,null,null,null,null,null,null,"QMJ",{"$f":"VLOOKUP(P528,'[1]CCG & RG names'!D:E,2,0)","v":"North London Partners in Health & Care (STP)"},"93C",{"$f":"VLOOKUP(R528,'[1]CCG & RG names'!A:B,2,0)","v":"NHS North Central London CCG"},"V004816","Middle Lane Dental Practice, 34 Middle Lane, LONDON, N8 8PL","N8 8PL","N8 "]
[null,null,null,null,null,null,null,null,null,null,null,null,null,null,null,"QMJ",{"$f":"VLOOKUP(P529,'[1]CCG & RG names'!D:E,2,0)","v":"North London Partners in Health & Care (STP)"},"93C",{"$f":"VLOOKUP(R529,'[1]CCG & RG names'!A:B,2,0)","v":"NHS North Central London CCG"},"V004818","Park Road Dental Practice, 300 Park Road, LONDON, N8 8LA","N8 8LA","N8 "]
[null,null,null,null,null,null,null,null,null,null,null,null,null,null,null,"QMJ",{"$f":"VLOOKUP(P530,'[1]CCG & RG names'!D:E,2,0)","v":"North London Partners in Health & Care (STP)"},"93C",{"$f":"VLOOKUP(R530,'[1]CCG & RG names'!A:B,2,0)","v":"NHS North Central London CCG"},"V004821","Crouch End Dental Practice, 70 Crouch Hall Road, LONDON, N8 8HA","N8 8HA","N8 "]
[null,null,null,null,null,null,null,null,null,null,null,null,null,null,null,"QMJ",{"$f":"VLOOKUP(P531,'[1]CCG & RG names'!D:E,2,0)","v":"North London Partners in Health & Care (STP)"},"93C",{"$f":"VLOOKUP(R531,'[1]CCG & RG names'!A:B,2,0)","v":"NHS North Central London CCG"},"V004824","Sky Dental Surgery, 94 Turnpike Lane, LONDON, N8 0PH","N8 0PH","N8 "]
[null,null,null,null,null,null,null,null,null,null,null,null,null,null,null,"QMJ",{"$f":"VLOOKUP(P532,'[1]CCG & RG names'!D:E,2,0)","v":"North London Partners in Health & Care (STP)"},"93C",{"$f":"VLOOKUP(R532,'[1]CCG & RG names'!A:B,2,0)","v":"NHS North Central London CCG"},"V004827","Dental Surgery, 574 Green Lanes, LONDON, N8 0RP","N8 0RP","N8 "]
[null,null,null,null,null,null,null,null,null,null,null,null,null,null,null,"QMJ",{"$f":"VLOOKUP(P533,'[1]CCG & RG names'!D:E,2,0)","v":"North London Partners in Health & Care (STP)"},"93C",{"$f":"VLOOKUP(R533,'[1]CCG & RG names'!A:B,2,0)","v":"NHS North Central London CCG"},"V004833","Dental Surgery, 186 Park Road, LONDON, N8 8JT","N8 8JT","N8 "]
[null,null,null,null,null,null,null,null,null,null,null,null,null,null,null,"QMJ",{"$f":"VLOOKUP(P534,'[1]CCG & RG names'!D:E,2,0)","v":"North London Partners in Health & Care (STP)"},"93C",{"$f":"VLOOKUP(R534,'[1]CCG & RG names'!A:B,2,0)","v":"NHS North Central London CCG"},"V004834","Millennium Dental Practice, 41 Willoughby Road, LONDON, N8 0JG","N8 0JG","N8 "]
[null,null,null,null,null,null,null,null,null,null,null,null,null,null,null,"QMJ",{"$f":"VLOOKUP(P535,'[1]CCG & RG names'!D:E,2,0)","v":"North London Partners in Health & Care (STP)"},"93C",{"$f":"VLOOKUP(R535,'[1]CCG & RG names'!A:B,2,0)","v":"NHS North Central London CCG"},"V004842","Colney Hatch Dental Practice, 130 Colney Hatch Lane, LONDON, N10 1ER","N10 1ER","N10 "]
[null,null,null,null,null,null,null,null,null,null,null,null,null,null,null,"QMJ",{"$f":"VLOOKUP(P536,'[1]CCG & RG names'!D:E,2,0)","v":"North London Partners in Health & Care (STP)"},"93C",{"$f":"VLOOKUP(R536,'[1]CCG & RG names'!A:B,2,0)","v":"NHS North Central London CCG"},"V004844","Kings Avenue Dental Surgery, 41 Kings Avenue, LONDON, N10 1PA","N10 1PA","N10 "]
[null,null,null,null,null,null,null,null,null,null,null,null,null,null,null,"QMJ",{"$f":"VLOOKUP(P537,'[1]CCG & RG names'!D:E,2,0)","v":"North London Partners in Health & Care (STP)"},"93C",{"$f":"VLOOKUP(R537,'[1]CCG & RG names'!A:B,2,0)","v":"NHS North Central London CCG"},"V004845","Muswell Hill Dental Care Centre, 200 Fortis Green Road, LONDON, N10 3DU","N10 3DU","N10 "]
[null,null,null,null,null,null,null,null,null,null,null,null,null,null,null,"QMJ",{"$f":"VLOOKUP(P538,'[1]CCG & RG names'!D:E,2,0)","v":"North London Partners in Health & Care (STP)"},"93C",{"$f":"VLOOKUP(R538,'[1]CCG & RG names'!A:B,2,0)","v":"NHS North Central London CCG"},"V004846","Dental Surgery, 212 Muswell Hill Broadway, LONDON, N10 3SH","N10 3SH","N10 "]
[null,null,null,null,null,null,null,null,null,null,null,null,null,null,null,"QMJ",{"$f":"VLOOKUP(P539,'[1]CCG & RG names'!D:E,2,0)","v":"North London Partners in Health & Care (STP)"},"93C",{"$f":"VLOOKUP(R539,'[1]CCG & RG names'!A:B,2,0)","v":"NHS North Central London CCG"},"V004848","Muswell Hill Dental Practice, 337 Muswell Hill Broadway, LONDON, N10 1BX","N10 1BX","N10 "]
[null,null,null,null,null,null,null,null,null,null,null,null,null,null,null,"QMJ",{"$f":"VLOOKUP(P540,'[1]CCG & RG names'!D:E,2,0)","v":"North London Partners in Health & Care (STP)"},"93C",{"$f":"VLOOKUP(R540,'[1]CCG & RG names'!A:B,2,0)","v":"NHS North Central London CCG"},"V004853","Dental Surgery, 4 Maidstone Road, LONDON, N11 2TP","N11 2TP","N11 "]
[null,null,null,null,null,null,null,null,null,null,null,null,null,null,null,"QMJ",{"$f":"VLOOKUP(P541,'[1]CCG & RG names'!D:E,2,0)","v":"North London Partners in Health & Care (STP)"},"93C",{"$f":"VLOOKUP(R541,'[1]CCG & RG names'!A:B,2,0)","v":"NHS North Central London CCG"},"V004856","Dental Surgery, 15 Fladbury Road, LONDON, N15 6SB","N15 6SB","N15 "]
[null,null,null,null,null,null,null,null,null,null,null,null,null,null,null,"QMJ",{"$f":"VLOOKUP(P542,'[1]CCG & RG names'!D:E,2,0)","v":"North London Partners in Health & Care (STP)"},"93C",{"$f":"VLOOKUP(R542,'[1]CCG & RG names'!A:B,2,0)","v":"NHS North Central London CCG"},"V004858","Dental Surgery, 111 Philip Lane, LONDON, N15 4JR","N15 4JR","N15 "]
[null,null,null,null,null,null,null,null,null,null,null,null,null,null,null,"QMJ",{"$f":"VLOOKUP(P543,'[1]CCG & RG names'!D:E,2,0)","v":"North London Partners in Health & Care (STP)"},"93C",{"$f":"VLOOKUP(R543,'[1]CCG & RG names'!A:B,2,0)","v":"NHS North Central London CCG"},"V004859","Dental Surgery, 11 Crowndale Road, LONDON, NW1 1TU","NW1 1TU","NW1 "]
[null,null,null,null,null,null,null,null,null,null,null,null,null,null,null,"QMJ",{"$f":"VLOOKUP(P544,'[1]CCG & RG names'!D:E,2,0)","v":"North London Partners in Health & Care (STP)"},"93C",{"$f":"VLOOKUP(R544,'[1]CCG & RG names'!A:B,2,0)","v":"NHS North Central London CCG"},"V004861","200 West Green Road, LONDON, N15 5AG","N15 5AG","N15 "]
[null,null,null,null,null,null,null,null,null,null,null,null,null,null,null,"QMJ",{"$f":"VLOOKUP(P545,'[1]CCG & RG names'!D:E,2,0)","v":"North London Partners in Health & Care (STP)"},"93C",{"$f":"VLOOKUP(R545,'[1]CCG & RG names'!A:B,2,0)","v":"NHS North Central London CCG"},"V004862","Anna House Dental Clinic, 214 - 218 High Road, LONDON, N15 4NP","N15 4NP","N15 "]
[null,null,null,null,null,null,null,null,null,null,null,null,null,null,null,"QMJ",{"$f":"VLOOKUP(P546,'[1]CCG & RG names'!D:E,2,0)","v":"North London Partners in Health & Care (STP)"},"93C",{"$f":"VLOOKUP(R546,'[1]CCG & RG names'!A:B,2,0)","v":"NHS North Central London CCG"},"V004865","104 - 106 High Road, South Tottenham, London, N15 6JR","N15 6JR","N15 "]
[null,null,null,null,null,null,null,null,null,null,null,null,null,null,null,"QMJ",{"$f":"VLOOKUP(P547,'[1]CCG & RG names'!D:E,2,0)","v":"North London Partners in Health & Care (STP)"},"93C",{"$f":"VLOOKUP(R547,'[1]CCG & RG names'!A:B,2,0)","v":"NHS North Central London CCG"},"V004867","West Green Dental Practice, 293 West Green Road, LONDON, N15 3PA","N15 3PA","N15 "]
[null,null,null,null,null,null,null,null,null,null,null,null,null,null,null,"QMJ",{"$f":"VLOOKUP(P548,'[1]CCG & RG names'!D:E,2,0)","v":"North London Partners in Health & Care (STP)"},"93C",{"$f":"VLOOKUP(R548,'[1]CCG & RG names'!A:B,2,0)","v":"NHS North Central London CCG"},"V004869","Dental Surgery, 256 High Road, LONDON, N15 4AJ","N15 4AJ","N15 "]
[null,null,null,null,null,null,null,null,null,null,null,null,null,null,null,"QMJ",{"$f":"VLOOKUP(P549,'[1]CCG & RG names'!D:E,2,0)","v":"North London Partners in Health & Care (STP)"},"93C",{"$f":"VLOOKUP(R549,'[1]CCG & RG names'!A:B,2,0)","v":"NHS North Central London CCG"},"V004872","M C Dentistry, 585 High Road, LONDON, N17 6SB","N17 6SB","N17 "]
[null,null,null,null,null,null,null,null,null,null,null,null,null,null,null,"QMJ",{"$f":"VLOOKUP(P550,'[1]CCG & RG names'!D:E,2,0)","v":"North London Partners in Health & Care (STP)"},"93C",{"$f":"VLOOKUP(R550,'[1]CCG & RG names'!A:B,2,0)","v":"NHS North Central London CCG"},"V004875","P Ocansey And Associates, 520A High Road, LONDON, N17 9SX","N17 9SX","N17 "]
[null,null,null,null,null,null,null,null,null,null,null,null,null,null,null,"QMJ",{"$f":"VLOOKUP(P551,'[1]CCG & RG names'!D:E,2,0)","v":"North London Partners in Health & Care (STP)"},"93C",{"$f":"VLOOKUP(R551,'[1]CCG & RG names'!A:B,2,0)","v":"NHS North Central London CCG"},"V004877","Dental Surgery, 802 High Road, LONDON, N17 0DH","N17 0DH","N17 "]
[null,null,null,null,null,null,null,null,null,null,null,null,null,null,null,"QMJ",{"$f":"VLOOKUP(P552,'[1]CCG & RG names'!D:E,2,0)","v":"North London Partners in Health & Care (STP)"},"93C",{"$f":"VLOOKUP(R552,'[1]CCG & RG names'!A:B,2,0)","v":"NHS North Central London CCG"},"V004878","Morris House Surgery, Waltheof Gardens, LONDON, N17 7HS","N17 7HS","N17 "]
[null,null,null,null,null,null,null,null,null,null,null,null,null,null,null,"QMJ",{"$f":"VLOOKUP(P553,'[1]CCG & RG names'!D:E,2,0)","v":"North London Partners in Health & Care (STP)"},"93C",{"$f":"VLOOKUP(R553,'[1]CCG & RG names'!A:B,2,0)","v":"NHS North Central London CCG"},"V004879","Dental Surgery, 497 High Road, LONDON, N17 6QA","N17 6QA","N17 "]
[null,null,null,null,null,null,null,null,null,null,null,null,null,null,null,"QMJ",{"$f":"VLOOKUP(P554,'[1]CCG & RG names'!D:E,2,0)","v":"North London Partners in Health & Care (STP)"},"93C",{"$f":"VLOOKUP(R554,'[1]CCG & RG names'!A:B,2,0)","v":"NHS North Central London CCG"},"V004882","Gainsborough Clinic, 65 Bounds Green Road, LONDON, N22 8HB","N22 8HB","N22 "]
[null,null,null,null,null,null,null,null,null,null,null,null,null,null,null,"QMJ",{"$f":"VLOOKUP(P555,'[1]CCG & RG names'!D:E,2,0)","v":"North London Partners in Health & Care (STP)"},"93C",{"$f":"VLOOKUP(R555,'[1]CCG & RG names'!A:B,2,0)","v":"NHS North Central London CCG"},"V004883","Woodgreen Dental Surgery, 7A High Road, LONDON, N22 6BH","N22 6BH","N22 "]
[null,null,null,null,null,null,null,null,null,null,null,null,null,null,null,"QMJ",{"$f":"VLOOKUP(P556,'[1]CCG & RG names'!D:E,2,0)","v":"North London Partners in Health & Care (STP)"},"93C",{"$f":"VLOOKUP(R556,'[1]CCG & RG names'!A:B,2,0)","v":"NHS North Central London CCG"},"V004884","Dental Surgery, 21 Stuart Crescent, LONDON, N22 5NN","N22 5NN","N22 "]
[null,null,null,null,null,null,null,null,null,null,null,null,null,null,null,"QMJ",{"$f":"VLOOKUP(P557,'[1]CCG & RG names'!D:E,2,0)","v":"North London Partners in Health & Care (STP)"},"93C",{"$f":"VLOOKUP(R557,'[1]CCG & RG names'!A:B,2,0)","v":"NHS North Central London CCG"},"V004885","My Dental Care, 141 Myddleton Road, LONDON, N22 8NG","N22 8NG","N22 "]
[null,null,null,null,null,null,null,null,null,null,null,null,null,null,null,"QMJ",{"$f":"VLOOKUP(P558,'[1]CCG & RG names'!D:E,2,0)","v":"North London Partners in Health & Care (STP)"},"93C",{"$f":"VLOOKUP(R558,'[1]CCG & RG names'!A:B,2,0)","v":"NHS North Central London CCG"},"V004887","The Family Dental Practice, 129 - 131 High Road, Wood Green, LONDON, N22 6BB","N22 6BB","N22 "]
[null,null,null,null,null,null,null,null,null,null,null,null,null,null,null,"QMJ",{"$f":"VLOOKUP(P559,'[1]CCG & RG names'!D:E,2,0)","v":"North London Partners in Health & Care (STP)"},"93C",{"$f":"VLOOKUP(R559,'[1]CCG & RG names'!A:B,2,0)","v":"NHS North Central London CCG"},"V004888","Roger Levys Dental Surgery, 158 High Road, LONDON, N22 6EB","N22 6EB","N22 "]
[null,null,null,null,null,null,null,null,null,null,null,null,null,null,null,"QMJ",{"$f":"VLOOKUP(P560,'[1]CCG & RG names'!D:E,2,0)","v":"North London Partners in Health & Care (STP)"},"93C",{"$f":"VLOOKUP(R560,'[1]CCG & RG names'!A:B,2,0)","v":"NHS North Central London CCG"},"V004890","Dental Surgery, 203 Westbury Avenue, LONDON, N22 6RX","N22 6RX","N22 "]
[null,null,null,null,null,null,null,null,null,null,null,null,null,null,null,"QMJ",{"$f":"VLOOKUP(P561,'[1]CCG & RG names'!D:E,2,0)","v":"North London Partners in Health & Care (STP)"},"93C",{"$f":"VLOOKUP(R561,'[1]CCG & RG names'!A:B,2,0)","v":"NHS North Central London CCG"},"V004892","Park Vue Dental Practice, 204 High Road, LONDON, N22 8HH","N22 8HH","N22 "]
[null,null,null,null,null,null,null,null,null,null,null,null,null,null,null,"QMJ",{"$f":"VLOOKUP(P562,'[1]CCG & RG names'!D:E,2,0)","v":"North London Partners in Health & Care (STP)"},"93C",{"$f":"VLOOKUP(R562,'[1]CCG & RG names'!A:B,2,0)","v":"NHS North Central London CCG"},"V004893","263 Victoria Road, LONDON, N22 7XH","N22 7XH","N22 "]
[null,null,null,null,null,null,null,null,null,null,null,null,null,null,null,"QMJ",{"$f":"VLOOKUP(P563,'[1]CCG & RG names'!D:E,2,0)","v":"North London Partners in Health & Care (STP)"},"93C",{"$f":"VLOOKUP(R563,'[1]CCG & RG names'!A:B,2,0)","v":"NHS North Central London CCG"},"V004933","Dental Surgery, 11A The Promenade, EDGWARE, Middlesex, HA8 7JZ","HA8 7JZ","HA8 "]
[null,null,null,null,null,null,null,null,null,null,null,null,null,null,null,"QMJ",{"$f":"VLOOKUP(P564,'[1]CCG & RG names'!D:E,2,0)","v":"North London Partners in Health & Care (STP)"},"93C",{"$f":"VLOOKUP(R564,'[1]CCG & RG names'!A:B,2,0)","v":"NHS North Central London CCG"},"V004940","Hendon Dental Practice, 125A Station Road, LONDON, NW4 4NL","NW4 4NL","NW4 "]
[null,null,null,null,null,null,null,null,null,null,null,null,null,null,null,"QMJ",{"$f":"VLOOKUP(P565,'[1]CCG & RG names'!D:E,2,0)","v":"North London Partners in Health & Care (STP)"},"93C",{"$f":"VLOOKUP(R565,'[1]CCG & RG names'!A:B,2,0)","v":"NHS North Central London CCG"},"V004949","Dental Surgery, 150 Broadfields Avenue, EDGWARE, Middlesex, HA8 8SS","HA8 8SS","HA8 "]
[null,null,null,null,null,null,null,null,null,null,null,null,null,null,null,"QMJ",{"$f":"VLOOKUP(P566,'[1]CCG & RG names'!D:E,2,0)","v":"North London Partners in Health & Care (STP)"},"93C",{"$f":"VLOOKUP(R566,'[1]CCG & RG names'!A:B,2,0)","v":"NHS North Central London CCG"},"V004953","Ivory Dental Practice, 158 West Hendon Broadway, LONDON, NW9 7AA","NW9 7AA","NW9 "]
[null,null,null,null,null,null,null,null,null,null,null,null,null,null,null,"QMJ",{"$f":"VLOOKUP(P567,'[1]CCG & RG names'!D:E,2,0)","v":"North London Partners in Health & Care (STP)"},"93C",{"$f":"VLOOKUP(R567,'[1]CCG & RG names'!A:B,2,0)","v":"NHS North Central London CCG"},"V004971","Dental Practice, 198 Burnt Oak Broadway, EDGWARE, Middlesex, HA8 0AS","HA8 0AS","HA8 "]
[null,null,null,null,null,null,null,null,null,null,null,null,null,null,null,"QMJ",{"$f":"VLOOKUP(P568,'[1]CCG & RG names'!D:E,2,0)","v":"North London Partners in Health & Care (STP)"},"93C",{"$f":"VLOOKUP(R568,'[1]CCG & RG names'!A:B,2,0)","v":"NHS North Central London CCG"},"V004973","Dental Surgery, 2 Colin Park Road, LONDON, NW9 6HS","NW9 6HS","NW9 "]
[null,null,null,null,null,null,null,null,null,null,null,null,null,null,null,"QMJ",{"$f":"VLOOKUP(P569,'[1]CCG & RG names'!D:E,2,0)","v":"North London Partners in Health & Care (STP)"},"93C",{"$f":"VLOOKUP(R569,'[1]CCG & RG names'!A:B,2,0)","v":"NHS North Central London CCG"},"V004982","Dental Surgery, 3A Sheaveshill Avenue, LONDON, NW9 6SH","NW9 6SH","NW9 "]
[null,null,null,null,null,null,null,null,null,null,null,null,null,null,null,"QMJ",{"$f":"VLOOKUP(P570,'[1]CCG & RG names'!D:E,2,0)","v":"North London Partners in Health & Care (STP)"},"93C",{"$f":"VLOOKUP(R570,'[1]CCG & RG names'!A:B,2,0)","v":"NHS North Central London CCG"},"V004987","Colindale Dental Practice, 49 Colindale Avenue, LONDON, NW9 5EP","NW9 5EP","NW9 "]
[null,null,null,null,null,null,null,null,null,null,null,null,null,null,null,"QMJ",{"$f":"VLOOKUP(P571,'[1]CCG & RG names'!D:E,2,0)","v":"North London Partners in Health & Care (STP)"},"93C",{"$f":"VLOOKUP(R571,'[1]CCG & RG names'!A:B,2,0)","v":"NHS North Central London CCG"},"V004996","Dental Surgery, 51 Goodwyn Avenue, LONDON, NW7 3RJ","NW7 3RJ","NW7 "]
[null,null,null,null,null,null,null,null,null,null,null,null,null,null,null,"QMJ",{"$f":"VLOOKUP(P572,'[1]CCG & RG names'!D:E,2,0)","v":"North London Partners in Health & Care (STP)"},"93C",{"$f":"VLOOKUP(R572,'[1]CCG & RG names'!A:B,2,0)","v":"NHS North Central London CCG"},"V005008","Angle House Orthodontics, 5th Floor, Elizabeth House, 54 - 58 High Street, Edgware, Middlesex, HA8 7EJ","HA8 7EJ","HA8 "]
[null,null,null,null,null,null,null,null,null,null,null,null,null,null,null,"QMJ",{"$f":"VLOOKUP(P573,'[1]CCG & RG names'!D:E,2,0)","v":"North London Partners in Health & Care (STP)"},"93C",{"$f":"VLOOKUP(R573,'[1]CCG & RG names'!A:B,2,0)","v":"NHS North Central London CCG"},"V005542","Dental Surgery, 66 Edgwarebury Lane, EDGWARE, Middlesex, HA8 8LX","HA8 8LX","HA8 "]
[null,null,null,null,null,null,null,null,null,null,null,null,null,null,null,"QMJ",{"$f":"VLOOKUP(P574,'[1]CCG & RG names'!D:E,2,0)","v":"North London Partners in Health & Care (STP)"},"93C",{"$f":"VLOOKUP(R574,'[1]CCG & RG names'!A:B,2,0)","v":"NHS North Central London CCG"},"V005554","Dental Surgery, 8 Millway, LONDON, NW7 3RE","NW7 3RE","NW7 "]
[null,null,null,null,null,null,null,null,null,null,null,null,null,null,null,"QMJ",{"$f":"VLOOKUP(P575,'[1]CCG & RG names'!D:E,2,0)","v":"North London Partners in Health & Care (STP)"},"93C",{"$f":"VLOOKUP(R575,'[1]CCG & RG names'!A:B,2,0)","v":"NHS North Central London CCG"},"V005564","Elite Dental Care, 86 Audley Road, LONDON, NW4 3HB","NW4 3HB","NW4 "]
[null,null,null,null,null,null,null,null,null,null,null,null,null,null,null,"QMJ",{"$f":"VLOOKUP(P576,'[1]CCG & RG names'!D:E,2,0)","v":"North London Partners in Health & Care (STP)"},"93C",{"$f":"VLOOKUP(R576,'[1]CCG & RG names'!A:B,2,0)","v":"NHS North Central London CCG"},"V005583","Apex Dental Care, 647 Watford Way, LONDON, NW7 3JR","NW7 3JR","NW7 "]
[null,null,null,null,null,null,null,null,null,null,null,null,null,null,null,"QMJ",{"$f":"VLOOKUP(P577,'[1]CCG & RG names'!D:E,2,0)","v":"North London Partners in Health & Care (STP)"},"93C",{"$f":"VLOOKUP(R577,'[1]CCG & RG names'!A:B,2,0)","v":"NHS North Central London CCG"},"V005593","65A Brent Street, LONDON, NW4 2EA","NW4 2EA","NW4 "]
[null,null,null,null,null,null,null,null,null,null,null,null,null,null,null,"QMJ",{"$f":"VLOOKUP(P578,'[1]CCG & RG names'!D:E,2,0)","v":"North London Partners in Health & Care (STP)"},"93C",{"$f":"VLOOKUP(R578,'[1]CCG & RG names'!A:B,2,0)","v":"NHS North Central London CCG"},"V005807","Dental Surgery, 19 Bell Lane, LONDON, NW4 2BP","NW4 2BP","NW4 "]
[null,null,null,null,null,null,null,null,null,null,null,null,null,null,null,"QMJ",{"$f":"VLOOKUP(P579,'[1]CCG & RG names'!D:E,2,0)","v":"North London Partners in Health & Care (STP)"},"93C",{"$f":"VLOOKUP(R579,'[1]CCG & RG names'!A:B,2,0)","v":"NHS North Central London CCG"},"V005810","Dental Surgery, 126 Ashurst Road, LONDON, N12 9AB","N12 9AB",{"$f":"IF(MID(V579,3,1) =\" \",LEFT(V579,3),LEFT(V579,4))","v":"N12 "}]
[null,null,null,null,null,null,null,null,null,null,null,null,null,null,null,"QMJ",{"$f":"VLOOKUP(P580,'[1]CCG & RG names'!D:E,2,0)","v":"North London Partners in Health & Care (STP)"},"93C",{"$f":"VLOOKUP(R580,'[1]CCG & RG names'!A:B,2,0)","v":"NHS North Central London CCG"},"V005811","Dental Surgery, 1279 High Road, LONDON, N20 9HS","N20 9HS","N20 "]
[null,null,null,null,null,null,null,null,null,null,null,null,null,null,null,"QMJ",{"$f":"VLOOKUP(P581,'[1]CCG & RG names'!D:E,2,0)","v":"North London Partners in Health & Care (STP)"},"93C",{"$f":"VLOOKUP(R581,'[1]CCG & RG names'!A:B,2,0)","v":"NHS North Central London CCG"},"V005814","Dental Surgery, 19 Longmore Avenue, East Barnet, BARNET, Hertfordshire, EN4 8AE","EN4 8AE","EN4 "]
[null,null,null,null,null,null,null,null,null,null,null,null,null,null,null,"QMJ",{"$f":"VLOOKUP(P582,'[1]CCG & RG names'!D:E,2,0)","v":"North London Partners in Health & Care (STP)"},"93C",{"$f":"VLOOKUP(R582,'[1]CCG & RG names'!A:B,2,0)","v":"NHS North Central London CCG"},"V005815","Dental Surgery, 19 Oakleigh Road North, LONDON, N20 9HE","N20 9HE","N20 "]
[null,null,null,null,null,null,null,null,null,null,null,null,null,null,null,"QMJ",{"$f":"VLOOKUP(P583,'[1]CCG & RG names'!D:E,2,0)","v":"North London Partners in Health & Care (STP)"},"93C",{"$f":"VLOOKUP(R583,'[1]CCG & RG names'!A:B,2,0)","v":"NHS North Central London CCG"},"V005818","Woodhouse Dental Practice, 229A Woodhouse Road, LONDON, N12 9BD","N12 9BD","N12 "]
[null,null,null,null,null,null,null,null,null,null,null,null,null,null,null,"QMJ",{"$f":"VLOOKUP(P584,'[1]CCG & RG names'!D:E,2,0)","v":"North London Partners in Health & Care (STP)"},"93C",{"$f":"VLOOKUP(R584,'[1]CCG & RG names'!A:B,2,0)","v":"NHS North Central London CCG"},"V005819","Grove Dental Practice, 236 High Street, BARNET, Hertfordshire, EN5 5TD","EN5 5TD","EN5 "]
[null,null,null,null,null,null,null,null,null,null,null,null,null,null,null,"QMJ",{"$f":"VLOOKUP(P585,'[1]CCG & RG names'!D:E,2,0)","v":"North London Partners in Health & Care (STP)"},"93C",{"$f":"VLOOKUP(R585,'[1]CCG & RG names'!A:B,2,0)","v":"NHS North Central London CCG"},"V005823","Hampden Dental Clinic, 3 Onslow Parade, Hampden Square, LONDON, N14 5JN","N14 5JN","N14 "]
[null,null,null,null,null,null,null,null,null,null,null,null,null,null,null,"QMJ",{"$f":"VLOOKUP(P586,'[1]CCG & RG names'!D:E,2,0)","v":"North London Partners in Health & Care (STP)"},"93C",{"$f":"VLOOKUP(R586,'[1]CCG & RG names'!A:B,2,0)","v":"NHS North Central London CCG"},"V005824","Dental Surgery, 37 39 East Barnet Road, BARNET, Hertfordshire, EN4 8RN","EN4 8RN","EN4 "]
[null,null,null,null,null,null,null,null,null,null,null,null,null,null,null,"QMJ",{"$f":"VLOOKUP(P587,'[1]CCG & RG names'!D:E,2,0)","v":"North London Partners in Health & Care (STP)"},"93C",{"$f":"VLOOKUP(R587,'[1]CCG & RG names'!A:B,2,0)","v":"NHS North Central London CCG"},"V005840","7 York Road, New Barnet, BARNET, Hertfordshire, EN5 1LJ","EN5 1LJ","EN5 "]
[null,null,null,null,null,null,null,null,null,null,null,null,null,null,null,"QMJ",{"$f":"VLOOKUP(P588,'[1]CCG & RG names'!D:E,2,0)","v":"North London Partners in Health & Care (STP)"},"93C",{"$f":"VLOOKUP(R588,'[1]CCG & RG names'!A:B,2,0)","v":"NHS North Central London CCG"},"V005841","Dental Surgery, 787A High Road, LONDON, N12 8JT","N12 8JT","N12 "]
[null,null,null,null,null,null,null,null,null,null,null,null,null,null,null,"QMJ",{"$f":"VLOOKUP(P589,'[1]CCG & RG names'!D:E,2,0)","v":"North London Partners in Health & Care (STP)"},"93C",{"$f":"VLOOKUP(R589,'[1]CCG & RG names'!A:B,2,0)","v":"NHS North Central London CCG"},"V005844","Gaunt Dental Surgery, 831A High Road, LONDON, N12 8PR","N12 8PR","N12 "]
[null,null,null,null,null,null,null,null,null,null,null,null,null,null,null,"QMJ",{"$f":"VLOOKUP(P590,'[1]CCG & RG names'!D:E,2,0)","v":"North London Partners in Health & Care (STP)"},"93C",{"$f":"VLOOKUP(R590,'[1]CCG & RG names'!A:B,2,0)","v":"NHS North Central London CCG"},"V005850","108 Cat Hill, BARNET, Hertfordshire, EN4 8HX","EN4 8HX","EN4 "]
[null,null,null,null,null,null,null,null,null,null,null,null,null,null,null,"QMJ",{"$f":"VLOOKUP(P591,'[1]CCG & RG names'!D:E,2,0)","v":"North London Partners in Health & Care (STP)"},"93C",{"$f":"VLOOKUP(R591,'[1]CCG & RG names'!A:B,2,0)","v":"NHS North Central London CCG"},"V005856","Dental Surgery, 28 Wood Street, BARNET, Hertfordshire, EN5 4BW","EN5 4BW","EN5 "]
[null,null,null,null,null,null,null,null,null,null,null,null,null,null,null,"QMJ",{"$f":"VLOOKUP(P592,'[1]CCG & RG names'!D:E,2,0)","v":"North London Partners in Health & Care (STP)"},"93C",{"$f":"VLOOKUP(R592,'[1]CCG & RG names'!A:B,2,0)","v":"NHS North Central London CCG"},"V005870","Dental Surgery, 1005A Finchley Road, LONDON, NW11 7HB","NW11 7HB","NW11"]
[null,null,null,null,null,null,null,null,null,null,null,null,null,null,null,"QMJ",{"$f":"VLOOKUP(P593,'[1]CCG & RG names'!D:E,2,0)","v":"North London Partners in Health & Care (STP)"},"93C",{"$f":"VLOOKUP(R593,'[1]CCG & RG names'!A:B,2,0)","v":"NHS North Central London CCG"},"V005877","Dental Surgery, 103A Golders Green Road, LONDON, NW11 8EN","NW11 8EN","NW11"]
[null,null,null,null,null,null,null,null,null,null,null,null,null,null,null,"QMJ",{"$f":"VLOOKUP(P594,'[1]CCG & RG names'!D:E,2,0)","v":"North London Partners in Health & Care (STP)"},"93C",{"$f":"VLOOKUP(R594,'[1]CCG & RG names'!A:B,2,0)","v":"NHS North Central London CCG"},"V005893","Golders Green Dental Care, 192 Golders Green Road, LONDON, NW11 9AL","NW11 9AL","NW11"]
[null,null,null,null,null,null,null,null,null,null,null,null,null,null,null,"QMJ",{"$f":"VLOOKUP(P595,'[1]CCG & RG names'!D:E,2,0)","v":"North London Partners in Health & Care (STP)"},"93C",{"$f":"VLOOKUP(R595,'[1]CCG & RG names'!A:B,2,0)","v":"NHS North Central London CCG"},"V005899","Cavendish House Dental Surgery, 240 East End Road, LONDON, N2 8AX","N2 8AX","N2 "]
[null,null,null,null,null,null,null,null,null,null,null,null,null,null,null,"QMJ",{"$f":"VLOOKUP(P596,'[1]CCG & RG names'!D:E,2,0)","v":"North London Partners in Health & Care (STP)"},"93C",{"$f":"VLOOKUP(R596,'[1]CCG & RG names'!A:B,2,0)","v":"NHS North Central London CCG"},"V005900","Bliss Dental Practice, 3 Temple Fortune Parade, Bridge Lane, LONDON, NW11 0QN","NW11 0QN","NW11"]
[null,null,null,null,null,null,null,null,null,null,null,null,null,null,null,"QMJ",{"$f":"VLOOKUP(P597,'[1]CCG & RG names'!D:E,2,0)","v":"North London Partners in Health & Care (STP)"},"93C",{"$f":"VLOOKUP(R597,'[1]CCG & RG names'!A:B,2,0)","v":"NHS North Central London CCG"},"V005908","The Clocktower Dental Surgery, 9 North End Road, LONDON, NW11 7RJ","NW11 7RJ","NW11"]
[null,null,null,null,null,null,null,null,null,null,null,null,null,null,null,"QMJ",{"$f":"VLOOKUP(P598,'[1]CCG & RG names'!D:E,2,0)","v":"North London Partners in Health & Care (STP)"},"93C",{"$f":"VLOOKUP(R598,'[1]CCG & RG names'!A:B,2,0)","v":"NHS North Central London CCG"},"V005909","Dental Surgery, 393 Nether Street, LONDON, N3 1QG","N3 1QG","N3 "]
[null,null,null,null,null,null,null,null,null,null,null,null,null,null,null,"QMJ",{"$f":"VLOOKUP(P599,'[1]CCG & RG names'!D:E,2,0)","v":"North London Partners in Health & Care (STP)"},"93C",{"$f":"VLOOKUP(R599,'[1]CCG & RG names'!A:B,2,0)","v":"NHS North Central London CCG"},"V005910","Gentle Dental Care, 2B Golders Green Road, LONDON, NW11 8LH","NW11 8LH","NW11"]
[null,null,null,null,null,null,null,null,null,null,null,null,null,null,null,"QMJ",{"$f":"VLOOKUP(P600,'[1]CCG & RG names'!D:E,2,0)","v":"North London Partners in Health & Care (STP)"},"93C",{"$f":"VLOOKUP(R600,'[1]CCG & RG names'!A:B,2,0)","v":"NHS North Central London CCG"},"V005916","East Finchley Smiles, 144 High Road, LONDON, N2 9ED","N2 9ED","N2 "]
[null,null,null,null,null,null,null,null,null,null,null,null,null,null,null,"QMJ",{"$f":"VLOOKUP(P601,'[1]CCG & RG names'!D:E,2,0)","v":"North London Partners in Health & Care (STP)"},"93C",{"$f":"VLOOKUP(R601,'[1]CCG & RG names'!A:B,2,0)","v":"NHS North Central London CCG"},"V005918","The Dental Practice, 113A Ballards Lane, LONDON, N3 1XY","N3 1XY","N3 "]
[null,null,null,null,null,null,null,null,null,null,null,null,null,null,null,"QMJ",{"$f":"VLOOKUP(P602,'[1]CCG & RG names'!D:E,2,0)","v":"North London Partners in Health & Care (STP)"},"93C",{"$f":"VLOOKUP(R602,'[1]CCG & RG names'!A:B,2,0)","v":"NHS North Central London CCG"},"V005919","Finchley Dental Practice, 200 Ballards Lane, LONDON, N3 2NA","N3 2NA","N3 "]
[null,null,null,null,null,null,null,null,null,null,null,null,null,null,null,"QMJ",{"$f":"VLOOKUP(P603,'[1]CCG & RG names'!D:E,2,0)","v":"North London Partners in Health & Care (STP)"},"93C",{"$f":"VLOOKUP(R603,'[1]CCG & RG names'!A:B,2,0)","v":"NHS North Central London CCG"},"V005921","289 Cricklewood Lane, LONDON, NW2 2JL","NW2 2JL","NW2 "]
[null,null,null,null,null,null,null,null,null,null,null,null,null,null,null,"QMJ",{"$f":"VLOOKUP(P604,'[1]CCG & RG names'!D:E,2,0)","v":"North London Partners in Health & Care (STP)"},"93C",{"$f":"VLOOKUP(R604,'[1]CCG & RG names'!A:B,2,0)","v":"NHS North Central London CCG"},"V006867","Leigh Dental Practice, 325 Willow Road, ENFIELD, Middlesex, EN1 3BX","EN1 3BX","EN1 "]
[null,null,null,null,null,null,null,null,null,null,null,null,null,null,null,"QMJ",{"$f":"VLOOKUP(P605,'[1]CCG & RG names'!D:E,2,0)","v":"North London Partners in Health & Care (STP)"},"93C",{"$f":"VLOOKUP(R605,'[1]CCG & RG names'!A:B,2,0)","v":"NHS North Central London CCG"},"V006906","Vaswani Dental Practice, 1 Chase Side, LONDON, N14 5BP","N14 5BP","N14 "]
[null,null,null,null,null,null,null,null,null,null,null,null,null,null,null,"QMJ",{"$f":"VLOOKUP(P606,'[1]CCG & RG names'!D:E,2,0)","v":"North London Partners in Health & Care (STP)"},"93C",{"$f":"VLOOKUP(R606,'[1]CCG & RG names'!A:B,2,0)","v":"NHS North Central London CCG"},"V006908","Southgate Smiles Dental Care, 5 The Broadway, LONDON, N14 6PH","N14 6PH","N14 "]
[null,null,null,null,null,null,null,null,null,null,null,null,null,null,null,"QMJ",{"$f":"VLOOKUP(P607,'[1]CCG & RG names'!D:E,2,0)","v":"North London Partners in Health & Care (STP)"},"93C",{"$f":"VLOOKUP(R607,'[1]CCG & RG names'!A:B,2,0)","v":"NHS North Central London CCG"},"V006910","Southgate Dental Practice, 9 Chase Side, LONDON, N14 5BP","N14 5BP","N14 "]
[null,null,null,null,null,null,null,null,null,null,null,null,null,null,null,"QMJ",{"$f":"VLOOKUP(P608,'[1]CCG & RG names'!D:E,2,0)","v":"North London Partners in Health & Care (STP)"},"93C",{"$f":"VLOOKUP(R608,'[1]CCG & RG names'!A:B,2,0)","v":"NHS North Central London CCG"},"V007809","Dental Practice, Hampstead Medical Centre, 91 Heath Street, London, NW3 6SS","NW3 6SS","NW3 "]
[null,null,null,null,null,null,null,null,null,null,null,null,null,null,null,"QMJ",{"$f":"VLOOKUP(P609,'[1]CCG & RG names'!D:E,2,0)","v":"North London Partners in Health & Care (STP)"},"93C",{"$f":"VLOOKUP(R609,'[1]CCG & RG names'!A:B,2,0)","v":"NHS North Central London CCG"},"V008034","80 Southover, LONDON, N12 7HB","N12 7HB","N12 "]
[null,null,null,null,null,null,null,null,null,null,null,null,null,null,null,"QMJ",{"$f":"VLOOKUP(P610,'[1]CCG & RG names'!D:E,2,0)","v":"North London Partners in Health & Care (STP)"},"93C",{"$f":"VLOOKUP(R610,'[1]CCG & RG names'!A:B,2,0)","v":"NHS North Central London CCG"},"V008229","87 Cedar Lawn Avenue, BARNET, Hertfordshire, EN5 2LP","EN5 2LP","EN5 "]
[null,null,null,null,null,null,null,null,null,null,null,null,null,null,null,"QMJ",{"$f":"VLOOKUP(P611,'[1]CCG & RG names'!D:E,2,0)","v":"North London Partners in Health & Care (STP)"},"93C",{"$f":"VLOOKUP(R611,'[1]CCG & RG names'!A:B,2,0)","v":"NHS North Central London CCG"},"V008451","High Barnet Dental Care, 59 High Street, BARNET, EN5 5UR","EN5 5UR","EN5 "]
[null,null,null,null,null,null,null,null,null,null,null,null,null,null,null,"QMJ",{"$f":"VLOOKUP(P612,'[1]CCG & RG names'!D:E,2,0)","v":"North London Partners in Health & Care (STP)"},"93C",{"$f":"VLOOKUP(R612,'[1]CCG & RG names'!A:B,2,0)","v":"NHS North Central London CCG"},"V008452","N12 Dental Care, 753 High Road, LONDON, N12 8LG","N12 8LG","N12 "]
[null,null,null,null,null,null,null,null,null,null,null,null,null,null,null,"QMJ",{"$f":"VLOOKUP(P613,'[1]CCG & RG names'!D:E,2,0)","v":"North London Partners in Health & Care (STP)"},"93C",{"$f":"VLOOKUP(R613,'[1]CCG & RG names'!A:B,2,0)","v":"NHS North Central London CCG"},"V009125","The Garden Dental Practice, 610 Finchley Road, LONDON, NW11 7RX","NW11 7RX","NW11"]
[null,null,null,null,null,null,null,null,null,null,null,null,null,null,null,"QMJ",{"$f":"VLOOKUP(P614,'[1]CCG & RG names'!D:E,2,0)","v":"North London Partners in Health & Care (STP)"},"93C",{"$f":"VLOOKUP(R614,'[1]CCG & RG names'!A:B,2,0)","v":"NHS North Central London CCG"},"V009125","The Garden Dental Practice, 610 Finchley Road, LONDON, NW11 7RX","NW11 7RX","NW11"]
[null,null,null,null,null,null,null,null,null,null,null,null,null,null,null,"QMJ",{"$f":"VLOOKUP(P615,'[1]CCG & RG names'!D:E,2,0)","v":"North London Partners in Health & Care (STP)"},"93C",{"$f":"VLOOKUP(R615,'[1]CCG & RG names'!A:B,2,0)","v":"NHS North Central London CCG"},"V009284","41-43 Vivian Avenue, LONDON, NW4 3UX","NW4 3UX","NW4 "]
[null,null,null,null,null,null,null,null,null,null,null,null,null,null,null,"QMJ",{"$f":"VLOOKUP(P616,'[1]CCG & RG names'!D:E,2,0)","v":"North London Partners in Health & Care (STP)"},"93C",{"$f":"VLOOKUP(R616,'[1]CCG & RG names'!A:B,2,0)","v":"NHS North Central London CCG"},"V009438","Dental Surgery, 195 High Street, ENFIELD, Middlesex, EN3 4DZ","EN3 4DZ","EN3 "]
[null,null,null,null,null,null,null,null,null,null,null,null,null,null,null,"QMJ",{"$f":"VLOOKUP(P617,'[1]CCG & RG names'!D:E,2,0)","v":"North London Partners in Health & Care (STP)"},"93C",{"$f":"VLOOKUP(R617,'[1]CCG & RG names'!A:B,2,0)","v":"NHS North Central London CCG"},"V010212","Kentish Town Health Centre, 2 Bartholomew Road, LONDON, NW5 2AJ","NW5 2AJ","NW5 "]
[null,null,null,null,null,null,null,null,null,null,null,null,null,null,null,"QMJ",{"$f":"VLOOKUP(P618,'[1]CCG & RG names'!D:E,2,0)","v":"North London Partners in Health & Care (STP)"},"93C",{"$f":"VLOOKUP(R618,'[1]CCG & RG names'!A:B,2,0)","v":"NHS North Central London CCG"},"V010218","Hornsey Rise Health Centre, Beaumont Rise, London, N19 3YU","N19 3YU","N19 "]
[null,null,null,null,null,null,null,null,null,null,null,null,null,null,null,"QMJ",{"$f":"VLOOKUP(P619,'[1]CCG & RG names'!D:E,2,0)","v":"North London Partners in Health & Care (STP)"},"93C",{"$f":"VLOOKUP(R619,'[1]CCG & RG names'!A:B,2,0)","v":"NHS North Central London CCG"},"V010887","Smiles 4U, 71 Tottenham Lane, LONDON, N8 9BE","N8 9BE","N8 "]
[null,null,null,null,null,null,null,null,null,null,null,null,null,null,null,"QMJ",{"$f":"VLOOKUP(P620,'[1]CCG & RG names'!D:E,2,0)","v":"North London Partners in Health & Care (STP)"},"93C",{"$f":"VLOOKUP(R620,'[1]CCG & RG names'!A:B,2,0)","v":"NHS North Central London CCG"},"V011352","123 Tottenham Lane, LONDON, N8 9BJ","N8 9BJ","N8 "]
[null,null,null,null,null,null,null,null,null,null,null,null,null,null,null,"QMJ",{"$f":"VLOOKUP(P621,'[1]CCG & RG names'!D:E,2,0)","v":"North London Partners in Health & Care (STP)"},"93C",{"$f":"VLOOKUP(R621,'[1]CCG & RG names'!A:B,2,0)","v":"NHS North Central London CCG"},"V011931","Dental Surgery, 277 Fore Street, LONDON, N9 0PD","N9 0PD","N9 "]
[null,null,null,null,null,null,null,null,null,null,null,null,null,null,null,"QMJ",{"$f":"VLOOKUP(P622,'[1]CCG & RG names'!D:E,2,0)","v":"North London Partners in Health & Care (STP)"},"93C",{"$f":"VLOOKUP(R622,'[1]CCG & RG names'!A:B,2,0)","v":"NHS North Central London CCG"},"V012134","143 Durnsford Road, LONDON, N11 2EL","N11 2EL","N11 "]
[null,null,null,null,null,null,null,null,null,null,null,null,null,null,null,"QMJ",{"$f":"VLOOKUP(P623,'[1]CCG & RG names'!D:E,2,0)","v":"North London Partners in Health & Care (STP)"},"93C",{"$f":"VLOOKUP(R623,'[1]CCG & RG names'!A:B,2,0)","v":"NHS North Central London CCG"},"V012152","Malmin Orthodontics, 300 Finchley Road, LONDON, NW3 7AG","NW3 7AG","NW3 "]
[null,null,null,null,null,null,null,null,null,null,null,null,null,null,null,"QMJ",{"$f":"VLOOKUP(P624,'[1]CCG & RG names'!D:E,2,0)","v":"North London Partners in Health & Care (STP)"},"93C",{"$f":"VLOOKUP(R624,'[1]CCG & RG names'!A:B,2,0)","v":"NHS North Central London CCG"},"V012276","627 Green Lanes, Haringey, LONDON, N8 0RE","N8 0RE","N8 "]
[null,null,null,null,null,null,null,null,null,null,null,null,null,null,null,"QMJ",{"$f":"VLOOKUP(P625,'[1]CCG & RG names'!D:E,2,0)","v":"North London Partners in Health & Care (STP)"},"93C",{"$f":"VLOOKUP(R625,'[1]CCG & RG names'!A:B,2,0)","v":"NHS North Central London CCG"},"V012547","83 Station Road, New Barnet, BARNET, Hertfordshire, EN5 1PX","EN5 1PX","EN5 "]
[null,null,null,null,null,null,null,null,null,null,null,null,null,null,null,"QMJ",{"$f":"VLOOKUP(P626,'[1]CCG & RG names'!D:E,2,0)","v":"North London Partners in Health & Care (STP)"},"93C",{"$f":"VLOOKUP(R626,'[1]CCG & RG names'!A:B,2,0)","v":"NHS North Central London CCG"},"V012667","London City Smiles, 19 - 21 Islington High Street, LONDON, N1 9LQ","N1 9LQ","N1 "]
[null,null,null,null,null,null,null,null,null,null,null,null,null,null,null,"QMJ",{"$f":"VLOOKUP(P627,'[1]CCG & RG names'!D:E,2,0)","v":"North London Partners in Health & Care (STP)"},"93C",{"$f":"VLOOKUP(R627,'[1]CCG & RG names'!A:B,2,0)","v":"NHS North Central London CCG"},"V013268","Health Centre, 11 Hornsey Street, LONDON, N7 8GG","N7 8GG","N7 "]
[null,null,null,null,null,null,null,null,null,null,null,null,null,null,null,"QMJ",{"$f":"VLOOKUP(P628,'[1]CCG & RG names'!D:E,2,0)","v":"North London Partners in Health & Care (STP)"},"93C",{"$f":"VLOOKUP(R628,'[1]CCG & RG names'!A:B,2,0)","v":"NHS North Central London CCG"},"V013299","Evergreen Primary Care Centre, 1 Smythe Close, LONDON, N9 0TW","N9 0TW","N9 "]
[null,null,null,null,null,null,null,null,null,null,null,null,null,null,null,"QMJ",{"$f":"VLOOKUP(P629,'[1]CCG & RG names'!D:E,2,0)","v":"North London Partners in Health & Care (STP)"},"93C",{"$f":"VLOOKUP(R629,'[1]CCG & RG names'!A:B,2,0)","v":"NHS North Central London CCG"},"V014041","2 Lyttelton Road, LONDON, N2 0EF","N2 0EF","N2 "]
[null,null,null,null,null,null,null,null,null,null,null,null,null,null,null,"QMJ",{"$f":"VLOOKUP(P630,'[1]CCG & RG names'!D:E,2,0)","v":"North London Partners in Health & Care (STP)"},"93C",{"$f":"VLOOKUP(R630,'[1]CCG & RG names'!A:B,2,0)","v":"NHS North Central London CCG"},"V014359","Smile for life Sedation Clinic, Kirti House, 342-344 High Road, Tottenham, London, N15 4ET","N15 4ET","N15 "]
[null,null,null,null,null,null,null,null,null,null,null,null,null,null,null,"QMJ",{"$f":"VLOOKUP(P631,'[1]CCG & RG names'!D:E,2,0)","v":"North London Partners in Health & Care (STP)"},"93C",{"$f":"VLOOKUP(R631,'[1]CCG & RG names'!A:B,2,0)","v":"NHS North Central London CCG"},"V015018","438 Muswell Hill, The Broadway, LONDON, N10 1BS","N10 1BS","N10 "]
[null,null,null,null,null,null,null,null,null,null,null,null,null,null,null,"QMJ",{"$f":"VLOOKUP(P632,'[1]CCG & RG names'!D:E,2,0)","v":"North London Partners in Health & Care (STP)"},"93C",{"$f":"VLOOKUP(R632,'[1]CCG & RG names'!A:B,2,0)","v":"NHS North Central London CCG"},"V017305","The Dental Surgery, 313 Regents Park Road, London, N3 1DP","N3 1DP","N3 "]
[null,null,null,null,null,null,null,null,null,null,null,null,null,null,null,"QMJ",{"$f":"VLOOKUP(P633,'[1]CCG & RG names'!D:E,2,0)","v":"North London Partners in Health & Care (STP)"},"93C",{"$f":"VLOOKUP(R633,'[1]CCG & RG names'!A:B,2,0)","v":"NHS North Central London CCG"},"V023678","Charles Landau Dentistry, 6 Prebend Street, Islington, London, N1 8PT","N1 8PT","N1 "]
[null,null,null,null,null,null,null,null,null,null,null,null,null,null,null,"QMJ",{"$f":"VLOOKUP(P634,'[1]CCG & RG names'!D:E,2,0)","v":"North London Partners in Health & Care (STP)"},"93C",{"$f":"VLOOKUP(R634,'[1]CCG & RG names'!A:B,2,0)","v":"NHS North Central London CCG"},"V029890","Friern Barnet Dental Clinic, 21 Queens Parade, Friern Barnet Road, London, N11 3DA","N11 3DA","N11 "]
[null,null,null,null,null,null,null,null,null,null,null,null,null,null,null,"QMJ",{"$f":"VLOOKUP(P635,'[1]CCG & RG names'!D:E,2,0)","v":"North London Partners in Health & Care (STP)"},"93C",{"$f":"VLOOKUP(R635,'[1]CCG & RG names'!A:B,2,0)","v":"NHS North Central London CCG"},"V031657","Phoenix Dental Practice, 1b, Upsdell Avenue, London, N13 6JP","N13 6JP","N13 "]
[null,null,null,null,null,null,null,null,null,null,null,null,null,null,null,"QMJ",{"$f":"VLOOKUP(P636,'[1]CCG & RG names'!D:E,2,0)","v":"North London Partners in Health & Care (STP)"},"93C",{"$f":"VLOOKUP(R636,'[1]CCG & RG names'!A:B,2,0)","v":"NHS North Central London CCG"},"V043193","Gentle Dental Care, 506 Holloway Road, Islington, N7 6JD","N7 6JD","N7 "]
[null,null,null,null,null,null,null,null,null,null,null,null,null,null,null,"QMJ",{"$f":"VLOOKUP(P637,'[1]CCG & RG names'!D:E,2,0)","v":"North London Partners in Health & Care (STP)"},"93C",{"$f":"VLOOKUP(R637,'[1]CCG & RG names'!A:B,2,0)","v":"NHS North Central London CCG"},"V043698","The Dental Centre, 139 Euston Road, NW1 2AA","NW1 2AA","NW1 "]
[null,null,null,null,null,null,null,null,null,null,null,null,null,null,null,"QMJ",{"$f":"VLOOKUP(P638,'[1]CCG & RG names'!D:E,2,0)","v":"North London Partners in Health & Care (STP)"},"93C",{"$f":"VLOOKUP(R638,'[1]CCG & RG names'!A:B,2,0)","v":"NHS North Central London CCG"},"V044650","Oris Dental Centre, 10 Boulevard Drive, Colindale, London, NW9 5QF","NW9 5QF","NW9 "]
[null,null,null,null,null,null,null,null,null,null,null,null,null,null,null,"QMJ",{"$f":"VLOOKUP(P639,'[1]CCG & RG names'!D:E,2,0)","v":"North London Partners in Health & Care (STP)"},"93C",{"$f":"VLOOKUP(R639,'[1]CCG & RG names'!A:B,2,0)","v":"NHS North Central London CCG"},"V044881","Puresmile Dental Care, 5 Station Road, Finchley Central, London, N3 2SB","N3 2SB","N3 "]
[null,null,null,null,null,null,null,null,null,null,null,null,null,null,null,"QMJ",{"$f":"VLOOKUP(P640,'[1]CCG & RG names'!D:E,2,0)","v":"North London Partners in Health & Care (STP)"},"93C",{"$f":"VLOOKUP(R640,'[1]CCG & RG names'!A:B,2,0)","v":"NHS North Central London CCG"},"V134977","Angle House Orthodontic, 71 New Road, Crouch End, London, N8 8TA","N8 8TA","N8 "]
[null,null,null,null,null,null,null,null,null,null,null,null,null,null,null,"QMJ",{"$f":"VLOOKUP(P641,'[1]CCG & RG names'!D:E,2,0)","v":"North London Partners in Health & Care (STP)"},"93C",{"$f":"VLOOKUP(R641,'[1]CCG & RG names'!A:B,2,0)","v":"NHS North Central London CCG"},"V134978","Angle House Orthodontics, 51 - 55 Copenhagen Street, Islington, London, N1 0JH","N1 0JH","N1 "]
[null,null,null,null,null,null,null,null,null,null,null,null,null,null,null,"QMJ",{"$f":"VLOOKUP(P642,'[1]CCG & RG names'!D:E,2,0)","v":"North London Partners in Health & Care (STP)"},"93C",{"$f":"VLOOKUP(R642,'[1]CCG & RG names'!A:B,2,0)","v":"NHS North Central London CCG"},"V236280","5 HAZELWOOD LANE, LONDON, N13 5EZ","N13 5EZ","N13 "]
[null,null,null,null,null,null,null,null,null,null,null,null,null,null,null,"QRV",{"$f":"VLOOKUP(P643,'[1]CCG & RG names'!D:E,2,0)","v":"North West London Health & Care Partnership (STP)"},"W2U3Z",{"$f":"VLOOKUP(R643,'[1]CCG & RG names'!A:B,2,0)","v":"NHS NORTH WEST LONDON CCG"},"V000174","Dental Surgery, 6 Drayton Green Road, LONDON, W13 8RY","W13 8RY",{"$f":"IF(MID(V643,3,1) =\" \",LEFT(V643,3),LEFT(V643,4))","v":"W13 "}]
[null,null,null,null,null,null,null,null,null,null,null,null,null,null,null,"QRV",{"$f":"VLOOKUP(P644,'[1]CCG & RG names'!D:E,2,0)","v":"North West London Health & Care Partnership (STP)"},"W2U3Z",{"$f":"VLOOKUP(R644,'[1]CCG & RG names'!A:B,2,0)","v":"NHS NORTH WEST LONDON CCG"},"V000202","Dental Surgery, 1 Mandeville Road, NORTHOLT, Middlesex, UB5 5HE","UB5 5HE","UB5 "]
[null,null,null,null,null,null,null,null,null,null,null,null,null,null,null,"QRV",{"$f":"VLOOKUP(P645,'[1]CCG & RG names'!D:E,2,0)","v":"North West London Health & Care Partnership (STP)"},"W2U3Z",{"$f":"VLOOKUP(R645,'[1]CCG & RG names'!A:B,2,0)","v":"NHS NORTH WEST LONDON CCG"},"V000292","Dental Surgery, 21 Churton Street, LONDON, SW1V 2LY","SW1V 2LY","SW1V"]
[null,null,null,null,null,null,null,null,null,null,null,null,null,null,null,"QRV",{"$f":"VLOOKUP(P646,'[1]CCG & RG names'!D:E,2,0)","v":"North West London Health & Care Partnership (STP)"},"W2U3Z",{"$f":"VLOOKUP(R646,'[1]CCG & RG names'!A:B,2,0)","v":"NHS NORTH WEST LONDON CCG"},"V000405","Dental Surgery, 269 Norwood Road, SOUTHALL, Middlesex, UB2 4JJ","UB2 4JJ","UB2 "]
[null,null,null,null,null,null,null,null,null,null,null,null,null,null,null,"QRV",{"$f":"VLOOKUP(P647,'[1]CCG & RG names'!D:E,2,0)","v":"North West London Health & Care Partnership (STP)"},"W2U3Z",{"$f":"VLOOKUP(R647,'[1]CCG & RG names'!A:B,2,0)","v":"NHS NORTH WEST LONDON CCG"},"V000419","Dental Surgery, 15 Hanbury Road, LONDON, W3 8RF","W3 8RF","W3 "]
[null,null,null,null,null,null,null,null,null,null,null,null,null,null,null,"QRV",{"$f":"VLOOKUP(P648,'[1]CCG & RG names'!D:E,2,0)","v":"North West London Health & Care Partnership (STP)"},"W2U3Z",{"$f":"VLOOKUP(R648,'[1]CCG & RG names'!A:B,2,0)","v":"NHS NORTH WEST LONDON CCG"},"V000765","Bedfont Green Dental Practise, 522 Staines Road, FELTHAM, Middlesex, TW14 8DF","TW14 8DF","TW14"]
[null,null,null,null,null,null,null,null,null,null,null,null,null,null,null,"QRV",{"$f":"VLOOKUP(P649,'[1]CCG & RG names'!D:E,2,0)","v":"North West London Health & Care Partnership (STP)"},"W2U3Z",{"$f":"VLOOKUP(R649,'[1]CCG & RG names'!A:B,2,0)","v":"NHS NORTH WEST LONDON CCG"},"V000766","Dental Surgery, 14 St Johns Road, ISLEWORTH, Middlesex, TW7 6NN","TW7 6NN","TW7 "]
[null,null,null,null,null,null,null,null,null,null,null,null,null,null,null,"QRV",{"$f":"VLOOKUP(P650,'[1]CCG & RG names'!D:E,2,0)","v":"North West London Health & Care Partnership (STP)"},"W2U3Z",{"$f":"VLOOKUP(R650,'[1]CCG & RG names'!A:B,2,0)","v":"NHS NORTH WEST LONDON CCG"},"V000767","41 South Street, ISLEWORTH, Middlesex, TW7 7AA","TW7 7AA","TW7 "]
[null,null,null,null,null,null,null,null,null,null,null,null,null,null,null,"QRV",{"$f":"VLOOKUP(P651,'[1]CCG & RG names'!D:E,2,0)","v":"North West London Health & Care Partnership (STP)"},"W2U3Z",{"$f":"VLOOKUP(R651,'[1]CCG & RG names'!A:B,2,0)","v":"NHS NORTH WEST LONDON CCG"},"V000768","Dental Surgery, 31 Burlington Road, LONDON, W4 4BH","W4 4BH","W4 "]
[null,null,null,null,null,null,null,null,null,null,null,null,null,null,null,"QRV",{"$f":"VLOOKUP(P652,'[1]CCG & RG names'!D:E,2,0)","v":"North West London Health & Care Partnership (STP)"},"W2U3Z",{"$f":"VLOOKUP(R652,'[1]CCG & RG names'!A:B,2,0)","v":"NHS NORTH WEST LONDON CCG"},"V000771","236 - 238 Vicarage Farm Road, HOUNSLOW, Middlesex, TW5 0DP","TW5 0DP","TW5 "]
[null,null,null,null,null,null,null,null,null,null,null,null,null,null,null,"QRV",{"$f":"VLOOKUP(P653,'[1]CCG & RG names'!D:E,2,0)","v":"North West London Health & Care Partnership (STP)"},"W2U3Z",{"$f":"VLOOKUP(R653,'[1]CCG & RG names'!A:B,2,0)","v":"NHS NORTH WEST LONDON CCG"},"V000772","Bright Smile Studio, Unit EC-2, 6 Ferry Lane, BRENTFORD, Middlesex, TW8 0BP","TW8 0BP","TW8 "]
[null,null,null,null,null,null,null,null,null,null,null,null,null,null,null,"QRV",{"$f":"VLOOKUP(P654,'[1]CCG & RG names'!D:E,2,0)","v":"North West London Health & Care Partnership (STP)"},"W2U3Z",{"$f":"VLOOKUP(R654,'[1]CCG & RG names'!A:B,2,0)","v":"NHS NORTH WEST LONDON CCG"},"V000775","Dental Surgery, 734A Bath Road, HOUNSLOW, Middlesex, TW5 9TY","TW5 9TY","TW5 "]
[null,null,null,null,null,null,null,null,null,null,null,null,null,null,null,"QRV",{"$f":"VLOOKUP(P655,'[1]CCG & RG names'!D:E,2,0)","v":"North West London Health & Care Partnership (STP)"},"W2U3Z",{"$f":"VLOOKUP(R655,'[1]CCG & RG names'!A:B,2,0)","v":"NHS NORTH WEST LONDON CCG"},"V000776","Dental Surgery, 244 High Street, FELTHAM, Middlesex, TW13 4HX","TW13 4HX","TW13"]
[null,null,null,null,null,null,null,null,null,null,null,null,null,null,null,"QRV",{"$f":"VLOOKUP(P656,'[1]CCG & RG names'!D:E,2,0)","v":"North West London Health & Care Partnership (STP)"},"W2U3Z",{"$f":"VLOOKUP(R656,'[1]CCG & RG names'!A:B,2,0)","v":"NHS NORTH WEST LONDON CCG"},"V000777","Dental Surgery, 59 Berkeley Avenue, HOUNSLOW, Middlesex, TW4 6LE","TW4 6LE","TW4 "]
[null,null,null,null,null,null,null,null,null,null,null,null,null,null,null,"QRV",{"$f":"VLOOKUP(P657,'[1]CCG & RG names'!D:E,2,0)","v":"North West London Health & Care Partnership (STP)"},"W2U3Z",{"$f":"VLOOKUP(R657,'[1]CCG & RG names'!A:B,2,0)","v":"NHS NORTH WEST LONDON CCG"},"V000778","153 Thornbury Road, ISLEWORTH, Middlesex, TW7 4QG","TW7 4QG","TW7 "]
[null,null,null,null,null,null,null,null,null,null,null,null,null,null,null,"QRV",{"$f":"VLOOKUP(P658,'[1]CCG & RG names'!D:E,2,0)","v":"North West London Health & Care Partnership (STP)"},"W2U3Z",{"$f":"VLOOKUP(R658,'[1]CCG & RG names'!A:B,2,0)","v":"NHS NORTH WEST LONDON CCG"},"V000779","Dental Surgery, 567 London Road, ISLEWORTH, Middlesex, TW7 4EJ","TW7 4EJ","TW7 "]
[null,null,null,null,null,null,null,null,null,null,null,null,null,null,null,"QRV",{"$f":"VLOOKUP(P659,'[1]CCG & RG names'!D:E,2,0)","v":"North West London Health & Care Partnership (STP)"},"W2U3Z",{"$f":"VLOOKUP(R659,'[1]CCG & RG names'!A:B,2,0)","v":"NHS NORTH WEST LONDON CCG"},"V000780","Dental Surgery, 10 Boston Manor Road, BRENTFORD, Middlesex, TW8 8DL","TW8 8DL","TW8 "]
[null,null,null,null,null,null,null,null,null,null,null,null,null,null,null,"QRV",{"$f":"VLOOKUP(P660,'[1]CCG & RG names'!D:E,2,0)","v":"North West London Health & Care Partnership (STP)"},"W2U3Z",{"$f":"VLOOKUP(R660,'[1]CCG & RG names'!A:B,2,0)","v":"NHS NORTH WEST LONDON CCG"},"V001434","97A High Road, LONDON, NW10 2SL","NW10 2SL","NW10"]
[null,null,null,null,null,null,null,null,null,null,null,null,null,null,null,"QRV",{"$f":"VLOOKUP(P661,'[1]CCG & RG names'!D:E,2,0)","v":"North West London Health & Care Partnership (STP)"},"W2U3Z",{"$f":"VLOOKUP(R661,'[1]CCG & RG names'!A:B,2,0)","v":"NHS NORTH WEST LONDON CCG"},"V001484","258 Ealing Road, WEMBLEY, Middlesex, HA0 4QL","HA0 4QL","HA0 "]
[null,null,null,null,null,null,null,null,null,null,null,null,null,null,null,"QRV",{"$f":"VLOOKUP(P662,'[1]CCG & RG names'!D:E,2,0)","v":"North West London Health & Care Partnership (STP)"},"W2U3Z",{"$f":"VLOOKUP(R662,'[1]CCG & RG names'!A:B,2,0)","v":"NHS NORTH WEST LONDON CCG"},"V001500","Ivory Dental Practice, 40 Station Approach, South Ruislip, RUISLIP, Middlesex, HA4 6RZ","HA4 6RZ","HA4 "]
[null,null,null,null,null,null,null,null,null,null,null,null,null,null,null,"QRV",{"$f":"VLOOKUP(P663,'[1]CCG & RG names'!D:E,2,0)","v":"North West London Health & Care Partnership (STP)"},"W2U3Z",{"$f":"VLOOKUP(R663,'[1]CCG & RG names'!A:B,2,0)","v":"NHS NORTH WEST LONDON CCG"},"V001502","Dental Surgery, 34 Kingsend, RUISLIP, Middlesex, HA4 7DA","HA4 7DA","HA4 "]
[null,null,null,null,null,null,null,null,null,null,null,null,null,null,null,"QRV",{"$f":"VLOOKUP(P664,'[1]CCG & RG names'!D:E,2,0)","v":"North West London Health & Care Partnership (STP)"},"W2U3Z",{"$f":"VLOOKUP(R664,'[1]CCG & RG names'!A:B,2,0)","v":"NHS NORTH WEST LONDON CCG"},"V001503","Dental Surgery, 33 Eastcote Road, RUISLIP, Middlesex, HA4 8BE","HA4 8BE","HA4 "]
[null,null,null,null,null,null,null,null,null,null,null,null,null,null,null,"QRV",{"$f":"VLOOKUP(P665,'[1]CCG & RG names'!D:E,2,0)","v":"North West London Health & Care Partnership (STP)"},"W2U3Z",{"$f":"VLOOKUP(R665,'[1]CCG & RG names'!A:B,2,0)","v":"NHS NORTH WEST LONDON CCG"},"V001504","Dental Surgery, 117 High Street, RUISLIP, Middlesex, HA4 8JN","HA4 8JN","HA4 "]
[null,null,null,null,null,null,null,null,null,null,null,null,null,null,null,"QRV",{"$f":"VLOOKUP(P666,'[1]CCG & RG names'!D:E,2,0)","v":"North West London Health & Care Partnership (STP)"},"W2U3Z",{"$f":"VLOOKUP(R666,'[1]CCG & RG names'!A:B,2,0)","v":"NHS NORTH WEST LONDON CCG"},"V001505","Hyman Dentists, Dental Surgery, 58A Park Way, RUISLIP, Middlesex, HA4 8NR","HA4 8NR","HA4 "]
[null,null,null,null,null,null,null,null,null,null,null,null,null,null,null,"QRV",{"$f":"VLOOKUP(P667,'[1]CCG & RG names'!D:E,2,0)","v":"North West London Health & Care Partnership (STP)"},"W2U3Z",{"$f":"VLOOKUP(R667,'[1]CCG & RG names'!A:B,2,0)","v":"NHS NORTH WEST LONDON CCG"},"V001506","Dental Surgery, 6 Elm Avenue, RUISLIP, Middlesex, HA4 8PD","HA4 8PD","HA4 "]
[null,null,null,null,null,null,null,null,null,null,null,null,null,null,null,"QRV",{"$f":"VLOOKUP(P668,'[1]CCG & RG names'!D:E,2,0)","v":"North West London Health & Care Partnership (STP)"},"W2U3Z",{"$f":"VLOOKUP(R668,'[1]CCG & RG names'!A:B,2,0)","v":"NHS NORTH WEST LONDON CCG"},"V001507","Dental Surgery, 1 Morford Way, RUISLIP, Middlesex, HA4 8SL","HA4 8SL","HA4 "]
[null,null,null,null,null,null,null,null,null,null,null,null,null,null,null,"QRV",{"$f":"VLOOKUP(P669,'[1]CCG & RG names'!D:E,2,0)","v":"North West London Health & Care Partnership (STP)"},"W2U3Z",{"$f":"VLOOKUP(R669,'[1]CCG & RG names'!A:B,2,0)","v":"NHS NORTH WEST LONDON CCG"},"V001508","Dental Surgery, 105 Victoria Road, RUISLIP, Middlesex, HA4 9BN","HA4 9BN","HA4 "]
[null,null,null,null,null,null,null,null,null,null,null,null,null,null,null,"QRV",{"$f":"VLOOKUP(P670,'[1]CCG & RG names'!D:E,2,0)","v":"North West London Health & Care Partnership (STP)"},"W2U3Z",{"$f":"VLOOKUP(R670,'[1]CCG & RG names'!A:B,2,0)","v":"NHS NORTH WEST LONDON CCG"},"V001509","Dentistry at 388, 388 Field End Road, RUISLIP, Middlesex, HA4 9PG","HA4 9PG","HA4 "]
[null,null,null,null,null,null,null,null,null,null,null,null,null,null,null,"QRV",{"$f":"VLOOKUP(P671,'[1]CCG & RG names'!D:E,2,0)","v":"North West London Health & Care Partnership (STP)"},"W2U3Z",{"$f":"VLOOKUP(R671,'[1]CCG & RG names'!A:B,2,0)","v":"NHS NORTH WEST LONDON CCG"},"V001511","Dental Surgery, 154A Field End Road, PINNER, Middlesex, HA5 1RH","HA5 1RH","HA5 "]
[null,null,null,null,null,null,null,null,null,null,null,null,null,null,null,"QRV",{"$f":"VLOOKUP(P672,'[1]CCG & RG names'!D:E,2,0)","v":"North West London Health & Care Partnership (STP)"},"W2U3Z",{"$f":"VLOOKUP(R672,'[1]CCG & RG names'!A:B,2,0)","v":"NHS NORTH WEST LONDON CCG"},"V001512","Dental Surgery, 70 Field End Road, PINNER, Middlesex, HA5 2QG","HA5 2QG","HA5 "]
[null,null,null,null,null,null,null,null,null,null,null,null,null,null,null,"QRV",{"$f":"VLOOKUP(P673,'[1]CCG & RG names'!D:E,2,0)","v":"North West London Health & Care Partnership (STP)"},"W2U3Z",{"$f":"VLOOKUP(R673,'[1]CCG & RG names'!A:B,2,0)","v":"NHS NORTH WEST LONDON CCG"},"V001513","Dental Surgery, 27 Field End Road, PINNER, Middlesex, HA5 2QQ","HA5 2QQ","HA5 "]
[null,null,null,null,null,null,null,null,null,null,null,null,null,null,null,"QRV",{"$f":"VLOOKUP(P674,'[1]CCG & RG names'!D:E,2,0)","v":"North West London Health & Care Partnership (STP)"},"W2U3Z",{"$f":"VLOOKUP(R674,'[1]CCG & RG names'!A:B,2,0)","v":"NHS NORTH WEST LONDON CCG"},"V001515","Northwood Hills Dental Practice, 141 Pinner Road, NORTHWOOD, Middlesex, HA6 1DB","HA6 1DB","HA6 "]
[null,null,null,null,null,null,null,null,null,null,null,null,null,null,null,"QRV",{"$f":"VLOOKUP(P675,'[1]CCG & RG names'!D:E,2,0)","v":"North West London Health & Care Partnership (STP)"},"W2U3Z",{"$f":"VLOOKUP(R675,'[1]CCG & RG names'!A:B,2,0)","v":"NHS NORTH WEST LONDON CCG"},"V001517","35 Norwich Road, NORTHWOOD, Middlesex, HA6 1ND","HA6 1ND","HA6 "]
[null,null,null,null,null,null,null,null,null,null,null,null,null,null,null,"QRV",{"$f":"VLOOKUP(P676,'[1]CCG & RG names'!D:E,2,0)","v":"North West London Health & Care Partnership (STP)"},"W2U3Z",{"$f":"VLOOKUP(R676,'[1]CCG & RG names'!A:B,2,0)","v":"NHS NORTH WEST LONDON CCG"},"V001519","Dental Surgery, 103 Pinner Road, NORTHWOOD, Middlesex, HA6 1QN","HA6 1QN","HA6 "]
[null,null,null,null,null,null,null,null,null,null,null,null,null,null,null,"QRV",{"$f":"VLOOKUP(P677,'[1]CCG & RG names'!D:E,2,0)","v":"North West London Health & Care Partnership (STP)"},"W2U3Z",{"$f":"VLOOKUP(R677,'[1]CCG & RG names'!A:B,2,0)","v":"NHS NORTH WEST LONDON CCG"},"V001520","Dental Surgery, 24 Pinner Road, NORTHWOOD, Middlesex, HA6 1QP","HA6 1QP","HA6 "]
[null,null,null,null,null,null,null,null,null,null,null,null,null,null,null,"QRV",{"$f":"VLOOKUP(P678,'[1]CCG & RG names'!D:E,2,0)","v":"North West London Health & Care Partnership (STP)"},"W2U3Z",{"$f":"VLOOKUP(R678,'[1]CCG & RG names'!A:B,2,0)","v":"NHS NORTH WEST LONDON CCG"},"V001526","7 Station Approach, NORTHWOOD, Middlesex, HA6 2XN","HA6 2XN","HA6 "]
[null,null,null,null,null,null,null,null,null,null,null,null,null,null,null,"QRV",{"$f":"VLOOKUP(P679,'[1]CCG & RG names'!D:E,2,0)","v":"North West London Health & Care Partnership (STP)"},"W2U3Z",{"$f":"VLOOKUP(R679,'[1]CCG & RG names'!A:B,2,0)","v":"NHS NORTH WEST LONDON CCG"},"V001529","Dental Surgery, 1A Court Drive, UXBRIDGE, Middlesex, UB10 0BJ","UB10 0BJ","UB10"]
[null,null,null,null,null,null,null,null,null,null,null,null,null,null,null,"QRV",{"$f":"VLOOKUP(P680,'[1]CCG & RG names'!D:E,2,0)","v":"North West London Health & Care Partnership (STP)"},"W2U3Z",{"$f":"VLOOKUP(R680,'[1]CCG & RG names'!A:B,2,0)","v":"NHS NORTH WEST LONDON CCG"},"V001531","Dental Surgery, 116 Swakeleys Road, UXBRIDGE, Middlesex, UB10 8BA","UB10 8BA","UB10"]
[null,null,null,null,null,null,null,null,null,null,null,null,null,null,null,"QRV",{"$f":"VLOOKUP(P681,'[1]CCG & RG names'!D:E,2,0)","v":"North West London Health & Care Partnership (STP)"},"W2U3Z",{"$f":"VLOOKUP(R681,'[1]CCG & RG names'!A:B,2,0)","v":"NHS NORTH WEST LONDON CCG"},"V001532","77 Swakeleys Road, UXBRIDGE, Middlesex, UB10 8DQ","UB10 8DQ","UB10"]
[null,null,null,null,null,null,null,null,null,null,null,null,null,null,null,"QRV",{"$f":"VLOOKUP(P682,'[1]CCG & RG names'!D:E,2,0)","v":"North West London Health & Care Partnership (STP)"},"W2U3Z",{"$f":"VLOOKUP(R682,'[1]CCG & RG names'!A:B,2,0)","v":"NHS NORTH WEST LONDON CCG"},"V001534","Dental Surgery, 267 Long Lane, Hillingdon, UXBRIDGE, Middlesex, UB10 9JR","UB10 9JR","UB10"]
[null,null,null,null,null,null,null,null,null,null,null,null,null,null,null,"QRV",{"$f":"VLOOKUP(P683,'[1]CCG & RG names'!D:E,2,0)","v":"North West London Health & Care Partnership (STP)"},"W2U3Z",{"$f":"VLOOKUP(R683,'[1]CCG & RG names'!A:B,2,0)","v":"NHS NORTH WEST LONDON CCG"},"V001536","299 Long Lane, Hillingdon, UXBRIDGE, Middlesex, UB10 9JY","UB10 9JY","UB10"]
[null,null,null,null,null,null,null,null,null,null,null,null,null,null,null,"QRV",{"$f":"VLOOKUP(P684,'[1]CCG & RG names'!D:E,2,0)","v":"North West London Health & Care Partnership (STP)"},"W2U3Z",{"$f":"VLOOKUP(R684,'[1]CCG & RG names'!A:B,2,0)","v":"NHS NORTH WEST LONDON CCG"},"V001538","Dental Surgery, 330 Long Lane, Hillingdon, UXBRIDGE, Middlesex, UB10 9PF","UB10 9PF","UB10"]
[null,null,null,null,null,null,null,null,null,null,null,null,null,null,null,"QRV",{"$f":"VLOOKUP(P685,'[1]CCG & RG names'!D:E,2,0)","v":"North West London Health & Care Partnership (STP)"},"W2U3Z",{"$f":"VLOOKUP(R685,'[1]CCG & RG names'!A:B,2,0)","v":"NHS NORTH WEST LONDON CCG"},"V001539","Dental Surgery, 87A Coldharbour Lane, HAYES, Middlesex, UB3 3EF","UB3 3EF","UB3 "]
[null,null,null,null,null,null,null,null,null,null,null,null,null,null,null,"QRV",{"$f":"VLOOKUP(P686,'[1]CCG & RG names'!D:E,2,0)","v":"North West London Health & Care Partnership (STP)"},"W2U3Z",{"$f":"VLOOKUP(R686,'[1]CCG & RG names'!A:B,2,0)","v":"NHS NORTH WEST LONDON CCG"},"V001540","Dental Surgery, 130 Coldharbour Lane, HAYES, Middlesex, UB3 3HB","UB3 3HB","UB3 "]
[null,null,null,null,null,null,null,null,null,null,null,null,null,null,null,"QRV",{"$f":"VLOOKUP(P687,'[1]CCG & RG names'!D:E,2,0)","v":"North West London Health & Care Partnership (STP)"},"W2U3Z",{"$f":"VLOOKUP(R687,'[1]CCG & RG names'!A:B,2,0)","v":"NHS NORTH WEST LONDON CCG"},"V001543","Dental Surgery, 115 Station Road, HAYES, Middlesex, UB3 4BX","UB3 4BX","UB3 "]
[null,null,null,null,null,null,null,null,null,null,null,null,null,null,null,"QRV",{"$f":"VLOOKUP(P688,'[1]CCG & RG names'!D:E,2,0)","v":"North West London Health & Care Partnership (STP)"},"W2U3Z",{"$f":"VLOOKUP(R688,'[1]CCG & RG names'!A:B,2,0)","v":"NHS NORTH WEST LONDON CCG"},"V001551","Dental Surgery, 159 High Street, HAYES, Middlesex, UB3 5DA","UB3 5DA","UB3 "]
[null,null,null,null,null,null,null,null,null,null,null,null,null,null,null,"QRV",{"$f":"VLOOKUP(P689,'[1]CCG & RG names'!D:E,2,0)","v":"North West London Health & Care Partnership (STP)"},"W2U3Z",{"$f":"VLOOKUP(R689,'[1]CCG & RG names'!A:B,2,0)","v":"NHS NORTH WEST LONDON CCG"},"V001552","Yeading Lane Dental Practice, 9 Yeading Lane, HAYES, Middlesex, UB4 0EL","UB4 0EL","UB4 "]
[null,null,null,null,null,null,null,null,null,null,null,null,null,null,null,"QRV",{"$f":"VLOOKUP(P690,'[1]CCG & RG names'!D:E,2,0)","v":"North West London Health & Care Partnership (STP)"},"W2U3Z",{"$f":"VLOOKUP(R690,'[1]CCG & RG names'!A:B,2,0)","v":"NHS NORTH WEST LONDON CCG"},"V001554","Yeading Dental Care, 1A Carlyon Road, HAYES, Middlesex, UB4 0NR","UB4 0NR","UB4 "]
[null,null,null,null,null,null,null,null,null,null,null,null,null,null,null,"QRV",{"$f":"VLOOKUP(P691,'[1]CCG & RG names'!D:E,2,0)","v":"North West London Health & Care Partnership (STP)"},"W2U3Z",{"$f":"VLOOKUP(R691,'[1]CCG & RG names'!A:B,2,0)","v":"NHS NORTH WEST LONDON CCG"},"V001555","I.D.H. Ltd, 11 Station Road, WEST DRAYTON, Middlesex, UB7 7BT","UB7 7BT","UB7 "]
[null,null,null,null,null,null,null,null,null,null,null,null,null,null,null,"QRV",{"$f":"VLOOKUP(P692,'[1]CCG & RG names'!D:E,2,0)","v":"North West London Health & Care Partnership (STP)"},"W2U3Z",{"$f":"VLOOKUP(R692,'[1]CCG & RG names'!A:B,2,0)","v":"NHS NORTH WEST LONDON CCG"},"V001556","Dental Surgery, 15 Windsor Street, UXBRIDGE, Middlesex, UB8 1AB","UB8 1AB","UB8 "]
[null,null,null,null,null,null,null,null,null,null,null,null,null,null,null,"QRV",{"$f":"VLOOKUP(P693,'[1]CCG & RG names'!D:E,2,0)","v":"North West London Health & Care Partnership (STP)"},"W2U3Z",{"$f":"VLOOKUP(R693,'[1]CCG & RG names'!A:B,2,0)","v":"NHS NORTH WEST LONDON CCG"},"V001557","Dental Surgery, 278B High Street, UXBRIDGE, Middlesex, UB8 1LQ","UB8 1LQ","UB8 "]
[null,null,null,null,null,null,null,null,null,null,null,null,null,null,null,"QRV",{"$f":"VLOOKUP(P694,'[1]CCG & RG names'!D:E,2,0)","v":"North West London Health & Care Partnership (STP)"},"W2U3Z",{"$f":"VLOOKUP(R694,'[1]CCG & RG names'!A:B,2,0)","v":"NHS NORTH WEST LONDON CCG"},"V001559","Burr Hall, Chiltern View Road, UXBRIDGE, Middlesex, UB8 2PF","UB8 2PF","UB8 "]
[null,null,null,null,null,null,null,null,null,null,null,null,null,null,null,"QRV",{"$f":"VLOOKUP(P695,'[1]CCG & RG names'!D:E,2,0)","v":"North West London Health & Care Partnership (STP)"},"W2U3Z",{"$f":"VLOOKUP(R695,'[1]CCG & RG names'!A:B,2,0)","v":"NHS NORTH WEST LONDON CCG"},"V001562","41 Malvern Road, LONDON, NW6 5PS","NW6 5PS","NW6 "]
[null,null,null,null,null,null,null,null,null,null,null,null,null,null,null,"QRV",{"$f":"VLOOKUP(P696,'[1]CCG & RG names'!D:E,2,0)","v":"North West London Health & Care Partnership (STP)"},"W2U3Z",{"$f":"VLOOKUP(R696,'[1]CCG & RG names'!A:B,2,0)","v":"NHS NORTH WEST LONDON CCG"},"V001563","Feelgood Dental, 77 Belmont Road, Uxbridge, UB8 1QU","UB8 1QU","UB8 "]
[null,null,null,null,null,null,null,null,null,null,null,null,null,null,null,"QRV",{"$f":"VLOOKUP(P697,'[1]CCG & RG names'!D:E,2,0)","v":"North West London Health & Care Partnership (STP)"},"W2U3Z",{"$f":"VLOOKUP(R697,'[1]CCG & RG names'!A:B,2,0)","v":"NHS NORTH WEST LONDON CCG"},"V001566","Willesden Dental Surgery, 229 Church Road, LONDON, NW10 9EP","NW10 9EP","NW10"]
[null,null,null,null,null,null,null,null,null,null,null,null,null,null,null,"QRV",{"$f":"VLOOKUP(P698,'[1]CCG & RG names'!D:E,2,0)","v":"North West London Health & Care Partnership (STP)"},"W2U3Z",{"$f":"VLOOKUP(R698,'[1]CCG & RG names'!A:B,2,0)","v":"NHS NORTH WEST LONDON CCG"},"V001568","Harrow Road Dental Surgery, 883 Harrow Road, WEMBLEY, Middlesex, HA0 2RH","HA0 2RH","HA0 "]
[null,null,null,null,null,null,null,null,null,null,null,null,null,null,null,"QRV",{"$f":"VLOOKUP(P699,'[1]CCG & RG names'!D:E,2,0)","v":"North West London Health & Care Partnership (STP)"},"W2U3Z",{"$f":"VLOOKUP(R699,'[1]CCG & RG names'!A:B,2,0)","v":"NHS NORTH WEST LONDON CCG"},"V001572","Dental Surgery, 114 Watford Road, WEMBLEY, Middlesex, HA0 3HF","HA0 3HF","HA0 "]
[null,null,null,null,null,null,null,null,null,null,null,null,null,null,null,"QRV",{"$f":"VLOOKUP(P700,'[1]CCG & RG names'!D:E,2,0)","v":"North West London Health & Care Partnership (STP)"},"W2U3Z",{"$f":"VLOOKUP(R700,'[1]CCG & RG names'!A:B,2,0)","v":"NHS NORTH WEST LONDON CCG"},"V001576","Dental Surgery, 42 Queensbury Station Parade, EDGWARE, Middlesex, HA8 5NN","HA8 5NN","HA8 "]
[null,null,null,null,null,null,null,null,null,null,null,null,null,null,null,"QRV",{"$f":"VLOOKUP(P701,'[1]CCG & RG names'!D:E,2,0)","v":"North West London Health & Care Partnership (STP)"},"W2U3Z",{"$f":"VLOOKUP(R701,'[1]CCG & RG names'!A:B,2,0)","v":"NHS NORTH WEST LONDON CCG"},"V001820","Dental Referral Centre, 89 South Road, SOUTHALL, Middlesex, UB1 1SQ","UB1 1SQ","UB1 "]
[null,null,null,null,null,null,null,null,null,null,null,null,null,null,null,"QRV",{"$f":"VLOOKUP(P702,'[1]CCG & RG names'!D:E,2,0)","v":"North West London Health & Care Partnership (STP)"},"W2U3Z",{"$f":"VLOOKUP(R702,'[1]CCG & RG names'!A:B,2,0)","v":"NHS NORTH WEST LONDON CCG"},"V001821","Inspire Dental Health, 56 - 58 South Road, SOUTHALL, Middlesex, UB1 1RQ","UB1 1RQ","UB1 "]
[null,null,null,null,null,null,null,null,null,null,null,null,null,null,null,"QRV",{"$f":"VLOOKUP(P703,'[1]CCG & RG names'!D:E,2,0)","v":"North West London Health & Care Partnership (STP)"},"W2U3Z",{"$f":"VLOOKUP(R703,'[1]CCG & RG names'!A:B,2,0)","v":"NHS NORTH WEST LONDON CCG"},"V001822","Dental Surgery, 4A South Road, SOUTHALL, Middlesex, UB1 1RT","UB1 1RT","UB1 "]
[null,null,null,null,null,null,null,null,null,null,null,null,null,null,null,"QRV",{"$f":"VLOOKUP(P704,'[1]CCG & RG names'!D:E,2,0)","v":"North West London Health & Care Partnership (STP)"},"W2U3Z",{"$f":"VLOOKUP(R704,'[1]CCG & RG names'!A:B,2,0)","v":"NHS NORTH WEST LONDON CCG"},"V001823","The White House, 93 - 95 South Road, SOUTHALL, Middlesex, UB1 1SQ","UB1 1SQ","UB1 "]
[null,null,null,null,null,null,null,null,null,null,null,null,null,null,null,"QRV",{"$f":"VLOOKUP(P705,'[1]CCG & RG names'!D:E,2,0)","v":"North West London Health & Care Partnership (STP)"},"W2U3Z",{"$f":"VLOOKUP(R705,'[1]CCG & RG names'!A:B,2,0)","v":"NHS NORTH WEST LONDON CCG"},"V001824","Dental Surgery, 66 King Street, SOUTHALL, Middlesex, UB2 4DD","UB2 4DD","UB2 "]
[null,null,null,null,null,null,null,null,null,null,null,null,null,null,null,"QRV",{"$f":"VLOOKUP(P706,'[1]CCG & RG names'!D:E,2,0)","v":"North West London Health & Care Partnership (STP)"},"W2U3Z",{"$f":"VLOOKUP(R706,'[1]CCG & RG names'!A:B,2,0)","v":"NHS NORTH WEST LONDON CCG"},"V001828","Dental Surgery, 152 Lady Margaret Road, SOUTHALL, Middlesex, UB1 2RW","UB1 2RW","UB1 "]
[null,null,null,null,null,null,null,null,null,null,null,null,null,null,null,"QRV",{"$f":"VLOOKUP(P707,'[1]CCG & RG names'!D:E,2,0)","v":"North West London Health & Care Partnership (STP)"},"W2U3Z",{"$f":"VLOOKUP(R707,'[1]CCG & RG names'!A:B,2,0)","v":"NHS NORTH WEST LONDON CCG"},"V001829","Dental Surgery, 6 Tangmere Gardens, NORTHOLT, Middlesex, UB5 6LP","UB5 6LP",{"$f":"IF(MID(V707,3,1) =\" \",LEFT(V707,3),LEFT(V707,4))","v":"UB5 "}]
[null,null,null,null,null,null,null,null,null,null,null,null,null,null,null,"QRV",{"$f":"VLOOKUP(P708,'[1]CCG & RG names'!D:E,2,0)","v":"North West London Health & Care Partnership (STP)"},"W2U3Z",{"$f":"VLOOKUP(R708,'[1]CCG & RG names'!A:B,2,0)","v":"NHS NORTH WEST LONDON CCG"},"V001832","T S Cheema Dental Surgery, 15 Ruislip Road, GREENFORD, Middlesex, UB6 9QD","UB6 9QD","UB6 "]
[null,null,null,null,null,null,null,null,null,null,null,null,null,null,null,"QRV",{"$f":"VLOOKUP(P709,'[1]CCG & RG names'!D:E,2,0)","v":"North West London Health & Care Partnership (STP)"},"W2U3Z",{"$f":"VLOOKUP(R709,'[1]CCG & RG names'!A:B,2,0)","v":"NHS NORTH WEST LONDON CCG"},"V001833","Apollonia Dental Care, 231-233 Greenford Road, GREENFORD, Middlesex, UB6 8QZ","UB6 8QZ","UB6 "]
[null,null,null,null,null,null,null,null,null,null,null,null,null,null,null,"QRV",{"$f":"VLOOKUP(P710,'[1]CCG & RG names'!D:E,2,0)","v":"North West London Health & Care Partnership (STP)"},"W2U3Z",{"$f":"VLOOKUP(R710,'[1]CCG & RG names'!A:B,2,0)","v":"NHS NORTH WEST LONDON CCG"},"V001836","Dental Surgery, 28 Ruislip Road, GREENFORD, Middlesex, UB6 9QN","UB6 9QN","UB6 "]
[null,null,null,null,null,null,null,null,null,null,null,null,null,null,null,"QRV",{"$f":"VLOOKUP(P711,'[1]CCG & RG names'!D:E,2,0)","v":"North West London Health & Care Partnership (STP)"},"W2U3Z",{"$f":"VLOOKUP(R711,'[1]CCG & RG names'!A:B,2,0)","v":"NHS NORTH WEST LONDON CCG"},"V001840","Perivale Dental Practice, Dental Surgery, 1 Teignmouth Gardens, Perivale, GREENFORD, UB6 8BX","UB6 8BX","UB6 "]
[null,null,null,null,null,null,null,null,null,null,null,null,null,null,null,"QRV",{"$f":"VLOOKUP(P712,'[1]CCG & RG names'!D:E,2,0)","v":"North West London Health & Care Partnership (STP)"},"W2U3Z",{"$f":"VLOOKUP(R712,'[1]CCG & RG names'!A:B,2,0)","v":"NHS NORTH WEST LONDON CCG"},"V001842","Sillicon Dental Centre, Unit 21, Silicon Centre, 26-28 Wadsworth Road, Perivale, UB6 7JZ","UB6 7JZ","UB6 "]
[null,null,null,null,null,null,null,null,null,null,null,null,null,null,null,"QRV",{"$f":"VLOOKUP(P713,'[1]CCG & RG names'!D:E,2,0)","v":"North West London Health & Care Partnership (STP)"},"W2U3Z",{"$f":"VLOOKUP(R713,'[1]CCG & RG names'!A:B,2,0)","v":"NHS NORTH WEST LONDON CCG"},"V001853","Dentist Surgery, 1 Murray Road, NORTHWOOD, Middlesex, HA6 2YP","HA6 2YP","HA6 "]
[null,null,null,null,null,null,null,null,null,null,null,null,null,null,null,"QRV",{"$f":"VLOOKUP(P714,'[1]CCG & RG names'!D:E,2,0)","v":"North West London Health & Care Partnership (STP)"},"W2U3Z",{"$f":"VLOOKUP(R714,'[1]CCG & RG names'!A:B,2,0)","v":"NHS NORTH WEST LONDON CCG"},"V001878","Dental Surgery, 72 Petts Hill, NORTHOLT, Middlesex, UB5 4NN","UB5 4NN","UB5 "]
[null,null,null,null,null,null,null,null,null,null,null,null,null,null,null,"QRV",{"$f":"VLOOKUP(P715,'[1]CCG & RG names'!D:E,2,0)","v":"North West London Health & Care Partnership (STP)"},"W2U3Z",{"$f":"VLOOKUP(R715,'[1]CCG & RG names'!A:B,2,0)","v":"NHS NORTH WEST LONDON CCG"},"V001898","Dental Surgery, 444B High Road, WEMBLEY, Middlesex, HA9 6AH","HA9 6AH","HA9 "]
[null,null,null,null,null,null,null,null,null,null,null,null,null,null,null,"QRV",{"$f":"VLOOKUP(P716,'[1]CCG & RG names'!D:E,2,0)","v":"North West London Health & Care Partnership (STP)"},"W2U3Z",{"$f":"VLOOKUP(R716,'[1]CCG & RG names'!A:B,2,0)","v":"NHS NORTH WEST LONDON CCG"},"V001953","D J Shah And Associates, Willesden Dental Centre, 248 High Road, LONDON, NW10 2NX","NW10 2NX","NW10"]
[null,null,null,null,null,null,null,null,null,null,null,null,null,null,null,"QRV",{"$f":"VLOOKUP(P717,'[1]CCG & RG names'!D:E,2,0)","v":"North West London Health & Care Partnership (STP)"},"W2U3Z",{"$f":"VLOOKUP(R717,'[1]CCG & RG names'!A:B,2,0)","v":"NHS NORTH WEST LONDON CCG"},"V001980","Kilburn Dental Studio, 137 Kilburn High Road, LONDON, NW6 7HR","NW6 7HR","NW6 "]
[null,null,null,null,null,null,null,null,null,null,null,null,null,null,null,"QRV",{"$f":"VLOOKUP(P718,'[1]CCG & RG names'!D:E,2,0)","v":"North West London Health & Care Partnership (STP)"},"W2U3Z",{"$f":"VLOOKUP(R718,'[1]CCG & RG names'!A:B,2,0)","v":"NHS NORTH WEST LONDON CCG"},"V002012","Dental Surgery, 267A Ealing Road, WEMBLEY, Middlesex, HA0 1EU","HA0 1EU","HA0 "]
[null,null,null,null,null,null,null,null,null,null,null,null,null,null,null,"QRV",{"$f":"VLOOKUP(P719,'[1]CCG & RG names'!D:E,2,0)","v":"North West London Health & Care Partnership (STP)"},"W2U3Z",{"$f":"VLOOKUP(R719,'[1]CCG & RG names'!A:B,2,0)","v":"NHS NORTH WEST LONDON CCG"},"V002041","Dental Surgery, 2 Craven Park, LONDON, NW10 8SY","NW10 8SY","NW10"]
[null,null,null,null,null,null,null,null,null,null,null,null,null,null,null,"QRV",{"$f":"VLOOKUP(P720,'[1]CCG & RG names'!D:E,2,0)","v":"North West London Health & Care Partnership (STP)"},"W2U3Z",{"$f":"VLOOKUP(R720,'[1]CCG & RG names'!A:B,2,0)","v":"NHS NORTH WEST LONDON CCG"},"V002088","Dental Surgery, 130 Chamberlayne Road, LONDON, NW10 3JR","NW10 3JR","NW10"]
[null,null,null,null,null,null,null,null,null,null,null,null,null,null,null,"QRV",{"$f":"VLOOKUP(P721,'[1]CCG & RG names'!D:E,2,0)","v":"North West London Health & Care Partnership (STP)"},"W2U3Z",{"$f":"VLOOKUP(R721,'[1]CCG & RG names'!A:B,2,0)","v":"NHS NORTH WEST LONDON CCG"},"V002181","Dental Practice, 98 Chamberlayne Road, London, NW10 3JN","NW10 3JN","NW10"]
[null,null,null,null,null,null,null,null,null,null,null,null,null,null,null,"QRV",{"$f":"VLOOKUP(P722,'[1]CCG & RG names'!D:E,2,0)","v":"North West London Health & Care Partnership (STP)"},"W2U3Z",{"$f":"VLOOKUP(R722,'[1]CCG & RG names'!A:B,2,0)","v":"NHS NORTH WEST LONDON CCG"},"V002247","Dental Surgery, 61 Kilburn High Road, LONDON, NW6 5SB","NW6 5SB","NW6 "]
[null,null,null,null,null,null,null,null,null,null,null,null,null,null,null,"QRV",{"$f":"VLOOKUP(P723,'[1]CCG & RG names'!D:E,2,0)","v":"North West London Health & Care Partnership (STP)"},"W2U3Z",{"$f":"VLOOKUP(R723,'[1]CCG & RG names'!A:B,2,0)","v":"NHS NORTH WEST LONDON CCG"},"V002292","56 Bilton Road, Perivale, GREENFORD, Middlesex, UB6 7DH","UB6 7DH","UB6 "]
[null,null,null,null,null,null,null,null,null,null,null,null,null,null,null,"QRV",{"$f":"VLOOKUP(P724,'[1]CCG & RG names'!D:E,2,0)","v":"North West London Health & Care Partnership (STP)"},"W2U3Z",{"$f":"VLOOKUP(R724,'[1]CCG & RG names'!A:B,2,0)","v":"NHS NORTH WEST LONDON CCG"},"V002383","Clocktower Dental Surgery, 1B Wendover Road, LONDON, NW10 4RX","NW10 4RX","NW10"]
[null,null,null,null,null,null,null,null,null,null,null,null,null,null,null,"QRV",{"$f":"VLOOKUP(P725,'[1]CCG & RG names'!D:E,2,0)","v":"North West London Health & Care Partnership (STP)"},"W2U3Z",{"$f":"VLOOKUP(R725,'[1]CCG & RG names'!A:B,2,0)","v":"NHS NORTH WEST LONDON CCG"},"V002434","Dental Surgery, 192 Church Road, NORTHOLT, Middlesex, UB5 5AE","UB5 5AE","UB5 "]
[null,null,null,null,null,null,null,null,null,null,null,null,null,null,null,"QRV",{"$f":"VLOOKUP(P726,'[1]CCG & RG names'!D:E,2,0)","v":"North West London Health & Care Partnership (STP)"},"W2U3Z",{"$f":"VLOOKUP(R726,'[1]CCG & RG names'!A:B,2,0)","v":"NHS NORTH WEST LONDON CCG"},"V002437","Dental Surgery, 1552 Greenford Road, GREENFORD, Middlesex, UB6 0HR","UB6 0HR","UB6 "]
[null,null,null,null,null,null,null,null,null,null,null,null,null,null,null,"QRV",{"$f":"VLOOKUP(P727,'[1]CCG & RG names'!D:E,2,0)","v":"North West London Health & Care Partnership (STP)"},"W2U3Z",{"$f":"VLOOKUP(R727,'[1]CCG & RG names'!A:B,2,0)","v":"NHS NORTH WEST LONDON CCG"},"V002441","101 Church Road, NORTHOLT, Middlesex, UB5 5AH","UB5 5AH","UB5 "]
[null,null,null,null,null,null,null,null,null,null,null,null,null,null,null,"QRV",{"$f":"VLOOKUP(P728,'[1]CCG & RG names'!D:E,2,0)","v":"North West London Health & Care Partnership (STP)"},"W2U3Z",{"$f":"VLOOKUP(R728,'[1]CCG & RG names'!A:B,2,0)","v":"NHS NORTH WEST LONDON CCG"},"V002442","Dental Surgery, 422 Greenford Avenue, LONDON, W7 3DB","W7 3DB","W7 "]
[null,null,null,null,null,null,null,null,null,null,null,null,null,null,null,"QRV",{"$f":"VLOOKUP(P729,'[1]CCG & RG names'!D:E,2,0)","v":"North West London Health & Care Partnership (STP)"},"W2U3Z",{"$f":"VLOOKUP(R729,'[1]CCG & RG names'!A:B,2,0)","v":"NHS NORTH WEST LONDON CCG"},"V002444","Dental Department, Hanwell Health Centre, 20 Church Road, LONDON, W7 1DR","W7 1DR","W7 "]
[null,null,null,null,null,null,null,null,null,null,null,null,null,null,null,"QRV",{"$f":"VLOOKUP(P730,'[1]CCG & RG names'!D:E,2,0)","v":"North West London Health & Care Partnership (STP)"},"W2U3Z",{"$f":"VLOOKUP(R730,'[1]CCG & RG names'!A:B,2,0)","v":"NHS NORTH WEST LONDON CCG"},"V002447","Dental Surgery, 51 Uxbridge Road, LONDON, W7 3PX","W7 3PX","W7 "]
[null,null,null,null,null,null,null,null,null,null,null,null,null,null,null,"QRV",{"$f":"VLOOKUP(P731,'[1]CCG & RG names'!D:E,2,0)","v":"North West London Health & Care Partnership (STP)"},"W2U3Z",{"$f":"VLOOKUP(R731,'[1]CCG & RG names'!A:B,2,0)","v":"NHS NORTH WEST LONDON CCG"},"V002448","St Marys Dental Surgery, 76 St Marys Road, LONDON, W5 5EX","W5 5EX","W5 "]
[null,null,null,null,null,null,null,null,null,null,null,null,null,null,null,"QRV",{"$f":"VLOOKUP(P732,'[1]CCG & RG names'!D:E,2,0)","v":"North West London Health & Care Partnership (STP)"},"W2U3Z",{"$f":"VLOOKUP(R732,'[1]CCG & RG names'!A:B,2,0)","v":"NHS NORTH WEST LONDON CCG"},"V002449","Dental Surgery, 81 South Ealing Road, London, LONDON, W5 4QR","W5 4QR","W5 "]
[null,null,null,null,null,null,null,null,null,null,null,null,null,null,null,"QRV",{"$f":"VLOOKUP(P733,'[1]CCG & RG names'!D:E,2,0)","v":"North West London Health & Care Partnership (STP)"},"W2U3Z",{"$f":"VLOOKUP(R733,'[1]CCG & RG names'!A:B,2,0)","v":"NHS NORTH WEST LONDON CCG"},"V002450","Dental Surgery, 3 Windsor Road, London, LONDON, W5 3UL","W5 3UL","W5 "]
[null,null,null,null,null,null,null,null,null,null,null,null,null,null,null,"QRV",{"$f":"VLOOKUP(P734,'[1]CCG & RG names'!D:E,2,0)","v":"North West London Health & Care Partnership (STP)"},"W2U3Z",{"$f":"VLOOKUP(R734,'[1]CCG & RG names'!A:B,2,0)","v":"NHS NORTH WEST LONDON CCG"},"V002451","Dental Surgery, 13 Corringway, LONDON, W5 3AB","W5 3AB","W5 "]
[null,null,null,null,null,null,null,null,null,null,null,null,null,null,null,"QRV",{"$f":"VLOOKUP(P735,'[1]CCG & RG names'!D:E,2,0)","v":"North West London Health & Care Partnership (STP)"},"W2U3Z",{"$f":"VLOOKUP(R735,'[1]CCG & RG names'!A:B,2,0)","v":"NHS NORTH WEST LONDON CCG"},"V002454","Pitshanger Dental Care, 50 Pitshanger Lane, LONDON, W5 1QY","W5 1QY","W5 "]
[null,null,null,null,null,null,null,null,null,null,null,null,null,null,null,"QRV",{"$f":"VLOOKUP(P736,'[1]CCG & RG names'!D:E,2,0)","v":"North West London Health & Care Partnership (STP)"},"W2U3Z",{"$f":"VLOOKUP(R736,'[1]CCG & RG names'!A:B,2,0)","v":"NHS NORTH WEST LONDON CCG"},"V002455","Dental Surgery, 1 Boileau Parade, LONDON, W5 3AQ","W5 3AQ","W5 "]
[null,null,null,null,null,null,null,null,null,null,null,null,null,null,null,"QRV",{"$f":"VLOOKUP(P737,'[1]CCG & RG names'!D:E,2,0)","v":"North West London Health & Care Partnership (STP)"},"W2U3Z",{"$f":"VLOOKUP(R737,'[1]CCG & RG names'!A:B,2,0)","v":"NHS NORTH WEST LONDON CCG"},"V002464","Dental Surgery, 69 The Avenue, LONDON, W13 8JR","W13 8JR","W13 "]
[null,null,null,null,null,null,null,null,null,null,null,null,null,null,null,"QRV",{"$f":"VLOOKUP(P738,'[1]CCG & RG names'!D:E,2,0)","v":"North West London Health & Care Partnership (STP)"},"W2U3Z",{"$f":"VLOOKUP(R738,'[1]CCG & RG names'!A:B,2,0)","v":"NHS NORTH WEST LONDON CCG"},"V002465","Dental Surgery, 692 Pinner Road, PINNER, Middlesex, HA5 5QY","HA5 5QY","HA5 "]
[null,null,null,null,null,null,null,null,null,null,null,null,null,null,null,"QRV",{"$f":"VLOOKUP(P739,'[1]CCG & RG names'!D:E,2,0)","v":"North West London Health & Care Partnership (STP)"},"W2U3Z",{"$f":"VLOOKUP(R739,'[1]CCG & RG names'!A:B,2,0)","v":"NHS NORTH WEST LONDON CCG"},"V002466","20 Junction Road, LONDON, W5 4XL","W5 4XL","W5 "]
[null,null,null,null,null,null,null,null,null,null,null,null,null,null,null,"QRV",{"$f":"VLOOKUP(P740,'[1]CCG & RG names'!D:E,2,0)","v":"North West London Health & Care Partnership (STP)"},"W2U3Z",{"$f":"VLOOKUP(R740,'[1]CCG & RG names'!A:B,2,0)","v":"NHS NORTH WEST LONDON CCG"},"V002469","172 Long Elmes, HARROW, Middlesex, HA3 5JZ","HA3 5JZ","HA3 "]
[null,null,null,null,null,null,null,null,null,null,null,null,null,null,null,"QRV",{"$f":"VLOOKUP(P741,'[1]CCG & RG names'!D:E,2,0)","v":"North West London Health & Care Partnership (STP)"},"W2U3Z",{"$f":"VLOOKUP(R741,'[1]CCG & RG names'!A:B,2,0)","v":"NHS NORTH WEST LONDON CCG"},"V002474","Pinner Green Dental Clinic, 661 Uxbridge Road, PINNER, Middlesex, HA5 3LW","HA5 3LW","HA5 "]
[null,null,null,null,null,null,null,null,null,null,null,null,null,null,null,"QRV",{"$f":"VLOOKUP(P742,'[1]CCG & RG names'!D:E,2,0)","v":"North West London Health & Care Partnership (STP)"},"W2U3Z",{"$f":"VLOOKUP(R742,'[1]CCG & RG names'!A:B,2,0)","v":"NHS NORTH WEST LONDON CCG"},"V002588","Dental Surgery, 807 Harrow Road, WEMBLEY, Middlesex, HA0 2LP","HA0 2LP","HA0 "]
[null,null,null,null,null,null,null,null,null,null,null,null,null,null,null,"QRV",{"$f":"VLOOKUP(P743,'[1]CCG & RG names'!D:E,2,0)","v":"North West London Health & Care Partnership (STP)"},"W2U3Z",{"$f":"VLOOKUP(R743,'[1]CCG & RG names'!A:B,2,0)","v":"NHS NORTH WEST LONDON CCG"},"V002793","Dental Surgery, 99 High Street, Wealdstone, HARROW, Middlesex, HA3 5DL","HA3 5DL","HA3 "]
[null,null,null,null,null,null,null,null,null,null,null,null,null,null,null,"QRV",{"$f":"VLOOKUP(P744,'[1]CCG & RG names'!D:E,2,0)","v":"North West London Health & Care Partnership (STP)"},"W2U3Z",{"$f":"VLOOKUP(R744,'[1]CCG & RG names'!A:B,2,0)","v":"NHS NORTH WEST LONDON CCG"},"V002797","Dental Surgery, 434 Pinner Road, HARROW, Middlesex, HA2 6EF","HA2 6EF","HA2 "]
[null,null,null,null,null,null,null,null,null,null,null,null,null,null,null,"QRV",{"$f":"VLOOKUP(P745,'[1]CCG & RG names'!D:E,2,0)","v":"North West London Health & Care Partnership (STP)"},"W2U3Z",{"$f":"VLOOKUP(R745,'[1]CCG & RG names'!A:B,2,0)","v":"NHS NORTH WEST LONDON CCG"},"V002965","Dental Surgery, 102 Ealing Road, WEMBLEY, Middlesex, HA0 4TH","HA0 4TH","HA0 "]
[null,null,null,null,null,null,null,null,null,null,null,null,null,null,null,"QRV",{"$f":"VLOOKUP(P746,'[1]CCG & RG names'!D:E,2,0)","v":"North West London Health & Care Partnership (STP)"},"W2U3Z",{"$f":"VLOOKUP(R746,'[1]CCG & RG names'!A:B,2,0)","v":"NHS NORTH WEST LONDON CCG"},"V002970","Kingsbury Dental Practice, 529 Kingsbury Road, LONDON, NW9 9EG","NW9 9EG","NW9 "]
[null,null,null,null,null,null,null,null,null,null,null,null,null,null,null,"QRV",{"$f":"VLOOKUP(P747,'[1]CCG & RG names'!D:E,2,0)","v":"North West London Health & Care Partnership (STP)"},"W2U3Z",{"$f":"VLOOKUP(R747,'[1]CCG & RG names'!A:B,2,0)","v":"NHS NORTH WEST LONDON CCG"},"V002976","B Mehta Dental Surgery, 371 Kenton Road, HARROW, Middlesex, HA3 0XS","HA3 0XS","HA3 "]
[null,null,null,null,null,null,null,null,null,null,null,null,null,null,null,"QRV",{"$f":"VLOOKUP(P748,'[1]CCG & RG names'!D:E,2,0)","v":"North West London Health & Care Partnership (STP)"},"W2U3Z",{"$f":"VLOOKUP(R748,'[1]CCG & RG names'!A:B,2,0)","v":"NHS NORTH WEST LONDON CCG"},"V002979","Ixia Dental, 319 Kenton Road, Kenton, Harrow, Middlesex, HA3 0XN","HA3 0XN","HA3 "]
[null,null,null,null,null,null,null,null,null,null,null,null,null,null,null,"QRV",{"$f":"VLOOKUP(P749,'[1]CCG & RG names'!D:E,2,0)","v":"North West London Health & Care Partnership (STP)"},"W2U3Z",{"$f":"VLOOKUP(R749,'[1]CCG & RG names'!A:B,2,0)","v":"NHS NORTH WEST LONDON CCG"},"V002982","Rose Garden Dental Practice, 280 Church Lane, LONDON, NW9 8LU","NW9 8LU","NW9 "]
[null,null,null,null,null,null,null,null,null,null,null,null,null,null,null,"QRV",{"$f":"VLOOKUP(P750,'[1]CCG & RG names'!D:E,2,0)","v":"North West London Health & Care Partnership (STP)"},"W2U3Z",{"$f":"VLOOKUP(R750,'[1]CCG & RG names'!A:B,2,0)","v":"NHS NORTH WEST LONDON CCG"},"V002986","Dental Surgery, 461 Kenton Road, HARROW, Middlesex, HA3 0UN","HA3 0UN","HA3 "]
[null,null,null,null,null,null,null,null,null,null,null,null,null,null,null,"QRV",{"$f":"VLOOKUP(P751,'[1]CCG & RG names'!D:E,2,0)","v":"North West London Health & Care Partnership (STP)"},"W2U3Z",{"$f":"VLOOKUP(R751,'[1]CCG & RG names'!A:B,2,0)","v":"NHS NORTH WEST LONDON CCG"},"V002991","The Dental Practice, 269 Kenton Road, HARROW, Middlesex, HA3 0HQ","HA3 0HQ","HA3 "]
[null,null,null,null,null,null,null,null,null,null,null,null,null,null,null,"QRV",{"$f":"VLOOKUP(P752,'[1]CCG & RG names'!D:E,2,0)","v":"North West London Health & Care Partnership (STP)"},"W2U3Z",{"$f":"VLOOKUP(R752,'[1]CCG & RG names'!A:B,2,0)","v":"NHS NORTH WEST LONDON CCG"},"V003002","Dental Surgery, 607 Kenton Road, HARROW, Middlesex, HA3 9RT","HA3 9RT","HA3 "]
[null,null,null,null,null,null,null,null,null,null,null,null,null,null,null,"QRV",{"$f":"VLOOKUP(P753,'[1]CCG & RG names'!D:E,2,0)","v":"North West London Health & Care Partnership (STP)"},"W2U3Z",{"$f":"VLOOKUP(R753,'[1]CCG & RG names'!A:B,2,0)","v":"NHS NORTH WEST LONDON CCG"},"V003005","Mrs GC Baskeran, 356 Preston Road, HARROW, Middlesex, HA3 0QJ","HA3 0QJ","HA3 "]
[null,null,null,null,null,null,null,null,null,null,null,null,null,null,null,"QRV",{"$f":"VLOOKUP(P754,'[1]CCG & RG names'!D:E,2,0)","v":"North West London Health & Care Partnership (STP)"},"W2U3Z",{"$f":"VLOOKUP(R754,'[1]CCG & RG names'!A:B,2,0)","v":"NHS NORTH WEST LONDON CCG"},"V003017","Dental Surgery, 211 Wembley Hill Road, WEMBLEY, Middlesex, HA9 8EL","HA9 8EL","HA9 "]
[null,null,null,null,null,null,null,null,null,null,null,null,null,null,null,"QRV",{"$f":"VLOOKUP(P755,'[1]CCG & RG names'!D:E,2,0)","v":"North West London Health & Care Partnership (STP)"},"W2U3Z",{"$f":"VLOOKUP(R755,'[1]CCG & RG names'!A:B,2,0)","v":"NHS NORTH WEST LONDON CCG"},"V003019","288 Preston Road, HARROW, Middlesex, HA3 0QA","HA3 0QA","HA3 "]
[null,null,null,null,null,null,null,null,null,null,null,null,null,null,null,"QRV",{"$f":"VLOOKUP(P756,'[1]CCG & RG names'!D:E,2,0)","v":"North West London Health & Care Partnership (STP)"},"W2U3Z",{"$f":"VLOOKUP(R756,'[1]CCG & RG names'!A:B,2,0)","v":"NHS NORTH WEST LONDON CCG"},"V003022","Dental Surgery, 8 Upton Gardens, HARROW, Middlesex, HA3 0DL","HA3 0DL","HA3 "]
[null,null,null,null,null,null,null,null,null,null,null,null,null,null,null,"QRV",{"$f":"VLOOKUP(P757,'[1]CCG & RG names'!D:E,2,0)","v":"North West London Health & Care Partnership (STP)"},"W2U3Z",{"$f":"VLOOKUP(R757,'[1]CCG & RG names'!A:B,2,0)","v":"NHS NORTH WEST LONDON CCG"},"V003028","S M Ho And Associates, 21 Bridge Road, WEMBLEY, Middlesex, HA9 9AB","HA9 9AB","HA9 "]
[null,null,null,null,null,null,null,null,null,null,null,null,null,null,null,"QRV",{"$f":"VLOOKUP(P758,'[1]CCG & RG names'!D:E,2,0)","v":"North West London Health & Care Partnership (STP)"},"W2U3Z",{"$f":"VLOOKUP(R758,'[1]CCG & RG names'!A:B,2,0)","v":"NHS NORTH WEST LONDON CCG"},"V003035","Dental Surgery, 201 Watford Road, HARROW, Middlesex, HA1 3UA","HA1 3UA","HA1 "]
[null,null,null,null,null,null,null,null,null,null,null,null,null,null,null,"QRV",{"$f":"VLOOKUP(P759,'[1]CCG & RG names'!D:E,2,0)","v":"North West London Health & Care Partnership (STP)"},"W2U3Z",{"$f":"VLOOKUP(R759,'[1]CCG & RG names'!A:B,2,0)","v":"NHS NORTH WEST LONDON CCG"},"V003037","Northwick Park Dental Practice, Northwick Park Hospital, Block L1, Level 4, Watford Road, Harrow, HA1 3UJ","HA1 3UJ","HA1 "]
[null,null,null,null,null,null,null,null,null,null,null,null,null,null,null,"QRV",{"$f":"VLOOKUP(P760,'[1]CCG & RG names'!D:E,2,0)","v":"North West London Health & Care Partnership (STP)"},"W2U3Z",{"$f":"VLOOKUP(R760,'[1]CCG & RG names'!A:B,2,0)","v":"NHS NORTH WEST LONDON CCG"},"V003050","Cape House Dental Practice, 57& 57A Harrow Road, WEMBLEY, Middlesex, HA9 6DG","HA9 6DG","HA9 "]
[null,null,null,null,null,null,null,null,null,null,null,null,null,null,null,"QRV",{"$f":"VLOOKUP(P761,'[1]CCG & RG names'!D:E,2,0)","v":"North West London Health & Care Partnership (STP)"},"W2U3Z",{"$f":"VLOOKUP(R761,'[1]CCG & RG names'!A:B,2,0)","v":"NHS NORTH WEST LONDON CCG"},"V003052","Dental Surgery, 21 Stag Lane, EDGWARE, Middlesex, HA8 5LE","HA8 5LE","HA8 "]
[null,null,null,null,null,null,null,null,null,null,null,null,null,null,null,"QRV",{"$f":"VLOOKUP(P762,'[1]CCG & RG names'!D:E,2,0)","v":"North West London Health & Care Partnership (STP)"},"W2U3Z",{"$f":"VLOOKUP(R762,'[1]CCG & RG names'!A:B,2,0)","v":"NHS NORTH WEST LONDON CCG"},"V003056","Colindale Dental Care Centre, 263 Edgware Road, LONDON, NW9 6NB","NW9 6NB","NW9 "]
[null,null,null,null,null,null,null,null,null,null,null,null,null,null,null,"QRV",{"$f":"VLOOKUP(P763,'[1]CCG & RG names'!D:E,2,0)","v":"North West London Health & Care Partnership (STP)"},"W2U3Z",{"$f":"VLOOKUP(R763,'[1]CCG & RG names'!A:B,2,0)","v":"NHS NORTH WEST LONDON CCG"},"V003063","Dental Surgery, 47 Okehampton Road, LONDON, NW10 3EN","NW10 3EN","NW10"]
[null,null,null,null,null,null,null,null,null,null,null,null,null,null,null,"QRV",{"$f":"VLOOKUP(P764,'[1]CCG & RG names'!D:E,2,0)","v":"North West London Health & Care Partnership (STP)"},"W2U3Z",{"$f":"VLOOKUP(R764,'[1]CCG & RG names'!A:B,2,0)","v":"NHS NORTH WEST LONDON CCG"},"V003066","Kensal Rise Dental Practice, 90 Chamberlayne Road, LONDON, NW10 3JL","NW10 3JL","NW10"]
[null,null,null,null,null,null,null,null,null,null,null,null,null,null,null,"QRV",{"$f":"VLOOKUP(P765,'[1]CCG & RG names'!D:E,2,0)","v":"North West London Health & Care Partnership (STP)"},"W2U3Z",{"$f":"VLOOKUP(R765,'[1]CCG & RG names'!A:B,2,0)","v":"NHS NORTH WEST LONDON CCG"},"V003068","Angel Dental Implant Centre, 92 Chamberlayne Road, LONDON, NW10 3JL","NW10 3JL","NW10"]
[null,null,null,null,null,null,null,null,null,null,null,null,null,null,null,"QRV",{"$f":"VLOOKUP(P766,'[1]CCG & RG names'!D:E,2,0)","v":"North West London Health & Care Partnership (STP)"},"W2U3Z",{"$f":"VLOOKUP(R766,'[1]CCG & RG names'!A:B,2,0)","v":"NHS NORTH WEST LONDON CCG"},"V003090","Inspire Dental Care, 287 Kilburn High Road, LONDON, NW6 7JR","NW6 7JR","NW6 "]
[null,null,null,null,null,null,null,null,null,null,null,null,null,null,null,"QRV",{"$f":"VLOOKUP(P767,'[1]CCG & RG names'!D:E,2,0)","v":"North West London Health & Care Partnership (STP)"},"W2U3Z",{"$f":"VLOOKUP(R767,'[1]CCG & RG names'!A:B,2,0)","v":"NHS NORTH WEST LONDON CCG"},"V003178","11 Handel Parade, Whitchurch Lane, Edgware, Middlesex, HA8 6LD","HA8 6LD","HA8 "]
[null,null,null,null,null,null,null,null,null,null,null,null,null,null,null,"QRV",{"$f":"VLOOKUP(P768,'[1]CCG & RG names'!D:E,2,0)","v":"North West London Health & Care Partnership (STP)"},"W2U3Z",{"$f":"VLOOKUP(R768,'[1]CCG & RG names'!A:B,2,0)","v":"NHS NORTH WEST LONDON CCG"},"V003271","Dental Practice, 555 High Road, Wembley, Middlesex, HA0 2DW","HA0 2DW","HA0 "]
[null,null,null,null,null,null,null,null,null,null,null,null,null,null,null,"QRV",{"$f":"VLOOKUP(P769,'[1]CCG & RG names'!D:E,2,0)","v":"North West London Health & Care Partnership (STP)"},"W2U3Z",{"$f":"VLOOKUP(R769,'[1]CCG & RG names'!A:B,2,0)","v":"NHS NORTH WEST LONDON CCG"},"V003362","Park Avenue North Dental, Practice, 44 Park Avenue North, London, NW10 1JY","NW10 1JY","NW10"]
[null,null,null,null,null,null,null,null,null,null,null,null,null,null,null,"QRV",{"$f":"VLOOKUP(P770,'[1]CCG & RG names'!D:E,2,0)","v":"North West London Health & Care Partnership (STP)"},"W2U3Z",{"$f":"VLOOKUP(R770,'[1]CCG & RG names'!A:B,2,0)","v":"NHS NORTH WEST LONDON CCG"},"V003364","Dental Surgery, 1 Dollis Hill Lane, Neasden, LONDON, NW2 6JH","NW2 6JH","NW2 "]
[null,null,null,null,null,null,null,null,null,null,null,null,null,null,null,"QRV",{"$f":"VLOOKUP(P771,'[1]CCG & RG names'!D:E,2,0)","v":"North West London Health & Care Partnership (STP)"},"W2U3Z",{"$f":"VLOOKUP(R771,'[1]CCG & RG names'!A:B,2,0)","v":"NHS NORTH WEST LONDON CCG"},"V003371","Dental Practice, 165 Cricklewood Broadway, London, NW2 3HY","NW2 3HY",{"$f":"IF(MID(V771,3,1) =\" \",LEFT(V771,3),LEFT(V771,4))","v":"NW2 "}]
[null,null,null,null,null,null,null,null,null,null,null,null,null,null,null,"QRV",{"$f":"VLOOKUP(P772,'[1]CCG & RG names'!D:E,2,0)","v":"North West London Health & Care Partnership (STP)"},"W2U3Z",{"$f":"VLOOKUP(R772,'[1]CCG & RG names'!A:B,2,0)","v":"NHS NORTH WEST LONDON CCG"},"V003379","2A Chichele Road, LONDON, NW2 3DA","NW2 3DA","NW2 "]
[null,null,null,null,null,null,null,null,null,null,null,null,null,null,null,"QRV",{"$f":"VLOOKUP(P773,'[1]CCG & RG names'!D:E,2,0)","v":"North West London Health & Care Partnership (STP)"},"W2U3Z",{"$f":"VLOOKUP(R773,'[1]CCG & RG names'!A:B,2,0)","v":"NHS NORTH WEST LONDON CCG"},"V003496","122 Broadway, LONDON, W13 0SY","W13 0SY","W13 "]
[null,null,null,null,null,null,null,null,null,null,null,null,null,null,null,"QRV",{"$f":"VLOOKUP(P774,'[1]CCG & RG names'!D:E,2,0)","v":"North West London Health & Care Partnership (STP)"},"W2U3Z",{"$f":"VLOOKUP(R774,'[1]CCG & RG names'!A:B,2,0)","v":"NHS NORTH WEST LONDON CCG"},"V003509","Western Avenue Dental Practice, 54 Western Avenue, London, LONDON, W3 7TZ","W3 7TZ","W3 "]
[null,null,null,null,null,null,null,null,null,null,null,null,null,null,null,"QRV",{"$f":"VLOOKUP(P775,'[1]CCG & RG names'!D:E,2,0)","v":"North West London Health & Care Partnership (STP)"},"W2U3Z",{"$f":"VLOOKUP(R775,'[1]CCG & RG names'!A:B,2,0)","v":"NHS NORTH WEST LONDON CCG"},"V003524","Dental Surgery, 191 High Street, LONDON, W3 9DD","W3 9DD","W3 "]
[null,null,null,null,null,null,null,null,null,null,null,null,null,null,null,"QRV",{"$f":"VLOOKUP(P776,'[1]CCG & RG names'!D:E,2,0)","v":"North West London Health & Care Partnership (STP)"},"W2U3Z",{"$f":"VLOOKUP(R776,'[1]CCG & RG names'!A:B,2,0)","v":"NHS NORTH WEST LONDON CCG"},"V003528","Lim Dental Practice, 4 High Street, LONDON, W3 6LJ","W3 6LJ","W3 "]
[null,null,null,null,null,null,null,null,null,null,null,null,null,null,null,"QRV",{"$f":"VLOOKUP(P777,'[1]CCG & RG names'!D:E,2,0)","v":"North West London Health & Care Partnership (STP)"},"W2U3Z",{"$f":"VLOOKUP(R777,'[1]CCG & RG names'!A:B,2,0)","v":"NHS NORTH WEST LONDON CCG"},"V003531","Acton Vale Dental Practice, 175 The Vale, LONDON, W3 7RD","W3 7RD","W3 "]
[null,null,null,null,null,null,null,null,null,null,null,null,null,null,null,"QRV",{"$f":"VLOOKUP(P778,'[1]CCG & RG names'!D:E,2,0)","v":"North West London Health & Care Partnership (STP)"},"W2U3Z",{"$f":"VLOOKUP(R778,'[1]CCG & RG names'!A:B,2,0)","v":"NHS NORTH WEST LONDON CCG"},"V003533","Dental Surgery, 146 Gunnersbury Lane, LONDON, W3 9BA","W3 9BA","W3 "]
[null,null,null,null,null,null,null,null,null,null,null,null,null,null,null,"QRV",{"$f":"VLOOKUP(P779,'[1]CCG & RG names'!D:E,2,0)","v":"North West London Health & Care Partnership (STP)"},"W2U3Z",{"$f":"VLOOKUP(R779,'[1]CCG & RG names'!A:B,2,0)","v":"NHS NORTH WEST LONDON CCG"},"V003538","Dental Surgery, 170 Byron Way, NORTHOLT, Middlesex, UB5 6BW","UB5 6BW","UB5 "]
[null,null,null,null,null,null,null,null,null,null,null,null,null,null,null,"QRV",{"$f":"VLOOKUP(P780,'[1]CCG & RG names'!D:E,2,0)","v":"North West London Health & Care Partnership (STP)"},"W2U3Z",{"$f":"VLOOKUP(R780,'[1]CCG & RG names'!A:B,2,0)","v":"NHS NORTH WEST LONDON CCG"},"V003544","Cornerstone Dental Practice, 137 High Street, LONDON, W3 6LY","W3 6LY","W3 "]
[null,null,null,null,null,null,null,null,null,null,null,null,null,null,null,"QRV",{"$f":"VLOOKUP(P781,'[1]CCG & RG names'!D:E,2,0)","v":"North West London Health & Care Partnership (STP)"},"W2U3Z",{"$f":"VLOOKUP(R781,'[1]CCG & RG names'!A:B,2,0)","v":"NHS NORTH WEST LONDON CCG"},"V003696","21 Wimpole Street, Marylebone, London, W1G 8GG","W1G 8GG","W1G "]
[null,null,null,null,null,null,null,null,null,null,null,null,null,null,null,"QRV",{"$f":"VLOOKUP(P782,'[1]CCG & RG names'!D:E,2,0)","v":"North West London Health & Care Partnership (STP)"},"W2U3Z",{"$f":"VLOOKUP(R782,'[1]CCG & RG names'!A:B,2,0)","v":"NHS NORTH WEST LONDON CCG"},"V003732","Dental Surgery, 207 Kilburn High Road, LONDON, NW6 7JG","NW6 7JG","NW6 "]
[null,null,null,null,null,null,null,null,null,null,null,null,null,null,null,"QRV",{"$f":"VLOOKUP(P783,'[1]CCG & RG names'!D:E,2,0)","v":"North West London Health & Care Partnership (STP)"},"W2U3Z",{"$f":"VLOOKUP(R783,'[1]CCG & RG names'!A:B,2,0)","v":"NHS NORTH WEST LONDON CCG"},"V003737","Cambridge Court Dental Surgery, 4 Sussex Gardens, LONDON, W2 1UL","W2 1UL","W2 "]
[null,null,null,null,null,null,null,null,null,null,null,null,null,null,null,"QRV",{"$f":"VLOOKUP(P784,'[1]CCG & RG names'!D:E,2,0)","v":"North West London Health & Care Partnership (STP)"},"W2U3Z",{"$f":"VLOOKUP(R784,'[1]CCG & RG names'!A:B,2,0)","v":"NHS NORTH WEST LONDON CCG"},"V003739","Crawford Street Dental Clinic, 57 Crawford Street, LONDON, W1H 4JL","W1H 4JL","W1H "]
[null,null,null,null,null,null,null,null,null,null,null,null,null,null,null,"QRV",{"$f":"VLOOKUP(P785,'[1]CCG & RG names'!D:E,2,0)","v":"North West London Health & Care Partnership (STP)"},"W2U3Z",{"$f":"VLOOKUP(R785,'[1]CCG & RG names'!A:B,2,0)","v":"NHS NORTH WEST LONDON CCG"},"V003741","Dental Surgery, 11 Porchester Gardens, LONDON, W2 4DB","W2 4DB","W2 "]
[null,null,null,null,null,null,null,null,null,null,null,null,null,null,null,"QRV",{"$f":"VLOOKUP(P786,'[1]CCG & RG names'!D:E,2,0)","v":"North West London Health & Care Partnership (STP)"},"W2U3Z",{"$f":"VLOOKUP(R786,'[1]CCG & RG names'!A:B,2,0)","v":"NHS NORTH WEST LONDON CCG"},"V003744","Leicester Square Dental Clinic, 24 Lisle Street, LONDON, WC2H 7BA","WC2H 7BA","WC2H"]
[null,null,null,null,null,null,null,null,null,null,null,null,null,null,null,"QRV",{"$f":"VLOOKUP(P787,'[1]CCG & RG names'!D:E,2,0)","v":"North West London Health & Care Partnership (STP)"},"W2U3Z",{"$f":"VLOOKUP(R787,'[1]CCG & RG names'!A:B,2,0)","v":"NHS NORTH WEST LONDON CCG"},"V003746","Marble Arch Dental Centre, 215 - 217 Edgware Road, London, W2 1ES","W2 1ES","W2 "]
[null,null,null,null,null,null,null,null,null,null,null,null,null,null,null,"QRV",{"$f":"VLOOKUP(P788,'[1]CCG & RG names'!D:E,2,0)","v":"North West London Health & Care Partnership (STP)"},"W2U3Z",{"$f":"VLOOKUP(R788,'[1]CCG & RG names'!A:B,2,0)","v":"NHS NORTH WEST LONDON CCG"},"V003747","Nigel Meyer And Associates, 11 South Molton Street, LONDON, W1K 5QL","W1K 5QL","W1K "]
[null,null,null,null,null,null,null,null,null,null,null,null,null,null,null,"QRV",{"$f":"VLOOKUP(P789,'[1]CCG & RG names'!D:E,2,0)","v":"North West London Health & Care Partnership (STP)"},"W2U3Z",{"$f":"VLOOKUP(R789,'[1]CCG & RG names'!A:B,2,0)","v":"NHS NORTH WEST LONDON CCG"},"V003750","124 Regency Street, LONDON, SW1P 4AP","SW1P 4AP","SW1P"]
[null,null,null,null,null,null,null,null,null,null,null,null,null,null,null,"QRV",{"$f":"VLOOKUP(P790,'[1]CCG & RG names'!D:E,2,0)","v":"North West London Health & Care Partnership (STP)"},"W2U3Z",{"$f":"VLOOKUP(R790,'[1]CCG & RG names'!A:B,2,0)","v":"NHS NORTH WEST LONDON CCG"},"V003752","Dental Surgery, 82 Queensway, LONDON, W2 3RL","W2 3RL","W2 "]
[null,null,null,null,null,null,null,null,null,null,null,null,null,null,null,"QRV",{"$f":"VLOOKUP(P791,'[1]CCG & RG names'!D:E,2,0)","v":"North West London Health & Care Partnership (STP)"},"W2U3Z",{"$f":"VLOOKUP(R791,'[1]CCG & RG names'!A:B,2,0)","v":"NHS NORTH WEST LONDON CCG"},"V003757","St Johns Wood Orthodontic Clinic, 61-63 Queens Grove, LONDON, NW8 6ER","NW8 6ER","NW8 "]
[null,null,null,null,null,null,null,null,null,null,null,null,null,null,null,"QRV",{"$f":"VLOOKUP(P792,'[1]CCG & RG names'!D:E,2,0)","v":"North West London Health & Care Partnership (STP)"},"W2U3Z",{"$f":"VLOOKUP(R792,'[1]CCG & RG names'!A:B,2,0)","v":"NHS NORTH WEST LONDON CCG"},"V003760","The Archangel Dental Surgery, 8 Westbourne Grove, LONDON, W2 5RA","W2 5RA","W2 "]
[null,null,null,null,null,null,null,null,null,null,null,null,null,null,null,"QRV",{"$f":"VLOOKUP(P793,'[1]CCG & RG names'!D:E,2,0)","v":"North West London Health & Care Partnership (STP)"},"W2U3Z",{"$f":"VLOOKUP(R793,'[1]CCG & RG names'!A:B,2,0)","v":"NHS NORTH WEST LONDON CCG"},"V003761","Covent Garden Dental Clinic, 48A Chandos Place, LONDON, WC2N 4HS","WC2N 4HS","WC2N"]
[null,null,null,null,null,null,null,null,null,null,null,null,null,null,null,"QRV",{"$f":"VLOOKUP(P794,'[1]CCG & RG names'!D:E,2,0)","v":"North West London Health & Care Partnership (STP)"},"W2U3Z",{"$f":"VLOOKUP(R794,'[1]CCG & RG names'!A:B,2,0)","v":"NHS NORTH WEST LONDON CCG"},"V003763","The London Dental Studio, 27 - 29 Warwick Way, LONDON, SW1V 1QT","SW1V 1QT","SW1V"]
[null,null,null,null,null,null,null,null,null,null,null,null,null,null,null,"QRV",{"$f":"VLOOKUP(P795,'[1]CCG & RG names'!D:E,2,0)","v":"North West London Health & Care Partnership (STP)"},"W2U3Z",{"$f":"VLOOKUP(R795,'[1]CCG & RG names'!A:B,2,0)","v":"NHS NORTH WEST LONDON CCG"},"V003765","176 Shirland Road, LONDON, W9 3JE","W9 3JE","W9 "]
[null,null,null,null,null,null,null,null,null,null,null,null,null,null,null,"QRV",{"$f":"VLOOKUP(P796,'[1]CCG & RG names'!D:E,2,0)","v":"North West London Health & Care Partnership (STP)"},"W2U3Z",{"$f":"VLOOKUP(R796,'[1]CCG & RG names'!A:B,2,0)","v":"NHS NORTH WEST LONDON CCG"},"V003766","Dental Surgery, 63A Wilton Road, LONDON, SW1V 1DE","SW1V 1DE","SW1V"]
[null,null,null,null,null,null,null,null,null,null,null,null,null,null,null,"QRV",{"$f":"VLOOKUP(P797,'[1]CCG & RG names'!D:E,2,0)","v":"North West London Health & Care Partnership (STP)"},"W2U3Z",{"$f":"VLOOKUP(R797,'[1]CCG & RG names'!A:B,2,0)","v":"NHS NORTH WEST LONDON CCG"},"V003832","Hyde Park Dental Centre, 61 Bayswater Road, LONDON, W2 3PH","W2 3PH","W2 "]
[null,null,null,null,null,null,null,null,null,null,null,null,null,null,null,"QRV",{"$f":"VLOOKUP(P798,'[1]CCG & RG names'!D:E,2,0)","v":"North West London Health & Care Partnership (STP)"},"W2U3Z",{"$f":"VLOOKUP(R798,'[1]CCG & RG names'!A:B,2,0)","v":"NHS NORTH WEST LONDON CCG"},"V003842","Dental Surgery, 18 James Street, LONDON, W1U 1EQ","W1U 1EQ","W1U "]
[null,null,null,null,null,null,null,null,null,null,null,null,null,null,null,"QRV",{"$f":"VLOOKUP(P799,'[1]CCG & RG names'!D:E,2,0)","v":"North West London Health & Care Partnership (STP)"},"W2U3Z",{"$f":"VLOOKUP(R799,'[1]CCG & RG names'!A:B,2,0)","v":"NHS NORTH WEST LONDON CCG"},"V004004","Eastcote Lane Dental Practice, 3 Eastcote Lane, HARROW, Middlesex, HA2 8BW","HA2 8BW","HA2 "]
[null,null,null,null,null,null,null,null,null,null,null,null,null,null,null,"QRV",{"$f":"VLOOKUP(P800,'[1]CCG & RG names'!D:E,2,0)","v":"North West London Health & Care Partnership (STP)"},"W2U3Z",{"$f":"VLOOKUP(R800,'[1]CCG & RG names'!A:B,2,0)","v":"NHS NORTH WEST LONDON CCG"},"V004015","2 The Quadrant, Headstone Gardens, HARROW, Middlesex, HA2 6PN","HA2 6PN","HA2 "]
[null,null,null,null,null,null,null,null,null,null,null,null,null,null,null,"QRV",{"$f":"VLOOKUP(P801,'[1]CCG & RG names'!D:E,2,0)","v":"North West London Health & Care Partnership (STP)"},"W2U3Z",{"$f":"VLOOKUP(R801,'[1]CCG & RG names'!A:B,2,0)","v":"NHS NORTH WEST LONDON CCG"},"V004037","Dental Surgery, 148 High Street, HOUNSLOW, Middlesex, TW3 1LR","TW3 1LR","TW3 "]
[null,null,null,null,null,null,null,null,null,null,null,null,null,null,null,"QRV",{"$f":"VLOOKUP(P802,'[1]CCG & RG names'!D:E,2,0)","v":"North West London Health & Care Partnership (STP)"},"W2U3Z",{"$f":"VLOOKUP(R802,'[1]CCG & RG names'!A:B,2,0)","v":"NHS NORTH WEST LONDON CCG"},"V004044","283 Convent Way, SOUTHALL, Middlesex, UB2 5UL","UB2 5UL","UB2 "]
[null,null,null,null,null,null,null,null,null,null,null,null,null,null,null,"QRV",{"$f":"VLOOKUP(P803,'[1]CCG & RG names'!D:E,2,0)","v":"North West London Health & Care Partnership (STP)"},"W2U3Z",{"$f":"VLOOKUP(R803,'[1]CCG & RG names'!A:B,2,0)","v":"NHS NORTH WEST LONDON CCG"},"V004045","Dental Surgery, 4 Cressys Corner, Lampton Road, HOUNSLOW, Middlesex, TW3 1HA","TW3 1HA","TW3 "]
[null,null,null,null,null,null,null,null,null,null,null,null,null,null,null,"QRV",{"$f":"VLOOKUP(P804,'[1]CCG & RG names'!D:E,2,0)","v":"North West London Health & Care Partnership (STP)"},"W2U3Z",{"$f":"VLOOKUP(R804,'[1]CCG & RG names'!A:B,2,0)","v":"NHS NORTH WEST LONDON CCG"},"V004047","Dental Surgery, 300A Bath Road, HOUNSLOW, Middlesex, TW4 7DN","TW4 7DN","TW4 "]
[null,null,null,null,null,null,null,null,null,null,null,null,null,null,null,"QRV",{"$f":"VLOOKUP(P805,'[1]CCG & RG names'!D:E,2,0)","v":"North West London Health & Care Partnership (STP)"},"W2U3Z",{"$f":"VLOOKUP(R805,'[1]CCG & RG names'!A:B,2,0)","v":"NHS NORTH WEST LONDON CCG"},"V004049","305 Bath Road, HOUNSLOW, Middlesex, TW3 3DB","TW3 3DB","TW3 "]
[null,null,null,null,null,null,null,null,null,null,null,null,null,null,null,"QRV",{"$f":"VLOOKUP(P806,'[1]CCG & RG names'!D:E,2,0)","v":"North West London Health & Care Partnership (STP)"},"W2U3Z",{"$f":"VLOOKUP(R806,'[1]CCG & RG names'!A:B,2,0)","v":"NHS NORTH WEST LONDON CCG"},"V004050","Dental Surgery, 114 Whitton Road, HOUNSLOW, Middlesex, TW3 2EP","TW3 2EP","TW3 "]
[null,null,null,null,null,null,null,null,null,null,null,null,null,null,null,"QRV",{"$f":"VLOOKUP(P807,'[1]CCG & RG names'!D:E,2,0)","v":"North West London Health & Care Partnership (STP)"},"W2U3Z",{"$f":"VLOOKUP(R807,'[1]CCG & RG names'!A:B,2,0)","v":"NHS NORTH WEST LONDON CCG"},"V004051","Advance Dental Care, 100 High Street, HOUNSLOW, Middlesex, TW3 1NH","TW3 1NH","TW3 "]
[null,null,null,null,null,null,null,null,null,null,null,null,null,null,null,"QRV",{"$f":"VLOOKUP(P808,'[1]CCG & RG names'!D:E,2,0)","v":"North West London Health & Care Partnership (STP)"},"W2U3Z",{"$f":"VLOOKUP(R808,'[1]CCG & RG names'!A:B,2,0)","v":"NHS NORTH WEST LONDON CCG"},"V004059","Dental Surgery, 14 Kingsley Road, HOUNSLOW, Middlesex, TW3 1NP","TW3 1NP","TW3 "]
[null,null,null,null,null,null,null,null,null,null,null,null,null,null,null,"QRV",{"$f":"VLOOKUP(P809,'[1]CCG & RG names'!D:E,2,0)","v":"North West London Health & Care Partnership (STP)"},"W2U3Z",{"$f":"VLOOKUP(R809,'[1]CCG & RG names'!A:B,2,0)","v":"NHS NORTH WEST LONDON CCG"},"V004061","Dental Care, 766 Bath Road, HOUNSLOW, Middlesex, TW5 9TY","TW5 9TY","TW5 "]
[null,null,null,null,null,null,null,null,null,null,null,null,null,null,null,"QRV",{"$f":"VLOOKUP(P810,'[1]CCG & RG names'!D:E,2,0)","v":"North West London Health & Care Partnership (STP)"},"W2U3Z",{"$f":"VLOOKUP(R810,'[1]CCG & RG names'!A:B,2,0)","v":"NHS NORTH WEST LONDON CCG"},"V004063","Orthosmile, 230 Staines Road, HOUNSLOW, Middlesex, TW3 3LR","TW3 3LR","TW3 "]
[null,null,null,null,null,null,null,null,null,null,null,null,null,null,null,"QRV",{"$f":"VLOOKUP(P811,'[1]CCG & RG names'!D:E,2,0)","v":"North West London Health & Care Partnership (STP)"},"W2U3Z",{"$f":"VLOOKUP(R811,'[1]CCG & RG names'!A:B,2,0)","v":"NHS NORTH WEST LONDON CCG"},"V004065","Dental Surgery, 164 Heston Road, HOUNSLOW, Middlesex, TW5 0QU","TW5 0QU","TW5 "]
[null,null,null,null,null,null,null,null,null,null,null,null,null,null,null,"QRV",{"$f":"VLOOKUP(P812,'[1]CCG & RG names'!D:E,2,0)","v":"North West London Health & Care Partnership (STP)"},"W2U3Z",{"$f":"VLOOKUP(R812,'[1]CCG & RG names'!A:B,2,0)","v":"NHS NORTH WEST LONDON CCG"},"V004068","Rosary Cottage Dental Clinic, 61 Vicarage Farm Road, HOUNSLOW, Middlesex, TW3 4NH","TW3 4NH","TW3 "]
[null,null,null,null,null,null,null,null,null,null,null,null,null,null,null,"QRV",{"$f":"VLOOKUP(P813,'[1]CCG & RG names'!D:E,2,0)","v":"North West London Health & Care Partnership (STP)"},"W2U3Z",{"$f":"VLOOKUP(R813,'[1]CCG & RG names'!A:B,2,0)","v":"NHS NORTH WEST LONDON CCG"},"V004070","Ghauris Dental Practice, 113 Vicarage Farm Road, HOUNSLOW, Middlesex, TW5 0AA","TW5 0AA","TW5 "]
[null,null,null,null,null,null,null,null,null,null,null,null,null,null,null,"QRV",{"$f":"VLOOKUP(P814,'[1]CCG & RG names'!D:E,2,0)","v":"North West London Health & Care Partnership (STP)"},"W2U3Z",{"$f":"VLOOKUP(R814,'[1]CCG & RG names'!A:B,2,0)","v":"NHS NORTH WEST LONDON CCG"},"V004072","Dental Surgery, 229 Hounslow Road, Hanworth, FELTHAM, Middlesex, TW13 6AD","TW13 6AD","TW13"]
[null,null,null,null,null,null,null,null,null,null,null,null,null,null,null,"QRV",{"$f":"VLOOKUP(P815,'[1]CCG & RG names'!D:E,2,0)","v":"North West London Health & Care Partnership (STP)"},"W2U3Z",{"$f":"VLOOKUP(R815,'[1]CCG & RG names'!A:B,2,0)","v":"NHS NORTH WEST LONDON CCG"},"V004076","The Dental Surgery, 200 Hampton Road West, FELTHAM, Middlesex, TW13 6BG","TW13 6BG","TW13"]
[null,null,null,null,null,null,null,null,null,null,null,null,null,null,null,"QRV",{"$f":"VLOOKUP(P816,'[1]CCG & RG names'!D:E,2,0)","v":"North West London Health & Care Partnership (STP)"},"W2U3Z",{"$f":"VLOOKUP(R816,'[1]CCG & RG names'!A:B,2,0)","v":"NHS NORTH WEST LONDON CCG"},"V004088","Hamilton Dental Care, 8 Hamilton Parade, Feltham Hill Road, FELTHAM, Middlesex, TW13 4PJ","TW13 4PJ","TW13"]
[null,null,null,null,null,null,null,null,null,null,null,null,null,null,null,"QRV",{"$f":"VLOOKUP(P817,'[1]CCG & RG names'!D:E,2,0)","v":"North West London Health & Care Partnership (STP)"},"W2U3Z",{"$f":"VLOOKUP(R817,'[1]CCG & RG names'!A:B,2,0)","v":"NHS NORTH WEST LONDON CCG"},"V004109","Dental Surgery, 60 Thames Road, LONDON, W4 3RE","W4 3RE","W4 "]
[null,null,null,null,null,null,null,null,null,null,null,null,null,null,null,"QRV",{"$f":"VLOOKUP(P818,'[1]CCG & RG names'!D:E,2,0)","v":"North West London Health & Care Partnership (STP)"},"W2U3Z",{"$f":"VLOOKUP(R818,'[1]CCG & RG names'!A:B,2,0)","v":"NHS NORTH WEST LONDON CCG"},"V004225","Inspire Dental Health, 500 Edgware Road, LONDON, W2 1EJ","W2 1EJ","W2 "]
[null,null,null,null,null,null,null,null,null,null,null,null,null,null,null,"QRV",{"$f":"VLOOKUP(P819,'[1]CCG & RG names'!D:E,2,0)","v":"North West London Health & Care Partnership (STP)"},"W2U3Z",{"$f":"VLOOKUP(R819,'[1]CCG & RG names'!A:B,2,0)","v":"NHS NORTH WEST LONDON CCG"},"V004235","Dental Practice, 318 Kilburn Lane, London, W9 3EF","W9 3EF","W9 "]
[null,null,null,null,null,null,null,null,null,null,null,null,null,null,null,"QRV",{"$f":"VLOOKUP(P820,'[1]CCG & RG names'!D:E,2,0)","v":"North West London Health & Care Partnership (STP)"},"W2U3Z",{"$f":"VLOOKUP(R820,'[1]CCG & RG names'!A:B,2,0)","v":"NHS NORTH WEST LONDON CCG"},"V004259","Wisdom Dental Surgery, 11 The Broadway, Gunnersbury Lane, LONDON, W3 8HR","W3 8HR","W3 "]
[null,null,null,null,null,null,null,null,null,null,null,null,null,null,null,"QRV",{"$f":"VLOOKUP(P821,'[1]CCG & RG names'!D:E,2,0)","v":"North West London Health & Care Partnership (STP)"},"W2U3Z",{"$f":"VLOOKUP(R821,'[1]CCG & RG names'!A:B,2,0)","v":"NHS NORTH WEST LONDON CCG"},"V004307","233 Hounslow Road, Hanworth, FELTHAM, Middlesex, TW13 6AE","TW13 6AE","TW13"]
[null,null,null,null,null,null,null,null,null,null,null,null,null,null,null,"QRV",{"$f":"VLOOKUP(P822,'[1]CCG & RG names'!D:E,2,0)","v":"North West London Health & Care Partnership (STP)"},"W2U3Z",{"$f":"VLOOKUP(R822,'[1]CCG & RG names'!A:B,2,0)","v":"NHS NORTH WEST LONDON CCG"},"V004372","Gatoff And Moselhi, 22 Notting Hill Gate, LONDON, W11 3JE","W11 3JE","W11 "]
[null,null,null,null,null,null,null,null,null,null,null,null,null,null,null,"QRV",{"$f":"VLOOKUP(P823,'[1]CCG & RG names'!D:E,2,0)","v":"North West London Health & Care Partnership (STP)"},"W2U3Z",{"$f":"VLOOKUP(R823,'[1]CCG & RG names'!A:B,2,0)","v":"NHS NORTH WEST LONDON CCG"},"V004373","The Grove Dental Practice, 351 Ladbroke Grove, LONDON, W10 6HA","W10 6HA","W10 "]
[null,null,null,null,null,null,null,null,null,null,null,null,null,null,null,"QRV",{"$f":"VLOOKUP(P824,'[1]CCG & RG names'!D:E,2,0)","v":"North West London Health & Care Partnership (STP)"},"W2U3Z",{"$f":"VLOOKUP(R824,'[1]CCG & RG names'!A:B,2,0)","v":"NHS NORTH WEST LONDON CCG"},"V004379","92 Cannon Lane, PINNER, Middlesex, HA5 1HP","HA5 1HP","HA5 "]
[null,null,null,null,null,null,null,null,null,null,null,null,null,null,null,"QRV",{"$f":"VLOOKUP(P825,'[1]CCG & RG names'!D:E,2,0)","v":"North West London Health & Care Partnership (STP)"},"W2U3Z",{"$f":"VLOOKUP(R825,'[1]CCG & RG names'!A:B,2,0)","v":"NHS NORTH WEST LONDON CCG"},"V004390","104A Church Road, LONDON, NW10 9QH","NW10 9QH","NW10"]
[null,null,null,null,null,null,null,null,null,null,null,null,null,null,null,"QRV",{"$f":"VLOOKUP(P826,'[1]CCG & RG names'!D:E,2,0)","v":"North West London Health & Care Partnership (STP)"},"W2U3Z",{"$f":"VLOOKUP(R826,'[1]CCG & RG names'!A:B,2,0)","v":"NHS NORTH WEST LONDON CCG"},"V004433","Dental Surgery, 17 Albany Parade, High Street, BRENTFORD, Middlesex, TW8 0JW","TW8 0JW","TW8 "]
[null,null,null,null,null,null,null,null,null,null,null,null,null,null,null,"QRV",{"$f":"VLOOKUP(P827,'[1]CCG & RG names'!D:E,2,0)","v":"North West London Health & Care Partnership (STP)"},"W2U3Z",{"$f":"VLOOKUP(R827,'[1]CCG & RG names'!A:B,2,0)","v":"NHS NORTH WEST LONDON CCG"},"V004469","9 Salisbury Pavement, Dawes Road, LONDON, SW6 7HT","SW6 7HT","SW6 "]
[null,null,null,null,null,null,null,null,null,null,null,null,null,null,null,"QRV",{"$f":"VLOOKUP(P828,'[1]CCG & RG names'!D:E,2,0)","v":"North West London Health & Care Partnership (STP)"},"W2U3Z",{"$f":"VLOOKUP(R828,'[1]CCG & RG names'!A:B,2,0)","v":"NHS NORTH WEST LONDON CCG"},"V004476","Dental Surgery, 316 Uxbridge Road, LONDON, W12 7LJ","W12 7LJ","W12 "]
[null,null,null,null,null,null,null,null,null,null,null,null,null,null,null,"QRV",{"$f":"VLOOKUP(P829,'[1]CCG & RG names'!D:E,2,0)","v":"North West London Health & Care Partnership (STP)"},"W2U3Z",{"$f":"VLOOKUP(R829,'[1]CCG & RG names'!A:B,2,0)","v":"NHS NORTH WEST LONDON CCG"},"V004505","St Clements Dental Care, 60 - 62 Fulham Palace Road, LONDON, W6 9PH","W6 9PH","W6 "]
[null,null,null,null,null,null,null,null,null,null,null,null,null,null,null,"QRV",{"$f":"VLOOKUP(P830,'[1]CCG & RG names'!D:E,2,0)","v":"North West London Health & Care Partnership (STP)"},"W2U3Z",{"$f":"VLOOKUP(R830,'[1]CCG & RG names'!A:B,2,0)","v":"NHS NORTH WEST LONDON CCG"},"V004509","Smile for Life Dental Clinic, 307 - 309 King Street, LONDON, W6 9NH","W6 9NH","W6 "]
[null,null,null,null,null,null,null,null,null,null,null,null,null,null,null,"QRV",{"$f":"VLOOKUP(P831,'[1]CCG & RG names'!D:E,2,0)","v":"North West London Health & Care Partnership (STP)"},"W2U3Z",{"$f":"VLOOKUP(R831,'[1]CCG & RG names'!A:B,2,0)","v":"NHS NORTH WEST LONDON CCG"},"V004519","Dental Surgery, 186 King Street, LONDON, W6 0RA","W6 0RA","W6 "]
[null,null,null,null,null,null,null,null,null,null,null,null,null,null,null,"QRV",{"$f":"VLOOKUP(P832,'[1]CCG & RG names'!D:E,2,0)","v":"North West London Health & Care Partnership (STP)"},"W2U3Z",{"$f":"VLOOKUP(R832,'[1]CCG & RG names'!A:B,2,0)","v":"NHS NORTH WEST LONDON CCG"},"V004520","The Smile Clinic Co Uk, 86 Fulham Palace Road, LONDON, W6 9PL","W6 9PL","W6 "]
[null,null,null,null,null,null,null,null,null,null,null,null,null,null,null,"QRV",{"$f":"VLOOKUP(P833,'[1]CCG & RG names'!D:E,2,0)","v":"North West London Health & Care Partnership (STP)"},"W2U3Z",{"$f":"VLOOKUP(R833,'[1]CCG & RG names'!A:B,2,0)","v":"NHS NORTH WEST LONDON CCG"},"V004528","Dental Surgery, 750A Fulham Road, LONDON, SW6 5SH","SW6 5SH","SW6 "]
[null,null,null,null,null,null,null,null,null,null,null,null,null,null,null,"QRV",{"$f":"VLOOKUP(P834,'[1]CCG & RG names'!D:E,2,0)","v":"North West London Health & Care Partnership (STP)"},"W2U3Z",{"$f":"VLOOKUP(R834,'[1]CCG & RG names'!A:B,2,0)","v":"NHS NORTH WEST LONDON CCG"},"V004529","Apple Dental Care, 94 Lillie Road, LONDON, SW6 7SR","SW6 7SR","SW6 "]
[null,null,null,null,null,null,null,null,null,null,null,null,null,null,null,"QRV",{"$f":"VLOOKUP(P835,'[1]CCG & RG names'!D:E,2,0)","v":"North West London Health & Care Partnership (STP)"},"W2U3Z",{"$f":"VLOOKUP(R835,'[1]CCG & RG names'!A:B,2,0)","v":"NHS NORTH WEST LONDON CCG"},"V004530","Dental Surgery, 59 New Kings Road, LONDON, SW6 4SE","SW6 4SE",{"$f":"IF(MID(V835,3,1) =\" \",LEFT(V835,3),LEFT(V835,4))","v":"SW6 "}]
[null,null,null,null,null,null,null,null,null,null,null,null,null,null,null,"QRV",{"$f":"VLOOKUP(P836,'[1]CCG & RG names'!D:E,2,0)","v":"North West London Health & Care Partnership (STP)"},"W2U3Z",{"$f":"VLOOKUP(R836,'[1]CCG & RG names'!A:B,2,0)","v":"NHS NORTH WEST LONDON CCG"},"V004532","Dental Surgery, 337 North End Road, LONDON, SW6 1NN","SW6 1NN","SW6 "]
[null,null,null,null,null,null,null,null,null,null,null,null,null,null,null,"QRV",{"$f":"VLOOKUP(P837,'[1]CCG & RG names'!D:E,2,0)","v":"North West London Health & Care Partnership (STP)"},"W2U3Z",{"$f":"VLOOKUP(R837,'[1]CCG & RG names'!A:B,2,0)","v":"NHS NORTH WEST LONDON CCG"},"V004533","Tooth and Mouth, 355 North End Road, LONDON, SW6 1NW","SW6 1NW","SW6 "]
[null,null,null,null,null,null,null,null,null,null,null,null,null,null,null,"QRV",{"$f":"VLOOKUP(P838,'[1]CCG & RG names'!D:E,2,0)","v":"North West London Health & Care Partnership (STP)"},"W2U3Z",{"$f":"VLOOKUP(R838,'[1]CCG & RG names'!A:B,2,0)","v":"NHS NORTH WEST LONDON CCG"},"V004538","247 Munster Road, LONDON, SW6 6BS","SW6 6BS","SW6 "]
[null,null,null,null,null,null,null,null,null,null,null,null,null,null,null,"QRV",{"$f":"VLOOKUP(P839,'[1]CCG & RG names'!D:E,2,0)","v":"North West London Health & Care Partnership (STP)"},"W2U3Z",{"$f":"VLOOKUP(R839,'[1]CCG & RG names'!A:B,2,0)","v":"NHS NORTH WEST LONDON CCG"},"V004540","Dental Surgery, 377 North End Road, LONDON, SW6 1NP","SW6 1NP","SW6 "]
[null,null,null,null,null,null,null,null,null,null,null,null,null,null,null,"QRV",{"$f":"VLOOKUP(P840,'[1]CCG & RG names'!D:E,2,0)","v":"North West London Health & Care Partnership (STP)"},"W2U3Z",{"$f":"VLOOKUP(R840,'[1]CCG & RG names'!A:B,2,0)","v":"NHS NORTH WEST LONDON CCG"},"V004548","West Kensington NHS Dental Practice, 195 North End Road, LONDON, W14 9NL","W14 9NL","W14 "]
[null,null,null,null,null,null,null,null,null,null,null,null,null,null,null,"QRV",{"$f":"VLOOKUP(P841,'[1]CCG & RG names'!D:E,2,0)","v":"North West London Health & Care Partnership (STP)"},"W2U3Z",{"$f":"VLOOKUP(R841,'[1]CCG & RG names'!A:B,2,0)","v":"NHS NORTH WEST LONDON CCG"},"V004550","Kensington Orthodontic Clinic, 8 Netherwood Road, LONDON, W14 0BJ","W14 0BJ","W14 "]
[null,null,null,null,null,null,null,null,null,null,null,null,null,null,null,"QRV",{"$f":"VLOOKUP(P842,'[1]CCG & RG names'!D:E,2,0)","v":"North West London Health & Care Partnership (STP)"},"W2U3Z",{"$f":"VLOOKUP(R842,'[1]CCG & RG names'!A:B,2,0)","v":"NHS NORTH WEST LONDON CCG"},"V004576","Dental Surgery, 1 Batman Close, White City Estate, LONDON, W12 7NU","W12 7NU","W12 "]
[null,null,null,null,null,null,null,null,null,null,null,null,null,null,null,"QRV",{"$f":"VLOOKUP(P843,'[1]CCG & RG names'!D:E,2,0)","v":"North West London Health & Care Partnership (STP)"},"W2U3Z",{"$f":"VLOOKUP(R843,'[1]CCG & RG names'!A:B,2,0)","v":"NHS NORTH WEST LONDON CCG"},"V004577","Dental Surgery, 149 Askew Road, LONDON, W12 9AU","W12 9AU","W12 "]
[null,null,null,null,null,null,null,null,null,null,null,null,null,null,null,"QRV",{"$f":"VLOOKUP(P844,'[1]CCG & RG names'!D:E,2,0)","v":"North West London Health & Care Partnership (STP)"},"W2U3Z",{"$f":"VLOOKUP(R844,'[1]CCG & RG names'!A:B,2,0)","v":"NHS NORTH WEST LONDON CCG"},"V004579","Dental Surgery, 94 Goldhawk Road, LONDON, W12 8HD","W12 8HD","W12 "]
[null,null,null,null,null,null,null,null,null,null,null,null,null,null,null,"QRV",{"$f":"VLOOKUP(P845,'[1]CCG & RG names'!D:E,2,0)","v":"North West London Health & Care Partnership (STP)"},"W2U3Z",{"$f":"VLOOKUP(R845,'[1]CCG & RG names'!A:B,2,0)","v":"NHS NORTH WEST LONDON CCG"},"V004590","Dental Centre 100, 67 - 67A Askew Road, LONDON, W12 9AH","W12 9AH","W12 "]
[null,null,null,null,null,null,null,null,null,null,null,null,null,null,null,"QRV",{"$f":"VLOOKUP(P846,'[1]CCG & RG names'!D:E,2,0)","v":"North West London Health & Care Partnership (STP)"},"W2U3Z",{"$f":"VLOOKUP(R846,'[1]CCG & RG names'!A:B,2,0)","v":"NHS NORTH WEST LONDON CCG"},"V004594","International Dental Centre, 159 Uxbridge Road, LONDON, LONDON, W12 9RB","W12 9RB","W12 "]
[null,null,null,null,null,null,null,null,null,null,null,null,null,null,null,"QRV",{"$f":"VLOOKUP(P847,'[1]CCG & RG names'!D:E,2,0)","v":"North West London Health & Care Partnership (STP)"},"W2U3Z",{"$f":"VLOOKUP(R847,'[1]CCG & RG names'!A:B,2,0)","v":"NHS NORTH WEST LONDON CCG"},"V004626","The Dental Department, HM Prison, Wormwood Scrubs, Du Cane Road, London, W12 0AE","W12 0AE","W12 "]
[null,null,null,null,null,null,null,null,null,null,null,null,null,null,null,"QRV",{"$f":"VLOOKUP(P848,'[1]CCG & RG names'!D:E,2,0)","v":"North West London Health & Care Partnership (STP)"},"W2U3Z",{"$f":"VLOOKUP(R848,'[1]CCG & RG names'!A:B,2,0)","v":"NHS NORTH WEST LONDON CCG"},"V004627","Dental Surgery, 9 Goldhawk Road, LONDON, W12 8QQ","W12 8QQ","W12 "]
[null,null,null,null,null,null,null,null,null,null,null,null,null,null,null,"QRV",{"$f":"VLOOKUP(P849,'[1]CCG & RG names'!D:E,2,0)","v":"North West London Health & Care Partnership (STP)"},"W2U3Z",{"$f":"VLOOKUP(R849,'[1]CCG & RG names'!A:B,2,0)","v":"NHS NORTH WEST LONDON CCG"},"V004627","Dental Surgery, 9 Goldhawk Road, LONDON, W12 8QQ","W12 8QQ","W12 "]
[null,null,null,null,null,null,null,null,null,null,null,null,null,null,null,"QRV",{"$f":"VLOOKUP(P850,'[1]CCG & RG names'!D:E,2,0)","v":"North West London Health & Care Partnership (STP)"},"W2U3Z",{"$f":"VLOOKUP(R850,'[1]CCG & RG names'!A:B,2,0)","v":"NHS NORTH WEST LONDON CCG"},"V004627","Dental Surgery, 9 Goldhawk Road, LONDON, W12 8QQ","W12 8QQ","W12 "]
[null,null,null,null,null,null,null,null,null,null,null,null,null,null,null,"QRV",{"$f":"VLOOKUP(P851,'[1]CCG & RG names'!D:E,2,0)","v":"North West London Health & Care Partnership (STP)"},"W2U3Z",{"$f":"VLOOKUP(R851,'[1]CCG & RG names'!A:B,2,0)","v":"NHS NORTH WEST LONDON CCG"},"V005068","Notting Hill Dental Surgery, 22 Pembridge Road, LONDON, W11 3HL","W11 3HL","W11 "]
[null,null,null,null,null,null,null,null,null,null,null,null,null,null,null,"QRV",{"$f":"VLOOKUP(P852,'[1]CCG & RG names'!D:E,2,0)","v":"North West London Health & Care Partnership (STP)"},"W2U3Z",{"$f":"VLOOKUP(R852,'[1]CCG & RG names'!A:B,2,0)","v":"NHS NORTH WEST LONDON CCG"},"V005070","Ghauri Dental Centre, 247 Westbourne Grove, LONDON, W11 2SE","W11 2SE","W11 "]
[null,null,null,null,null,null,null,null,null,null,null,null,null,null,null,"QRV",{"$f":"VLOOKUP(P853,'[1]CCG & RG names'!D:E,2,0)","v":"North West London Health & Care Partnership (STP)"},"W2U3Z",{"$f":"VLOOKUP(R853,'[1]CCG & RG names'!A:B,2,0)","v":"NHS NORTH WEST LONDON CCG"},"V005075","Dental Surgery, 59 Golborne Road, LONDON, W10 5NR","W10 5NR","W10 "]
[null,null,null,null,null,null,null,null,null,null,null,null,null,null,null,"QRV",{"$f":"VLOOKUP(P854,'[1]CCG & RG names'!D:E,2,0)","v":"North West London Health & Care Partnership (STP)"},"W2U3Z",{"$f":"VLOOKUP(R854,'[1]CCG & RG names'!A:B,2,0)","v":"NHS NORTH WEST LONDON CCG"},"V005076","Oracare Dental, 244 Kensington High Street, LONDON, W8 6ND","W8 6ND","W8 "]
[null,null,null,null,null,null,null,null,null,null,null,null,null,null,null,"QRV",{"$f":"VLOOKUP(P855,'[1]CCG & RG names'!D:E,2,0)","v":"North West London Health & Care Partnership (STP)"},"W2U3Z",{"$f":"VLOOKUP(R855,'[1]CCG & RG names'!A:B,2,0)","v":"NHS NORTH WEST LONDON CCG"},"V005102","All Saints Dental Clinic, 9 All Saints Road, LONDON, W11 1HA","W11 1HA","W11 "]
[null,null,null,null,null,null,null,null,null,null,null,null,null,null,null,"QRV",{"$f":"VLOOKUP(P856,'[1]CCG & RG names'!D:E,2,0)","v":"North West London Health & Care Partnership (STP)"},"W2U3Z",{"$f":"VLOOKUP(R856,'[1]CCG & RG names'!A:B,2,0)","v":"NHS NORTH WEST LONDON CCG"},"V005103","Dental Surgery, 113A Burnt Oak Broadway, EDGWARE, Middlesex, Middlesex, HA8 5EN","HA8 5EN","HA8 "]
[null,null,null,null,null,null,null,null,null,null,null,null,null,null,null,"QRV",{"$f":"VLOOKUP(P857,'[1]CCG & RG names'!D:E,2,0)","v":"North West London Health & Care Partnership (STP)"},"W2U3Z",{"$f":"VLOOKUP(R857,'[1]CCG & RG names'!A:B,2,0)","v":"NHS NORTH WEST LONDON CCG"},"V005106","Dental Surgery, 118 Ladbroke Grove, LONDON, W10 5NE","W10 5NE","W10 "]
[null,null,null,null,null,null,null,null,null,null,null,null,null,null,null,"QRV",{"$f":"VLOOKUP(P858,'[1]CCG & RG names'!D:E,2,0)","v":"North West London Health & Care Partnership (STP)"},"W2U3Z",{"$f":"VLOOKUP(R858,'[1]CCG & RG names'!A:B,2,0)","v":"NHS NORTH WEST LONDON CCG"},"V005107","Dental Surgery, 4 Worlds End Place, LONDON, SW10 0HE","SW10 0HE","SW10"]
[null,null,null,null,null,null,null,null,null,null,null,null,null,null,null,"QRV",{"$f":"VLOOKUP(P859,'[1]CCG & RG names'!D:E,2,0)","v":"North West London Health & Care Partnership (STP)"},"W2U3Z",{"$f":"VLOOKUP(R859,'[1]CCG & RG names'!A:B,2,0)","v":"NHS NORTH WEST LONDON CCG"},"V005108","Dental Surgery, 242 - 244 Fulham Road, LONDON, SW10 9NA","SW10 9NA","SW10"]
[null,null,null,null,null,null,null,null,null,null,null,null,null,null,null,"QRV",{"$f":"VLOOKUP(P860,'[1]CCG & RG names'!D:E,2,0)","v":"North West London Health & Care Partnership (STP)"},"W2U3Z",{"$f":"VLOOKUP(R860,'[1]CCG & RG names'!A:B,2,0)","v":"NHS NORTH WEST LONDON CCG"},"V005109","Family Dental Care, 160 Marsh Lane, STANMORE, Middlesex, HA7 4HT","HA7 4HT","HA7 "]
[null,null,null,null,null,null,null,null,null,null,null,null,null,null,null,"QRV",{"$f":"VLOOKUP(P861,'[1]CCG & RG names'!D:E,2,0)","v":"North West London Health & Care Partnership (STP)"},"W2U3Z",{"$f":"VLOOKUP(R861,'[1]CCG & RG names'!A:B,2,0)","v":"NHS NORTH WEST LONDON CCG"},"V005112","Family Dental Care, 160 Marsh Lane, STANMORE, Middlesex, HA7 4HT","HA7 4HT","HA7 "]
[null,null,null,null,null,null,null,null,null,null,null,null,null,null,null,"QRV",{"$f":"VLOOKUP(P862,'[1]CCG & RG names'!D:E,2,0)","v":"North West London Health & Care Partnership (STP)"},"W2U3Z",{"$f":"VLOOKUP(R862,'[1]CCG & RG names'!A:B,2,0)","v":"NHS NORTH WEST LONDON CCG"},"V005114","Khiroya Dentist, 218 Pinner Road, HARROW, Middlesex, HA1 4JU","HA1 4JU","HA1 "]
[null,null,null,null,null,null,null,null,null,null,null,null,null,null,null,"QRV",{"$f":"VLOOKUP(P863,'[1]CCG & RG names'!D:E,2,0)","v":"North West London Health & Care Partnership (STP)"},"W2U3Z",{"$f":"VLOOKUP(R863,'[1]CCG & RG names'!A:B,2,0)","v":"NHS NORTH WEST LONDON CCG"},"V005126","Care Dental Burnt Oak, 2 Stag Lane, EDGWARE, Middlesex, HA8 5JY","HA8 5JY","HA8 "]
[null,null,null,null,null,null,null,null,null,null,null,null,null,null,null,"QRV",{"$f":"VLOOKUP(P864,'[1]CCG & RG names'!D:E,2,0)","v":"North West London Health & Care Partnership (STP)"},"W2U3Z",{"$f":"VLOOKUP(R864,'[1]CCG & RG names'!A:B,2,0)","v":"NHS NORTH WEST LONDON CCG"},"V005171","Belmont Dental Surgery, 7 Station Parade, Kenton Lane, HARROW, Middlesex, HA3 8SB","HA3 8SB","HA3 "]
[null,null,null,null,null,null,null,null,null,null,null,null,null,null,null,"QRV",{"$f":"VLOOKUP(P865,'[1]CCG & RG names'!D:E,2,0)","v":"North West London Health & Care Partnership (STP)"},"W2U3Z",{"$f":"VLOOKUP(R865,'[1]CCG & RG names'!A:B,2,0)","v":"NHS NORTH WEST LONDON CCG"},"V005175","Lawsons Dental Surgery, 450 Rayners Lane, PINNER, Middlesex, HA5 5DX","HA5 5DX","HA5 "]
[null,null,null,null,null,null,null,null,null,null,null,null,null,null,null,"QRV",{"$f":"VLOOKUP(P866,'[1]CCG & RG names'!D:E,2,0)","v":"North West London Health & Care Partnership (STP)"},"W2U3Z",{"$f":"VLOOKUP(R866,'[1]CCG & RG names'!A:B,2,0)","v":"NHS NORTH WEST LONDON CCG"},"V005296","Dental Surgery, 206 Streatfield Road, HARROW, Middlesex, HA3 9BU","HA3 9BU","HA3 "]
[null,null,null,null,null,null,null,null,null,null,null,null,null,null,null,"QRV",{"$f":"VLOOKUP(P867,'[1]CCG & RG names'!D:E,2,0)","v":"North West London Health & Care Partnership (STP)"},"W2U3Z",{"$f":"VLOOKUP(R867,'[1]CCG & RG names'!A:B,2,0)","v":"NHS NORTH WEST LONDON CCG"},"V005398","The Bush Dental Clinic, 278 Uxbridge Road, LONDON, W12 7JA","W12 7JA","W12 "]
[null,null,null,null,null,null,null,null,null,null,null,null,null,null,null,"QRV",{"$f":"VLOOKUP(P868,'[1]CCG & RG names'!D:E,2,0)","v":"North West London Health & Care Partnership (STP)"},"W2U3Z",{"$f":"VLOOKUP(R868,'[1]CCG & RG names'!A:B,2,0)","v":"NHS NORTH WEST LONDON CCG"},"V005413","Dental Surgery, 74 Old Oak Common Lane, LONDON, W3 7DA","W3 7DA","W3 "]
[null,null,null,null,null,null,null,null,null,null,null,null,null,null,null,"QRV",{"$f":"VLOOKUP(P869,'[1]CCG & RG names'!D:E,2,0)","v":"North West London Health & Care Partnership (STP)"},"W2U3Z",{"$f":"VLOOKUP(R869,'[1]CCG & RG names'!A:B,2,0)","v":"NHS NORTH WEST LONDON CCG"},"V005457","118 - 120 Hammersmith Road, London, W6 7JP","W6 7JP","W6 "]
[null,null,null,null,null,null,null,null,null,null,null,null,null,null,null,"QRV",{"$f":"VLOOKUP(P870,'[1]CCG & RG names'!D:E,2,0)","v":"North West London Health & Care Partnership (STP)"},"W2U3Z",{"$f":"VLOOKUP(R870,'[1]CCG & RG names'!A:B,2,0)","v":"NHS NORTH WEST LONDON CCG"},"V005460","Smile for Life Dental Clinic, 14 Broadway Chambers, Hammersmith, London, W6 7AF","W6 7AF","W6 "]
[null,null,null,null,null,null,null,null,null,null,null,null,null,null,null,"QRV",{"$f":"VLOOKUP(P871,'[1]CCG & RG names'!D:E,2,0)","v":"North West London Health & Care Partnership (STP)"},"W2U3Z",{"$f":"VLOOKUP(R871,'[1]CCG & RG names'!A:B,2,0)","v":"NHS NORTH WEST LONDON CCG"},"V005464","V K Patel And Associates, The Dental Clinic, 407 Kings Road, LONDON, SW10 0LR","SW10 0LR","SW10"]
[null,null,null,null,null,null,null,null,null,null,null,null,null,null,null,"QRV",{"$f":"VLOOKUP(P872,'[1]CCG & RG names'!D:E,2,0)","v":"North West London Health & Care Partnership (STP)"},"W2U3Z",{"$f":"VLOOKUP(R872,'[1]CCG & RG names'!A:B,2,0)","v":"NHS NORTH WEST LONDON CCG"},"V006269","Dental Surgery, 63 Park View Road, LONDON, NW10 1AJ","NW10 1AJ","NW10"]
[null,null,null,null,null,null,null,null,null,null,null,null,null,null,null,"QRV",{"$f":"VLOOKUP(P873,'[1]CCG & RG names'!D:E,2,0)","v":"North West London Health & Care Partnership (STP)"},"W2U3Z",{"$f":"VLOOKUP(R873,'[1]CCG & RG names'!A:B,2,0)","v":"NHS NORTH WEST LONDON CCG"},"V006278","Dental Surgery, 223 High Road, LONDON, NW10 2RY","NW10 2RY","NW10"]
[null,null,null,null,null,null,null,null,null,null,null,null,null,null,null,"QRV",{"$f":"VLOOKUP(P874,'[1]CCG & RG names'!D:E,2,0)","v":"North West London Health & Care Partnership (STP)"},"W2U3Z",{"$f":"VLOOKUP(R874,'[1]CCG & RG names'!A:B,2,0)","v":"NHS NORTH WEST LONDON CCG"},"V006279","Brentfield Medical Centre, 10 Kingfisher Way, LONDON, NW10 8TF","NW10 8TF","NW10"]
[null,null,null,null,null,null,null,null,null,null,null,null,null,null,null,"QRV",{"$f":"VLOOKUP(P875,'[1]CCG & RG names'!D:E,2,0)","v":"North West London Health & Care Partnership (STP)"},"W2U3Z",{"$f":"VLOOKUP(R875,'[1]CCG & RG names'!A:B,2,0)","v":"NHS NORTH WEST LONDON CCG"},"V006282","Dental Surgery, 83 High Street, Harlesden, London, NW10 4NT","NW10 4NT","NW10"]
[null,null,null,null,null,null,null,null,null,null,null,null,null,null,null,"QRV",{"$f":"VLOOKUP(P876,'[1]CCG & RG names'!D:E,2,0)","v":"North West London Health & Care Partnership (STP)"},"W2U3Z",{"$f":"VLOOKUP(R876,'[1]CCG & RG names'!A:B,2,0)","v":"NHS NORTH WEST LONDON CCG"},"V006285","Dental Surgery, 182 High Street, LONDON, NW10 4ST","NW10 4ST","NW10"]
[null,null,null,null,null,null,null,null,null,null,null,null,null,null,null,"QRV",{"$f":"VLOOKUP(P877,'[1]CCG & RG names'!D:E,2,0)","v":"North West London Health & Care Partnership (STP)"},"W2U3Z",{"$f":"VLOOKUP(R877,'[1]CCG & RG names'!A:B,2,0)","v":"NHS NORTH WEST LONDON CCG"},"V006669","Dental Surgery, 211 The Heights, NORTHOLT, Middlesex, UB5 4BX","UB5 4BX","UB5 "]
[null,null,null,null,null,null,null,null,null,null,null,null,null,null,null,"QRV",{"$f":"VLOOKUP(P878,'[1]CCG & RG names'!D:E,2,0)","v":"North West London Health & Care Partnership (STP)"},"W2U3Z",{"$f":"VLOOKUP(R878,'[1]CCG & RG names'!A:B,2,0)","v":"NHS NORTH WEST LONDON CCG"},"V006670","Wise Lane Dental Surgery, 524 Kenton Lane, HARROW, Middlesex, HA3 7LL","HA3 7LL","HA3 "]
[null,null,null,null,null,null,null,null,null,null,null,null,null,null,null,"QRV",{"$f":"VLOOKUP(P879,'[1]CCG & RG names'!D:E,2,0)","v":"North West London Health & Care Partnership (STP)"},"W2U3Z",{"$f":"VLOOKUP(R879,'[1]CCG & RG names'!A:B,2,0)","v":"NHS NORTH WEST LONDON CCG"},"V006671","Dental Surgery, 198 High Road, HARROW, Middlesex, HA3 7BA","HA3 7BA","HA3 "]
[null,null,null,null,null,null,null,null,null,null,null,null,null,null,null,"QRV",{"$f":"VLOOKUP(P880,'[1]CCG & RG names'!D:E,2,0)","v":"North West London Health & Care Partnership (STP)"},"W2U3Z",{"$f":"VLOOKUP(R880,'[1]CCG & RG names'!A:B,2,0)","v":"NHS NORTH WEST LONDON CCG"},"V006692","Dental Surgery, 106A Mollison Way, EDGWARE, Middlesex, HA8 5QT","HA8 5QT","HA8 "]
[null,null,null,null,null,null,null,null,null,null,null,null,null,null,null,"QRV",{"$f":"VLOOKUP(P881,'[1]CCG & RG names'!D:E,2,0)","v":"North West London Health & Care Partnership (STP)"},"W2U3Z",{"$f":"VLOOKUP(R881,'[1]CCG & RG names'!A:B,2,0)","v":"NHS NORTH WEST LONDON CCG"},"V006697","Revital Dental Care, 4 Shaftesbury Parade, Shaftesbury Avenue, South Harrow, HARROW, HA2 0AJ","HA2 0AJ","HA2 "]
[null,null,null,null,null,null,null,null,null,null,null,null,null,null,null,"QRV",{"$f":"VLOOKUP(P882,'[1]CCG & RG names'!D:E,2,0)","v":"North West London Health & Care Partnership (STP)"},"W2U3Z",{"$f":"VLOOKUP(R882,'[1]CCG & RG names'!A:B,2,0)","v":"NHS NORTH WEST LONDON CCG"},"V006824","80 Kensington Dental Clinic, 80 Kensington High Street, London, W8 4SG","W8 4SG","W8 "]
[null,null,null,null,null,null,null,null,null,null,null,null,null,null,null,"QRV",{"$f":"VLOOKUP(P883,'[1]CCG & RG names'!D:E,2,0)","v":"North West London Health & Care Partnership (STP)"},"W2U3Z",{"$f":"VLOOKUP(R883,'[1]CCG & RG names'!A:B,2,0)","v":"NHS NORTH WEST LONDON CCG"},"V006911","Dental Surgery, 6 Warden Avenue, HARROW, Middlesex, HA2 9LW","HA2 9LW","HA2 "]
[null,null,null,null,null,null,null,null,null,null,null,null,null,null,null,"QRV",{"$f":"VLOOKUP(P884,'[1]CCG & RG names'!D:E,2,0)","v":"North West London Health & Care Partnership (STP)"},"W2U3Z",{"$f":"VLOOKUP(R884,'[1]CCG & RG names'!A:B,2,0)","v":"NHS NORTH WEST LONDON CCG"},"V006975","Soho Orthodontic Clinic, 29 - 30 Soho Square, LONDON, W1D 3QS","W1D 3QS","W1D "]
[null,null,null,null,null,null,null,null,null,null,null,null,null,null,null,"QRV",{"$f":"VLOOKUP(P885,'[1]CCG & RG names'!D:E,2,0)","v":"North West London Health & Care Partnership (STP)"},"W2U3Z",{"$f":"VLOOKUP(R885,'[1]CCG & RG names'!A:B,2,0)","v":"NHS NORTH WEST LONDON CCG"},"V007030","234 Edgware Road, LONDON, W2 1DW","W2 1DW","W2 "]
[null,null,null,null,null,null,null,null,null,null,null,null,null,null,null,"QRV",{"$f":"VLOOKUP(P886,'[1]CCG & RG names'!D:E,2,0)","v":"North West London Health & Care Partnership (STP)"},"W2U3Z",{"$f":"VLOOKUP(R886,'[1]CCG & RG names'!A:B,2,0)","v":"NHS NORTH WEST LONDON CCG"},"V007152","Station Road Dental Surgery, 96 Station Road, HARROW, Middlesex, HA1 2RX","HA1 2RX","HA1 "]
[null,null,null,null,null,null,null,null,null,null,null,null,null,null,null,"QRV",{"$f":"VLOOKUP(P887,'[1]CCG & RG names'!D:E,2,0)","v":"North West London Health & Care Partnership (STP)"},"W2U3Z",{"$f":"VLOOKUP(R887,'[1]CCG & RG names'!A:B,2,0)","v":"NHS NORTH WEST LONDON CCG"},"V007154","300 Kenton Road, HARROW, Middlesex, HA3 8DD","HA3 8DD","HA3 "]
[null,null,null,null,null,null,null,null,null,null,null,null,null,null,null,"QRV",{"$f":"VLOOKUP(P888,'[1]CCG & RG names'!D:E,2,0)","v":"North West London Health & Care Partnership (STP)"},"W2U3Z",{"$f":"VLOOKUP(R888,'[1]CCG & RG names'!A:B,2,0)","v":"NHS NORTH WEST LONDON CCG"},"V007163","Denticare, 377 High Road, HARROW, Middlesex, HA3 6EL","HA3 6EL","HA3 "]
[null,null,null,null,null,null,null,null,null,null,null,null,null,null,null,"QRV",{"$f":"VLOOKUP(P889,'[1]CCG & RG names'!D:E,2,0)","v":"North West London Health & Care Partnership (STP)"},"W2U3Z",{"$f":"VLOOKUP(R889,'[1]CCG & RG names'!A:B,2,0)","v":"NHS NORTH WEST LONDON CCG"},"V007171","Associated Dental Practices, 392 Edgware Road, LONDON, W2 1ED","W2 1ED","W2 "]
[null,null,null,null,null,null,null,null,null,null,null,null,null,null,null,"QRV",{"$f":"VLOOKUP(P890,'[1]CCG & RG names'!D:E,2,0)","v":"North West London Health & Care Partnership (STP)"},"W2U3Z",{"$f":"VLOOKUP(R890,'[1]CCG & RG names'!A:B,2,0)","v":"NHS NORTH WEST LONDON CCG"},"V007234","The Church Street Dental Practic, 69 Church Street, LONDON, NW8 8EU","NW8 8EU","NW8 "]
[null,null,null,null,null,null,null,null,null,null,null,null,null,null,null,"QRV",{"$f":"VLOOKUP(P891,'[1]CCG & RG names'!D:E,2,0)","v":"North West London Health & Care Partnership (STP)"},"W2U3Z",{"$f":"VLOOKUP(R891,'[1]CCG & RG names'!A:B,2,0)","v":"NHS NORTH WEST LONDON CCG"},"V007236","Madia Vale Dental Practice, 2 Walterton Road, LONDON, W9 3PN","W9 3PN","W9 "]
[null,null,null,null,null,null,null,null,null,null,null,null,null,null,null,"QRV",{"$f":"VLOOKUP(P892,'[1]CCG & RG names'!D:E,2,0)","v":"North West London Health & Care Partnership (STP)"},"W2U3Z",{"$f":"VLOOKUP(R892,'[1]CCG & RG names'!A:B,2,0)","v":"NHS NORTH WEST LONDON CCG"},"V007237","Flat 1, 50 Kensington Gardens Square, LONDON, W2 4BA","W2 4BA","W2 "]
[null,null,null,null,null,null,null,null,null,null,null,null,null,null,null,"QRV",{"$f":"VLOOKUP(P893,'[1]CCG & RG names'!D:E,2,0)","v":"North West London Health & Care Partnership (STP)"},"W2U3Z",{"$f":"VLOOKUP(R893,'[1]CCG & RG names'!A:B,2,0)","v":"NHS NORTH WEST LONDON CCG"},"V007240","Harrow Dental Practice, 349 Harrow Road, LONDON, W9 3RA","W9 3RA","W9 "]
[null,null,null,null,null,null,null,null,null,null,null,null,null,null,null,"QRV",{"$f":"VLOOKUP(P894,'[1]CCG & RG names'!D:E,2,0)","v":"North West London Health & Care Partnership (STP)"},"W2U3Z",{"$f":"VLOOKUP(R894,'[1]CCG & RG names'!A:B,2,0)","v":"NHS NORTH WEST LONDON CCG"},"V007241","Dental Surgery, Imperial College Health Centre, Princes Gardens, LONDON, SW7 1NA","SW7 1NA","SW7 "]
[null,null,null,null,null,null,null,null,null,null,null,null,null,null,null,"QRV",{"$f":"VLOOKUP(P895,'[1]CCG & RG names'!D:E,2,0)","v":"North West London Health & Care Partnership (STP)"},"W2U3Z",{"$f":"VLOOKUP(R895,'[1]CCG & RG names'!A:B,2,0)","v":"NHS NORTH WEST LONDON CCG"},"V007242","Lupus Street Dental Practice, 141 - 145 Lupus Street, LONDON, SW1V 3HD","SW1V 3HD","SW1V"]
[null,null,null,null,null,null,null,null,null,null,null,null,null,null,null,"QRV",{"$f":"VLOOKUP(P896,'[1]CCG & RG names'!D:E,2,0)","v":"North West London Health & Care Partnership (STP)"},"W2U3Z",{"$f":"VLOOKUP(R896,'[1]CCG & RG names'!A:B,2,0)","v":"NHS NORTH WEST LONDON CCG"},"V007243","Paddington Dental Practice, 17 Craven Road, LONDON, W2 3BP","W2 3BP","W2 "]
[null,null,null,null,null,null,null,null,null,null,null,null,null,null,null,"QRV",{"$f":"VLOOKUP(P897,'[1]CCG & RG names'!D:E,2,0)","v":"North West London Health & Care Partnership (STP)"},"W2U3Z",{"$f":"VLOOKUP(R897,'[1]CCG & RG names'!A:B,2,0)","v":"NHS NORTH WEST LONDON CCG"},"V007244","Queens Park Health Centre, Dart Street, LONDON, W10 4LD","W10 4LD","W10 "]
[null,null,null,null,null,null,null,null,null,null,null,null,null,null,null,"QRV",{"$f":"VLOOKUP(P898,'[1]CCG & RG names'!D:E,2,0)","v":"North West London Health & Care Partnership (STP)"},"W2U3Z",{"$f":"VLOOKUP(R898,'[1]CCG & RG names'!A:B,2,0)","v":"NHS NORTH WEST LONDON CCG"},"V007254","Dental Surgery, 54 Sheepcote Road, HARROW, Middlesex, HA1 2JF","HA1 2JF","HA1 "]
[null,null,null,null,null,null,null,null,null,null,null,null,null,null,null,"QRV",{"$f":"VLOOKUP(P899,'[1]CCG & RG names'!D:E,2,0)","v":"North West London Health & Care Partnership (STP)"},"W2U3Z",{"$f":"VLOOKUP(R899,'[1]CCG & RG names'!A:B,2,0)","v":"NHS NORTH WEST LONDON CCG"},"V007256","The Clocktower Dental Surgery, 132 High Street, Wealdstone, HARROW, Middlesex, HA3 7AL","HA3 7AL",{"$f":"IF(MID(V899,3,1) =\" \",LEFT(V899,3),LEFT(V899,4))","v":"HA3 "}]
[null,null,null,null,null,null,null,null,null,null,null,null,null,null,null,"QRV",{"$f":"VLOOKUP(P900,'[1]CCG & RG names'!D:E,2,0)","v":"North West London Health & Care Partnership (STP)"},"W2U3Z",{"$f":"VLOOKUP(R900,'[1]CCG & RG names'!A:B,2,0)","v":"NHS NORTH WEST LONDON CCG"},"V007258","Dental Surgery, 9 Church Road, STANMORE, Middlesex, HA7 4AR","HA7 4AR","HA7 "]
[null,null,null,null,null,null,null,null,null,null,null,null,null,null,null,"QRV",{"$f":"VLOOKUP(P901,'[1]CCG & RG names'!D:E,2,0)","v":"North West London Health & Care Partnership (STP)"},"W2U3Z",{"$f":"VLOOKUP(R901,'[1]CCG & RG names'!A:B,2,0)","v":"NHS NORTH WEST LONDON CCG"},"V007259","Cohen Dental Centre, 486 Uxbridge Road, Hatch End, Middlesex, HA5 4SL","HA5 4SL","HA5 "]
[null,null,null,null,null,null,null,null,null,null,null,null,null,null,null,"QRV",{"$f":"VLOOKUP(P902,'[1]CCG & RG names'!D:E,2,0)","v":"North West London Health & Care Partnership (STP)"},"W2U3Z",{"$f":"VLOOKUP(R902,'[1]CCG & RG names'!A:B,2,0)","v":"NHS NORTH WEST LONDON CCG"},"V007260","Harrow Weald Dental Practice, 359 High Road, HARROW, Middlesex, HA3 5EQ","HA3 5EQ","HA3 "]
[null,null,null,null,null,null,null,null,null,null,null,null,null,null,null,"QRV",{"$f":"VLOOKUP(P903,'[1]CCG & RG names'!D:E,2,0)","v":"North West London Health & Care Partnership (STP)"},"W2U3Z",{"$f":"VLOOKUP(R903,'[1]CCG & RG names'!A:B,2,0)","v":"NHS NORTH WEST LONDON CCG"},"V007261","Dental Surgery, 118 Uxbridge Road, PINNER, Middlesex, HA5 4DS","HA5 4DS","HA5 "]
[null,null,null,null,null,null,null,null,null,null,null,null,null,null,null,"QRV",{"$f":"VLOOKUP(P904,'[1]CCG & RG names'!D:E,2,0)","v":"North West London Health & Care Partnership (STP)"},"W2U3Z",{"$f":"VLOOKUP(R904,'[1]CCG & RG names'!A:B,2,0)","v":"NHS NORTH WEST LONDON CCG"},"V007749","Earls Court Dental Practice, 121 Earls Court Road, LONDON, SW5 9RL","SW5 9RL","SW5 "]
[null,null,null,null,null,null,null,null,null,null,null,null,null,null,null,"QRV",{"$f":"VLOOKUP(P905,'[1]CCG & RG names'!D:E,2,0)","v":"North West London Health & Care Partnership (STP)"},"W2U3Z",{"$f":"VLOOKUP(R905,'[1]CCG & RG names'!A:B,2,0)","v":"NHS NORTH WEST LONDON CCG"},"V008556","Burnt Oak Dental Practice, 211-213 Burnt Oak Broadway, EDGWARE, Middlesex, HA8 5EG","HA8 5EG","HA8 "]
[null,null,null,null,null,null,null,null,null,null,null,null,null,null,null,"QRV",{"$f":"VLOOKUP(P906,'[1]CCG & RG names'!D:E,2,0)","v":"North West London Health & Care Partnership (STP)"},"W2U3Z",{"$f":"VLOOKUP(R906,'[1]CCG & RG names'!A:B,2,0)","v":"NHS NORTH WEST LONDON CCG"},"V008739","298 Whitchurch Lane, EDGWARE, Middlesex, HA8 6QX","HA8 6QX","HA8 "]
[null,null,null,null,null,null,null,null,null,null,null,null,null,null,null,"QRV",{"$f":"VLOOKUP(P907,'[1]CCG & RG names'!D:E,2,0)","v":"North West London Health & Care Partnership (STP)"},"W2U3Z",{"$f":"VLOOKUP(R907,'[1]CCG & RG names'!A:B,2,0)","v":"NHS NORTH WEST LONDON CCG"},"V008828","Woodlands Dental Surgery, 106 Woodlands, HARROW, Middlesex, HA2 6EW","HA2 6EW","HA2 "]
[null,null,null,null,null,null,null,null,null,null,null,null,null,null,null,"QRV",{"$f":"VLOOKUP(P908,'[1]CCG & RG names'!D:E,2,0)","v":"North West London Health & Care Partnership (STP)"},"W2U3Z",{"$f":"VLOOKUP(R908,'[1]CCG & RG names'!A:B,2,0)","v":"NHS NORTH WEST LONDON CCG"},"V008883","Dental Surgery, 243 Maida Vale, LONDON, W9 1QJ","W9 1QJ","W9 "]
[null,null,null,null,null,null,null,null,null,null,null,null,null,null,null,"QRV",{"$f":"VLOOKUP(P909,'[1]CCG & RG names'!D:E,2,0)","v":"North West London Health & Care Partnership (STP)"},"W2U3Z",{"$f":"VLOOKUP(R909,'[1]CCG & RG names'!A:B,2,0)","v":"NHS NORTH WEST LONDON CCG"},"V008887","Dental Surgery, 330 Vauxhall Bridge Road, LONDON, SW1V 1AA","SW1V 1AA","SW1V"]
[null,null,null,null,null,null,null,null,null,null,null,null,null,null,null,"QRV",{"$f":"VLOOKUP(P910,'[1]CCG & RG names'!D:E,2,0)","v":"North West London Health & Care Partnership (STP)"},"W2U3Z",{"$f":"VLOOKUP(R910,'[1]CCG & RG names'!A:B,2,0)","v":"NHS NORTH WEST LONDON CCG"},"V008919","61 Lampton Road, Hounslow, Middlesex, TW3 4DH","TW3 4DH","TW3 "]
[null,null,null,null,null,null,null,null,null,null,null,null,null,null,null,"QRV",{"$f":"VLOOKUP(P911,'[1]CCG & RG names'!D:E,2,0)","v":"North West London Health & Care Partnership (STP)"},"W2U3Z",{"$f":"VLOOKUP(R911,'[1]CCG & RG names'!A:B,2,0)","v":"NHS NORTH WEST LONDON CCG"},"V008987","Dental Surgery, 77 Harrow View, HARROW, Middlesex, HA1 4TB","HA1 4TB","HA1 "]
[null,null,null,null,null,null,null,null,null,null,null,null,null,null,null,"QRV",{"$f":"VLOOKUP(P912,'[1]CCG & RG names'!D:E,2,0)","v":"North West London Health & Care Partnership (STP)"},"W2U3Z",{"$f":"VLOOKUP(R912,'[1]CCG & RG names'!A:B,2,0)","v":"NHS NORTH WEST LONDON CCG"},"V009145","Smile 360 Dental Care, 404 Alexandra Avenue, Rayners Lane, Harrow, Middlesex, HA2 9TR","HA2 9TR","HA2 "]
[null,null,null,null,null,null,null,null,null,null,null,null,null,null,null,"QRV",{"$f":"VLOOKUP(P913,'[1]CCG & RG names'!D:E,2,0)","v":"North West London Health & Care Partnership (STP)"},"W2U3Z",{"$f":"VLOOKUP(R913,'[1]CCG & RG names'!A:B,2,0)","v":"NHS NORTH WEST LONDON CCG"},"V009180","22 Northfield Avenue, LONDON, W13 9RL","W13 9RL","W13 "]
[null,null,null,null,null,null,null,null,null,null,null,null,null,null,null,"QRV",{"$f":"VLOOKUP(P914,'[1]CCG & RG names'!D:E,2,0)","v":"North West London Health & Care Partnership (STP)"},"W2U3Z",{"$f":"VLOOKUP(R914,'[1]CCG & RG names'!A:B,2,0)","v":"NHS NORTH WEST LONDON CCG"},"V009333","12 Chapter Chambers, Chapter Street, LONDON, SW1P 4NR","SW1P 4NR","SW1P"]
[null,null,null,null,null,null,null,null,null,null,null,null,null,null,null,"QRV",{"$f":"VLOOKUP(P915,'[1]CCG & RG names'!D:E,2,0)","v":"North West London Health & Care Partnership (STP)"},"W2U3Z",{"$f":"VLOOKUP(R915,'[1]CCG & RG names'!A:B,2,0)","v":"NHS NORTH WEST LONDON CCG"},"V009661","129 - 131 Kensington High Street, LONDON, W8 6SU","W8 6SU","W8 "]
[null,null,null,null,null,null,null,null,null,null,null,null,null,null,null,"QRV",{"$f":"VLOOKUP(P916,'[1]CCG & RG names'!D:E,2,0)","v":"North West London Health & Care Partnership (STP)"},"W2U3Z",{"$f":"VLOOKUP(R916,'[1]CCG & RG names'!A:B,2,0)","v":"NHS NORTH WEST LONDON CCG"},"V009666","Violet Melchett Clinic, 30 Flood Walk, LONDON, SW3 5RR","SW3 5RR","SW3 "]
[null,null,null,null,null,null,null,null,null,null,null,null,null,null,null,"QRV",{"$f":"VLOOKUP(P917,'[1]CCG & RG names'!D:E,2,0)","v":"North West London Health & Care Partnership (STP)"},"W2U3Z",{"$f":"VLOOKUP(R917,'[1]CCG & RG names'!A:B,2,0)","v":"NHS NORTH WEST LONDON CCG"},"V009738","Imperial Dental Care, 13 Broadwalk, Pinner Road, NORTH HARROW, Middlesex, HA2 6ED","HA2 6ED","HA2 "]
[null,null,null,null,null,null,null,null,null,null,null,null,null,null,null,"QRV",{"$f":"VLOOKUP(P918,'[1]CCG & RG names'!D:E,2,0)","v":"North West London Health & Care Partnership (STP)"},"W2U3Z",{"$f":"VLOOKUP(R918,'[1]CCG & RG names'!A:B,2,0)","v":"NHS NORTH WEST LONDON CCG"},"V010042","Wembley Centre, 116 Chaplin Road, WEMBLEY, Middlesex, HA0 4UZ","HA0 4UZ","HA0 "]
[null,null,null,null,null,null,null,null,null,null,null,null,null,null,null,"QRV",{"$f":"VLOOKUP(P919,'[1]CCG & RG names'!D:E,2,0)","v":"North West London Health & Care Partnership (STP)"},"W2U3Z",{"$f":"VLOOKUP(R919,'[1]CCG & RG names'!A:B,2,0)","v":"NHS NORTH WEST LONDON CCG"},"V010424","Soho Dental Care, 2nd Floor, 1 Frith Street, Soho Square, London, W1D 3HZ","W1D 3HZ","W1D "]
[null,null,null,null,null,null,null,null,null,null,null,null,null,null,null,"QRV",{"$f":"VLOOKUP(P920,'[1]CCG & RG names'!D:E,2,0)","v":"North West London Health & Care Partnership (STP)"},"W2U3Z",{"$f":"VLOOKUP(R920,'[1]CCG & RG names'!A:B,2,0)","v":"NHS NORTH WEST LONDON CCG"},"V011303","The Tooth Clinic, Network Hub, 300 Kensal Road, LONDON, W10 5BE","W10 5BE","W10 "]
[null,null,null,null,null,null,null,null,null,null,null,null,null,null,null,"QRV",{"$f":"VLOOKUP(P921,'[1]CCG & RG names'!D:E,2,0)","v":"North West London Health & Care Partnership (STP)"},"W2U3Z",{"$f":"VLOOKUP(R921,'[1]CCG & RG names'!A:B,2,0)","v":"NHS NORTH WEST LONDON CCG"},"V012075","Bond Dental, 62 Gloucester Place, LONDON, W1U 8HW","W1U 8HW","W1U "]
[null,null,null,null,null,null,null,null,null,null,null,null,null,null,null,"QRV",{"$f":"VLOOKUP(P922,'[1]CCG & RG names'!D:E,2,0)","v":"North West London Health & Care Partnership (STP)"},"W2U3Z",{"$f":"VLOOKUP(R922,'[1]CCG & RG names'!A:B,2,0)","v":"NHS NORTH WEST LONDON CCG"},"V012161","Orthodontic Gallery, Stanmore Towers, Suite 3, 8-14 Church Road, Stanmore, Middlesex, HA7 4AW","HA7 4AW","HA7 "]
[null,null,null,null,null,null,null,null,null,null,null,null,null,null,null,"QRV",{"$f":"VLOOKUP(P923,'[1]CCG & RG names'!D:E,2,0)","v":"North West London Health & Care Partnership (STP)"},"W2U3Z",{"$f":"VLOOKUP(R923,'[1]CCG & RG names'!A:B,2,0)","v":"NHS NORTH WEST LONDON CCG"},"V012351","8 Chiswick Terrace, LONDON, W4 5LY","W4 5LY","W4 "]
[null,null,null,null,null,null,null,null,null,null,null,null,null,null,null,"QRV",{"$f":"VLOOKUP(P924,'[1]CCG & RG names'!D:E,2,0)","v":"North West London Health & Care Partnership (STP)"},"W2U3Z",{"$f":"VLOOKUP(R924,'[1]CCG & RG names'!A:B,2,0)","v":"NHS NORTH WEST LONDON CCG"},"V012745","Pinn Dental Centre, 37 Love Lane, Pinner, HA5 3EE","HA5 3EE","HA5 "]
[null,null,null,null,null,null,null,null,null,null,null,null,null,null,null,"QRV",{"$f":"VLOOKUP(P925,'[1]CCG & RG names'!D:E,2,0)","v":"North West London Health & Care Partnership (STP)"},"W2U3Z",{"$f":"VLOOKUP(R925,'[1]CCG & RG names'!A:B,2,0)","v":"NHS NORTH WEST LONDON CCG"},"V012971","Westminster House Dental Practic, Rodericks Ltd, 11-13 Horseferry Road, LONDON, SW1P 2AH","SW1P 2AH","SW1P"]
[null,null,null,null,null,null,null,null,null,null,null,null,null,null,null,"QRV",{"$f":"VLOOKUP(P926,'[1]CCG & RG names'!D:E,2,0)","v":"North West London Health & Care Partnership (STP)"},"W2U3Z",{"$f":"VLOOKUP(R926,'[1]CCG & RG names'!A:B,2,0)","v":"NHS NORTH WEST LONDON CCG"},"V012986","Marylebone House Dental Practice, Rodericks Ltd, 152 Marylebone Road, LONDON, NW1 5PN","NW1 5PN","NW1 "]
[null,null,null,null,null,null,null,null,null,null,null,null,null,null,null,"QRV",{"$f":"VLOOKUP(P927,'[1]CCG & RG names'!D:E,2,0)","v":"North West London Health & Care Partnership (STP)"},"W2U3Z",{"$f":"VLOOKUP(R927,'[1]CCG & RG names'!A:B,2,0)","v":"NHS NORTH WEST LONDON CCG"},"V013050","150 Hilltop Avenue, LONDON, NW10 8RY","NW10 8RY","NW10"]
[null,null,null,null,null,null,null,null,null,null,null,null,null,null,null,"QRV",{"$f":"VLOOKUP(P928,'[1]CCG & RG names'!D:E,2,0)","v":"North West London Health & Care Partnership (STP)"},"W2U3Z",{"$f":"VLOOKUP(R928,'[1]CCG & RG names'!A:B,2,0)","v":"NHS NORTH WEST LONDON CCG"},"V013170","Chelsea Bldg Soc, 110 112 Kings Road, LONDON, SW3 4TY","SW3 4TY","SW3 "]
[null,null,null,null,null,null,null,null,null,null,null,null,null,null,null,"QRV",{"$f":"VLOOKUP(P929,'[1]CCG & RG names'!D:E,2,0)","v":"North West London Health & Care Partnership (STP)"},"W2U3Z",{"$f":"VLOOKUP(R929,'[1]CCG & RG names'!A:B,2,0)","v":"NHS NORTH WEST LONDON CCG"},"V014287","168 Dental Clinic, 168 Earls Court Road, LONDON, SW5 9QQ","SW5 9QQ","SW5 "]
[null,null,null,null,null,null,null,null,null,null,null,null,null,null,null,"QRV",{"$f":"VLOOKUP(P930,'[1]CCG & RG names'!D:E,2,0)","v":"North West London Health & Care Partnership (STP)"},"W2U3Z",{"$f":"VLOOKUP(R930,'[1]CCG & RG names'!A:B,2,0)","v":"NHS NORTH WEST LONDON CCG"},"V014779","Emergency Dental Services, St Charles Centre, For Health & Wellbeing, Exmoor Street, London, W10 6DZ","W10 6DZ","W10 "]
[null,null,null,null,null,null,null,null,null,null,null,null,null,null,null,"QRV",{"$f":"VLOOKUP(P931,'[1]CCG & RG names'!D:E,2,0)","v":"North West London Health & Care Partnership (STP)"},"W2U3Z",{"$f":"VLOOKUP(R931,'[1]CCG & RG names'!A:B,2,0)","v":"NHS NORTH WEST LONDON CCG"},"V016442","187 Kenton Road, Harrow, Middlesex, HA3 0EY","HA3 0EY","HA3 "]
[null,null,null,null,null,null,null,null,null,null,null,null,null,null,null,"QRV",{"$f":"VLOOKUP(P932,'[1]CCG & RG names'!D:E,2,0)","v":"North West London Health & Care Partnership (STP)"},"W2U3Z",{"$f":"VLOOKUP(R932,'[1]CCG & RG names'!A:B,2,0)","v":"NHS NORTH WEST LONDON CCG"},"V019929","Heart of Hounslow Health Centre, 92 Bath Rd, Hounslow, Middx, TW3 3EL","TW3 3EL","TW3 "]
[null,null,null,null,null,null,null,null,null,null,null,null,null,null,null,"QRV",{"$f":"VLOOKUP(P933,'[1]CCG & RG names'!D:E,2,0)","v":"North West London Health & Care Partnership (STP)"},"W2U3Z",{"$f":"VLOOKUP(R933,'[1]CCG & RG names'!A:B,2,0)","v":"NHS NORTH WEST LONDON CCG"},"V020408","197 HEADSTONE LANE, HARROW, MIDDLESEX, HA2 6ND","HA2 6ND","HA2 "]
[null,null,null,null,null,null,null,null,null,null,null,null,null,null,null,"QRV",{"$f":"VLOOKUP(P934,'[1]CCG & RG names'!D:E,2,0)","v":"North West London Health & Care Partnership (STP)"},"W2U3Z",{"$f":"VLOOKUP(R934,'[1]CCG & RG names'!A:B,2,0)","v":"NHS NORTH WEST LONDON CCG"},"V023506","Ashcroft House, 36 North End Road, London, W14 0SH","W14 0SH","W14 "]
[null,null,null,null,null,null,null,null,null,null,null,null,null,null,null,"QRV",{"$f":"VLOOKUP(P935,'[1]CCG & RG names'!D:E,2,0)","v":"North West London Health & Care Partnership (STP)"},"W2U3Z",{"$f":"VLOOKUP(R935,'[1]CCG & RG names'!A:B,2,0)","v":"NHS NORTH WEST LONDON CCG"},"V024874","271 NORTHOLT ROAD, HARROW, MIDDLESEX, HA2 8HS","HA2 8HS","HA2 "]
[null,null,null,null,null,null,null,null,null,null,null,null,null,null,null,"QRV",{"$f":"VLOOKUP(P936,'[1]CCG & RG names'!D:E,2,0)","v":"North West London Health & Care Partnership (STP)"},"W2U3Z",{"$f":"VLOOKUP(R936,'[1]CCG & RG names'!A:B,2,0)","v":"NHS NORTH WEST LONDON CCG"},"V025449","338 Eastcote Lane, Harrow, Middlesex, HA2 9AJ","HA2 9AJ","HA2 "]
[null,null,null,null,null,null,null,null,null,null,null,null,null,null,null,"QRV",{"$f":"VLOOKUP(P937,'[1]CCG & RG names'!D:E,2,0)","v":"North West London Health & Care Partnership (STP)"},"W2U3Z",{"$f":"VLOOKUP(R937,'[1]CCG & RG names'!A:B,2,0)","v":"NHS NORTH WEST LONDON CCG"},"V026187","Unit 2 and 3 Holdsworth House, 65-73 Staines Road, Hounslow, Middlesex, TW3 3HW","TW3 3HW","TW3 "]
[null,null,null,null,null,null,null,null,null,null,null,null,null,null,null,"QRV",{"$f":"VLOOKUP(P938,'[1]CCG & RG names'!D:E,2,0)","v":"North West London Health & Care Partnership (STP)"},"W2U3Z",{"$f":"VLOOKUP(R938,'[1]CCG & RG names'!A:B,2,0)","v":"NHS NORTH WEST LONDON CCG"},"V026685","Feltham Dental Care, 129 Harlington Road West, Feltham, Middlesex, TW14 0JG","TW14 0JG","TW14"]
[null,null,null,null,null,null,null,null,null,null,null,null,null,null,null,"QRV",{"$f":"VLOOKUP(P939,'[1]CCG & RG names'!D:E,2,0)","v":"North West London Health & Care Partnership (STP)"},"W2U3Z",{"$f":"VLOOKUP(R939,'[1]CCG & RG names'!A:B,2,0)","v":"NHS NORTH WEST LONDON CCG"},"V026861","Perfect Smile, 2 Russell Gardens, London, W14 8EZ","W14 8EZ","W14 "]
[null,null,null,null,null,null,null,null,null,null,null,null,null,null,null,"QRV",{"$f":"VLOOKUP(P940,'[1]CCG & RG names'!D:E,2,0)","v":"North West London Health & Care Partnership (STP)"},"W2U3Z",{"$f":"VLOOKUP(R940,'[1]CCG & RG names'!A:B,2,0)","v":"NHS NORTH WEST LONDON CCG"},"V027682","Northwick Park Hospital, Block L1, Level 4, Watford Road, Harrow, Middlesex, HA1 3UJ","HA1 3UJ","HA1 "]
[null,null,null,null,null,null,null,null,null,null,null,null,null,null,null,"QRV",{"$f":"VLOOKUP(P941,'[1]CCG & RG names'!D:E,2,0)","v":"North West London Health & Care Partnership (STP)"},"W2U3Z",{"$f":"VLOOKUP(R941,'[1]CCG & RG names'!A:B,2,0)","v":"NHS NORTH WEST LONDON CCG"},"V028868","79 Bloemfontein Road, London, W12 7DA","W12 7DA","W12 "]
[null,null,null,null,null,null,null,null,null,null,null,null,null,null,null,"QRV",{"$f":"VLOOKUP(P942,'[1]CCG & RG names'!D:E,2,0)","v":"North West London Health & Care Partnership (STP)"},"W2U3Z",{"$f":"VLOOKUP(R942,'[1]CCG & RG names'!A:B,2,0)","v":"NHS NORTH WEST LONDON CCG"},"V029023","158-160 High Road, Willesden, London, NW10 2PB, NW10 2PB","NW10 2PB","NW10"]
[null,null,null,null,null,null,null,null,null,null,null,null,null,null,null,"QRV",{"$f":"VLOOKUP(P943,'[1]CCG & RG names'!D:E,2,0)","v":"North West London Health & Care Partnership (STP)"},"W2U3Z",{"$f":"VLOOKUP(R943,'[1]CCG & RG names'!A:B,2,0)","v":"NHS NORTH WEST LONDON CCG"},"V029638","4 Honeypot Lane, London, NW9 9QD","NW9 9QD","NW9 "]
[null,null,null,null,null,null,null,null,null,null,null,null,null,null,null,"QRV",{"$f":"VLOOKUP(P944,'[1]CCG & RG names'!D:E,2,0)","v":"North West London Health & Care Partnership (STP)"},"W2U3Z",{"$f":"VLOOKUP(R944,'[1]CCG & RG names'!A:B,2,0)","v":"NHS NORTH WEST LONDON CCG"},"V041091","2B Hogarth Road, Earls Court, London, SW5 0PT","SW5 0PT","SW5 "]
[null,null,null,null,null,null,null,null,null,null,null,null,null,null,null,"QRV",{"$f":"VLOOKUP(P945,'[1]CCG & RG names'!D:E,2,0)","v":"North West London Health & Care Partnership (STP)"},"W2U3Z",{"$f":"VLOOKUP(R945,'[1]CCG & RG names'!A:B,2,0)","v":"NHS NORTH WEST LONDON CCG"},"V042784","116A Windermere Avenue, Wembley, HA9 8RB","HA9 8RB","HA9 "]
[null,null,null,null,null,null,null,null,null,null,null,null,null,null,null,"QRV",{"$f":"VLOOKUP(P946,'[1]CCG & RG names'!D:E,2,0)","v":"North West London Health & Care Partnership (STP)"},"W2U3Z",{"$f":"VLOOKUP(R946,'[1]CCG & RG names'!A:B,2,0)","v":"NHS NORTH WEST LONDON CCG"},"V042958","Dentistry For You, 16 High Street, Harefield, Hillingdon, London, UB9 6BU","UB9 6BU","UB9 "]
[null,null,null,null,null,null,null,null,null,null,null,null,null,null,null,"QRV",{"$f":"VLOOKUP(P947,'[1]CCG & RG names'!D:E,2,0)","v":"North West London Health & Care Partnership (STP)"},"W2U3Z",{"$f":"VLOOKUP(R947,'[1]CCG & RG names'!A:B,2,0)","v":"NHS NORTH WEST LONDON CCG"},"V042969","St Bernards Hospital, Forensic Services - Regional Secure Unit, Uxbridge Road, Southall, UB1 1EU","UB1 1EU","UB1 "]
[null,null,null,null,null,null,null,null,null,null,null,null,null,null,null,"QRV",{"$f":"VLOOKUP(P948,'[1]CCG & RG names'!D:E,2,0)","v":"North West London Health & Care Partnership (STP)"},"W2U3Z",{"$f":"VLOOKUP(R948,'[1]CCG & RG names'!A:B,2,0)","v":"NHS NORTH WEST LONDON CCG"},"V044610","Caspersonn Dental, 16 Dawes Road, Fulham, London, SW6 7EN","SW6 7EN","SW6 "]
[null,null,null,null,null,null,null,null,null,null,null,null,null,null,null,"QRV",{"$f":"VLOOKUP(P949,'[1]CCG & RG names'!D:E,2,0)","v":"North West London Health & Care Partnership (STP)"},"W2U3Z",{"$f":"VLOOKUP(R949,'[1]CCG & RG names'!A:B,2,0)","v":"NHS NORTH WEST LONDON CCG"},"V044834","11 13 STRUTTON GROUND, LONDON, SW1P 2HY","SW1P 2HY","SW1P"]
[null,null,null,null,null,null,null,null,null,null,null,null,null,null,null,"QRV",{"$f":"VLOOKUP(P950,'[1]CCG & RG names'!D:E,2,0)","v":"North West London Health & Care Partnership (STP)"},"W2U3Z",{"$f":"VLOOKUP(R950,'[1]CCG & RG names'!A:B,2,0)","v":"NHS NORTH WEST LONDON CCG"},"V045273","PIELD HEATH ROAD, UXBRIDGE, UB8 3NN","UB8 3NN","UB8 "]
[null,null,null,null,null,null,null,null,null,null,null,null,null,null,null,"QRV",{"$f":"VLOOKUP(P951,'[1]CCG & RG names'!D:E,2,0)","v":"North West London Health & Care Partnership (STP)"},"W2U3Z",{"$f":"VLOOKUP(R951,'[1]CCG & RG names'!A:B,2,0)","v":"NHS NORTH WEST LONDON CCG"},"V045291","EALING HOSPITAL, UXBRIDGE ROAD, SOUTHALL, UB1 3HW","UB1 3HW","UB1 "]
[null,null,null,null,null,null,null,null,null,null,null,null,null,null,null,"QRV",{"$f":"VLOOKUP(P952,'[1]CCG & RG names'!D:E,2,0)","v":"North West London Health & Care Partnership (STP)"},"W2U3Z",{"$f":"VLOOKUP(R952,'[1]CCG & RG names'!A:B,2,0)","v":"NHS NORTH WEST LONDON CCG"},"V047933","Queensway Dental Care, 32 Queensway, London, W2 3RX","W2 3RX","W2 "]
[null,null,null,null,null,null,null,null,null,null,null,null,null,null,null,"QRV",{"$f":"VLOOKUP(P953,'[1]CCG & RG names'!D:E,2,0)","v":"North West London Health & Care Partnership (STP)"},"W2U3Z",{"$f":"VLOOKUP(R953,'[1]CCG & RG names'!A:B,2,0)","v":"NHS NORTH WEST LONDON CCG"},"V048543","Acton Perfect Smile, 64a Horn Lane, Acton, W3 6NP","W3 6NP","W3 "]
[null,null,null,null,null,null,null,null,null,null,null,null,null,null,null,"QRV",{"$f":"VLOOKUP(P954,'[1]CCG & RG names'!D:E,2,0)","v":"North West London Health & Care Partnership (STP)"},"W2U3Z",{"$f":"VLOOKUP(R954,'[1]CCG & RG names'!A:B,2,0)","v":"NHS NORTH WEST LONDON CCG"},"V061688","29 WEYMOUTH STREET, LONDON, W1G 7DB","W1G 7DB","W1G "]
[null,null,null,null,null,null,null,null,null,null,null,null,null,null,null,"QRV",{"$f":"VLOOKUP(P955,'[1]CCG & RG names'!D:E,2,0)","v":"North West London Health & Care Partnership (STP)"},"W2U3Z",{"$f":"VLOOKUP(R955,'[1]CCG & RG names'!A:B,2,0)","v":"NHS NORTH WEST LONDON CCG"},"V066288","Feelgood Dental, 2 Providence Road, Yiewsley, West Drayton, UB7 8HJ","UB7 8HJ","UB7 "]
[null,null,null,null,null,null,null,null,null,null,null,null,null,null,null,"QRV",{"$f":"VLOOKUP(P956,'[1]CCG & RG names'!D:E,2,0)","v":"North West London Health & Care Partnership (STP)"},"W2U3Z",{"$f":"VLOOKUP(R956,'[1]CCG & RG names'!A:B,2,0)","v":"NHS NORTH WEST LONDON CCG"},"V113785","189 NORTHFIELD AVENUE, LONDON, W13 9QU","W13 9QU","W13 "]
[null,null,null,null,null,null,null,null,null,null,null,null,null,null,null,"QRV",{"$f":"VLOOKUP(P957,'[1]CCG & RG names'!D:E,2,0)","v":"North West London Health & Care Partnership (STP)"},"W2U3Z",{"$f":"VLOOKUP(R957,'[1]CCG & RG names'!A:B,2,0)","v":"NHS NORTH WEST LONDON CCG"},"V129901","Orthodontic Care, The Old Pumping Station, Pump Alley, Brentford, TW8 0AP","TW8 0AP","TW8 "]
[null,null,null,null,null,null,null,null,null,null,null,null,null,null,null,"QRV",{"$f":"VLOOKUP(P958,'[1]CCG & RG names'!D:E,2,0)","v":"North West London Health & Care Partnership (STP)"},"W2U3Z",{"$f":"VLOOKUP(R958,'[1]CCG & RG names'!A:B,2,0)","v":"NHS NORTH WEST LONDON CCG"},"V134986","Willesden Orthodontic Clinic, Willesden Centre for Health and Care, Robson Avenue, London, NW10 3RY","NW10 3RY","NW10"]
[null,null,null,null,null,null,null,null,null,null,null,null,null,null,null,"QRV",{"$f":"VLOOKUP(P959,'[1]CCG & RG names'!D:E,2,0)","v":"North West London Health & Care Partnership (STP)"},"W2U3Z",{"$f":"VLOOKUP(R959,'[1]CCG & RG names'!A:B,2,0)","v":"NHS NORTH WEST LONDON CCG"},"V134987","Ealing Dental Specialists, 42 The Mall, Ealing,, London, W5 3TJ","W5 3TJ","W5 "]
[null,null,null,null,null,null,null,null,null,null,null,null,null,null,null,"QRV",{"$f":"VLOOKUP(P960,'[1]CCG & RG names'!D:E,2,0)","v":"North West London Health & Care Partnership (STP)"},"W2U3Z",{"$f":"VLOOKUP(R960,'[1]CCG & RG names'!A:B,2,0)","v":"NHS NORTH WEST LONDON CCG"},"V134988","Hammersmith Orthodontic Practice, 1-3 Wormholdt Road, Shepherds Bush, London, W12 0LU","W12 0LU","W12 "]
[null,null,null,null,null,null,null,null,null,null,null,null,null,null,null,"QRV",{"$f":"VLOOKUP(P961,'[1]CCG & RG names'!D:E,2,0)","v":"North West London Health & Care Partnership (STP)"},"W2U3Z",{"$f":"VLOOKUP(R961,'[1]CCG & RG names'!A:B,2,0)","v":"NHS NORTH WEST LONDON CCG"},"V134989","Angle House Orthodontics, 334 Whitchurch Lane, Edgware, Middx, HA8 6QX","HA8 6QX","HA8 "]
[null,null,null,null,null,null,null,null,null,null,null,null,null,null,null,"QRV",{"$f":"VLOOKUP(P962,'[1]CCG & RG names'!D:E,2,0)","v":"North West London Health & Care Partnership (STP)"},"W2U3Z",{"$f":"VLOOKUP(R962,'[1]CCG & RG names'!A:B,2,0)","v":"NHS NORTH WEST LONDON CCG"},"V134993","Precision Smiles, 112 Pinner Road, Northwood, Middlesex, HA6 1BS","HA6 1BS","HA6 "]
[null,null,null,null,null,null,null,null,null,null,null,null,null,null,null,"QRV",{"$f":"VLOOKUP(P963,'[1]CCG & RG names'!D:E,2,0)","v":"North West London Health & Care Partnership (STP)"},"W2U3Z",{"$f":"VLOOKUP(R963,'[1]CCG & RG names'!A:B,2,0)","v":"NHS NORTH WEST LONDON CCG"},"V142237","Knightsbridge Orthodontics, 1st Floor, 168 Brompton Road, London, SW3 1HW","SW3 1HW",{"$f":"IF(MID(V963,3,1) =\" \",LEFT(V963,3),LEFT(V963,4))","v":"SW3 "}]
[null,null,null,null,null,null,null,null,null,null,null,null,null,null,null,"QRV",{"$f":"VLOOKUP(P964,'[1]CCG & RG names'!D:E,2,0)","v":"North West London Health & Care Partnership (STP)"},"W2U3Z",{"$f":"VLOOKUP(R964,'[1]CCG & RG names'!A:B,2,0)","v":"NHS NORTH WEST LONDON CCG"},"V162570","Brent Dental Specialists, Ground floor Lanmor House, 370-386 High Road, Wembley, Middlesex, HA9 6AX","HA9 6AX","HA9 "]
[null,null,null,null,null,null,null,null,null,null,null,null,null,null,null,"QRV",{"$f":"VLOOKUP(P965,'[1]CCG & RG names'!D:E,2,0)","v":"North West London Health & Care Partnership (STP)"},"W2U3Z",{"$f":"VLOOKUP(R965,'[1]CCG & RG names'!A:B,2,0)","v":"NHS NORTH WEST LONDON CCG"},"V165700","Haven Green Clinic, 1A Mount Park Road, Ealing, London, W5 2RP","W5 2RP","W5 "]
[null,null,null,null,null,null,null,null,null,null,null,null,null,null,null,"QRV",{"$f":"VLOOKUP(P966,'[1]CCG & RG names'!D:E,2,0)","v":"North West London Health & Care Partnership (STP)"},"W2U3Z",{"$f":"VLOOKUP(R966,'[1]CCG & RG names'!A:B,2,0)","v":"NHS NORTH WEST LONDON CCG"},"V168003","Ghauri Dental Centre, 3 Wormholt Road, Shepherds Bush, London, W12 0LU","W12 0LU","W12 "]
[null,null,null,null,null,null,null,null,null,null,null,null,null,null,null,"QRV",{"$f":"VLOOKUP(P967,'[1]CCG & RG names'!D:E,2,0)","v":"North West London Health & Care Partnership (STP)"},"W2U3Z",{"$f":"VLOOKUP(R967,'[1]CCG & RG names'!A:B,2,0)","v":"NHS NORTH WEST LONDON CCG"},"V177255","Kew Bridge Dental, 57-59 Kew Bridge Road, LONDON, TW8 0EW","TW8 0EW","TW8 "]
[null,null,null,null,null,null,null,null,null,null,null,null,null,null,null,"QRV",{"$f":"VLOOKUP(P968,'[1]CCG & RG names'!D:E,2,0)","v":"North West London Health & Care Partnership (STP)"},"W2U3Z",{"$f":"VLOOKUP(R968,'[1]CCG & RG names'!A:B,2,0)","v":"NHS NORTH WEST LONDON CCG"},"V234956","Bayswater Dental Surgery, 66 WESTBOURNE GROVE, LONDON, W2 5SH","W2 5SH","W2 "]
[null,null,null,null,null,null,null,null,null,null,null,null,null,null,null,"QRV",{"$f":"VLOOKUP(P969,'[1]CCG & RG names'!D:E,2,0)","v":"North West London Health & Care Partnership (STP)"},"W2U3Z",{"$f":"VLOOKUP(R969,'[1]CCG & RG names'!A:B,2,0)","v":"NHS NORTH WEST LONDON CCG"},"V235841","Chiswick Dental & Implant Clinic, 231-235 Chiswick High Road, London, W4 4PU","W4 4PU","W4 "]
[null,null,null,null,null,null,null,null,null,null,null,null,null,null,null,"QWE",{"$f":"VLOOKUP(P970,'[1]CCG & RG names'!D:E,2,0)","v":"South West London Health & Care Partnership (STP)"},"36L",{"$f":"VLOOKUP(R970,'[1]CCG & RG names'!A:B,2,0)","v":"NHS South West London CCG"},"V000044","Dhiman Dental, 169 Percy Road, TWICKENHAM, Middlesex, TW2 6JS","TW2 6JS","TW2 "]
[null,null,null,null,null,null,null,null,null,null,null,null,null,null,null,"QWE",{"$f":"VLOOKUP(P971,'[1]CCG & RG names'!D:E,2,0)","v":"South West London Health & Care Partnership (STP)"},"36L",{"$f":"VLOOKUP(R971,'[1]CCG & RG names'!A:B,2,0)","v":"NHS South West London CCG"},"V000930","Dental Surgery, 74 Croydon Road, Beddington, CROYDON, CR0 4PB","CR0 4PB","CR0 "]
[null,null,null,null,null,null,null,null,null,null,null,null,null,null,null,"QWE",{"$f":"VLOOKUP(P972,'[1]CCG & RG names'!D:E,2,0)","v":"South West London Health & Care Partnership (STP)"},"36L",{"$f":"VLOOKUP(R972,'[1]CCG & RG names'!A:B,2,0)","v":"NHS South West London CCG"},"V002015","Dental Surgery, Pantiles, Portsmouth Road, KINGSTON UPON THAMES, Surrey, KT1 2LY","KT1 2LY","KT1 "]
[null,null,null,null,null,null,null,null,null,null,null,null,null,null,null,"QWE",{"$f":"VLOOKUP(P973,'[1]CCG & RG names'!D:E,2,0)","v":"South West London Health & Care Partnership (STP)"},"36L",{"$f":"VLOOKUP(R973,'[1]CCG & RG names'!A:B,2,0)","v":"NHS South West London CCG"},"V002044","Dental Surgery, 13A Station Parade, Balham High Road, LONDON, SW12 9AZ","SW12 9AZ","SW12"]
[null,null,null,null,null,null,null,null,null,null,null,null,null,null,null,"QWE",{"$f":"VLOOKUP(P974,'[1]CCG & RG names'!D:E,2,0)","v":"South West London Health & Care Partnership (STP)"},"36L",{"$f":"VLOOKUP(R974,'[1]CCG & RG names'!A:B,2,0)","v":"NHS South West London CCG"},"V002047","The Dental Surgery, 41 Sistova Road, LONDON, SW12 9QR","SW12 9QR","SW12"]
[null,null,null,null,null,null,null,null,null,null,null,null,null,null,null,"QWE",{"$f":"VLOOKUP(P975,'[1]CCG & RG names'!D:E,2,0)","v":"South West London Health & Care Partnership (STP)"},"36L",{"$f":"VLOOKUP(R975,'[1]CCG & RG names'!A:B,2,0)","v":"NHS South West London CCG"},"V002056","Dental Surgery, 60 Battersea Bridge Road, LONDON, SW11 3AG","SW11 3AG","SW11"]
[null,null,null,null,null,null,null,null,null,null,null,null,null,null,null,"QWE",{"$f":"VLOOKUP(P976,'[1]CCG & RG names'!D:E,2,0)","v":"South West London Health & Care Partnership (STP)"},"36L",{"$f":"VLOOKUP(R976,'[1]CCG & RG names'!A:B,2,0)","v":"NHS South West London CCG"},"V002061","Battersea Dental Care, 128 Battersea Park Road, LONDON, SW11 4LY","SW11 4LY","SW11"]
[null,null,null,null,null,null,null,null,null,null,null,null,null,null,null,"QWE",{"$f":"VLOOKUP(P977,'[1]CCG & RG names'!D:E,2,0)","v":"South West London Health & Care Partnership (STP)"},"36L",{"$f":"VLOOKUP(R977,'[1]CCG & RG names'!A:B,2,0)","v":"NHS South West London CCG"},"V002064","S Surendra And Associates, Dental Surgery, 49 Kersley Street, LONDON, SW11 4PR","SW11 4PR","SW11"]
[null,null,null,null,null,null,null,null,null,null,null,null,null,null,null,"QWE",{"$f":"VLOOKUP(P978,'[1]CCG & RG names'!D:E,2,0)","v":"South West London Health & Care Partnership (STP)"},"36L",{"$f":"VLOOKUP(R978,'[1]CCG & RG names'!A:B,2,0)","v":"NHS South West London CCG"},"V002065","Dental Art Studio, 88 - 90 St Johns Road, Clapham, LONDON, SW11 1PX","SW11 1PX","SW11"]
[null,null,null,null,null,null,null,null,null,null,null,null,null,null,null,"QWE",{"$f":"VLOOKUP(P979,'[1]CCG & RG names'!D:E,2,0)","v":"South West London Health & Care Partnership (STP)"},"36L",{"$f":"VLOOKUP(R979,'[1]CCG & RG names'!A:B,2,0)","v":"NHS South West London CCG"},"V002066","Dental Surgery, 1 Ashness Road, LONDON, SW11 6RY","SW11 6RY","SW11"]
[null,null,null,null,null,null,null,null,null,null,null,null,null,null,null,"QWE",{"$f":"VLOOKUP(P980,'[1]CCG & RG names'!D:E,2,0)","v":"South West London Health & Care Partnership (STP)"},"36L",{"$f":"VLOOKUP(R980,'[1]CCG & RG names'!A:B,2,0)","v":"NHS South West London CCG"},"V002068","Lavender Hill Dental Practice, 255A Lavender Hill, LONDON, SW11 1JD","SW11 1JD","SW11"]
[null,null,null,null,null,null,null,null,null,null,null,null,null,null,null,"QWE",{"$f":"VLOOKUP(P981,'[1]CCG & RG names'!D:E,2,0)","v":"South West London Health & Care Partnership (STP)"},"36L",{"$f":"VLOOKUP(R981,'[1]CCG & RG names'!A:B,2,0)","v":"NHS South West London CCG"},"V002071","Queenstown Dental Practice, 53 - 55 Queenstown Road, LONDON, SW8 3RG","SW8 3RG","SW8 "]
[null,null,null,null,null,null,null,null,null,null,null,null,null,null,null,"QWE",{"$f":"VLOOKUP(P982,'[1]CCG & RG names'!D:E,2,0)","v":"South West London Health & Care Partnership (STP)"},"36L",{"$f":"VLOOKUP(R982,'[1]CCG & RG names'!A:B,2,0)","v":"NHS South West London CCG"},"V002074","Dental Surgery, 579 Garratt Lane, LONDON, SW18 4ST","SW18 4ST","SW18"]
[null,null,null,null,null,null,null,null,null,null,null,null,null,null,null,"QWE",{"$f":"VLOOKUP(P983,'[1]CCG & RG names'!D:E,2,0)","v":"South West London Health & Care Partnership (STP)"},"36L",{"$f":"VLOOKUP(R983,'[1]CCG & RG names'!A:B,2,0)","v":"NHS South West London CCG"},"V002078","Dental Surgery, 635 Garratt Lane, LONDON, SW18 4SX","SW18 4SX","SW18"]
[null,null,null,null,null,null,null,null,null,null,null,null,null,null,null,"QWE",{"$f":"VLOOKUP(P984,'[1]CCG & RG names'!D:E,2,0)","v":"South West London Health & Care Partnership (STP)"},"36L",{"$f":"VLOOKUP(R984,'[1]CCG & RG names'!A:B,2,0)","v":"NHS South West London CCG"},"V002079","Perfect Smile Dental Practice, 106 Putney High Street, LONDON, SW15 1RG","SW15 1RG","SW15"]
[null,null,null,null,null,null,null,null,null,null,null,null,null,null,null,"QWE",{"$f":"VLOOKUP(P985,'[1]CCG & RG names'!D:E,2,0)","v":"South West London Health & Care Partnership (STP)"},"36L",{"$f":"VLOOKUP(R985,'[1]CCG & RG names'!A:B,2,0)","v":"NHS South West London CCG"},"V002081","One 4 One Dental Practice, 141 Upper Richmond Road, LONDON, SW15 2TX","SW15 2TX","SW15"]
[null,null,null,null,null,null,null,null,null,null,null,null,null,null,null,"QWE",{"$f":"VLOOKUP(P986,'[1]CCG & RG names'!D:E,2,0)","v":"South West London Health & Care Partnership (STP)"},"36L",{"$f":"VLOOKUP(R986,'[1]CCG & RG names'!A:B,2,0)","v":"NHS South West London CCG"},"V002083","Riverside Dental Practice, 108 Lower Richmond Road, LONDON, SW15 1LN","SW15 1LN","SW15"]
[null,null,null,null,null,null,null,null,null,null,null,null,null,null,null,"QWE",{"$f":"VLOOKUP(P987,'[1]CCG & RG names'!D:E,2,0)","v":"South West London Health & Care Partnership (STP)"},"36L",{"$f":"VLOOKUP(R987,'[1]CCG & RG names'!A:B,2,0)","v":"NHS South West London CCG"},"V002084","Dental Surgery, 353 Upper Richmond Road, LONDON, SW15 5QJ","SW15 5QJ","SW15"]
[null,null,null,null,null,null,null,null,null,null,null,null,null,null,null,"QWE",{"$f":"VLOOKUP(P988,'[1]CCG & RG names'!D:E,2,0)","v":"South West London Health & Care Partnership (STP)"},"36L",{"$f":"VLOOKUP(R988,'[1]CCG & RG names'!A:B,2,0)","v":"NHS South West London CCG"},"V002089","The Dental Spa, 201 Lower Richmond Road, LONDON, SW15 1HJ","SW15 1HJ","SW15"]
[null,null,null,null,null,null,null,null,null,null,null,null,null,null,null,"QWE",{"$f":"VLOOKUP(P989,'[1]CCG & RG names'!D:E,2,0)","v":"South West London Health & Care Partnership (STP)"},"36L",{"$f":"VLOOKUP(R989,'[1]CCG & RG names'!A:B,2,0)","v":"NHS South West London CCG"},"V002092","229 Roehampton Lane, Roehampton, LONDON, SW15 4LB","SW15 4LB","SW15"]
[null,null,null,null,null,null,null,null,null,null,null,null,null,null,null,"QWE",{"$f":"VLOOKUP(P990,'[1]CCG & RG names'!D:E,2,0)","v":"South West London Health & Care Partnership (STP)"},"36L",{"$f":"VLOOKUP(R990,'[1]CCG & RG names'!A:B,2,0)","v":"NHS South West London CCG"},"V002094","Maple Dental Surgery, 238 Roehampton Lane, LONDON, SW15 4LE","SW15 4LE","SW15"]
[null,null,null,null,null,null,null,null,null,null,null,null,null,null,null,"QWE",{"$f":"VLOOKUP(P991,'[1]CCG & RG names'!D:E,2,0)","v":"South West London Health & Care Partnership (STP)"},"36L",{"$f":"VLOOKUP(R991,'[1]CCG & RG names'!A:B,2,0)","v":"NHS South West London CCG"},"V002095","126 Revelstoke Road, LONDON, SW18 5PB","SW18 5PB","SW18"]
[null,null,null,null,null,null,null,null,null,null,null,null,null,null,null,"QWE",{"$f":"VLOOKUP(P992,'[1]CCG & RG names'!D:E,2,0)","v":"South West London Health & Care Partnership (STP)"},"36L",{"$f":"VLOOKUP(R992,'[1]CCG & RG names'!A:B,2,0)","v":"NHS South West London CCG"},"V002097","Dental Surgery, 106 Augustus Road, LONDON, SW19 6ER","SW19 6ER","SW19"]
[null,null,null,null,null,null,null,null,null,null,null,null,null,null,null,"QWE",{"$f":"VLOOKUP(P993,'[1]CCG & RG names'!D:E,2,0)","v":"South West London Health & Care Partnership (STP)"},"36L",{"$f":"VLOOKUP(R993,'[1]CCG & RG names'!A:B,2,0)","v":"NHS South West London CCG"},"V002099","One One Nine Family Dental Care, 119 Mitcham Lane, Streatham, LONDON, SW16 6LY","SW16 6LY","SW16"]
[null,null,null,null,null,null,null,null,null,null,null,null,null,null,null,"QWE",{"$f":"VLOOKUP(P994,'[1]CCG & RG names'!D:E,2,0)","v":"South West London Health & Care Partnership (STP)"},"36L",{"$f":"VLOOKUP(R994,'[1]CCG & RG names'!A:B,2,0)","v":"NHS South West London CCG"},"V002100","Dental Surgery, 239 Southcroft Road, LONDON, SW16 6QT","SW16 6QT","SW16"]
[null,null,null,null,null,null,null,null,null,null,null,null,null,null,null,"QWE",{"$f":"VLOOKUP(P995,'[1]CCG & RG names'!D:E,2,0)","v":"South West London Health & Care Partnership (STP)"},"36L",{"$f":"VLOOKUP(R995,'[1]CCG & RG names'!A:B,2,0)","v":"NHS South West London CCG"},"V002102","Balham Lodge Practice, 229 Balham High Road, LONDON, SW17 7BG","SW17 7BG","SW17"]
[null,null,null,null,null,null,null,null,null,null,null,null,null,null,null,"QWE",{"$f":"VLOOKUP(P996,'[1]CCG & RG names'!D:E,2,0)","v":"South West London Health & Care Partnership (STP)"},"36L",{"$f":"VLOOKUP(R996,'[1]CCG & RG names'!A:B,2,0)","v":"NHS South West London CCG"},"V002104","Waterfall Dental Surgery, Waterfall House, 223 Tooting High Street, LONDON, SW17 0TD","SW17 0TD","SW17"]
[null,null,null,null,null,null,null,null,null,null,null,null,null,null,null,"QWE",{"$f":"VLOOKUP(P997,'[1]CCG & RG names'!D:E,2,0)","v":"South West London Health & Care Partnership (STP)"},"36L",{"$f":"VLOOKUP(R997,'[1]CCG & RG names'!A:B,2,0)","v":"NHS South West London CCG"},"V002107","Tooting Dental Care, 3 Tooting High Street, LONDON, SW17 0SN","SW17 0SN","SW17"]
[null,null,null,null,null,null,null,null,null,null,null,null,null,null,null,"QWE",{"$f":"VLOOKUP(P998,'[1]CCG & RG names'!D:E,2,0)","v":"South West London Health & Care Partnership (STP)"},"36L",{"$f":"VLOOKUP(R998,'[1]CCG & RG names'!A:B,2,0)","v":"NHS South West London CCG"},"V002115","IDH Ltd, 1071 Garratt Lane, LONDON, SW17 0LN","SW17 0LN","SW17"]
[null,null,null,null,null,null,null,null,null,null,null,null,null,null,null,"QWE",{"$f":"VLOOKUP(P999,'[1]CCG & RG names'!D:E,2,0)","v":"South West London Health & Care Partnership (STP)"},"36L",{"$f":"VLOOKUP(R999,'[1]CCG & RG names'!A:B,2,0)","v":"NHS South West London CCG"},"V002122","Dental Surgery, 96 Tooting High Street, LONDON, SW17 0RR","SW17 0RR","SW17"]
[null,null,null,null,null,null,null,null,null,null,null,null,null,null,null,"QWE",{"$f":"VLOOKUP(P1000,'[1]CCG & RG names'!D:E,2,0)","v":"South West London Health & Care Partnership (STP)"},"36L",{"$f":"VLOOKUP(R1000,'[1]CCG & RG names'!A:B,2,0)","v":"NHS South West London CCG"},"V002124","Dental Surgery, 104 Trinity Road, LONDON, SW17 7RL","SW17 7RL","SW17"]
[null,null,null,null,null,null,null,null,null,null,null,null,null,null,null,"QWE",{"$f":"VLOOKUP(P1001,'[1]CCG & RG names'!D:E,2,0)","v":"South West London Health & Care Partnership (STP)"},"36L",{"$f":"VLOOKUP(R1001,'[1]CCG & RG names'!A:B,2,0)","v":"NHS South West London CCG"},"V002150","IDH Ltd, 203 Wandsworth High Street, LONDON, SW18 4JE","SW18 4JE","SW18"]
[null,null,null,null,null,null,null,null,null,null,null,null,null,null,null,"QWE",{"$f":"VLOOKUP(P1010,'[1]CCG & RG names'!D:E,2,0)","v":"South West London Health & Care Partnership (STP)"},"36L",{"$f":"VLOOKUP(R1010,'[1]CCG & RG names'!A:B,2,0)","v":"NHS South West London CCG"},"V002296","Dental Care Surgery, 1 Church Road, TEDDINGTON, Middlesex, TW11 8PF","TW11 8PF","TW11"]
[null,null,null,null,null,null,null,null,null,null,null,null,null,null,null,"QWE",{"$f":"VLOOKUP(P1013,'[1]CCG & RG names'!D:E,2,0)","v":"South West London Health & Care Partnership (STP)"},"36L",{"$f":"VLOOKUP(R1013,'[1]CCG & RG names'!A:B,2,0)","v":"NHS South West London CCG"},"V002308","Bridge Road Dental Surgery, 14 Bridge Road, CHESSINGTON, Surrey, KT9 2EP","KT9 2EP","KT9 "]
[null,null,null,null,null,null,null,null,null,null,null,null,null,null,null,"QWE",{"$f":"VLOOKUP(P1020,'[1]CCG & RG names'!D:E,2,0)","v":"South West London Health & Care Partnership (STP)"},"36L",{"$f":"VLOOKUP(R1020,'[1]CCG & RG names'!A:B,2,0)","v":"NHS South West London CCG"},"V002323","8 Dukes Avenue, KINGSTON UPON THAMES, Surrey, KT2 5QY","KT2 5QY","KT2 "]
[null,null,null,null,null,null,null,null,null,null,null,null,null,null,null,"QWE",{"$f":"VLOOKUP(P1028,'[1]CCG & RG names'!D:E,2,0)","v":"South West London Health & Care Partnership (STP)"},"36L",{"$f":"VLOOKUP(R1028,'[1]CCG & RG names'!A:B,2,0)","v":"NHS South West London CCG"},"V002351","The Cottage Dental Practice, 359 Ewell Road, SURBITON, Surrey, KT6 7BZ","KT6 7BZ","KT6 "]
[null,null,null,null,null,null,null,null,null,null,null,null,null,null,null,"QWE",{"$f":"VLOOKUP(P1031,'[1]CCG & RG names'!D:E,2,0)","v":"South West London Health & Care Partnership (STP)"},"36L",{"$f":"VLOOKUP(R1031,'[1]CCG & RG names'!A:B,2,0)","v":"NHS South West London CCG"},"V002371","Claremont Dental Practice, 57 Crown Road, TWICKENHAM, Middlesex, TW1 3EJ","TW1 3EJ","TW1 "]
[null,null,null,null,null,null,null,null,null,null,null,null,null,null,null,"QWE",{"$f":"VLOOKUP(P1038,'[1]CCG & RG names'!D:E,2,0)","v":"South West London Health & Care Partnership (STP)"},"36L",{"$f":"VLOOKUP(R1038,'[1]CCG & RG names'!A:B,2,0)","v":"NHS South West London CCG"},"V002780","Battersea Dental Practice, 33A Queenstown Road, Battersea, LONDON, SW8 3RE","SW8 3RE","SW8 "]
[null,null,null,null,null,null,null,null,null,null,null,null,null,null,null,"QWE",{"$f":"VLOOKUP(P1044,'[1]CCG & RG names'!D:E,2,0)","v":"South West London Health & Care Partnership (STP)"},"36L",{"$f":"VLOOKUP(R1044,'[1]CCG & RG names'!A:B,2,0)","v":"NHS South West London CCG"},"V004502","14 Station Road, SUTTON, Surrey, SM2 6BH","SM2 6BH","SM2 "]
[null,null,null,null,null,null,null,null,null,null,null,null,null,null,null,"QWE",{"$f":"VLOOKUP(P1047,'[1]CCG & RG names'!D:E,2,0)","v":"South West London Health & Care Partnership (STP)"},"36L",{"$f":"VLOOKUP(R1047,'[1]CCG & RG names'!A:B,2,0)","v":"NHS South West London CCG"},"V004512","Rosehill Dental Surgery, 34 The Market, Wrythe Lane, CARSHALTON, Surrey, SM5 1AG","SM5 1AG","SM5 "]
[null,null,null,null,null,null,null,null,null,null,null,null,null,null,null,"QWE",{"$f":"VLOOKUP(P1056,'[1]CCG & RG names'!D:E,2,0)","v":"South West London Health & Care Partnership (STP)"},"36L",{"$f":"VLOOKUP(R1056,'[1]CCG & RG names'!A:B,2,0)","v":"NHS South West London CCG"},"V004539","Dental Surgery, 25A Upper Green East, MITCHAM, Surrey, CR4 2PE","CR4 2PE","CR4 "]
[null,null,null,null,null,null,null,null,null,null,null,null,null,null,null,"QWE",{"$f":"VLOOKUP(P1059,'[1]CCG & RG names'!D:E,2,0)","v":"South West London Health & Care Partnership (STP)"},"36L",{"$f":"VLOOKUP(R1059,'[1]CCG & RG names'!A:B,2,0)","v":"NHS South West London CCG"},"V004551","Dental Surgery, 18 London Road, MORDEN, Surrey, SM4 5BQ","SM4 5BQ","SM4 "]
[null,null,null,null,null,null,null,null,null,null,null,null,null,null,null,"QWE",{"$f":"VLOOKUP(P1064,'[1]CCG & RG names'!D:E,2,0)","v":"South West London Health & Care Partnership (STP)"},"36L",{"$f":"VLOOKUP(R1064,'[1]CCG & RG names'!A:B,2,0)","v":"NHS South West London CCG"},"V004562","Dental Practice & Dental Hygiene, 593 London Road, SUTTON, Surrey, SM3 9AG","SM3 9AG","SM3 "]
[null,null,null,null,null,null,null,null,null,null,null,null,null,null,null,"QWE",{"$f":"VLOOKUP(P1074,'[1]CCG & RG names'!D:E,2,0)","v":"South West London Health & Care Partnership (STP)"},"36L",{"$f":"VLOOKUP(R1074,'[1]CCG & RG names'!A:B,2,0)","v":"NHS South West London CCG"},"V004602","Pagets Dental Surgery, 61 Manor Road, WALLINGTON, Surrey, SM6 0DE","SM6 0DE","SM6 "]
[null,null,null,null,null,null,null,null,null,null,null,null,null,null,null,"QWE",{"$f":"VLOOKUP(P1077,'[1]CCG & RG names'!D:E,2,0)","v":"South West London Health & Care Partnership (STP)"},"36L",{"$f":"VLOOKUP(R1077,'[1]CCG & RG names'!A:B,2,0)","v":"NHS South West London CCG"},"V004611","Merton Dental Centre, 134 Kingston Road, LONDON, SW19 1LY","SW19 1LY","SW19"]
[null,null,null,null,null,null,null,null,null,null,null,null,null,null,null,"QWE",{"$f":"VLOOKUP(P1084,'[1]CCG & RG names'!D:E,2,0)","v":"South West London Health & Care Partnership (STP)"},"36L",{"$f":"VLOOKUP(R1084,'[1]CCG & RG names'!A:B,2,0)","v":"NHS South West London CCG"},"V004640","Dalmeny House Dental Clinic, 167 Cheam Common Road, WORCESTER PARK, Surrey, KT4 8SX","KT4 8SX","KT4 "]
[null,null,null,null,null,null,null,null,null,null,null,null,null,null,null,"QWE",{"$f":"VLOOKUP(P1088,'[1]CCG & RG names'!D:E,2,0)","v":"South West London Health & Care Partnership (STP)"},"36L",{"$f":"VLOOKUP(R1088,'[1]CCG & RG names'!A:B,2,0)","v":"NHS South West London CCG"},"V004922","Oaktree Dental Practice, 303 Brighton Road, SOUTH CROYDON, Surrey, CR2 6EQ","CR2 6EQ","CR2 "]
[null,null,null,null,null,null,null,null,null,null,null,null,null,null,null,"QWE",{"$f":"VLOOKUP(P1093,'[1]CCG & RG names'!D:E,2,0)","v":"South West London Health & Care Partnership (STP)"},"36L",{"$f":"VLOOKUP(R1093,'[1]CCG & RG names'!A:B,2,0)","v":"NHS South West London CCG"},"V005465","Croydon Dental Care, 60 62 Church Street, CROYDON, Surrey, CR0 1RB","CR0 1RB","CR0 "]
[null,null,null,null,null,null,null,null,null,null,null,null,null,null,null,"QWE",{"$f":"VLOOKUP(P1102,'[1]CCG & RG names'!D:E,2,0)","v":"South West London Health & Care Partnership (STP)"},"36L",{"$f":"VLOOKUP(R1102,'[1]CCG & RG names'!A:B,2,0)","v":"NHS South West London CCG"},"V007156","IDH Ltd, 48 Chipstead Valley Road, COULSDON, Surrey, CR5 2RA","CR5 2RA","CR5 "]
[null,null,null,null,null,null,null,null,null,null,null,null,null,null,null,"QWE",{"$f":"VLOOKUP(P1105,'[1]CCG & RG names'!D:E,2,0)","v":"South West London Health & Care Partnership (STP)"},"36L",{"$f":"VLOOKUP(R1105,'[1]CCG & RG names'!A:B,2,0)","v":"NHS South West London CCG"},"V007180","Dental Surgery, 5 Salcot Crescent, New Addington, CROYDON, Surrey, CR0 0JG","CR0 0JG","CR0 "]
[null,null,null,null,null,null,null,null,null,null,null,null,null,null,null,"QWE",{"$f":"VLOOKUP(P1113,'[1]CCG & RG names'!D:E,2,0)","v":"South West London Health & Care Partnership (STP)"},"36L",{"$f":"VLOOKUP(R1113,'[1]CCG & RG names'!A:B,2,0)","v":"NHS South West London CCG"},"V007292","Jazz Dental Practice, 1172 London Road, LONDON, SW16 4DP","SW16 4DP","SW16"]
[null,null,null,null,null,null,null,null,null,null,null,null,null,null,null,"QWE",{"$f":"VLOOKUP(P1120,'[1]CCG & RG names'!D:E,2,0)","v":"South West London Health & Care Partnership (STP)"},"36L",{"$f":"VLOOKUP(R1120,'[1]CCG & RG names'!A:B,2,0)","v":"NHS South West London CCG"},"V008047","Blue Dental, 456 Brighton Road, SOUTH CROYDON, Surrey, CR2 6AP","CR2 6AP","CR2 "]
[null,null,null,null,null,null,null,null,null,null,null,null,null,null,null,"QWE",{"$f":"VLOOKUP(P1121,'[1]CCG & RG names'!D:E,2,0)","v":"South West London Health & Care Partnership (STP)"},"36L",{"$f":"VLOOKUP(R1121,'[1]CCG & RG names'!A:B,2,0)","v":"NHS South West London CCG"},"V008538","1210 London Road, Norbury, LONDON, SW16 4DN","SW16 4DN","SW16"]
[null,null,null,null,null,null,null,null,null,null,null,null,null,null,null,"QWE",{"$f":"VLOOKUP(P1130,'[1]CCG & RG names'!D:E,2,0)","v":"South West London Health & Care Partnership (STP)"},"36L",{"$f":"VLOOKUP(R1130,'[1]CCG & RG names'!A:B,2,0)","v":"NHS South West London CCG"},"V009268","The Health Centre, 411A Green Wrythe Lane, CARSHALTON, Surrey, SM5 1JL","SM5 1JL","SM5 "]
[null,null,null,null,null,null,null,null,null,null,null,null,null,null,null,"QWE",{"$f":"VLOOKUP(P1137,'[1]CCG & RG names'!D:E,2,0)","v":"South West London Health & Care Partnership (STP)"},"36L",{"$f":"VLOOKUP(R1137,'[1]CCG & RG names'!A:B,2,0)","v":"NHS South West London CCG"},"V010551","1a Orthodontics, 1a Freshford Street, Earslfield, LONDON, SW18 3TG","SW18 3TG","SW18"]
[null,null,null,null,null,null,null,null,null,null,null,null,null,null,null,"QWE",{"$f":"VLOOKUP(P1139,'[1]CCG & RG names'!D:E,2,0)","v":"South West London Health & Care Partnership (STP)"},"36L",{"$f":"VLOOKUP(R1139,'[1]CCG & RG names'!A:B,2,0)","v":"NHS South West London CCG"},"V010972","378 Malden Road, WORCESTER PARK, Surrey, KT4 7NL","KT4 7NL","KT4 "]
[null,null,null,null,null,null,null,null,null,null,null,null,null,null,null,"QWE",{"$f":"VLOOKUP(P1148,'[1]CCG & RG names'!D:E,2,0)","v":"South West London Health & Care Partnership (STP)"},"36L",{"$f":"VLOOKUP(R1148,'[1]CCG & RG names'!A:B,2,0)","v":"NHS South West London CCG"},"V013324","Dental Surgery, 1st Floor, Woolwich House, 43 George Street, Croydon, CR0 1LB","CR0 1LB","CR0 "]
[null,null,null,null,null,null,null,null,null,null,null,null,null,null,null,"QWE",{"$f":"VLOOKUP(P1151,'[1]CCG & RG names'!D:E,2,0)","v":"South West London Health & Care Partnership (STP)"},"36L",{"$f":"VLOOKUP(R1151,'[1]CCG & RG names'!A:B,2,0)","v":"NHS South West London CCG"},"V013568","Putney Bridge Dental Centre, Unit 2, Riverside Commercial Quarters, Point Pleasant, Wandsworth, SW18 1GG","SW18 1GG","SW18"]
[null,null,null,null,null,null,null,null,null,null,null,null,null,null,null,"QWE",{"$f":"VLOOKUP(P1157,'[1]CCG & RG names'!D:E,2,0)","v":"South West London Health & Care Partnership (STP)"},"36L",{"$f":"VLOOKUP(R1157,'[1]CCG & RG names'!A:B,2,0)","v":"NHS South West London CCG"},"V019802","124-132, Wickham Road, Croydon, CR0 8BE","CR0 8BE","CR0 "]
[null,null,null,null,null,null,null,null,null,null,null,null,null,null,null,"QWE",{"$f":"VLOOKUP(P1166,'[1]CCG & RG names'!D:E,2,0)","v":"South West London Health & Care Partnership (STP)"},"36L",{"$f":"VLOOKUP(R1166,'[1]CCG & RG names'!A:B,2,0)","v":"NHS South West London CCG"},"V045300","6 CROWN PARADE, CROWN LANE, MORDEN, SM4 5DA","SM4 5DA","SM4 "]
[null,null,null,null,null,null,null,null,null,null,null,null,null,null,null,"QWE",{"$f":"VLOOKUP(P1167,'[1]CCG & RG names'!D:E,2,0)","v":"South West London Health & Care Partnership (STP)"},"36L",{"$f":"VLOOKUP(R1167,'[1]CCG & RG names'!A:B,2,0)","v":"NHS South West London CCG"},"V139058","Richmond Orthodontics, 64 Sheen Road, Richmond, London, TW9 1UF","TW9 1UF","TW9 "]
[null,null,null,null,null,null,null,null,null,null,null,null,null,null,null,"QJK",{"$f":"VLOOKUP(P1176,'[1]CCG & RG names'!D:E,2,0)","v":"Devon STP"},"15N",{"$f":"VLOOKUP(R1176,'[1]CCG & RG names'!A:B,2,0)","v":"NHS Devon CCG"},"V000010","Okehampton Dental Care, 6 Station Road, Okehampton, Devon, EX20 1DZ","EX20 1DZ","EX20"]
[null,null,null,null,null,null,null,null,null,null,null,null,null,null,null,"QJK",{"$f":"VLOOKUP(P1181,'[1]CCG & RG names'!D:E,2,0)","v":"Devon STP"},"15N",{"$f":"VLOOKUP(R1181,'[1]CCG & RG names'!A:B,2,0)","v":"NHS Devon CCG"},"V000979","Golds Place Dental Practice, 26 High Street, Cullompton, Devon, EX15 1AA","EX15 1AA","EX15"]
[null,null,null,null,null,null,null,null,null,null,null,null,null,null,null,"QJK",{"$f":"VLOOKUP(P1185,'[1]CCG & RG names'!D:E,2,0)","v":"Devon STP"},"15N",{"$f":"VLOOKUP(R1185,'[1]CCG & RG names'!A:B,2,0)","v":"NHS Devon CCG"},"V001268","Barton Dental Surgery, 49 Isaacs Road, TORQUAY, Devon, TQ2 8NA","TQ2 8NA","TQ2 "]
[null,null,null,null,null,null,null,null,null,null,null,null,null,null,null,"QJK",{"$f":"VLOOKUP(P1194,'[1]CCG & RG names'!D:E,2,0)","v":"Devon STP"},"15N",{"$f":"VLOOKUP(R1194,'[1]CCG & RG names'!A:B,2,0)","v":"NHS Devon CCG"},"V004477","Avenue Dental Surgery, 156 Avenue Road, TORQUAY, Devon, TQ2 5LQ","TQ2 5LQ","TQ2 "]
[null,null,null,null,null,null,null,null,null,null,null,null,null,null,null,"QJK",{"$f":"VLOOKUP(P1197,'[1]CCG & RG names'!D:E,2,0)","v":"Devon STP"},"15N",{"$f":"VLOOKUP(R1197,'[1]CCG & RG names'!A:B,2,0)","v":"NHS Devon CCG"},"V004481","Harbour Way Dental Surgery, 128 New Road, BRIXHAM, Devon, TQ5 8DA","TQ5 8DA","TQ5 "]
[null,null,null,null,null,null,null,null,null,null,null,null,null,null,null,"QJK",{"$f":"VLOOKUP(P1206,'[1]CCG & RG names'!D:E,2,0)","v":"Devon STP"},"15N",{"$f":"VLOOKUP(R1206,'[1]CCG & RG names'!A:B,2,0)","v":"NHS Devon CCG"},"V004782","Heddons Croft Dental Surgery, Exeter Road, BRAUNTON, Devon, EX33 2JL","EX33 2JL","EX33"]
[null,null,null,null,null,null,null,null,null,null,null,null,null,null,null,"QJK",{"$f":"VLOOKUP(P1212,'[1]CCG & RG names'!D:E,2,0)","v":"Devon STP"},"15N",{"$f":"VLOOKUP(R1212,'[1]CCG & RG names'!A:B,2,0)","v":"NHS Devon CCG"},"V004819","Torrington Dental Practice, Halsdon Terrace, TORRINGTON, Devon, EX38 8DY","EX38 8DY","EX38"]
[null,null,null,null,null,null,null,null,null,null,null,null,null,null,null,"QJK",{"$f":"VLOOKUP(P1213,'[1]CCG & RG names'!D:E,2,0)","v":"Devon STP"},"15N",{"$f":"VLOOKUP(R1213,'[1]CCG & RG names'!A:B,2,0)","v":"NHS Devon CCG"},"V005241","The Quay Dental Practice, Natwest Bank Chambers, The Quay, BIDEFORD, Devon, EX39 2HW","EX39 2HW","EX39"]
[null,null,null,null,null,null,null,null,null,null,null,null,null,null,null,"QJK",{"$f":"VLOOKUP(P1222,'[1]CCG & RG names'!D:E,2,0)","v":"Devon STP"},"15N",{"$f":"VLOOKUP(R1222,'[1]CCG & RG names'!A:B,2,0)","v":"NHS Devon CCG"},"V005770","West Hill Dental Care, The Old Village Hall, West Hill Road, West Hill, OTTERY ST MARY, Devon, EX11 1TP","EX11 1TP","EX11"]
[null,null,null,null,null,null,null,null,null,null,null,null,null,null,null,"QJK",{"$f":"VLOOKUP(P1225,'[1]CCG & RG names'!D:E,2,0)","v":"Devon STP"},"15N",{"$f":"VLOOKUP(R1225,'[1]CCG & RG names'!A:B,2,0)","v":"NHS Devon CCG"},"V006363","The Dental Surgery, 25 Denmark Road, Exeter, Devon, EX1 1SL","EX1 1SL","EX1 "]
[null,null,null,null,null,null,null,null,null,null,null,null,null,null,null,"QJK",{"$f":"VLOOKUP(P1231,'[1]CCG & RG names'!D:E,2,0)","v":"Devon STP"},"15N",{"$f":"VLOOKUP(R1231,'[1]CCG & RG names'!A:B,2,0)","v":"NHS Devon CCG"},"V006551","Dental Surgery, 35 Cecil Street, PLYMOUTH, Devon, PL1 5HW","PL1 5HW","PL1 "]
[null,null,null,null,null,null,null,null,null,null,null,null,null,null,null,"QJK",{"$f":"VLOOKUP(P1240,'[1]CCG & RG names'!D:E,2,0)","v":"Devon STP"},"15N",{"$f":"VLOOKUP(R1240,'[1]CCG & RG names'!A:B,2,0)","v":"NHS Devon CCG"},"V006729","Mill Street Dental Practice, 16 Mill Street, KINGSBRIDGE, Devon, TQ7 1ED","TQ7 1ED","TQ7 "]
[null,null,null,null,null,null,null,null,null,null,null,null,null,null,null,"QJK",{"$f":"VLOOKUP(P1244,'[1]CCG & RG names'!D:E,2,0)","v":"Devon STP"},"15N",{"$f":"VLOOKUP(R1244,'[1]CCG & RG names'!A:B,2,0)","v":"NHS Devon CCG"},"V006752","South Brent Dental Practice, Primrose Junction, SOUTH BRENT, Devon, TQ10 9AL","TQ10 9AL","TQ10"]
[null,null,null,null,null,null,null,null,null,null,null,null,null,null,null,"QJK",{"$f":"VLOOKUP(P1249,'[1]CCG & RG names'!D:E,2,0)","v":"Devon STP"},"15N",{"$f":"VLOOKUP(R1249,'[1]CCG & RG names'!A:B,2,0)","v":"NHS Devon CCG"},"V007022","Fauchard House Dental Surgery, 53 North Hill, PLYMOUTH, Devon, PL4 8HB","PL4 8HB","PL4 "]
[null,null,null,null,null,null,null,null,null,null,null,null,null,null,null,"QJK",{"$f":"VLOOKUP(P1258,'[1]CCG & RG names'!D:E,2,0)","v":"Devon STP"},"15N",{"$f":"VLOOKUP(R1258,'[1]CCG & RG names'!A:B,2,0)","v":"NHS Devon CCG"},"V007575","H M Prisons Channings Wood, Dental Dept, Channings Wood, Denbury, Newton Abbot, TQ12 6DW","TQ12 6DW","TQ12"]
[null,null,null,null,null,null,null,null,null,null,null,null,null,null,null,"QJK",{"$f":"VLOOKUP(P1259,'[1]CCG & RG names'!D:E,2,0)","v":"Devon STP"},"15N",{"$f":"VLOOKUP(R1259,'[1]CCG & RG names'!A:B,2,0)","v":"NHS Devon CCG"},"V007577","Th Old Dispensary, 23 Queen Street, DAWLISH, Devon, EX7 9HB","EX7 9HB","EX7 "]
[null,null,null,null,null,null,null,null,null,null,null,null,null,null,null,"QJK",{"$f":"VLOOKUP(P1268,'[1]CCG & RG names'!D:E,2,0)","v":"Devon STP"},"15N",{"$f":"VLOOKUP(R1268,'[1]CCG & RG names'!A:B,2,0)","v":"NHS Devon CCG"},"V007933","Irish and King Dental Practice, 95 Pinhoe Road, EXETER, Devon, EX4 7HU","EX4 7HU","EX4 "]
[null,null,null,null,null,null,null,null,null,null,null,null,null,null,null,"QJK",{"$f":"VLOOKUP(P1270,'[1]CCG & RG names'!D:E,2,0)","v":"Devon STP"},"15N",{"$f":"VLOOKUP(R1270,'[1]CCG & RG names'!A:B,2,0)","v":"NHS Devon CCG"},"V008199","Sidwell Dental Surgery, 115B Sidwell Street, EXETER, Devon, EX4 6RY","EX4 6RY","EX4 "]
[null,null,null,null,null,null,null,null,null,null,null,null,null,null,null,"QJK",{"$f":"VLOOKUP(P1277,'[1]CCG & RG names'!D:E,2,0)","v":"Devon STP"},"15N",{"$f":"VLOOKUP(R1277,'[1]CCG & RG names'!A:B,2,0)","v":"NHS Devon CCG"},"V010957","11 Courtenay Park, NEWTON ABBOT, Devon, TQ12 2HD","TQ12 2HD","TQ12"]
[null,null,null,null,null,null,null,null,null,null,null,null,null,null,null,"QJK",{"$f":"VLOOKUP(P1286,'[1]CCG & RG names'!D:E,2,0)","v":"Devon STP"},"15N",{"$f":"VLOOKUP(R1286,'[1]CCG & RG names'!A:B,2,0)","v":"NHS Devon CCG"},"V012928","Holsworthy NHS Dental Care, First Floor, Penroses, Bodmin Street, Holsworthy, Devon, EX22 6BB","EX22 6BB","EX22"]
[null,null,null,null,null,null,null,null,null,null,null,null,null,null,null,"QJK",{"$f":"VLOOKUP(P1288,'[1]CCG & RG names'!D:E,2,0)","v":"Devon STP"},"15N",{"$f":"VLOOKUP(R1288,'[1]CCG & RG names'!A:B,2,0)","v":"NHS Devon CCG"},"V013286","Seven Trees Clinic, Baring Street, Plymouth, Devon, PL4 8NF","PL4 8NF","PL4 "]
[null,null,null,null,null,null,null,null,null,null,null,null,null,null,null,"QJK",{"$f":"VLOOKUP(P1295,'[1]CCG & RG names'!D:E,2,0)","v":"Devon STP"},"15N",{"$f":"VLOOKUP(R1295,'[1]CCG & RG names'!A:B,2,0)","v":"NHS Devon CCG"},"V017624","135 Marldon Road, Paignton, Devon, TQ3 3NL","TQ3 3NL","TQ3 "]
[null,null,null,null,null,null,null,null,null,null,null,null,null,null,null,"QJK",{"$f":"VLOOKUP(P1304,'[1]CCG & RG names'!D:E,2,0)","v":"Devon STP"},"15N",{"$f":"VLOOKUP(R1304,'[1]CCG & RG names'!A:B,2,0)","v":"NHS Devon CCG"},"V029185","31 Queen Street, Exeter, EX4 3SR","EX4 3SR","EX4 "]
[null,null,null,null,null,null,null,null,null,null,null,null,null,null,null,"QJK",{"$f":"VLOOKUP(P1305,'[1]CCG & RG names'!D:E,2,0)","v":"Devon STP"},"15N",{"$f":"VLOOKUP(R1305,'[1]CCG & RG names'!A:B,2,0)","v":"NHS Devon CCG"},"V030334","Sunny Corner, Hind Street, Ottery St. Mary, Devon, EX11 1BW","EX11 1BW","EX11"]
[null,null,null,null,null,null,null,null,null,null,null,null,null,null,null,"QOX",{"$f":"VLOOKUP(P1312,'[1]CCG & RG names'!D:E,2,0)","v":"Bath and North East Somerset, Swindon and Wiltshire STP"},"92G",{"$f":"VLOOKUP(R1312,'[1]CCG & RG names'!A:B,2,0)","v":"NHS Bath and North East Somerset, Swindon and Wiltshire CCG"},"V000215","Ambience Dental Practice, First Floor, Wade House, 37 39 Queen Street, SWINDON, SN1 1RN","SN1 1RN","SN1 "]
[null,null,null,null,null,null,null,null,null,null,null,null,null,null,null,"QOX",{"$f":"VLOOKUP(P1320,'[1]CCG & RG names'!D:E,2,0)","v":"Bath and North East Somerset, Swindon and Wiltshire STP"},"92G",{"$f":"VLOOKUP(R1320,'[1]CCG & RG names'!A:B,2,0)","v":"NHS Bath and North East Somerset, Swindon and Wiltshire CCG"},"V004136","Dental Surgery, 5 Oxford Road, CALNE, Wiltshire, SN11 8AA","SN11 8AA","SN11"]
[null,null,null,null,null,null,null,null,null,null,null,null,null,null,null,"QOX",{"$f":"VLOOKUP(P1323,'[1]CCG & RG names'!D:E,2,0)","v":"Bath and North East Somerset, Swindon and Wiltshire STP"},"92G",{"$f":"VLOOKUP(R1323,'[1]CCG & RG names'!A:B,2,0)","v":"NHS Bath and North East Somerset, Swindon and Wiltshire CCG"},"V004140","Hanlon & Gardner Dental Surgery, 30 New Road, CHIPPENHAM, Wiltshire, SN15 1HP","SN15 1HP","SN15"]
[null,null,null,null,null,null,null,null,null,null,null,null,null,null,null,"QOX",{"$f":"VLOOKUP(P1332,'[1]CCG & RG names'!D:E,2,0)","v":"Bath and North East Somerset, Swindon and Wiltshire STP"},"92G",{"$f":"VLOOKUP(R1332,'[1]CCG & RG names'!A:B,2,0)","v":"NHS Bath and North East Somerset, Swindon and Wiltshire CCG"},"V005059","The High Street Dental Clinic, 7 High Street, DEVIZES, Wiltshire, Wiltshire, SN10 1AT","SN10 1AT","SN10"]
[null,null,null,null,null,null,null,null,null,null,null,null,null,null,null,"QOX",{"$f":"VLOOKUP(P1337,'[1]CCG & RG names'!D:E,2,0)","v":"Bath and North East Somerset, Swindon and Wiltshire STP"},"92G",{"$f":"VLOOKUP(R1337,'[1]CCG & RG names'!A:B,2,0)","v":"NHS Bath and North East Somerset, Swindon and Wiltshire CCG"},"V006715","Dental Surgery, 7A Bath Hill, Keynsham, BRISTOL, Avon, BS31 1EB","BS31 1EB","BS31"]
[null,null,null,null,null,null,null,null,null,null,null,null,null,null,null,"QOX",{"$f":"VLOOKUP(P1341,'[1]CCG & RG names'!D:E,2,0)","v":"Bath and North East Somerset, Swindon and Wiltshire STP"},"92G",{"$f":"VLOOKUP(R1341,'[1]CCG & RG names'!A:B,2,0)","v":"NHS Bath and North East Somerset, Swindon and Wiltshire CCG"},"V007038","Charlotte Street Dental Practice, 15A Charlotte Street, BATH, Avon, BA1 2ND","BA1 2ND","BA1 "]
[null,null,null,null,null,null,null,null,null,null,null,null,null,null,null,"QOX",{"$f":"VLOOKUP(P1350,'[1]CCG & RG names'!D:E,2,0)","v":"Bath and North East Somerset, Swindon and Wiltshire STP"},"92G",{"$f":"VLOOKUP(R1350,'[1]CCG & RG names'!A:B,2,0)","v":"NHS Bath and North East Somerset, Swindon and Wiltshire CCG"},"V007050","Queen Square Dental Practice, 1A Queen Square, BATH, Avon, BA1 2HA","BA1 2HA","BA1 "]
[null,null,null,null,null,null,null,null,null,null,null,null,null,null,null,"QOX",{"$f":"VLOOKUP(P1351,'[1]CCG & RG names'!D:E,2,0)","v":"Bath and North East Somerset, Swindon and Wiltshire STP"},"92G",{"$f":"VLOOKUP(R1351,'[1]CCG & RG names'!A:B,2,0)","v":"NHS Bath and North East Somerset, Swindon and Wiltshire CCG"},"V007051","Larkhall Dental Practice, 1A St Saviours Road, BATH, Avon, BA1 6RT","BA1 6RT","BA1 "]
[null,null,null,null,null,null,null,null,null,null,null,null,null,null,null,"QOX",{"$f":"VLOOKUP(P1361,'[1]CCG & RG names'!D:E,2,0)","v":"Bath and North East Somerset, Swindon and Wiltshire STP"},"92G",{"$f":"VLOOKUP(R1361,'[1]CCG & RG names'!A:B,2,0)","v":"NHS Bath and North East Somerset, Swindon and Wiltshire CCG"},"V008068","21 Park Lane, SWINDON, Wiltshire, SN1 5EL","SN1 5EL","SN1 "]
[null,null,null,null,null,null,null,null,null,null,null,null,null,null,null,"QOX",{"$f":"VLOOKUP(P1366,'[1]CCG & RG names'!D:E,2,0)","v":"Bath and North East Somerset, Swindon and Wiltshire STP"},"92G",{"$f":"VLOOKUP(R1366,'[1]CCG & RG names'!A:B,2,0)","v":"NHS Bath and North East Somerset, Swindon and Wiltshire CCG"},"V008492","Sarum Dental Practice, 208 Castle Street, SALISBURY, Wiltshire, SP1 3TE","SP1 3TE","SP1 "]
[null,null,null,null,null,null,null,null,null,null,null,null,null,null,null,"QOX",{"$f":"VLOOKUP(P1369,'[1]CCG & RG names'!D:E,2,0)","v":"Bath and North East Somerset, Swindon and Wiltshire STP"},"92G",{"$f":"VLOOKUP(R1369,'[1]CCG & RG names'!A:B,2,0)","v":"NHS Bath and North East Somerset, Swindon and Wiltshire CCG"},"V008603","Euro Dental Surgery, 45 Bath Road, SWINDON, Wiltshire, SN1 4AU","SN1 4AU","SN1 "]
[null,null,null,null,null,null,null,null,null,null,null,null,null,null,null,"QOX",{"$f":"VLOOKUP(P1378,'[1]CCG & RG names'!D:E,2,0)","v":"Bath and North East Somerset, Swindon and Wiltshire STP"},"92G",{"$f":"VLOOKUP(R1378,'[1]CCG & RG names'!A:B,2,0)","v":"NHS Bath and North East Somerset, Swindon and Wiltshire CCG"},"V008886","New Canal Dental Practice, 13 New Canal, SALISBURY, Wiltshire, SP1 2AA","SP1 2AA","SP1 "]
[null,null,null,null,null,null,null,null,null,null,null,null,null,null,null,"QOX",{"$f":"VLOOKUP(P1381,'[1]CCG & RG names'!D:E,2,0)","v":"Bath and North East Somerset, Swindon and Wiltshire STP"},"92G",{"$f":"VLOOKUP(R1381,'[1]CCG & RG names'!A:B,2,0)","v":"NHS Bath and North East Somerset, Swindon and Wiltshire CCG"},"V009186","DAC - Chippenham, Chippenham Community Hospital, Rowden Hill, CHIPPENHAM, Wiltshire, SN15 2AJ","SN15 2AJ","SN15"]
[null,null,null,null,null,null,null,null,null,null,null,null,null,null,null,"QOX",{"$f":"VLOOKUP(P1387,'[1]CCG & RG names'!D:E,2,0)","v":"Bath and North East Somerset, Swindon and Wiltshire STP"},"92G",{"$f":"VLOOKUP(R1387,'[1]CCG & RG names'!A:B,2,0)","v":"NHS Bath and North East Somerset, Swindon and Wiltshire CCG"},"V010998","Seven Fields, Dental & Health Centre, Groundwell Farmhouse, Woodcutters Mews, Swindon, SN25 4AU","SN25 4AU","SN25"]
[null,null,null,null,null,null,null,null,null,null,null,null,null,null,null,"QOX",{"$f":"VLOOKUP(P1396,'[1]CCG & RG names'!D:E,2,0)","v":"Bath and North East Somerset, Swindon and Wiltshire STP"},"92G",{"$f":"VLOOKUP(R1396,'[1]CCG & RG names'!A:B,2,0)","v":"NHS Bath and North East Somerset, Swindon and Wiltshire CCG"},"V012875","Keynsham Health Centre, St Clements Road, Keynsham, North East Somerset, BS31 1AF","BS31 1AF","BS31"]
[null,null,null,null,null,null,null,null,null,null,null,null,null,null,null,"QOX",{"$f":"VLOOKUP(P1397,'[1]CCG & RG names'!D:E,2,0)","v":"Bath and North East Somerset, Swindon and Wiltshire STP"},"92G",{"$f":"VLOOKUP(R1397,'[1]CCG & RG names'!A:B,2,0)","v":"NHS Bath and North East Somerset, Swindon and Wiltshire CCG"},"V013059","Hathaway Medical Clinic, Middlefield Road, CHIPPENHAM, Wiltshire, SN14 6GT","SN14 6GT","SN14"]
[null,null,null,null,null,null,null,null,null,null,null,null,null,null,null,"QOX",{"$f":"VLOOKUP(P1405,'[1]CCG & RG names'!D:E,2,0)","v":"Bath and North East Somerset, Swindon and Wiltshire STP"},"92G",{"$f":"VLOOKUP(R1405,'[1]CCG & RG names'!A:B,2,0)","v":"NHS Bath and North East Somerset, Swindon and Wiltshire CCG"},"V013626","Eldene Dental Practice, Eldene Health Centre, Eldene, Swindon, SN3 3RZ","SN3 3RZ","SN3 "]
[null,null,null,null,null,null,null,null,null,null,null,null,null,null,null,"QOX",{"$f":"VLOOKUP(P1412,'[1]CCG & RG names'!D:E,2,0)","v":"Bath and North East Somerset, Swindon and Wiltshire STP"},"92G",{"$f":"VLOOKUP(R1412,'[1]CCG & RG names'!A:B,2,0)","v":"NHS Bath and North East Somerset, Swindon and Wiltshire CCG"},"V025380","Fisherton House, Fountain Way, Salisbury, Wiltshire, SP2 7FD","SP2 7FD","SP2 "]
[null,null,null,null,null,null,null,null,null,null,null,null,null,null,null,"QOX",{"$f":"VLOOKUP(P1415,'[1]CCG & RG names'!D:E,2,0)","v":"Bath and North East Somerset, Swindon and Wiltshire STP"},"92G",{"$f":"VLOOKUP(R1415,'[1]CCG & RG names'!A:B,2,0)","v":"NHS Bath and North East Somerset, Swindon and Wiltshire CCG"},"V046960","40 High Street, Pewsey, Wiltshire, SN9 5AQ","SN9 5AQ","SN9 "]
[null,null,null,null,null,null,null,null,null,null,null,null,null,null,null,"QR1",{"$f":"VLOOKUP(P1424,'[1]CCG & RG names'!D:E,2,0)","v":"Gloucestershire STP"},"11M",{"$f":"VLOOKUP(R1424,'[1]CCG & RG names'!A:B,2,0)","v":"NHS Gloucestershire CCG"},"V004231","Oriel Villas Dental Surgery, 1 Oriel Villas, Oriel Road, CHELTENHAM, Gloucestershire, GL50 1XN","GL50 1XN","GL50"]
[null,null,null,null,null,null,null,null,null,null,null,null,null,null,null,"QR1",{"$f":"VLOOKUP(P1430,'[1]CCG & RG names'!D:E,2,0)","v":"Gloucestershire STP"},"11M",{"$f":"VLOOKUP(R1430,'[1]CCG & RG names'!A:B,2,0)","v":"NHS Gloucestershire CCG"},"V004325","Stone House Dental Practice, Abbey Terrace, Winchcombe, CHELTENHAM, Gloucestershire, GL54 5LL","GL54 5LL","GL54"]
[null,null,null,null,null,null,null,null,null,null,null,null,null,null,null,"QR1",{"$f":"VLOOKUP(P1433,'[1]CCG & RG names'!D:E,2,0)","v":"Gloucestershire STP"},"11M",{"$f":"VLOOKUP(R1433,'[1]CCG & RG names'!A:B,2,0)","v":"NHS Gloucestershire CCG"},"V004665","Corinium Dental Practice, 49 Dyer Street, CIRENCESTER, Gloucestershire, GL7 2PP","GL7 2PP","GL7 "]
[null,null,null,null,null,null,null,null,null,null,null,null,null,null,null,"QR1",{"$f":"VLOOKUP(P1440,'[1]CCG & RG names'!D:E,2,0)","v":"Gloucestershire STP"},"11M",{"$f":"VLOOKUP(R1440,'[1]CCG & RG names'!A:B,2,0)","v":"NHS Gloucestershire CCG"},"V007913","Nelson Street Dental Practice, 17 18 Nelson Street, STROUD, Gloucestershire, GL5 2HN","GL5 2HN","GL5 "]
[null,null,null,null,null,null,null,null,null,null,null,null,null,null,null,"QR1",{"$f":"VLOOKUP(P1443,'[1]CCG & RG names'!D:E,2,0)","v":"Gloucestershire STP"},"11M",{"$f":"VLOOKUP(R1443,'[1]CCG & RG names'!A:B,2,0)","v":"NHS Gloucestershire CCG"},"V007920","Woodcock Lane Dental Practice, 2 Woodcock Lane, STONEHOUSE, Gloucestershire, GL10 2EE","GL10 2EE","GL10"]
[null,null,null,null,null,null,null,null,null,null,null,null,null,null,null,"QR1",{"$f":"VLOOKUP(P1449,'[1]CCG & RG names'!D:E,2,0)","v":"Gloucestershire STP"},"11M",{"$f":"VLOOKUP(R1449,'[1]CCG & RG names'!A:B,2,0)","v":"NHS Gloucestershire CCG"},"V008059","Dental Surgery, 7 Sudeley Drive, South Cerney, CIRENCESTER, Gloucestershire, GL7 5XN","GL7 5XN","GL7 "]
[null,null,null,null,null,null,null,null,null,null,null,null,null,null,null,"QR1",{"$f":"VLOOKUP(P1458,'[1]CCG & RG names'!D:E,2,0)","v":"Gloucestershire STP"},"11M",{"$f":"VLOOKUP(R1458,'[1]CCG & RG names'!A:B,2,0)","v":"NHS Gloucestershire CCG"},"V008294","Phoenix Orthodontics, 20 Clarence Street, GLOUCESTER, Gloucestershire, GL1 1DP","GL1 1DP","GL1 "]
[null,null,null,null,null,null,null,null,null,null,null,null,null,null,null,"QR1",{"$f":"VLOOKUP(P1461,'[1]CCG & RG names'!D:E,2,0)","v":"Gloucestershire STP"},"11M",{"$f":"VLOOKUP(R1461,'[1]CCG & RG names'!A:B,2,0)","v":"NHS Gloucestershire CCG"},"V008298","Westbury Dental Surgery, The Village, WESTBURY ON SEVERN, Gloucestershire, GL14 1PA","GL14 1PA","GL14"]
[null,null,null,null,null,null,null,null,null,null,null,null,null,null,null,"QR1",{"$f":"VLOOKUP(P1470,'[1]CCG & RG names'!D:E,2,0)","v":"Gloucestershire STP"},"11M",{"$f":"VLOOKUP(R1470,'[1]CCG & RG names'!A:B,2,0)","v":"NHS Gloucestershire CCG"},"V012123","23 Barton Street, TEWKESBURY, Gloucestershire, GL20 5PR","GL20 5PR","GL20"]
[null,null,null,null,null,null,null,null,null,null,null,null,null,null,null,"QR1",{"$f":"VLOOKUP(P1474,'[1]CCG & RG names'!D:E,2,0)","v":"Gloucestershire STP"},"11M",{"$f":"VLOOKUP(R1474,'[1]CCG & RG names'!A:B,2,0)","v":"NHS Gloucestershire CCG"},"V013885","Gloucester Dental Care, 65 London Road, Gloucester, GL1 3HF","GL1 3HF","GL1 "]
[null,null,null,null,null,null,null,null,null,null,null,null,null,null,null,"QR1",{"$f":"VLOOKUP(P1479,'[1]CCG & RG names'!D:E,2,0)","v":"Gloucestershire STP"},"11M",{"$f":"VLOOKUP(R1479,'[1]CCG & RG names'!A:B,2,0)","v":"NHS Gloucestershire CCG"},"V016906","Quedgeley House Dental Practice, Space Park, Olympus Road, Quedgeley, GL2 4AL","GL2 4AL","GL2 "]
[null,null,null,null,null,null,null,null,null,null,null,null,null,null,null,"QR1",{"$f":"VLOOKUP(P1486,'[1]CCG & RG names'!D:E,2,0)","v":"Gloucestershire STP"},"11M",{"$f":"VLOOKUP(R1486,'[1]CCG & RG names'!A:B,2,0)","v":"NHS Gloucestershire CCG"},"V042612","3 CHAPEL STREET, CAM, DURSLEY, GL11 5NX","GL11 5NX","GL11"]
[null,null,null,null,null,null,null,null,null,null,null,null,null,null,null,"QSL",{"$f":"VLOOKUP(P1492,'[1]CCG & RG names'!D:E,2,0)","v":"Somerset STP"},"11X",{"$f":"VLOOKUP(R1492,'[1]CCG & RG names'!A:B,2,0)","v":"NHS Somerset CCG"},"V000848","Bridge Street Dental Centre, 47 Bridge Street, TAUNTON, Somerset, TA1 1TP","TA1 1TP","TA1 "]
[null,null,null,null,null,null,null,null,null,null,null,null,null,null,null,"QSL",{"$f":"VLOOKUP(P1497,'[1]CCG & RG names'!D:E,2,0)","v":"Somerset STP"},"11X",{"$f":"VLOOKUP(R1497,'[1]CCG & RG names'!A:B,2,0)","v":"NHS Somerset CCG"},"V000858","Station Road Dental Practice, 1 Station Road, WELLINGTON, Somerset, TA21 8LA","TA21 8LA","TA21"]
[null,null,null,null,null,null,null,null,null,null,null,null,null,null,null,"QSL",{"$f":"VLOOKUP(P1504,'[1]CCG & RG names'!D:E,2,0)","v":"Somerset STP"},"11X",{"$f":"VLOOKUP(R1504,'[1]CCG & RG names'!A:B,2,0)","v":"NHS Somerset CCG"},"V000904","Ruttley Dental Surgery, 59 Ponsford Road, MINEHEAD, Somerset, TA24 5DY","TA24 5DY","TA24"]
[null,null,null,null,null,null,null,null,null,null,null,null,null,null,null,"QSL",{"$f":"VLOOKUP(P1507,'[1]CCG & RG names'!D:E,2,0)","v":"Somerset STP"},"11X",{"$f":"VLOOKUP(R1507,'[1]CCG & RG names'!A:B,2,0)","v":"NHS Somerset CCG"},"V000908","Fishers Dental Surgery, 13 Abingdon Street, BURNHAM ON SEA, Somerset, TA8 1PH","TA8 1PH","TA8 "]
[null,null,null,null,null,null,null,null,null,null,null,null,null,null,null,"QSL",{"$f":"VLOOKUP(P1516,'[1]CCG & RG names'!D:E,2,0)","v":"Somerset STP"},"11X",{"$f":"VLOOKUP(R1516,'[1]CCG & RG names'!A:B,2,0)","v":"NHS Somerset CCG"},"V000926","Welshmill Dental Practice, Welshmill Road, FROME, Somerset, BA11 2LA","BA11 2LA","BA11"]
[null,null,null,null,null,null,null,null,null,null,null,null,null,null,null,"QSL",{"$f":"VLOOKUP(P1522,'[1]CCG & RG names'!D:E,2,0)","v":"Somerset STP"},"11X",{"$f":"VLOOKUP(R1522,'[1]CCG & RG names'!A:B,2,0)","v":"NHS Somerset CCG"},"V004441","Hendford Dental Surgery, 30 Hendford, YEOVIL, Somerset, BA20 1TG","BA20 1TG","BA20"]
[null,null,null,null,null,null,null,null,null,null,null,null,null,null,null,"QSL",{"$f":"VLOOKUP(P1525,'[1]CCG & RG names'!D:E,2,0)","v":"Somerset STP"},"11X",{"$f":"VLOOKUP(R1525,'[1]CCG & RG names'!A:B,2,0)","v":"NHS Somerset CCG"},"V004448","Martock Dental Surgery, 13 Church Street, MARTOCK, Somerset, TA12 6JL","TA12 6JL","TA12"]
[null,null,null,null,null,null,null,null,null,null,null,null,null,null,null,"QSL",{"$f":"VLOOKUP(P1532,'[1]CCG & RG names'!D:E,2,0)","v":"Somerset STP"},"11X",{"$f":"VLOOKUP(R1532,'[1]CCG & RG names'!A:B,2,0)","v":"NHS Somerset CCG"},"V004462","The Ile Dental Centre, 17 East Street, ILMINSTER, Somerset, TA19 0AJ","TA19 0AJ","TA19"]
[null,null,null,null,null,null,null,null,null,null,null,null,null,null,null,"QSL",{"$f":"VLOOKUP(P1536,'[1]CCG & RG names'!D:E,2,0)","v":"Somerset STP"},"11X",{"$f":"VLOOKUP(R1536,'[1]CCG & RG names'!A:B,2,0)","v":"NHS Somerset CCG"},"V010647","Stoke Dental, 4 Hamdon Close, Stoke-Sub-Hamdon, Somerset, TA14 6QN","TA14 6QN","TA14"]
[null,null,null,null,null,null,null,null,null,null,null,null,null,null,null,"QSL",{"$f":"VLOOKUP(P1543,'[1]CCG & RG names'!D:E,2,0)","v":"Somerset STP"},"11X",{"$f":"VLOOKUP(R1543,'[1]CCG & RG names'!A:B,2,0)","v":"NHS Somerset CCG"},"V014139","Taunton Dental Access Centre, Park Gate House, East Reach, Taunton, Somerset, TA1 3ES","TA1 3ES","TA1 "]
[null,null,null,null,null,null,null,null,null,null,null,null,null,null,null,"QSL",{"$f":"VLOOKUP(P1550,'[1]CCG & RG names'!D:E,2,0)","v":"Somerset STP"},"11X",{"$f":"VLOOKUP(R1550,'[1]CCG & RG names'!A:B,2,0)","v":"NHS Somerset CCG"},"V042600","3 KING SQUARE, BRIDGWATER, TA6 3DG","TA6 3DG","TA6 "]
[null,null,null,null,null,null,null,null,null,null,null,null,null,null,null,"QSL",{"$f":"VLOOKUP(P1553,'[1]CCG & RG names'!D:E,2,0)","v":"Somerset STP"},"11X",{"$f":"VLOOKUP(R1553,'[1]CCG & RG names'!A:B,2,0)","v":"NHS Somerset CCG"},"V045094","56 HIGH STREET, WINCANTON, BA9 9JF","BA9 9JF","BA9 "]
[null,null,null,null,null,null,null,null,null,null,null,null,null,null,null,"QT6",{"$f":"VLOOKUP(P1561,'[1]CCG & RG names'!D:E,2,0)","v":"Cornwall and the Isles of Scilly Health & Social Care Partnership (STP)"},"11N",{"$f":"VLOOKUP(R1561,'[1]CCG & RG names'!A:B,2,0)","v":"NHS Kernow CCG"},"V001080","Grosvenor Dental Practice, 18 Grosvenor Avenue, NEWQUAY, Cornwall, TR7 1BQ","TR7 1BQ","TR7 "]
[null,null,null,null,null,null,null,null,null,null,null,null,null,null,null,"QT6",{"$f":"VLOOKUP(P1568,'[1]CCG & RG names'!D:E,2,0)","v":"Cornwall and the Isles of Scilly Health & Social Care Partnership (STP)"},"11N",{"$f":"VLOOKUP(R1568,'[1]CCG & RG names'!A:B,2,0)","v":"NHS Kernow CCG"},"V001098","St Georges Dental Practice, 16 St Georges Road, TRURO, Cornwall, TR1 3JD","TR1 3JD","TR1 "]
[null,null,null,null,null,null,null,null,null,null,null,null,null,null,null,"QT6",{"$f":"VLOOKUP(P1571,'[1]CCG & RG names'!D:E,2,0)","v":"Cornwall and the Isles of Scilly Health & Social Care Partnership (STP)"},"11N",{"$f":"VLOOKUP(R1571,'[1]CCG & RG names'!A:B,2,0)","v":"NHS Kernow CCG"},"V001103","St Agnes Dental Practice, York House, 9 British Road, ST AGNES, Cornwall, TR5 0TX","TR5 0TX","TR5 "]
[null,null,null,null,null,null,null,null,null,null,null,null,null,null,null,"QT6",{"$f":"VLOOKUP(P1578,'[1]CCG & RG names'!D:E,2,0)","v":"Cornwall and the Isles of Scilly Health & Social Care Partnership (STP)"},"11N",{"$f":"VLOOKUP(R1578,'[1]CCG & RG names'!A:B,2,0)","v":"NHS Kernow CCG"},"V001240","Carbis Bay Dental Practice, St Ives Road, Carbis Bay, ST IVES, Cornwall, TR26 2SF","TR26 2SF","TR26"]
[null,null,null,null,null,null,null,null,null,null,null,null,null,null,null,"QT6",{"$f":"VLOOKUP(P1585,'[1]CCG & RG names'!D:E,2,0)","v":"Cornwall and the Isles of Scilly Health & Social Care Partnership (STP)"},"11N",{"$f":"VLOOKUP(R1585,'[1]CCG & RG names'!A:B,2,0)","v":"NHS Kernow CCG"},"V001431","St Mellion Dental Clinic, Unit 4, Briston Orchard, St Mellion, SALTASH, PL12 6RQ","PL12 6RQ","PL12"]
[null,null,null,null,null,null,null,null,null,null,null,null,null,null,null,"QT6",{"$f":"VLOOKUP(P1589,'[1]CCG & RG names'!D:E,2,0)","v":"Cornwall and the Isles of Scilly Health & Social Care Partnership (STP)"},"11N",{"$f":"VLOOKUP(R1589,'[1]CCG & RG names'!A:B,2,0)","v":"NHS Kernow CCG"},"V001450","Maple Croft Dental Surgery, Bay View Road, LOOE, Cornwall, PL13 1JN","PL13 1JN","PL13"]
[null,null,null,null,null,null,null,null,null,null,null,null,null,null,null,"QT6",{"$f":"VLOOKUP(P1596,'[1]CCG & RG names'!D:E,2,0)","v":"Cornwall and the Isles of Scilly Health & Social Care Partnership (STP)"},"11N",{"$f":"VLOOKUP(R1596,'[1]CCG & RG names'!A:B,2,0)","v":"NHS Kernow CCG"},"V001528","Dental Surgery, Turret House, Mount Folly Square, Bodmin, Cornwall, PL31 2DG","PL31 2DG","PL31"]
[null,null,null,null,null,null,null,null,null,null,null,null,null,null,null,"QT6",{"$f":"VLOOKUP(P1599,'[1]CCG & RG names'!D:E,2,0)","v":"Cornwall and the Isles of Scilly Health & Social Care Partnership (STP)"},"11N",{"$f":"VLOOKUP(R1599,'[1]CCG & RG names'!A:B,2,0)","v":"NHS Kernow CCG"},"V009584","Cathedral House, Wilkes Walk, TRURO, Cornwall, TR1 2UE","TR1 2UE","TR1 "]
[null,null,null,null,null,null,null,null,null,null,null,null,null,null,null,"QT6",{"$f":"VLOOKUP(P1605,'[1]CCG & RG names'!D:E,2,0)","v":"Cornwall and the Isles of Scilly Health & Social Care Partnership (STP)"},"11N",{"$f":"VLOOKUP(R1605,'[1]CCG & RG names'!A:B,2,0)","v":"NHS Kernow CCG"},"V011978","Angel Dental Clinic, Angel Centre, Tyacke Road, Helston, Cornwall, TR13 8RR","TR13 8RR","TR13"]
[null,null,null,null,null,null,null,null,null,null,null,null,null,null,null,"QT6",{"$f":"VLOOKUP(P1614,'[1]CCG & RG names'!D:E,2,0)","v":"Cornwall and the Isles of Scilly Health & Social Care Partnership (STP)"},"11N",{"$f":"VLOOKUP(R1614,'[1]CCG & RG names'!A:B,2,0)","v":"NHS Kernow CCG"},"V017953","81-82, Market Jew Street, Penzance, Cornwall, TR18 2LG","TR18 2LG","TR18"]
[null,null,null,null,null,null,null,null,null,null,null,null,null,null,null,"QT6",{"$f":"VLOOKUP(P1617,'[1]CCG & RG names'!D:E,2,0)","v":"Cornwall and the Isles of Scilly Health & Social Care Partnership (STP)"},"11N",{"$f":"VLOOKUP(R1617,'[1]CCG & RG names'!A:B,2,0)","v":"NHS Kernow CCG"},"V032803","22 Meneage Street, Helston, Cornwall, TR13 8AB","TR13 8AB","TR13"]
[null,null,null,null,null,null,null,null,null,null,null,null,null,null,null,"QUY",{"$f":"VLOOKUP(P1624,'[1]CCG & RG names'!D:E,2,0)","v":"Bristol, North Somerset and South Gloucestershire STP"},"15C",{"$f":"VLOOKUP(R1624,'[1]CCG & RG names'!A:B,2,0)","v":"NHS Bristol, North Somerset and South Gloucestershire CCG"},"V002091","Dental Surgery, 8 Hounds Road, Chipping Sodbury, Bristol, BRISTOL, BS37 6EE","BS37 6EE","BS37"]
[null,null,null,null,null,null,null,null,null,null,null,null,null,null,null,"QUY",{"$f":"VLOOKUP(P1629,'[1]CCG & RG names'!D:E,2,0)","v":"Bristol, North Somerset and South Gloucestershire STP"},"15C",{"$f":"VLOOKUP(R1629,'[1]CCG & RG names'!A:B,2,0)","v":"NHS Bristol, North Somerset and South Gloucestershire CCG"},"V002103","Dental Surgery, 288 Park Lane, Frampton Cotterell, BRISTOL, Avon, BS36 2BL","BS36 2BL","BS36"]
[null,null,null,null,null,null,null,null,null,null,null,null,null,null,null,"QUY",{"$f":"VLOOKUP(P1633,'[1]CCG & RG names'!D:E,2,0)","v":"Bristol, North Somerset and South Gloucestershire STP"},"15C",{"$f":"VLOOKUP(R1633,'[1]CCG & RG names'!A:B,2,0)","v":"NHS Bristol, North Somerset and South Gloucestershire CCG"},"V002112","Yate Centre Dental Surgery, 2A North Walk, Yate, South Gloucs, Avon, BS37 4AP","BS37 4AP","BS37"]
[null,null,null,null,null,null,null,null,null,null,null,null,null,null,null,"QUY",{"$f":"VLOOKUP(P1642,'[1]CCG & RG names'!D:E,2,0)","v":"Bristol, North Somerset and South Gloucestershire STP"},"15C",{"$f":"VLOOKUP(R1642,'[1]CCG & RG names'!A:B,2,0)","v":"NHS Bristol, North Somerset and South Gloucestershire CCG"},"V002159","Emersons Green Dental Practice, Emerson Way, Emersons Green, BRISTOL, Avon, BS16 7AS","BS16 7AS","BS16"]
[null,null,null,null,null,null,null,null,null,null,null,null,null,null,null,"QUY",{"$f":"VLOOKUP(P1645,'[1]CCG & RG names'!D:E,2,0)","v":"Bristol, North Somerset and South Gloucestershire STP"},"15C",{"$f":"VLOOKUP(R1645,'[1]CCG & RG names'!A:B,2,0)","v":"NHS Bristol, North Somerset and South Gloucestershire CCG"},"V006997","Coronation Road Dental Surgery, 151 Coronation Road, Southville, BRISTOL, Avon, BS3 1RE","BS3 1RE","BS3 "]
[null,null,null,null,null,null,null,null,null,null,null,null,null,null,null,"QUY",{"$f":"VLOOKUP(P1654,'[1]CCG & RG names'!D:E,2,0)","v":"Bristol, North Somerset and South Gloucestershire STP"},"15C",{"$f":"VLOOKUP(R1654,'[1]CCG & RG names'!A:B,2,0)","v":"NHS Bristol, North Somerset and South Gloucestershire CCG"},"V007013","The Dental Surgery, 15 The Mall, BRISTOL, Avon, BS8 4DS","BS8 4DS","BS8 "]
[null,null,null,null,null,null,null,null,null,null,null,null,null,null,null,"QUY",{"$f":"VLOOKUP(P1660,'[1]CCG & RG names'!D:E,2,0)","v":"Bristol, North Somerset and South Gloucestershire STP"},"15C",{"$f":"VLOOKUP(R1660,'[1]CCG & RG names'!A:B,2,0)","v":"NHS Bristol, North Somerset and South Gloucestershire CCG"},"V007128","The Dental Practice, 3 Oldbury Court Road, BRISTOL, Avon, BS16 2HH","BS16 2HH","BS16"]
[null,null,null,null,null,null,null,null,null,null,null,null,null,null,null,"QUY",{"$f":"VLOOKUP(P1663,'[1]CCG & RG names'!D:E,2,0)","v":"Bristol, North Somerset and South Gloucestershire STP"},"15C",{"$f":"VLOOKUP(R1663,'[1]CCG & RG names'!A:B,2,0)","v":"NHS Bristol, North Somerset and South Gloucestershire CCG"},"V007133","M A Wilcox And Associates, Shirehampton Dental Surgery, 21 Station Road, Shirehampton, BRISTOL, BS11 9TU","BS11 9TU","BS11"]
[null,null,null,null,null,null,null,null,null,null,null,null,null,null,null,"QUY",{"$f":"VLOOKUP(P1670,'[1]CCG & RG names'!D:E,2,0)","v":"Bristol, North Somerset and South Gloucestershire STP"},"15C",{"$f":"VLOOKUP(R1670,'[1]CCG & RG names'!A:B,2,0)","v":"NHS Bristol, North Somerset and South Gloucestershire CCG"},"V007144","The Redland Road Dental Practice, 89A Redland Road, BRISTOL, Avon, BS6 6RD","BS6 6RD","BS6 "]
[null,null,null,null,null,null,null,null,null,null,null,null,null,null,null,"QUY",{"$f":"VLOOKUP(P1673,'[1]CCG & RG names'!D:E,2,0)","v":"Bristol, North Somerset and South Gloucestershire STP"},"15C",{"$f":"VLOOKUP(R1673,'[1]CCG & RG names'!A:B,2,0)","v":"NHS Bristol, North Somerset and South Gloucestershire CCG"},"V007148","Stoke Lane Dental Practice, 126 Stoke Lane, Westbury On Trym, BRISTOL, Avon, BS9 3RJ","BS9 3RJ","BS9 "]
[null,null,null,null,null,null,null,null,null,null,null,null,null,null,null,"QUY",{"$f":"VLOOKUP(P1679,'[1]CCG & RG names'!D:E,2,0)","v":"Bristol, North Somerset and South Gloucestershire STP"},"15C",{"$f":"VLOOKUP(R1679,'[1]CCG & RG names'!A:B,2,0)","v":"NHS Bristol, North Somerset and South Gloucestershire CCG"},"V007203","City Bridge Dental Care, 187 Southmead Road, Westbury On Trym, BRISTOL, Avon, BS10 5DX","BS10 5DX","BS10"]
[null,null,null,null,null,null,null,null,null,null,null,null,null,null,null,"QUY",{"$f":"VLOOKUP(P1688,'[1]CCG & RG names'!D:E,2,0)","v":"Bristol, North Somerset and South Gloucestershire STP"},"15C",{"$f":"VLOOKUP(R1688,'[1]CCG & RG names'!A:B,2,0)","v":"NHS Bristol, North Somerset and South Gloucestershire CCG"},"V008364","Linden Lodge Dental Practice, 17 Linden Road, CLEVEDON, Avon, BS21 7SR","BS21 7SR","BS21"]
[null,null,null,null,null,null,null,null,null,null,null,null,null,null,null,"QUY",{"$f":"VLOOKUP(P1691,'[1]CCG & RG names'!D:E,2,0)","v":"Bristol, North Somerset and South Gloucestershire STP"},"15C",{"$f":"VLOOKUP(R1691,'[1]CCG & RG names'!A:B,2,0)","v":"NHS Bristol, North Somerset and South Gloucestershire CCG"},"V008374","Dental Surgery, 22 24 High Street, Nailsea, BRISTOL, Avon, BS48 1AU","BS48 1AU","BS48"]
[null,null,null,null,null,null,null,null,null,null,null,null,null,null,null,"QUY",{"$f":"VLOOKUP(P1698,'[1]CCG & RG names'!D:E,2,0)","v":"Bristol, North Somerset and South Gloucestershire STP"},"15C",{"$f":"VLOOKUP(R1698,'[1]CCG & RG names'!A:B,2,0)","v":"NHS Bristol, North Somerset and South Gloucestershire CCG"},"V008521","The Surgery, 67 Sandford Road, WINSCOMBE, Avon, BS25 1JF","BS25 1JF","BS25"]
[null,null,null,null,null,null,null,null,null,null,null,null,null,null,null,"QUY",{"$f":"VLOOKUP(P1706,'[1]CCG & RG names'!D:E,2,0)","v":"Bristol, North Somerset and South Gloucestershire STP"},"15C",{"$f":"VLOOKUP(R1706,'[1]CCG & RG names'!A:B,2,0)","v":"NHS Bristol, North Somerset and South Gloucestershire CCG"},"V011902","104 Gatcombe Road, BRISTOL, Avon, BS13 9RG","BS13 9RG","BS13"]
[null,null,null,null,null,null,null,null,null,null,null,null,null,null,null,"QUY",{"$f":"VLOOKUP(P1709,'[1]CCG & RG names'!D:E,2,0)","v":"Bristol, North Somerset and South Gloucestershire STP"},"15C",{"$f":"VLOOKUP(R1709,'[1]CCG & RG names'!A:B,2,0)","v":"NHS Bristol, North Somerset and South Gloucestershire CCG"},"V013282","Unit 3, Village Walk, Avonmouth Road, Bristol, BS11 9LP","BS11 9LP","BS11"]
[null,null,null,null,null,null,null,null,null,null,null,null,null,null,null,"QUY",{"$f":"VLOOKUP(P1716,'[1]CCG & RG names'!D:E,2,0)","v":"Bristol, North Somerset and South Gloucestershire STP"},"15C",{"$f":"VLOOKUP(R1716,'[1]CCG & RG names'!A:B,2,0)","v":"NHS Bristol, North Somerset and South Gloucestershire CCG"},"V017790","116 Pembroke Road, Bristol, BS8 3EW","BS8 3EW","BS8 "]
[null,null,null,null,null,null,null,null,null,null,null,null,null,null,null,"QUY",{"$f":"VLOOKUP(P1722,'[1]CCG & RG names'!D:E,2,0)","v":"Bristol, North Somerset and South Gloucestershire STP"},"15C",{"$f":"VLOOKUP(R1722,'[1]CCG & RG names'!A:B,2,0)","v":"NHS Bristol, North Somerset and South Gloucestershire CCG"},"V150155","78 HIGH STREET, PORTISHEAD, BRISTOL, BS20 6EH","BS20 6EH","BS20"]
[null,null,null,null,null,null,null,null,null,null,null,null,null,null,null,"QVV",{"$f":"VLOOKUP(P1725,'[1]CCG & RG names'!D:E,2,0)","v":"Dorset STP"},"11J",{"$f":"VLOOKUP(R1725,'[1]CCG & RG names'!A:B,2,0)","v":"NHS Dorset CCG"},"V000258","Dental Surgery, 2 Littlemoor Shopping Centre, Littlemoor Road, WEYMOUTH, Dorset, DT3 6NQ","DT3 6NQ","DT3 "]
[null,null,null,null,null,null,null,null,null,null,null,null,null,null,null,"QVV",{"$f":"VLOOKUP(P1734,'[1]CCG & RG names'!D:E,2,0)","v":"Dorset STP"},"11J",{"$f":"VLOOKUP(R1734,'[1]CCG & RG names'!A:B,2,0)","v":"NHS Dorset CCG"},"V000285","Royal Terrace Dental Practice, 35 Cornwall Road, DORCHESTER, Dorset, DT1 1RY","DT1 1RY","DT1 "]
[null,null,null,null,null,null,null,null,null,null,null,null,null,null,null,"QVV",{"$f":"VLOOKUP(P1740,'[1]CCG & RG names'!D:E,2,0)","v":"Dorset STP"},"11J",{"$f":"VLOOKUP(R1740,'[1]CCG & RG names'!A:B,2,0)","v":"NHS Dorset CCG"},"V000968","Dental Surgery, 452A Chickerell Road, Chickerell, WEYMOUTH, Dorset, DT3 4DH","DT3 4DH","DT3 "]
[null,null,null,null,null,null,null,null,null,null,null,null,null,null,null,"QVV",{"$f":"VLOOKUP(P1743,'[1]CCG & RG names'!D:E,2,0)","v":"Dorset STP"},"11J",{"$f":"VLOOKUP(R1743,'[1]CCG & RG names'!A:B,2,0)","v":"NHS Dorset CCG"},"V000998","Stephen House Dental Surgery, 23A Bargates, CHRISTCHURCH, Dorset, BH23 1QD","BH23 1QD","BH23"]
[null,null,null,null,null,null,null,null,null,null,null,null,null,null,null,"QVV",{"$f":"VLOOKUP(P1752,'[1]CCG & RG names'!D:E,2,0)","v":"Dorset STP"},"11J",{"$f":"VLOOKUP(R1752,'[1]CCG & RG names'!A:B,2,0)","v":"NHS Dorset CCG"},"V001950","The Village Surgery, Gillett Road, Poole, Dorset, BH12 5BF","BH12 5BF","BH12"]
[null,null,null,null,null,null,null,null,null,null,null,null,null,null,null,"QVV",{"$f":"VLOOKUP(P1753,'[1]CCG & RG names'!D:E,2,0)","v":"Dorset STP"},"11J",{"$f":"VLOOKUP(R1753,'[1]CCG & RG names'!A:B,2,0)","v":"NHS Dorset CCG"},"V001957","Commercial Road Dental Centre, 47A Commercial Road, POOLE, Dorset, BH14 0HU","BH14 0HU","BH14"]
[null,null,null,null,null,null,null,null,null,null,null,null,null,null,null,"QVV",{"$f":"VLOOKUP(P1760,'[1]CCG & RG names'!D:E,2,0)","v":"Dorset STP"},"11J",{"$f":"VLOOKUP(R1760,'[1]CCG & RG names'!A:B,2,0)","v":"NHS Dorset CCG"},"V001972","Alderney Dental Practice, 451 Ringwood Road, POOLE, Dorset, BH12 4LX","BH12 4LX","BH12"]
[null,null,null,null,null,null,null,null,null,null,null,null,null,null,null,"QVV",{"$f":"VLOOKUP(P1764,'[1]CCG & RG names'!D:E,2,0)","v":"Dorset STP"},"11J",{"$f":"VLOOKUP(R1764,'[1]CCG & RG names'!A:B,2,0)","v":"NHS Dorset CCG"},"V001981","Upton Dental Surgery, 671 Blandford Road, POOLE, Dorset, BH16 5EF","BH16 5EF","BH16"]
[null,null,null,null,null,null,null,null,null,null,null,null,null,null,null,"QVV",{"$f":"VLOOKUP(P1771,'[1]CCG & RG names'!D:E,2,0)","v":"Dorset STP"},"11J",{"$f":"VLOOKUP(R1771,'[1]CCG & RG names'!A:B,2,0)","v":"NHS Dorset CCG"},"V002414","East Street Dental Practice, 25-27 East Street, BLANDFORD FORUM, Dorset, DT11 7DU","DT11 7DU","DT11"]
[null,null,null,null,null,null,null,null,null,null,null,null,null,null,null,"QVV",{"$f":"VLOOKUP(P1780,'[1]CCG & RG names'!D:E,2,0)","v":"Dorset STP"},"11J",{"$f":"VLOOKUP(R1780,'[1]CCG & RG names'!A:B,2,0)","v":"NHS Dorset CCG"},"V002541","The Lansdowne Dental Practice, 260 Old Christchurch Road, BOURNEMOUTH, Dorset, BH1 1PF","BH1 1PF","BH1 "]
[null,null,null,null,null,null,null,null,null,null,null,null,null,null,null,"QVV",{"$f":"VLOOKUP(P1784,'[1]CCG & RG names'!D:E,2,0)","v":"Dorset STP"},"11J",{"$f":"VLOOKUP(R1784,'[1]CCG & RG names'!A:B,2,0)","v":"NHS Dorset CCG"},"V002552","Thornhill Dental Practice, 618 Castle Lane West, Bournemouth, Dorset, BH8 9UG","BH8 9UG","BH8 "]
[null,null,null,null,null,null,null,null,null,null,null,null,null,null,null,"QVV",{"$f":"VLOOKUP(P1789,'[1]CCG & RG names'!D:E,2,0)","v":"Dorset STP"},"11J",{"$f":"VLOOKUP(R1789,'[1]CCG & RG names'!A:B,2,0)","v":"NHS Dorset CCG"},"V002559","Tuckton Dental Centre, 169 Tuckton Road, Bournemouth, Dorset, BH6 3LA","BH6 3LA","BH6 "]
[null,null,null,null,null,null,null,null,null,null,null,null,null,null,null,"QVV",{"$f":"VLOOKUP(P1798,'[1]CCG & RG names'!D:E,2,0)","v":"Dorset STP"},"11J",{"$f":"VLOOKUP(R1798,'[1]CCG & RG names'!A:B,2,0)","v":"NHS Dorset CCG"},"V010295","Jessopp House, Mill Lane, WIMBORNE, Dorset, BH21 1HG","BH21 1HG","BH21"]
[null,null,null,null,null,null,null,null,null,null,null,null,null,null,null,"QVV",{"$f":"VLOOKUP(P1799,'[1]CCG & RG names'!D:E,2,0)","v":"Dorset STP"},"11J",{"$f":"VLOOKUP(R1799,'[1]CCG & RG names'!A:B,2,0)","v":"NHS Dorset CCG"},"V010384","Old Market Dental Practice, Station Road, STURMINSTER NEWTON, Dorset, DT10 1BB","DT10 1BB","DT10"]
[null,null,null,null,null,null,null,null,null,null,null,null,null,null,null,"QVV",{"$f":"VLOOKUP(P1809,'[1]CCG & RG names'!D:E,2,0)","v":"Dorset STP"},"11J",{"$f":"VLOOKUP(R1809,'[1]CCG & RG names'!A:B,2,0)","v":"NHS Dorset CCG"},"V013175","Christchurch Orthodontics, 67 Stour Road, Christchurch, Dorset, BH23 1LN","BH23 1LN","BH23"]
[null,null,null,null,null,null,null,null,null,null,null,null,null,null,null,"QVV",{"$f":"VLOOKUP(P1810,'[1]CCG & RG names'!D:E,2,0)","v":"Dorset STP"},"11J",{"$f":"VLOOKUP(R1810,'[1]CCG & RG names'!A:B,2,0)","v":"NHS Dorset CCG"},"V013603","Westbourne Dental Practice, 5A Alum Chine Road, Westbourne, Bournemouth, BH4 8DT","BH4 8DT","BH4 "]
[null,null,null,null,null,null,null,null,null,null,null,null,null,null,null,"QVV",{"$f":"VLOOKUP(P1817,'[1]CCG & RG names'!D:E,2,0)","v":"Dorset STP"},"11J",{"$f":"VLOOKUP(R1817,'[1]CCG & RG names'!A:B,2,0)","v":"NHS Dorset CCG"},"V020242","118 Kings Road West, Swanage, Dorset, BH19 1HS","BH19 1HS","BH19"]
[null,null,null,null,null,null,null,null,null,null,null,null,null,null,null,"QVV",{"$f":"VLOOKUP(P1826,'[1]CCG & RG names'!D:E,2,0)","v":"Dorset STP"},"11J",{"$f":"VLOOKUP(R1826,'[1]CCG & RG names'!A:B,2,0)","v":"NHS Dorset CCG"},"V170257","BARGATES COURT, 22 BARGATES, CHRISTCHURCH, BH23 1QL","BH23 1QL","BH23"]
[null,null,null,null,null,null,null,null,null,null,null,null,null,null,null,"QKS",{"$f":"VLOOKUP(P1829,'[1]CCG & RG names'!D:E,2,0)","v":"Kent and Medway STP"},"91Q",{"$f":"VLOOKUP(R1829,'[1]CCG & RG names'!A:B,2,0)","v":"NHS Kent and Medway CCG"},"V000062","244 Tankerton Road, WHITSTABLE, Kent, CT5 2AY","CT5 2AY","CT5 "]
[null,null,null,null,null,null,null,null,null,null,null,null,null,null,null,"QKS",{"$f":"VLOOKUP(P1835,'[1]CCG & RG names'!D:E,2,0)","v":"Kent and Medway STP"},"91Q",{"$f":"VLOOKUP(R1835,'[1]CCG & RG names'!A:B,2,0)","v":"NHS Kent and Medway CCG"},"V001267","Dental Surgery, 131A High Street, CHATHAM, Kent, ME4 4DH","ME4 4DH","ME4 "]
[null,null,null,null,null,null,null,null,null,null,null,null,null,null,null,"QKS",{"$f":"VLOOKUP(P1844,'[1]CCG & RG names'!D:E,2,0)","v":"Kent and Medway STP"},"91Q",{"$f":"VLOOKUP(R1844,'[1]CCG & RG names'!A:B,2,0)","v":"NHS Kent and Medway CCG"},"V002964","Dental Surgery, 95B High Street, Milton Regis, SITTINGBOURNE, Kent, ME10 2AR","ME10 2AR","ME10"]
[null,null,null,null,null,null,null,null,null,null,null,null,null,null,null,"QKS",{"$f":"VLOOKUP(P1845,'[1]CCG & RG names'!D:E,2,0)","v":"Kent and Medway STP"},"91Q",{"$f":"VLOOKUP(R1845,'[1]CCG & RG names'!A:B,2,0)","v":"NHS Kent and Medway CCG"},"V002977","Dental Surgery, 6 The Broadway, Minster On Sea, SHEERNESS, Kent, ME12 2RN","ME12 2RN","ME12"]
[null,null,null,null,null,null,null,null,null,null,null,null,null,null,null,"QKS",{"$f":"VLOOKUP(P1853,'[1]CCG & RG names'!D:E,2,0)","v":"Kent and Medway STP"},"91Q",{"$f":"VLOOKUP(R1853,'[1]CCG & RG names'!A:B,2,0)","v":"NHS Kent and Medway CCG"},"V003091","Dental Surgery, 92 London Road, MAIDSTONE, Kent, ME16 0DP","ME16 0DP","ME16"]
[null,null,null,null,null,null,null,null,null,null,null,null,null,null,null,"QKS",{"$f":"VLOOKUP(P1856,'[1]CCG & RG names'!D:E,2,0)","v":"Kent and Medway STP"},"91Q",{"$f":"VLOOKUP(R1856,'[1]CCG & RG names'!A:B,2,0)","v":"NHS Kent and Medway CCG"},"V003097","Dental Surgery, The Bower, High Street, Staplehurst, TONBRIDGE, TN12 0BL","TN12 0BL","TN12"]
[null,null,null,null,null,null,null,null,null,null,null,null,null,null,null,"QKS",{"$f":"VLOOKUP(P1863,'[1]CCG & RG names'!D:E,2,0)","v":"Kent and Medway STP"},"91Q",{"$f":"VLOOKUP(R1863,'[1]CCG & RG names'!A:B,2,0)","v":"NHS Kent and Medway CCG"},"V003164","Dental Surgery, 6 Kings Road, Headcorn, ASHFORD, Kent, TN27 9QU","TN27 9QU","TN27"]
[null,null,null,null,null,null,null,null,null,null,null,null,null,null,null,"QKS",{"$f":"VLOOKUP(P1872,'[1]CCG & RG names'!D:E,2,0)","v":"Kent and Medway STP"},"91Q",{"$f":"VLOOKUP(R1872,'[1]CCG & RG names'!A:B,2,0)","v":"NHS Kent and Medway CCG"},"V003281","Hayes Orthodontic Practice, 29 - 31 New Rents, ASHFORD, Kent, TN23 1JJ","TN23 1JJ","TN23"]
[null,null,null,null,null,null,null,null,null,null,null,null,null,null,null,"QKS",{"$f":"VLOOKUP(P1878,'[1]CCG & RG names'!D:E,2,0)","v":"Kent and Medway STP"},"91Q",{"$f":"VLOOKUP(R1878,'[1]CCG & RG names'!A:B,2,0)","v":"NHS Kent and Medway CCG"},"V003354","New Road Dental Practice, 3A New Road, ROCHESTER, Kent, ME1 1BD","ME1 1BD","ME1 "]
[null,null,null,null,null,null,null,null,null,null,null,null,null,null,null,"QKS",{"$f":"VLOOKUP(P1881,'[1]CCG & RG names'!D:E,2,0)","v":"Kent and Medway STP"},"91Q",{"$f":"VLOOKUP(R1881,'[1]CCG & RG names'!A:B,2,0)","v":"NHS Kent and Medway CCG"},"V003374","Photay And Associates, 196 High Street, ROCHESTER, Kent, ME1 1EY","ME1 1EY","ME1 "]
[null,null,null,null,null,null,null,null,null,null,null,null,null,null,null,"QKS",{"$f":"VLOOKUP(P1890,'[1]CCG & RG names'!D:E,2,0)","v":"Kent and Medway STP"},"91Q",{"$f":"VLOOKUP(R1890,'[1]CCG & RG names'!A:B,2,0)","v":"NHS Kent and Medway CCG"},"V003458","Gibraltar House, Gibraltar Hill, Chatham, Kent, ME4 4RY","ME4 4RY","ME4 "]
[null,null,null,null,null,null,null,null,null,null,null,null,null,null,null,"QKS",{"$f":"VLOOKUP(P1891,'[1]CCG & RG names'!D:E,2,0)","v":"Kent and Medway STP"},"91Q",{"$f":"VLOOKUP(R1891,'[1]CCG & RG names'!A:B,2,0)","v":"NHS Kent and Medway CCG"},"V003461","Dental Surgery, 1 Lavender Close, King George Road, CHATHAM, Kent, ME5 0PU","ME5 0PU","ME5 "]
[null,null,null,null,null,null,null,null,null,null,null,null,null,null,null,"QKS",{"$f":"VLOOKUP(P1897,'[1]CCG & RG names'!D:E,2,0)","v":"Kent and Medway STP"},"91Q",{"$f":"VLOOKUP(R1897,'[1]CCG & RG names'!A:B,2,0)","v":"NHS Kent and Medway CCG"},"V003479","Dental Surgery, 86 Rock Avenue, GILLINGHAM, Kent, ME7 5PS","ME7 5PS","ME7 "]
[null,null,null,null,null,null,null,null,null,null,null,null,null,null,null,"QKS",{"$f":"VLOOKUP(P1902,'[1]CCG & RG names'!D:E,2,0)","v":"Kent and Medway STP"},"91Q",{"$f":"VLOOKUP(R1902,'[1]CCG & RG names'!A:B,2,0)","v":"NHS Kent and Medway CCG"},"V003577","MJS Patel & Associates, Hillton Dental Surgery, 139 Twydall Lane, Gillingham, Kent, ME8 6JU","ME8 6JU","ME8 "]
[null,null,null,null,null,null,null,null,null,null,null,null,null,null,null,"QKS",{"$f":"VLOOKUP(P1909,'[1]CCG & RG names'!D:E,2,0)","v":"Kent and Medway STP"},"91Q",{"$f":"VLOOKUP(R1909,'[1]CCG & RG names'!A:B,2,0)","v":"NHS Kent and Medway CCG"},"V003653","Southview Dental Practice, South View, Station Road, EDENBRIDGE, Kent, TN8 5NB","TN8 5NB","TN8 "]
[null,null,null,null,null,null,null,null,null,null,null,null,null,null,null,"QKS",{"$f":"VLOOKUP(P1918,'[1]CCG & RG names'!D:E,2,0)","v":"Kent and Medway STP"},"91Q",{"$f":"VLOOKUP(R1918,'[1]CCG & RG names'!A:B,2,0)","v":"NHS Kent and Medway CCG"},"V003725","Dental Surgery, 5A Molyneux Park Road, TUNBRIDGE WELLS, Kent, TN4 8DG","TN4 8DG","TN4 "]
[null,null,null,null,null,null,null,null,null,null,null,null,null,null,null,"QKS",{"$f":"VLOOKUP(P1922,'[1]CCG & RG names'!D:E,2,0)","v":"Kent and Medway STP"},"91Q",{"$f":"VLOOKUP(R1922,'[1]CCG & RG names'!A:B,2,0)","v":"NHS Kent and Medway CCG"},"V003833","Dental Surgery, 20 Mount Ephraim, TUNBRIDGE WELLS, Kent, TN4 8AS","TN4 8AS","TN4 "]
[null,null,null,null,null,null,null,null,null,null,null,null,null,null,null,"QKS",{"$f":"VLOOKUP(P1927,'[1]CCG & RG names'!D:E,2,0)","v":"Kent and Medway STP"},"91Q",{"$f":"VLOOKUP(R1927,'[1]CCG & RG names'!A:B,2,0)","v":"NHS Kent and Medway CCG"},"V004511","Dental Surgery, 15 Lime Hill Road, TUNBRIDGE WELLS, Kent, TN1 1LJ","TN1 1LJ","TN1 "]
[null,null,null,null,null,null,null,null,null,null,null,null,null,null,null,"QKS",{"$f":"VLOOKUP(P1936,'[1]CCG & RG names'!D:E,2,0)","v":"Kent and Medway STP"},"91Q",{"$f":"VLOOKUP(R1936,'[1]CCG & RG names'!A:B,2,0)","v":"NHS Kent and Medway CCG"},"V005012","Dental Surgery, 37 Victoria Road, DEAL, Kent, CT14 7AY","CT14 7AY","CT14"]
[null,null,null,null,null,null,null,null,null,null,null,null,null,null,null,"QKS",{"$f":"VLOOKUP(P1937,'[1]CCG & RG names'!D:E,2,0)","v":"Kent and Medway STP"},"91Q",{"$f":"VLOOKUP(R1937,'[1]CCG & RG names'!A:B,2,0)","v":"NHS Kent and Medway CCG"},"V005023","Brennans Dentist, 38 St Mildreds Road, WESTGATE ON SEA, Kent, CT8 8RF","CT8 8RF","CT8 "]
[null,null,null,null,null,null,null,null,null,null,null,null,null,null,null,"QKS",{"$f":"VLOOKUP(P1946,'[1]CCG & RG names'!D:E,2,0)","v":"Kent and Medway STP"},"91Q",{"$f":"VLOOKUP(R1946,'[1]CCG & RG names'!A:B,2,0)","v":"NHS Kent and Medway CCG"},"V005128","Dental Surgery, 37 Manor Road, FOLKESTONE, Kent, CT20 2SE","CT20 2SE","CT20"]
[null,null,null,null,null,null,null,null,null,null,null,null,null,null,null,"QKS",{"$f":"VLOOKUP(P1952,'[1]CCG & RG names'!D:E,2,0)","v":"Kent and Medway STP"},"91Q",{"$f":"VLOOKUP(R1952,'[1]CCG & RG names'!A:B,2,0)","v":"NHS Kent and Medway CCG"},"V005142","Oradent Kent Ltd, Church Road, Lydd, ROMNEY MARSH, Kent, TN29 9DT","TN29 9DT","TN29"]
[null,null,null,null,null,null,null,null,null,null,null,null,null,null,null,"QKS",{"$f":"VLOOKUP(P1955,'[1]CCG & RG names'!D:E,2,0)","v":"Kent and Medway STP"},"91Q",{"$f":"VLOOKUP(R1955,'[1]CCG & RG names'!A:B,2,0)","v":"NHS Kent and Medway CCG"},"V005303","Smiledartford Dental Practice, 69 The Brent, DARTFORD, Kent, DA1 1YD","DA1 1YD","DA1 "]
[null,null,null,null,null,null,null,null,null,null,null,null,null,null,null,"QKS",{"$f":"VLOOKUP(P1964,'[1]CCG & RG names'!D:E,2,0)","v":"Kent and Medway STP"},"91Q",{"$f":"VLOOKUP(R1964,'[1]CCG & RG names'!A:B,2,0)","v":"NHS Kent and Medway CCG"},"V005426","9 Wrotham Road, GRAVESEND, Kent, DA11 0PA","DA11 0PA","DA11"]
[null,null,null,null,null,null,null,null,null,null,null,null,null,null,null,"QKS",{"$f":"VLOOKUP(P1970,'[1]CCG & RG names'!D:E,2,0)","v":"Kent and Medway STP"},"91Q",{"$f":"VLOOKUP(R1970,'[1]CCG & RG names'!A:B,2,0)","v":"NHS Kent and Medway CCG"},"V005447","Dental Surgery, 38 Main Road, LONGFIELD, Kent, DA3 7QZ","DA3 7QZ","DA3 "]
[null,null,null,null,null,null,null,null,null,null,null,null,null,null,null,"QKS",{"$f":"VLOOKUP(P1973,'[1]CCG & RG names'!D:E,2,0)","v":"Kent and Medway STP"},"91Q",{"$f":"VLOOKUP(R1973,'[1]CCG & RG names'!A:B,2,0)","v":"NHS Kent and Medway CCG"},"V005458","Dental Surgery, 60 The Brent, DARTFORD, Kent, DA1 1YW","DA1 1YW","DA1 "]
[null,null,null,null,null,null,null,null,null,null,null,null,null,null,null,"QKS",{"$f":"VLOOKUP(P1982,'[1]CCG & RG names'!D:E,2,0)","v":"Kent and Medway STP"},"91Q",{"$f":"VLOOKUP(R1982,'[1]CCG & RG names'!A:B,2,0)","v":"NHS Kent and Medway CCG"},"V006467","Whitstable Health Centre, Harbour Street, WHITSTABLE, Kent, CT5 1BZ","CT5 1BZ","CT5 "]
[null,null,null,null,null,null,null,null,null,null,null,null,null,null,null,"QKS",{"$f":"VLOOKUP(P1984,'[1]CCG & RG names'!D:E,2,0)","v":"Kent and Medway STP"},"91Q",{"$f":"VLOOKUP(R1984,'[1]CCG & RG names'!A:B,2,0)","v":"NHS Kent and Medway CCG"},"V006475","Dental Surgery, 55 St Dunstans Street, CANTERBURY, Kent, CT2 8BS","CT2 8BS","CT2 "]
[null,null,null,null,null,null,null,null,null,null,null,null,null,null,null,"QKS",{"$f":"VLOOKUP(P1991,'[1]CCG & RG names'!D:E,2,0)","v":"Kent and Medway STP"},"91Q",{"$f":"VLOOKUP(R1991,'[1]CCG & RG names'!A:B,2,0)","v":"NHS Kent and Medway CCG"},"V006546","Dental Surgery, 41 Chestfield Road, Chestfield, WHITSTABLE, Kent, CT5 3LD","CT5 3LD","CT5 "]
[null,null,null,null,null,null,null,null,null,null,null,null,null,null,null,"QKS",{"$f":"VLOOKUP(P1998,'[1]CCG & RG names'!D:E,2,0)","v":"Kent and Medway STP"},"91Q",{"$f":"VLOOKUP(R1998,'[1]CCG & RG names'!A:B,2,0)","v":"NHS Kent and Medway CCG"},"V010394","39 New Street, SANDWICH, Kent, CT13 9BB","CT13 9BB","CT13"]
[null,null,null,null,null,null,null,null,null,null,null,null,null,null,null,"QKS",{"$f":"VLOOKUP(P2001,'[1]CCG & RG names'!D:E,2,0)","v":"Kent and Medway STP"},"91Q",{"$f":"VLOOKUP(R2001,'[1]CCG & RG names'!A:B,2,0)","v":"NHS Kent and Medway CCG"},"V011847","Staplehurst Health Centre, Offens Drive, Staplehurst, TONBRIDGE, Kent, TN12 0LB","TN12 0LB","TN12"]
[null,null,null,null,null,null,null,null,null,null,null,null,null,null,null,"QKS",{"$f":"VLOOKUP(P2008,'[1]CCG & RG names'!D:E,2,0)","v":"Kent and Medway STP"},"91Q",{"$f":"VLOOKUP(R2008,'[1]CCG & RG names'!A:B,2,0)","v":"NHS Kent and Medway CCG"},"V012980","Pennypot Dental Practice, 17 Littlestone Road, Littlestone, NEW ROMNEY, Kent, TN28 8LN","TN28 8LN","TN28"]
[null,null,null,null,null,null,null,null,null,null,null,null,null,null,null,"QKS",{"$f":"VLOOKUP(P2016,'[1]CCG & RG names'!D:E,2,0)","v":"Kent and Medway STP"},"91Q",{"$f":"VLOOKUP(R2016,'[1]CCG & RG names'!A:B,2,0)","v":"NHS Kent and Medway CCG"},"V013206","Maidstone Dental Centre, Knightrider Chambers, 12 Knightrider Street, Maidstone, Kent, ME15 6LP","ME15 6LP","ME15"]
[null,null,null,null,null,null,null,null,null,null,null,null,null,null,null,"QKS",{"$f":"VLOOKUP(P2019,'[1]CCG & RG names'!D:E,2,0)","v":"Kent and Medway STP"},"91Q",{"$f":"VLOOKUP(R2019,'[1]CCG & RG names'!A:B,2,0)","v":"NHS Kent and Medway CCG"},"V014441","Hill House Dental Surgery, 7-9 Lonsdale Gardens, Tunbridge Wells, Kent, TN1 1NU","TN1 1NU","TN1 "]
[null,null,null,null,null,null,null,null,null,null,null,null,null,null,null,"QKS",{"$f":"VLOOKUP(P2028,'[1]CCG & RG names'!D:E,2,0)","v":"Kent and Medway STP"},"91Q",{"$f":"VLOOKUP(R2028,'[1]CCG & RG names'!A:B,2,0)","v":"NHS Kent and Medway CCG"},"V027041","Tricon House, Coffee House Yard, London Road, Sevenoaks, Kent, TN13 1AH","TN13 1AH","TN13"]
[null,null,null,null,null,null,null,null,null,null,null,null,null,null,null,"QKS",{"$f":"VLOOKUP(P2033,'[1]CCG & RG names'!D:E,2,0)","v":"Kent and Medway STP"},"91Q",{"$f":"VLOOKUP(R2033,'[1]CCG & RG names'!A:B,2,0)","v":"NHS Kent and Medway CCG"},"V038071","Milton Regis Dental Clinic, 95b High Street, SITTINGBOURNE, Kent, ME10 2AR","ME10 2AR","ME10"]
[null,null,null,null,null,null,null,null,null,null,null,null,null,null,null,"QKS",{"$f":"VLOOKUP(P2037,'[1]CCG & RG names'!D:E,2,0)","v":"Kent and Medway STP"},"91Q",{"$f":"VLOOKUP(R2037,'[1]CCG & RG names'!A:B,2,0)","v":"NHS Kent and Medway CCG"},"V043204","45-47, CUXTON ROAD, ROCHESTER, ME2 2BU","ME2 2BU","ME2 "]
[null,null,null,null,null,null,null,null,null,null,null,null,null,null,null,"QKS",{"$f":"VLOOKUP(P2044,'[1]CCG & RG names'!D:E,2,0)","v":"Kent and Medway STP"},"91Q",{"$f":"VLOOKUP(R2044,'[1]CCG & RG names'!A:B,2,0)","v":"NHS Kent and Medway CCG"},"V050627","119A, HIGH STREET, SITTINGBOURNE, ME10 4AQ","ME10 4AQ","ME10"]
[null,null,null,null,null,null,null,null,null,null,null,null,null,null,null,"QKS",{"$f":"VLOOKUP(P2047,'[1]CCG & RG names'!D:E,2,0)","v":"Kent and Medway STP"},"91Q",{"$f":"VLOOKUP(R2047,'[1]CCG & RG names'!A:B,2,0)","v":"NHS Kent and Medway CCG"},"V097600","Tonbridge Dentistry, 42-43 Quarry Hill Road, Tonbridge, Kent, TN9 2RS","TN9 2RS","TN9 "]
[null,null,null,null,null,null,null,null,null,null,null,null,null,null,null,"QKS",{"$f":"VLOOKUP(P2052,'[1]CCG & RG names'!D:E,2,0)","v":"Kent and Medway STP"},"91Q",{"$f":"VLOOKUP(R2052,'[1]CCG & RG names'!A:B,2,0)","v":"NHS Kent and Medway CCG"},"V207221","Beaconsfield Dental Practice, 54 The Maltings, Bath Street, Gravesend, Kent, DA11 0DF","DA11 0DF","DA11"]
[null,null,null,null,null,null,null,null,null,null,null,null,null,null,null,"QNQ",{"$f":"VLOOKUP(P2062,'[1]CCG & RG names'!D:E,2,0)","v":"Frimley Health & Care (STP)"},"D4U1Y",{"$f":"VLOOKUP(R2062,'[1]CCG & RG names'!A:B,2,0)","v":"NHS FRIMLEY CCG"},"V001754","99 Fernhill Road, FARNBOROUGH, Hampshire, GU14 9DS","GU14 9DS","GU14"]
[null,null,null,null,null,null,null,null,null,null,null,null,null,null,null,"QNQ",{"$f":"VLOOKUP(P2065,'[1]CCG & RG names'!D:E,2,0)","v":"Frimley Health & Care (STP)"},"D4U1Y",{"$f":"VLOOKUP(R2065,'[1]CCG & RG names'!A:B,2,0)","v":"NHS FRIMLEY CCG"},"V001759","Dental Surgery, 20 Bell Lane, Blackwater, CAMBERLEY, Surrey, GU17 0NW","GU17 0NW","GU17"]
[null,null,null,null,null,null,null,null,null,null,null,null,null,null,null,"QNQ",{"$f":"VLOOKUP(P2072,'[1]CCG & RG names'!D:E,2,0)","v":"Frimley Health & Care (STP)"},"D4U1Y",{"$f":"VLOOKUP(R2072,'[1]CCG & RG names'!A:B,2,0)","v":"NHS FRIMLEY CCG"},"V002230","Bridge View Dental Surgery, 2 Guildford Road, BAGSHOT, Surrey, GU19 5JH","GU19 5JH","GU19"]
[null,null,null,null,null,null,null,null,null,null,null,null,null,null,null,"QNQ",{"$f":"VLOOKUP(P2077,'[1]CCG & RG names'!D:E,2,0)","v":"Frimley Health & Care (STP)"},"D4U1Y",{"$f":"VLOOKUP(R2077,'[1]CCG & RG names'!A:B,2,0)","v":"NHS FRIMLEY CCG"},"V002242","Dental Surgery, 103 Gordon Road, CAMBERLEY, Surrey, GU15 2JQ","GU15 2JQ","GU15"]
[null,null,null,null,null,null,null,null,null,null,null,null,null,null,null,"QNQ",{"$f":"VLOOKUP(P2083,'[1]CCG & RG names'!D:E,2,0)","v":"Frimley Health & Care (STP)"},"D4U1Y",{"$f":"VLOOKUP(R2083,'[1]CCG & RG names'!A:B,2,0)","v":"NHS FRIMLEY CCG"},"V004027","Dental Surgery, 10 Crown Row, BRACKNELL, Berkshire, RG12 0TH","RG12 0TH","RG12"]
[null,null,null,null,null,null,null,null,null,null,null,null,null,null,null,"QNQ",{"$f":"VLOOKUP(P2090,'[1]CCG & RG names'!D:E,2,0)","v":"Frimley Health & Care (STP)"},"D4U1Y",{"$f":"VLOOKUP(R2090,'[1]CCG & RG names'!A:B,2,0)","v":"NHS FRIMLEY CCG"},"V004091","Dental Surgery, 50A Ripplesmere, BRACKNELL, Berkshire, RG12 9QA","RG12 9QA","RG12"]
[null,null,null,null,null,null,null,null,null,null,null,null,null,null,null,"QNQ",{"$f":"VLOOKUP(P2093,'[1]CCG & RG names'!D:E,2,0)","v":"Frimley Health & Care (STP)"},"D4U1Y",{"$f":"VLOOKUP(R2093,'[1]CCG & RG names'!A:B,2,0)","v":"NHS FRIMLEY CCG"},"V004128","Acorn Dental Surgery, 8 Stoke Poges Lane, SLOUGH, Berkshire, SL1 3NT","SL1 3NT","SL1 "]
[null,null,null,null,null,null,null,null,null,null,null,null,null,null,null,"QNQ",{"$f":"VLOOKUP(P2101,'[1]CCG & RG names'!D:E,2,0)","v":"Frimley Health & Care (STP)"},"D4U1Y",{"$f":"VLOOKUP(R2101,'[1]CCG & RG names'!A:B,2,0)","v":"NHS FRIMLEY CCG"},"V004197","Broken Acre Dental Surgery, 92 Burnham Lane, SLOUGH, Berkshire, SL1 6LS","SL1 6LS","SL1 "]
[null,null,null,null,null,null,null,null,null,null,null,null,null,null,null,"QNQ",{"$f":"VLOOKUP(P2108,'[1]CCG & RG names'!D:E,2,0)","v":"Frimley Health & Care (STP)"},"D4U1Y",{"$f":"VLOOKUP(R2108,'[1]CCG & RG names'!A:B,2,0)","v":"NHS FRIMLEY CCG"},"V004332","Dental Surgery, 2 Lyndwood Parade, St Lukes Road, Old Windsor, WINDSOR, SL4 2QX","SL4 2QX","SL4 "]
[null,null,null,null,null,null,null,null,null,null,null,null,null,null,null,"QNQ",{"$f":"VLOOKUP(P2111,'[1]CCG & RG names'!D:E,2,0)","v":"Frimley Health & Care (STP)"},"D4U1Y",{"$f":"VLOOKUP(R2111,'[1]CCG & RG names'!A:B,2,0)","v":"NHS FRIMLEY CCG"},"V004337","The Sunninghill Dental Surgery, 48 High Street, Sunninghill, ASCOT, Berkshire, SL5 9NF","SL5 9NF","SL5 "]
[null,null,null,null,null,null,null,null,null,null,null,null,null,null,null,"QNQ",{"$f":"VLOOKUP(P2118,'[1]CCG & RG names'!D:E,2,0)","v":"Frimley Health & Care (STP)"},"D4U1Y",{"$f":"VLOOKUP(R2118,'[1]CCG & RG names'!A:B,2,0)","v":"NHS FRIMLEY CCG"},"V004352","Orchard Dental Surgery, 1 Frascati Way, MAIDENHEAD, Berkshire, SL6 4UU","SL6 4UU","SL6 "]
[null,null,null,null,null,null,null,null,null,null,null,null,null,null,null,"QNQ",{"$f":"VLOOKUP(P2121,'[1]CCG & RG names'!D:E,2,0)","v":"Frimley Health & Care (STP)"},"D4U1Y",{"$f":"VLOOKUP(R2121,'[1]CCG & RG names'!A:B,2,0)","v":"NHS FRIMLEY CCG"},"V004711","28 East Street, FARNHAM, Surrey, GU9 7SW","GU9 7SW","GU9 "]
[null,null,null,null,null,null,null,null,null,null,null,null,null,null,null,"QNQ",{"$f":"VLOOKUP(P2129,'[1]CCG & RG names'!D:E,2,0)","v":"Frimley Health & Care (STP)"},"D4U1Y",{"$f":"VLOOKUP(R2129,'[1]CCG & RG names'!A:B,2,0)","v":"NHS FRIMLEY CCG"},"V007815","Heathwood Dental Surgery, 1 Kings Road, Crowthorne, Berkshire, RG45 7BF","RG45 7BF","RG45"]
[null,null,null,null,null,null,null,null,null,null,null,null,null,null,null,"QNQ",{"$f":"VLOOKUP(P2136,'[1]CCG & RG names'!D:E,2,0)","v":"Frimley Health & Care (STP)"},"D4U1Y",{"$f":"VLOOKUP(R2136,'[1]CCG & RG names'!A:B,2,0)","v":"NHS FRIMLEY CCG"},"V011416","Community Dental Clinic, Skimped Hill Health Centre, Skimped Hill, BRACKNELL, Berkshire, RG12 1LH","RG12 1LH","RG12"]
[null,null,null,null,null,null,null,null,null,null,null,null,null,null,null,"QNQ",{"$f":"VLOOKUP(P2139,'[1]CCG & RG names'!D:E,2,0)","v":"Frimley Health & Care (STP)"},"D4U1Y",{"$f":"VLOOKUP(R2139,'[1]CCG & RG names'!A:B,2,0)","v":"NHS FRIMLEY CCG"},"V011790","Farnham Hospital &, Centre for Health, Hale Road, FARNHAM, Surrey, GU9 9QL","GU9 9QL","GU9 "]
[null,null,null,null,null,null,null,null,null,null,null,null,null,null,null,"QNQ",{"$f":"VLOOKUP(P2146,'[1]CCG & RG names'!D:E,2,0)","v":"Frimley Health & Care (STP)"},"D4U1Y",{"$f":"VLOOKUP(R2146,'[1]CCG & RG names'!A:B,2,0)","v":"NHS FRIMLEY CCG"},"V014093","Rodericks, 43 Station Parade, Station Hill, Cookham, MAIDENHEAD, SL6 9BR","SL6 9BR","SL6 "]
[null,null,null,null,null,null,null,null,null,null,null,null,null,null,null,"QNQ",{"$f":"VLOOKUP(P2154,'[1]CCG & RG names'!D:E,2,0)","v":"Frimley Health & Care (STP)"},"D4U1Y",{"$f":"VLOOKUP(R2154,'[1]CCG & RG names'!A:B,2,0)","v":"NHS FRIMLEY CCG"},"V042732","St Mary's Walk, Maidenhead, Berkshire, SL6 1QZ","SL6 1QZ","SL6 "]
[null,null,null,null,null,null,null,null,null,null,null,null,null,null,null,"QNQ",{"$f":"VLOOKUP(P2157,'[1]CCG & RG names'!D:E,2,0)","v":"Frimley Health & Care (STP)"},"D4U1Y",{"$f":"VLOOKUP(R2157,'[1]CCG & RG names'!A:B,2,0)","v":"NHS FRIMLEY CCG"},"V054845","Unit 6 Alston House, Market Street, Bracknell, RG12 1JG","RG12 1JG","RG12"]
[null,null,null,null,null,null,null,null,null,null,null,null,null,null,null,"QNX",{"$f":"VLOOKUP(P2164,'[1]CCG & RG names'!D:E,2,0)","v":"Sussex Health and Care Partnership STP"},"09D",{"$f":"VLOOKUP(R2164,'[1]CCG & RG names'!A:B,2,0)","v":"NHS Brighton and Hove CCG"},"V000496","Eaton Road Dental Practice, 30 Eaton Road, HOVE, East Sussex, BN3 3QA","BN3 3QA","BN3 "]
[null,null,null,null,null,null,null,null,null,null,null,null,null,null,null,"QNX",{"$f":"VLOOKUP(P2170,'[1]CCG & RG names'!D:E,2,0)","v":"Sussex Health and Care Partnership STP"},"09D",{"$f":"VLOOKUP(R2170,'[1]CCG & RG names'!A:B,2,0)","v":"NHS Brighton and Hove CCG"},"V000512","80 Longridge Avenue, Saltdean, BRIGHTON, East Sussex, BN2 8RB","BN2 8RB","BN2 "]
[null,null,null,null,null,null,null,null,null,null,null,null,null,null,null,"QNX",{"$f":"VLOOKUP(P2175,'[1]CCG & RG names'!D:E,2,0)","v":"Sussex Health and Care Partnership STP"},"09D",{"$f":"VLOOKUP(R2175,'[1]CCG & RG names'!A:B,2,0)","v":"NHS Brighton and Hove CCG"},"V000530","Fiveways Dencare, 288 Ditchling Road, BRIGHTON, East Sussex, BN1 6JF","BN1 6JF","BN1 "]
[null,null,null,null,null,null,null,null,null,null,null,null,null,null,null,"QNX",{"$f":"VLOOKUP(P2182,'[1]CCG & RG names'!D:E,2,0)","v":"Sussex Health and Care Partnership STP"},"09D",{"$f":"VLOOKUP(R2182,'[1]CCG & RG names'!A:B,2,0)","v":"NHS Brighton and Hove CCG"},"V000555","Preston Circus Dental Surgery, 4 Rose Hill Terrace, BRIGHTON, East Sussex, BN1 4JJ","BN1 4JJ","BN1 "]
[null,null,null,null,null,null,null,null,null,null,null,null,null,null,null,"QNX",{"$f":"VLOOKUP(P2185,'[1]CCG & RG names'!D:E,2,0)","v":"Sussex Health and Care Partnership STP"},"09D",{"$f":"VLOOKUP(R2185,'[1]CCG & RG names'!A:B,2,0)","v":"NHS Brighton and Hove CCG"},"V000560","Dental Surgery, 70 Sackville Road, HOVE, East Sussex, BN3 3HA","BN3 3HA","BN3 "]
[null,null,null,null,null,null,null,null,null,null,null,null,null,null,null,"QNX",{"$f":"VLOOKUP(P2190,'[1]CCG & RG names'!D:E,2,0)","v":"Sussex Health and Care Partnership STP"},"09D",{"$f":"VLOOKUP(R2190,'[1]CCG & RG names'!A:B,2,0)","v":"NHS Brighton and Hove CCG"},"V000582","Dental Surgery, 54 Eldred Avenue, BRIGHTON, East Sussex, BN1 5EG","BN1 5EG","BN1 "]
[null,null,null,null,null,null,null,null,null,null,null,null,null,null,null,"QNX",{"$f":"VLOOKUP(P2200,'[1]CCG & RG names'!D:E,2,0)","v":"Sussex Health and Care Partnership STP"},"09D",{"$f":"VLOOKUP(R2200,'[1]CCG & RG names'!A:B,2,0)","v":"NHS Brighton and Hove CCG"},"V017830","116-120, St. Andrews Road, Brighton, BN41 1DE","BN41 1DE","BN41"]
[null,null,null,null,null,null,null,null,null,null,null,null,null,null,null,"QNX",{"$f":"VLOOKUP(P2203,'[1]CCG & RG names'!D:E,2,0)","v":"Sussex Health and Care Partnership STP"},"09D",{"$f":"VLOOKUP(R2203,'[1]CCG & RG names'!A:B,2,0)","v":"NHS Brighton and Hove CCG"},"V030265","17 Bristol Gardens, Brighton, BN2 5JR, BN2 5JR","BN2 5JR","BN2 "]
[null,null,null,null,null,null,null,null,null,null,null,null,null,null,null,"QNX",{"$f":"VLOOKUP(P2208,'[1]CCG & RG names'!D:E,2,0)","v":"Sussex Health and Care Partnership STP"},"70F",{"$f":"VLOOKUP(R2208,'[1]CCG & RG names'!A:B,2,0)","v":"NHS West Sussex CCG"},"V000004","Dental Surgery, Woodcroft, Bepton Road, MIDHURST, West Sussex, GU29 9HH","GU29 9HH","GU29"]
[null,null,null,null,null,null,null,null,null,null,null,null,null,null,null,"QNX",{"$f":"VLOOKUP(P2212,'[1]CCG & RG names'!D:E,2,0)","v":"Sussex Health and Care Partnership STP"},"70F",{"$f":"VLOOKUP(R2212,'[1]CCG & RG names'!A:B,2,0)","v":"NHS West Sussex CCG"},"V000009","Little London Dental Surgery, 31 Little London, CHICHESTER, West Sussex, PO19 1PL","PO19 1PL","PO19"]
[null,null,null,null,null,null,null,null,null,null,null,null,null,null,null,"QNX",{"$f":"VLOOKUP(P2221,'[1]CCG & RG names'!D:E,2,0)","v":"Sussex Health and Care Partnership STP"},"70F",{"$f":"VLOOKUP(R2221,'[1]CCG & RG names'!A:B,2,0)","v":"NHS West Sussex CCG"},"V000024","20 Liverpool Gardens, Worthing, West Sussex, BN11 1RY","BN11 1RY","BN11"]
[null,null,null,null,null,null,null,null,null,null,null,null,null,null,null,"QNX",{"$f":"VLOOKUP(P2228,'[1]CCG & RG names'!D:E,2,0)","v":"Sussex Health and Care Partnership STP"},"70F",{"$f":"VLOOKUP(R2228,'[1]CCG & RG names'!A:B,2,0)","v":"NHS West Sussex CCG"},"V000669","Dental Surgery, 54A Keymer Road, HASSOCKS, West Sussex, BN6 8AR","BN6 8AR","BN6 "]
[null,null,null,null,null,null,null,null,null,null,null,null,null,null,null,"QNX",{"$f":"VLOOKUP(P2232,'[1]CCG & RG names'!D:E,2,0)","v":"Sussex Health and Care Partnership STP"},"70F",{"$f":"VLOOKUP(R2232,'[1]CCG & RG names'!A:B,2,0)","v":"NHS West Sussex CCG"},"V000731","Oakmead Dental Surgery, 48 Moat Road, EAST GRINSTEAD, West Sussex, RH19 3LH","RH19 3LH","RH19"]
[null,null,null,null,null,null,null,null,null,null,null,null,null,null,null,"QNX",{"$f":"VLOOKUP(P2237,'[1]CCG & RG names'!D:E,2,0)","v":"Sussex Health and Care Partnership STP"},"70F",{"$f":"VLOOKUP(R2237,'[1]CCG & RG names'!A:B,2,0)","v":"NHS West Sussex CCG"},"V001213","56 Mill Road, WORTHING, West Sussex, BN11 5DT","BN11 5DT","BN11"]
[null,null,null,null,null,null,null,null,null,null,null,null,null,null,null,"QNX",{"$f":"VLOOKUP(P2246,'[1]CCG & RG names'!D:E,2,0)","v":"Sussex Health and Care Partnership STP"},"70F",{"$f":"VLOOKUP(R2246,'[1]CCG & RG names'!A:B,2,0)","v":"NHS West Sussex CCG"},"V001387","The Dental Surgery, 73 Station Road, Burgess Hill, West Sussex, RH15 9DY","RH15 9DY","RH15"]
[null,null,null,null,null,null,null,null,null,null,null,null,null,null,null,"QNX",{"$f":"VLOOKUP(P2249,'[1]CCG & RG names'!D:E,2,0)","v":"Sussex Health and Care Partnership STP"},"70F",{"$f":"VLOOKUP(R2249,'[1]CCG & RG names'!A:B,2,0)","v":"NHS West Sussex CCG"},"V001394","Dental Surgery, 43 Norfolk Road, LITTLEHAMPTON, West Sussex, BN17 5PW","BN17 5PW","BN17"]
[null,null,null,null,null,null,null,null,null,null,null,null,null,null,null,"QNX",{"$f":"VLOOKUP(P2257,'[1]CCG & RG names'!D:E,2,0)","v":"Sussex Health and Care Partnership STP"},"70F",{"$f":"VLOOKUP(R2257,'[1]CCG & RG names'!A:B,2,0)","v":"NHS West Sussex CCG"},"V001490","Dental Surgery, 39 Buckingham Road, SHOREHAM BY SEA, West Sussex, BN43 5UA","BN43 5UA","BN43"]
[null,null,null,null,null,null,null,null,null,null,null,null,null,null,null,"QNX",{"$f":"VLOOKUP(P2258,'[1]CCG & RG names'!D:E,2,0)","v":"Sussex Health and Care Partnership STP"},"70F",{"$f":"VLOOKUP(R2258,'[1]CCG & RG names'!A:B,2,0)","v":"NHS West Sussex CCG"},"V001516","Moat Road Dental Care Limited, 3 Moat Road, EAST GRINSTEAD, West Sussex, RH19 3JZ","RH19 3JZ","RH19"]
[null,null,null,null,null,null,null,null,null,null,null,null,null,null,null,"QNX",{"$f":"VLOOKUP(P2265,'[1]CCG & RG names'!D:E,2,0)","v":"Sussex Health and Care Partnership STP"},"70F",{"$f":"VLOOKUP(R2265,'[1]CCG & RG names'!A:B,2,0)","v":"NHS West Sussex CCG"},"V001574","Dental Surgery, 8 Maidenbower Square, Maidenbower, CRAWLEY, West Sussex, RH10 7QH","RH10 7QH","RH10"]
[null,null,null,null,null,null,null,null,null,null,null,null,null,null,null,"QNX",{"$f":"VLOOKUP(P2274,'[1]CCG & RG names'!D:E,2,0)","v":"Sussex Health and Care Partnership STP"},"70F",{"$f":"VLOOKUP(R2274,'[1]CCG & RG names'!A:B,2,0)","v":"NHS West Sussex CCG"},"V001769","Holbrook Dental Practice, 15 Bartholomew Way, HORSHAM, West Sussex, RH12 5JL","RH12 5JL","RH12"]
[null,null,null,null,null,null,null,null,null,null,null,null,null,null,null,"QNX",{"$f":"VLOOKUP(P2276,'[1]CCG & RG names'!D:E,2,0)","v":"Sussex Health and Care Partnership STP"},"70F",{"$f":"VLOOKUP(R2276,'[1]CCG & RG names'!A:B,2,0)","v":"NHS West Sussex CCG"},"V001793","Dental Department, Christs Hospital Infirmary, Christs Hospital, HORSHAM, West Sussex, RH13 0LY","RH13 0LY","RH13"]
[null,null,null,null,null,null,null,null,null,null,null,null,null,null,null,"QNX",{"$f":"VLOOKUP(P2283,'[1]CCG & RG names'!D:E,2,0)","v":"Sussex Health and Care Partnership STP"},"70F",{"$f":"VLOOKUP(R2283,'[1]CCG & RG names'!A:B,2,0)","v":"NHS West Sussex CCG"},"V001806","Witterings Dental Practice, Ingol Cottage, Cakeham Road, East Wittering, Chichester, West Sussex, PO20 8BP","PO20 8BP","PO20"]
[null,null,null,null,null,null,null,null,null,null,null,null,null,null,null,"QNX",{"$f":"VLOOKUP(P2292,'[1]CCG & RG names'!D:E,2,0)","v":"Sussex Health and Care Partnership STP"},"70F",{"$f":"VLOOKUP(R2292,'[1]CCG & RG names'!A:B,2,0)","v":"NHS West Sussex CCG"},"V001815","Dental Surgery, 16 The Parade, BOGNOR REGIS, West Sussex, PO21 4TW","PO21 4TW","PO21"]
[null,null,null,null,null,null,null,null,null,null,null,null,null,null,null,"QNX",{"$f":"VLOOKUP(P2295,'[1]CCG & RG names'!D:E,2,0)","v":"Sussex Health and Care Partnership STP"},"70F",{"$f":"VLOOKUP(R2295,'[1]CCG & RG names'!A:B,2,0)","v":"NHS West Sussex CCG"},"V002173","Broadway Dental Care, 40 The Broadway, CRAWLEY, West Sussex, RH10 1HG","RH10 1HG","RH10"]
[null,null,null,null,null,null,null,null,null,null,null,null,null,null,null,"QNX",{"$f":"VLOOKUP(P2301,'[1]CCG & RG names'!D:E,2,0)","v":"Sussex Health and Care Partnership STP"},"70F",{"$f":"VLOOKUP(R2301,'[1]CCG & RG names'!A:B,2,0)","v":"NHS West Sussex CCG"},"V003209","Mill Road Dental Surgery, 27 Mill Road, Three Bridges, Crawley, West Sussex, RH10 1ND","RH10 1ND","RH10"]
[null,null,null,null,null,null,null,null,null,null,null,null,null,null,null,"QNX",{"$f":"VLOOKUP(P2304,'[1]CCG & RG names'!D:E,2,0)","v":"Sussex Health and Care Partnership STP"},"70F",{"$f":"VLOOKUP(R2304,'[1]CCG & RG names'!A:B,2,0)","v":"NHS West Sussex CCG"},"V008577","St Faiths Dental Surgery, 2 Halsford Park Road, EAST GRINSTEAD, West Sussex, RH19 1PN","RH19 1PN","RH19"]
[null,null,null,null,null,null,null,null,null,null,null,null,null,null,null,"QNX",{"$f":"VLOOKUP(P2311,'[1]CCG & RG names'!D:E,2,0)","v":"Sussex Health and Care Partnership STP"},"70F",{"$f":"VLOOKUP(R2311,'[1]CCG & RG names'!A:B,2,0)","v":"NHS West Sussex CCG"},"V010360","5 Heath Square, Boltro Road, HAYWARDS HEATH, West Sussex, RH16 1BL","RH16 1BL","RH16"]
[null,null,null,null,null,null,null,null,null,null,null,null,null,null,null,"QNX",{"$f":"VLOOKUP(P2320,'[1]CCG & RG names'!D:E,2,0)","v":"Sussex Health and Care Partnership STP"},"70F",{"$f":"VLOOKUP(R2320,'[1]CCG & RG names'!A:B,2,0)","v":"NHS West Sussex CCG"},"V012835","Craigweil Dental Practice, Craigweil, Grand Avenue, Lancing, West Sussex, BN15 9PS","BN15 9PS","BN15"]
[null,null,null,null,null,null,null,null,null,null,null,null,null,null,null,"QNX",{"$f":"VLOOKUP(P2325,'[1]CCG & RG names'!D:E,2,0)","v":"Sussex Health and Care Partnership STP"},"70F",{"$f":"VLOOKUP(R2325,'[1]CCG & RG names'!A:B,2,0)","v":"NHS West Sussex CCG"},"V017358","PALLANT ORTHODONTICS, 11 North Pallant, Chichester, West Sussex, PO19 1TQ","PO19 1TQ","PO19"]
[null,null,null,null,null,null,null,null,null,null,null,null,null,null,null,"QNX",{"$f":"VLOOKUP(P2329,'[1]CCG & RG names'!D:E,2,0)","v":"Sussex Health and Care Partnership STP"},"70F",{"$f":"VLOOKUP(R2329,'[1]CCG & RG names'!A:B,2,0)","v":"NHS West Sussex CCG"},"V050566","3 EAST STREET, HORSHAM, WEST SUSSEX, RH12 1HH","RH12 1HH","RH12"]
[null,null,null,null,null,null,null,null,null,null,null,null,null,null,null,"QNX",{"$f":"VLOOKUP(P2338,'[1]CCG & RG names'!D:E,2,0)","v":"Sussex Health and Care Partnership STP"},"97R",{"$f":"VLOOKUP(R2338,'[1]CCG & RG names'!A:B,2,0)","v":"NHS East Sussex CCG"},"V000542","Dental Surgery, 7 Albion Street, LEWES, East Sussex, BN7 2ND","BN7 2ND","BN7 "]
[null,null,null,null,null,null,null,null,null,null,null,null,null,null,null,"QNX",{"$f":"VLOOKUP(P2341,'[1]CCG & RG names'!D:E,2,0)","v":"Sussex Health and Care Partnership STP"},"97R",{"$f":"VLOOKUP(R2341,'[1]CCG & RG names'!A:B,2,0)","v":"NHS East Sussex CCG"},"V000551","Dental Surgery, 17 Steyning Avenue, PEACEHAVEN, East Sussex, BN10 8LT","BN10 8LT","BN10"]
[null,null,null,null,null,null,null,null,null,null,null,null,null,null,null,"QNX",{"$f":"VLOOKUP(P2345,'[1]CCG & RG names'!D:E,2,0)","v":"Sussex Health and Care Partnership STP"},"97R",{"$f":"VLOOKUP(R2345,'[1]CCG & RG names'!A:B,2,0)","v":"NHS East Sussex CCG"},"V000563","Dental Dept., HM Prison Lewes, 1 Brighton Road, Lewes, East Sussex, BN7 1EA","BN7 1EA","BN7 "]
[null,null,null,null,null,null,null,null,null,null,null,null,null,null,null,"QNX",{"$f":"VLOOKUP(P2350,'[1]CCG & RG names'!D:E,2,0)","v":"Sussex Health and Care Partnership STP"},"97R",{"$f":"VLOOKUP(R2350,'[1]CCG & RG names'!A:B,2,0)","v":"NHS East Sussex CCG"},"V000576","Peacehaven Dental Surgery, 216 South Coast Road, PEACEHAVEN, East Sussex, BN10 8JR","BN10 8JR","BN10"]
[null,null,null,null,null,null,null,null,null,null,null,null,null,null,null,"QNX",{"$f":"VLOOKUP(P2357,'[1]CCG & RG names'!D:E,2,0)","v":"Sussex Health and Care Partnership STP"},"97R",{"$f":"VLOOKUP(R2357,'[1]CCG & RG names'!A:B,2,0)","v":"NHS East Sussex CCG"},"V000595","Beech House Dental Practice, Beech House, 16 College Road, EASTBOURNE, East Sussex, BN21 4HZ","BN21 4HZ","BN21"]
[null,null,null,null,null,null,null,null,null,null,null,null,null,null,null,"QNX",{"$f":"VLOOKUP(P2366,'[1]CCG & RG names'!D:E,2,0)","v":"Sussex Health and Care Partnership STP"},"97R",{"$f":"VLOOKUP(R2366,'[1]CCG & RG names'!A:B,2,0)","v":"NHS East Sussex CCG"},"V000613","Dental Surgery, 62 High Street, HAILSHAM, East Sussex, BN27 1AX","BN27 1AX","BN27"]
[null,null,null,null,null,null,null,null,null,null,null,null,null,null,null,"QNX",{"$f":"VLOOKUP(P2369,'[1]CCG & RG names'!D:E,2,0)","v":"Sussex Health and Care Partnership STP"},"97R",{"$f":"VLOOKUP(R2369,'[1]CCG & RG names'!A:B,2,0)","v":"NHS East Sussex CCG"},"V000615","Kingswood Dental Practice, 13 North Street, HAILSHAM, East Sussex, BN27 1DQ","BN27 1DQ","BN27"]
[null,null,null,null,null,null,null,null,null,null,null,null,null,null,null,"QNX",{"$f":"VLOOKUP(P2375,'[1]CCG & RG names'!D:E,2,0)","v":"Sussex Health and Care Partnership STP"},"97R",{"$f":"VLOOKUP(R2375,'[1]CCG & RG names'!A:B,2,0)","v":"NHS East Sussex CCG"},"V001156","Anglesey Terrace Ortho Practice, Basement, 6 Anglesey Terrace, St. Leonards on Sea, East Sussex, TN38 0QS","TN38 0QS","TN38"]
[null,null,null,null,null,null,null,null,null,null,null,null,null,null,null,"QNX",{"$f":"VLOOKUP(P2384,'[1]CCG & RG names'!D:E,2,0)","v":"Sussex Health and Care Partnership STP"},"97R",{"$f":"VLOOKUP(R2384,'[1]CCG & RG names'!A:B,2,0)","v":"NHS East Sussex CCG"},"V001168","Dental Surgery, 146 St Georges Road, HASTINGS, East Sussex, TN34 3NE","TN34 3NE","TN34"]
[null,null,null,null,null,null,null,null,null,null,null,null,null,null,null,"QNX",{"$f":"VLOOKUP(P2385,'[1]CCG & RG names'!D:E,2,0)","v":"Sussex Health and Care Partnership STP"},"97R",{"$f":"VLOOKUP(R2385,'[1]CCG & RG names'!A:B,2,0)","v":"NHS East Sussex CCG"},"V001169","Dental Surgery, 6 Springfield Road, ST LEONARDS ON SEA, East Sussex, TN38 0TU","TN38 0TU","TN38"]
[null,null,null,null,null,null,null,null,null,null,null,null,null,null,null,"QNX",{"$f":"VLOOKUP(P2394,'[1]CCG & RG names'!D:E,2,0)","v":"Sussex Health and Care Partnership STP"},"97R",{"$f":"VLOOKUP(R2394,'[1]CCG & RG names'!A:B,2,0)","v":"NHS East Sussex CCG"},"V001481","Robertsbridge Dental Practice, 17 - 19 High Street, ROBERTSBRIDGE, East Sussex, TN32 5AE","TN32 5AE","TN32"]
[null,null,null,null,null,null,null,null,null,null,null,null,null,null,null,"QNX",{"$f":"VLOOKUP(P2396,'[1]CCG & RG names'!D:E,2,0)","v":"Sussex Health and Care Partnership STP"},"97R",{"$f":"VLOOKUP(R2396,'[1]CCG & RG names'!A:B,2,0)","v":"NHS East Sussex CCG"},"V001486","Dental Care, 37 Sackville Road, BEXHILL ON SEA, East Sussex, TN39 3JD","TN39 3JD","TN39"]
[null,null,null,null,null,null,null,null,null,null,null,null,null,null,null,"QNX",{"$f":"VLOOKUP(P2403,'[1]CCG & RG names'!D:E,2,0)","v":"Sussex Health and Care Partnership STP"},"97R",{"$f":"VLOOKUP(R2403,'[1]CCG & RG names'!A:B,2,0)","v":"NHS East Sussex CCG"},"V005214","Lewes High St Dental Practice, 60 High Street, LEWES, East Sussex, BN7 1XG","BN7 1XG","BN7 "]
[null,null,null,null,null,null,null,null,null,null,null,null,null,null,null,"QNX",{"$f":"VLOOKUP(P2412,'[1]CCG & RG names'!D:E,2,0)","v":"Sussex Health and Care Partnership STP"},"97R",{"$f":"VLOOKUP(R2412,'[1]CCG & RG names'!A:B,2,0)","v":"NHS East Sussex CCG"},"V010746","The Applegate Dental Surgery, Oasis Dental Care LTD, 21 New Town, Uckfield, East Sussex, TN22 5DL","TN22 5DL","TN22"]
[null,null,null,null,null,null,null,null,null,null,null,null,null,null,null,"QNX",{"$f":"VLOOKUP(P2418,'[1]CCG & RG names'!D:E,2,0)","v":"Sussex Health and Care Partnership STP"},"97R",{"$f":"VLOOKUP(R2418,'[1]CCG & RG names'!A:B,2,0)","v":"NHS East Sussex CCG"},"V012775","3 Terminus Buildings, EASTBOURNE, East Sussex, BN21 1BA","BN21 1BA","BN21"]
[null,null,null,null,null,null,null,null,null,null,null,null,null,null,null,"QNX",{"$f":"VLOOKUP(P2421,'[1]CCG & RG names'!D:E,2,0)","v":"Sussex Health and Care Partnership STP"},"97R",{"$f":"VLOOKUP(R2421,'[1]CCG & RG names'!A:B,2,0)","v":"NHS East Sussex CCG"},"V013036","1 Riverview Office Park, Station Road, Forest Row, East Sussex, RH18 5DW","RH18 5DW","RH18"]
[null,null,null,null,null,null,null,null,null,null,null,null,null,null,null,"QNX",{"$f":"VLOOKUP(P2430,'[1]CCG & RG names'!D:E,2,0)","v":"Sussex Health and Care Partnership STP"},"97R",{"$f":"VLOOKUP(R2430,'[1]CCG & RG names'!A:B,2,0)","v":"NHS East Sussex CCG"},"V050562","Ground Floor, The Queens Apartments, Robertson Terrace, Hastings, East Sussex, TN34 1JN","TN34 1JN","TN34"]
[null,null,null,null,null,null,null,null,null,null,null,null,null,null,null,"QNX",{"$f":"VLOOKUP(P2431,'[1]CCG & RG names'!D:E,2,0)","v":"Sussex Health and Care Partnership STP"},"97R",{"$f":"VLOOKUP(R2431,'[1]CCG & RG names'!A:B,2,0)","v":"NHS East Sussex CCG"},"V050564","THE STRAND, RYE, East Sussex, TN31 7DB","TN31 7DB","TN31"]
[null,null,null,null,null,null,null,null,null,null,null,null,null,null,null,"QRL",{"$f":"VLOOKUP(P2438,'[1]CCG & RG names'!D:E,2,0)","v":"Hampshire and the Isle of Wight STP"},"10R",{"$f":"VLOOKUP(R2438,'[1]CCG & RG names'!A:B,2,0)","v":"NHS Portsmouth CCG"},"V005144","Dental Surgery, 144 Eastney Road, SOUTHSEA, Hampshire, PO4 8DY","PO4 8DY","PO4 "]
[null,null,null,null,null,null,null,null,null,null,null,null,null,null,null,"QRL",{"$f":"VLOOKUP(P2442,'[1]CCG & RG names'!D:E,2,0)","v":"Hampshire and the Isle of Wight STP"},"10R",{"$f":"VLOOKUP(R2442,'[1]CCG & RG names'!A:B,2,0)","v":"NHS Portsmouth CCG"},"V005149","MediKa Dental, ., 175 Devonshire Avenue, SOUTHSEA, Hampshire, PO4 9ED","PO4 9ED","PO4 "]
[null,null,null,null,null,null,null,null,null,null,null,null,null,null,null,"QRL",{"$f":"VLOOKUP(P2449,'[1]CCG & RG names'!D:E,2,0)","v":"Hampshire and the Isle of Wight STP"},"10R",{"$f":"VLOOKUP(R2449,'[1]CCG & RG names'!A:B,2,0)","v":"NHS Portsmouth CCG"},"V006151","Dental Practice, 194a Havant Road, Drayton, Portsmouth, Hampshire, PO6 2EH","PO6 2EH","PO6 "]
[null,null,null,null,null,null,null,null,null,null,null,null,null,null,null,"QRL",{"$f":"VLOOKUP(P2456,'[1]CCG & RG names'!D:E,2,0)","v":"Hampshire and the Isle of Wight STP"},"10R",{"$f":"VLOOKUP(R2456,'[1]CCG & RG names'!A:B,2,0)","v":"NHS Portsmouth CCG"},"V013437","281 London Road, PORTSMOUTH, Hampshire, PO2 9HE","PO2 9HE","PO2 "]
[null,null,null,null,null,null,null,null,null,null,null,null,null,null,null,"QRL",{"$f":"VLOOKUP(P2464,'[1]CCG & RG names'!D:E,2,0)","v":"Hampshire and the Isle of Wight STP"},"D9Y0V",{"$f":"VLOOKUP(R2464,'[1]CCG & RG names'!A:B,2,0)","v":"NHS HAMPSHIRE, SOUTHAMPTON AND ISLE OF WIGHT CCG"},"V001274","Palmerston Dental Practice, 1 Palmerston Avenue, FAREHAM, Hampshire, PO16 7DP","PO16 7DP","PO16"]
[null,null,null,null,null,null,null,null,null,null,null,null,null,null,null,"QRL",{"$f":"VLOOKUP(P2467,'[1]CCG & RG names'!D:E,2,0)","v":"Hampshire and the Isle of Wight STP"},"D9Y0V",{"$f":"VLOOKUP(R2467,'[1]CCG & RG names'!A:B,2,0)","v":"NHS HAMPSHIRE, SOUTHAMPTON AND ISLE OF WIGHT CCG"},"V001281","Dental Surgery, 37 Warsash Road, Warsash, SOUTHAMPTON, Hampshire, SO31 9HW","SO31 9HW","SO31"]
[null,null,null,null,null,null,null,null,null,null,null,null,null,null,null,"QRL",{"$f":"VLOOKUP(P2476,'[1]CCG & RG names'!D:E,2,0)","v":"Hampshire and the Isle of Wight STP"},"D9Y0V",{"$f":"VLOOKUP(R2476,'[1]CCG & RG names'!A:B,2,0)","v":"NHS HAMPSHIRE, SOUTHAMPTON AND ISLE OF WIGHT CCG"},"V001307","Dental Surgery, 18 East Street, Titchfield, FAREHAM, Hampshire, PO14 4AD","PO14 4AD","PO14"]
[null,null,null,null,null,null,null,null,null,null,null,null,null,null,null,"QRL",{"$f":"VLOOKUP(P2481,'[1]CCG & RG names'!D:E,2,0)","v":"Hampshire and the Isle of Wight STP"},"D9Y0V",{"$f":"VLOOKUP(R2481,'[1]CCG & RG names'!A:B,2,0)","v":"NHS HAMPSHIRE, SOUTHAMPTON AND ISLE OF WIGHT CCG"},"V001391","Dental Surgery, 2 Milvil Court, Milvil Road, LEE ON THE SOLENT, Hampshire, PO13 9LY","PO13 9LY","PO13"]
[null,null,null,null,null,null,null,null,null,null,null,null,null,null,null,"QRL",{"$f":"VLOOKUP(P2485,'[1]CCG & RG names'!D:E,2,0)","v":"Hampshire and the Isle of Wight STP"},"D9Y0V",{"$f":"VLOOKUP(R2485,'[1]CCG & RG names'!A:B,2,0)","v":"NHS HAMPSHIRE, SOUTHAMPTON AND ISLE OF WIGHT CCG"},"V003553","Dental Surgery, 215 Peartree Avenue, SOUTHAMPTON, Hampshire, SO19 7RD","SO19 7RD","SO19"]
[null,null,null,null,null,null,null,null,null,null,null,null,null,null,null,"QRL",{"$f":"VLOOKUP(P2488,'[1]CCG & RG names'!D:E,2,0)","v":"Hampshire and the Isle of Wight STP"},"D9Y0V",{"$f":"VLOOKUP(R2488,'[1]CCG & RG names'!A:B,2,0)","v":"NHS HAMPSHIRE, SOUTHAMPTON AND ISLE OF WIGHT CCG"},"V003562","Dental Surgery, 314 Burgess Road, SOUTHAMPTON, Hampshire, SO16 3BJ","SO16 3BJ","SO16"]
[null,null,null,null,null,null,null,null,null,null,null,null,null,null,null,"QRL",{"$f":"VLOOKUP(P2495,'[1]CCG & RG names'!D:E,2,0)","v":"Hampshire and the Isle of Wight STP"},"D9Y0V",{"$f":"VLOOKUP(R2495,'[1]CCG & RG names'!A:B,2,0)","v":"NHS HAMPSHIRE, SOUTHAMPTON AND ISLE OF WIGHT CCG"},"V003579","Dental Surgery, 21 Burgess Road, SOUTHAMPTON, Hampshire, SO16 7AP","SO16 7AP","SO16"]
[null,null,null,null,null,null,null,null,null,null,null,null,null,null,null,"QRL",{"$f":"VLOOKUP(P2500,'[1]CCG & RG names'!D:E,2,0)","v":"Hampshire and the Isle of Wight STP"},"D9Y0V",{"$f":"VLOOKUP(R2500,'[1]CCG & RG names'!A:B,2,0)","v":"NHS HAMPSHIRE, SOUTHAMPTON AND ISLE OF WIGHT CCG"},"V003588","Havant Dental Clinic, Havant Health Centre, P O Box 45, Havant, Hampshire, PO9 2AZ","PO9 2AZ","PO9 "]
[null,null,null,null,null,null,null,null,null,null,null,null,null,null,null,"QRL",{"$f":"VLOOKUP(P2510,'[1]CCG & RG names'!D:E,2,0)","v":"Hampshire and the Isle of Wight STP"},"D9Y0V",{"$f":"VLOOKUP(R2510,'[1]CCG & RG names'!A:B,2,0)","v":"NHS HAMPSHIRE, SOUTHAMPTON AND ISLE OF WIGHT CCG"},"V005999","Aberdeen House Dental Practice, Headley Road, Grayshott, Hindhead, GU26 6LD","GU26 6LD","GU26"]
[null,null,null,null,null,null,null,null,null,null,null,null,null,null,null,"QRL",{"$f":"VLOOKUP(P2513,'[1]CCG & RG names'!D:E,2,0)","v":"Hampshire and the Isle of Wight STP"},"D9Y0V",{"$f":"VLOOKUP(R2513,'[1]CCG & RG names'!A:B,2,0)","v":"NHS HAMPSHIRE, SOUTHAMPTON AND ISLE OF WIGHT CCG"},"V006005","Winchester Road Dental Surgery, 33 Winchester Road, Basingstoke, Hampshire, RG21 8UL","RG21 8UL","RG21"]
[null,null,null,null,null,null,null,null,null,null,null,null,null,null,null,"QRL",{"$f":"VLOOKUP(P2522,'[1]CCG & RG names'!D:E,2,0)","v":"Hampshire and the Isle of Wight STP"},"D9Y0V",{"$f":"VLOOKUP(R2522,'[1]CCG & RG names'!A:B,2,0)","v":"NHS HAMPSHIRE, SOUTHAMPTON AND ISLE OF WIGHT CCG"},"V006496","Dental Surgery, 38A High Street, SHANKLIN, Isle Of Wight, PO37 6JY","PO37 6JY","PO37"]
[null,null,null,null,null,null,null,null,null,null,null,null,null,null,null,"QRL",{"$f":"VLOOKUP(P2525,'[1]CCG & RG names'!D:E,2,0)","v":"Hampshire and the Isle of Wight STP"},"D9Y0V",{"$f":"VLOOKUP(R2525,'[1]CCG & RG names'!A:B,2,0)","v":"NHS HAMPSHIRE, SOUTHAMPTON AND ISLE OF WIGHT CCG"},"V006558","Sandown Dental Practice, 18 Broadway, SANDOWN, Isle Of Wight, PO36 9DQ","PO36 9DQ","PO36"]
[null,null,null,null,null,null,null,null,null,null,null,null,null,null,null,"QRL",{"$f":"VLOOKUP(P2531,'[1]CCG & RG names'!D:E,2,0)","v":"Hampshire and the Isle of Wight STP"},"D9Y0V",{"$f":"VLOOKUP(R2531,'[1]CCG & RG names'!A:B,2,0)","v":"NHS HAMPSHIRE, SOUTHAMPTON AND ISLE OF WIGHT CCG"},"V006777","Denbigh House Dental Clinic, 62 George Street, Ryde, Isle of Wight, PO33 2EN","PO33 2EN","PO33"]
[null,null,null,null,null,null,null,null,null,null,null,null,null,null,null,"QRL",{"$f":"VLOOKUP(P2534,'[1]CCG & RG names'!D:E,2,0)","v":"Hampshire and the Isle of Wight STP"},"D9Y0V",{"$f":"VLOOKUP(R2534,'[1]CCG & RG names'!A:B,2,0)","v":"NHS HAMPSHIRE, SOUTHAMPTON AND ISLE OF WIGHT CCG"},"V007085","Associated Dental Practices, Gillies Health Centre, Sullivan Road, Brighton Hill, Basingstoke, RG22 4EH","RG22 4EH","RG22"]
[null,null,null,null,null,null,null,null,null,null,null,null,null,null,null,"QRL",{"$f":"VLOOKUP(P2541,'[1]CCG & RG names'!D:E,2,0)","v":"Hampshire and the Isle of Wight STP"},"D9Y0V",{"$f":"VLOOKUP(R2541,'[1]CCG & RG names'!A:B,2,0)","v":"NHS HAMPSHIRE, SOUTHAMPTON AND ISLE OF WIGHT CCG"},"V007111","Hook Dental, Stanley House, London Road, Hook, Hampshire, RG27 9GA","RG27 9GA","RG27"]
[null,null,null,null,null,null,null,null,null,null,null,null,null,null,null,"QRL",{"$f":"VLOOKUP(P2549,'[1]CCG & RG names'!D:E,2,0)","v":"Hampshire and the Isle of Wight STP"},"D9Y0V",{"$f":"VLOOKUP(R2549,'[1]CCG & RG names'!A:B,2,0)","v":"NHS HAMPSHIRE, SOUTHAMPTON AND ISLE OF WIGHT CCG"},"V007426","ADP Blue Hayes Dental Surgery, Western Road, ANDOVER, Hampshire, SP10 2JQ","SP10 2JQ","SP10"]
[null,null,null,null,null,null,null,null,null,null,null,null,null,null,null,"QRL",{"$f":"VLOOKUP(P2556,'[1]CCG & RG names'!D:E,2,0)","v":"Hampshire and the Isle of Wight STP"},"D9Y0V",{"$f":"VLOOKUP(R2556,'[1]CCG & RG names'!A:B,2,0)","v":"NHS HAMPSHIRE, SOUTHAMPTON AND ISLE OF WIGHT CCG"},"V007762","Forest Gate Dental Practice, Hazel Farm Road, Totton, SOUTHAMPTON, Hampshire, SO40 8WU","SO40 8WU","SO40"]
[null,null,null,null,null,null,null,null,null,null,null,null,null,null,null,"QRL",{"$f":"VLOOKUP(P2559,'[1]CCG & RG names'!D:E,2,0)","v":"Hampshire and the Isle of Wight STP"},"D9Y0V",{"$f":"VLOOKUP(R2559,'[1]CCG & RG names'!A:B,2,0)","v":"NHS HAMPSHIRE, SOUTHAMPTON AND ISLE OF WIGHT CCG"},"V007777","Beauchamp House Dental Surgery, 100 The Hundred, ROMSEY, Hampshire, SO51 8BY","SO51 8BY","SO51"]
[null,null,null,null,null,null,null,null,null,null,null,null,null,null,null,"QRL",{"$f":"VLOOKUP(P2568,'[1]CCG & RG names'!D:E,2,0)","v":"Hampshire and the Isle of Wight STP"},"D9Y0V",{"$f":"VLOOKUP(R2568,'[1]CCG & RG names'!A:B,2,0)","v":"NHS HAMPSHIRE, SOUTHAMPTON AND ISLE OF WIGHT CCG"},"V008478","Abbey Orthodontics, 82 The Hundred, ROMSEY, Hampshire, SO51 8BX","SO51 8BX","SO51"]
[null,null,null,null,null,null,null,null,null,null,null,null,null,null,null,"QRL",{"$f":"VLOOKUP(P2569,'[1]CCG & RG names'!D:E,2,0)","v":"Hampshire and the Isle of Wight STP"},"D9Y0V",{"$f":"VLOOKUP(R2569,'[1]CCG & RG names'!A:B,2,0)","v":"NHS HAMPSHIRE, SOUTHAMPTON AND ISLE OF WIGHT CCG"},"V008581","Merrystead Dental Surgery, 147 Hampton Lane, Blackfield, SOUTHAMPTON, Hampshire, SO45 1WE","SO45 1WE","SO45"]
[null,null,null,null,null,null,null,null,null,null,null,null,null,null,null,"QRL",{"$f":"VLOOKUP(P2577,'[1]CCG & RG names'!D:E,2,0)","v":"Hampshire and the Isle of Wight STP"},"D9Y0V",{"$f":"VLOOKUP(R2577,'[1]CCG & RG names'!A:B,2,0)","v":"NHS HAMPSHIRE, SOUTHAMPTON AND ISLE OF WIGHT CCG"},"V008831","Dental Surgery, 2A Scotter Road, EASTLEIGH, Hampshire, SO50 6AJ","SO50 6AJ","SO50"]
[null,null,null,null,null,null,null,null,null,null,null,null,null,null,null,"QRL",{"$f":"VLOOKUP(P2584,'[1]CCG & RG names'!D:E,2,0)","v":"Hampshire and the Isle of Wight STP"},"D9Y0V",{"$f":"VLOOKUP(R2584,'[1]CCG & RG names'!A:B,2,0)","v":"NHS HAMPSHIRE, SOUTHAMPTON AND ISLE OF WIGHT CCG"},"V010462","Trafalgar Dental Practice, 2 Victoria Road, Woolston, Southampton, SO19 9DX","SO19 9DX","SO19"]
[null,null,null,null,null,null,null,null,null,null,null,null,null,null,null,"QRL",{"$f":"VLOOKUP(P2587,'[1]CCG & RG names'!D:E,2,0)","v":"Hampshire and the Isle of Wight STP"},"D9Y0V",{"$f":"VLOOKUP(R2587,'[1]CCG & RG names'!A:B,2,0)","v":"NHS HAMPSHIRE, SOUTHAMPTON AND ISLE OF WIGHT CCG"},"V011067","St Francis Practice Ltd, Pilgrims Close, Chandlers Ford, Hampshire, SO53 4ST","SO53 4ST","SO53"]
[null,null,null,null,null,null,null,null,null,null,null,null,null,null,null,"QRL",{"$f":"VLOOKUP(P2593,'[1]CCG & RG names'!D:E,2,0)","v":"Hampshire and the Isle of Wight STP"},"D9Y0V",{"$f":"VLOOKUP(R2593,'[1]CCG & RG names'!A:B,2,0)","v":"NHS HAMPSHIRE, SOUTHAMPTON AND ISLE OF WIGHT CCG"},"V012038","The Dental Care Centre, 3 Popes Lane, Totton, SOUTHAMPTON, Hampshire, SO40 3DE","SO40 3DE","SO40"]
[null,null,null,null,null,null,null,null,null,null,null,null,null,null,null,"QRL",{"$f":"VLOOKUP(P2602,'[1]CCG & RG names'!D:E,2,0)","v":"Hampshire and the Isle of Wight STP"},"D9Y0V",{"$f":"VLOOKUP(R2602,'[1]CCG & RG names'!A:B,2,0)","v":"NHS HAMPSHIRE, SOUTHAMPTON AND ISLE OF WIGHT CCG"},"V012866","Cross Street Dental Centre, 10-11 Cross Street, RYDE, ISLE OF WIGHT, PO33 2AD","PO33 2AD","PO33"]
[null,null,null,null,null,null,null,null,null,null,null,null,null,null,null,"QRL",{"$f":"VLOOKUP(P2605,'[1]CCG & RG names'!D:E,2,0)","v":"Hampshire and the Isle of Wight STP"},"D9Y0V",{"$f":"VLOOKUP(R2605,'[1]CCG & RG names'!A:B,2,0)","v":"NHS HAMPSHIRE, SOUTHAMPTON AND ISLE OF WIGHT CCG"},"V013031","Smiles of New Forest, Coronation House, 2 Queen Street, Lyndhurst, SO41 9NH","SO41 9NH","SO41"]
[null,null,null,null,null,null,null,null,null,null,null,null,null,null,null,"QRL",{"$f":"VLOOKUP(P2614,'[1]CCG & RG names'!D:E,2,0)","v":"Hampshire and the Isle of Wight STP"},"D9Y0V",{"$f":"VLOOKUP(R2614,'[1]CCG & RG names'!A:B,2,0)","v":"NHS HAMPSHIRE, SOUTHAMPTON AND ISLE OF WIGHT CCG"},"V014253","Unit 34 - 35 1st Floor, Meridian Shopping Centre, Elm Lane, Havant, Hants, PO9 1UN","PO9 1UN","PO9 "]
[null,null,null,null,null,null,null,null,null,null,null,null,null,null,null,"QRL",{"$f":"VLOOKUP(P2618,'[1]CCG & RG names'!D:E,2,0)","v":"Hampshire and the Isle of Wight STP"},"D9Y0V",{"$f":"VLOOKUP(R2618,'[1]CCG & RG names'!A:B,2,0)","v":"NHS HAMPSHIRE, SOUTHAMPTON AND ISLE OF WIGHT CCG"},"V014600","Weston Lane Dental Surgery, Centre for Health Living, Weston Lane, Southampton, SO19 9GH","SO19 9GH","SO19"]
[null,null,null,null,null,null,null,null,null,null,null,null,null,null,null,"QRL",{"$f":"VLOOKUP(P2623,'[1]CCG & RG names'!D:E,2,0)","v":"Hampshire and the Isle of Wight STP"},"D9Y0V",{"$f":"VLOOKUP(R2623,'[1]CCG & RG names'!A:B,2,0)","v":"NHS HAMPSHIRE, SOUTHAMPTON AND ISLE OF WIGHT CCG"},"V020302","East Cowes Dental Walk-in Centre, Church Path, East Cowes, Isle Of Wight, PO32 6RP","PO32 6RP","PO32"]
[null,null,null,null,null,null,null,null,null,null,null,null,null,null,null,"QRL",{"$f":"VLOOKUP(P2630,'[1]CCG & RG names'!D:E,2,0)","v":"Hampshire and the Isle of Wight STP"},"D9Y0V",{"$f":"VLOOKUP(R2630,'[1]CCG & RG names'!A:B,2,0)","v":"NHS HAMPSHIRE, SOUTHAMPTON AND ISLE OF WIGHT CCG"},"V043431","30 HIGH STREET, EMSWORTH, PO10 7AW","PO10 7AW","PO10"]
[null,null,null,null,null,null,null,null,null,null,null,null,null,null,null,"QRL",{"$f":"VLOOKUP(P2633,'[1]CCG & RG names'!D:E,2,0)","v":"Hampshire and the Isle of Wight STP"},"D9Y0V",{"$f":"VLOOKUP(R2633,'[1]CCG & RG names'!A:B,2,0)","v":"NHS HAMPSHIRE, SOUTHAMPTON AND ISLE OF WIGHT CCG"},"V060357","9 STOCKBRIDGE ROAD, WINCHESTER, SO22 6RN","SO22 6RN","SO22"]
[null,null,null,null,null,null,null,null,null,null,null,null,null,null,null,"QU9",{"$f":"VLOOKUP(P2642,'[1]CCG & RG names'!D:E,2,0)","v":"Buckinghamshire, Oxfordshire and Berkshire West STP"},"10Q",{"$f":"VLOOKUP(R2642,'[1]CCG & RG names'!A:B,2,0)","v":"NHS Oxfordshire CCG"},"V005513","Dental Surgery, 43 Castle Street, BANBURY, Oxfordshire, OX16 5NU","OX16 5NU","OX16"]
[null,null,null,null,null,null,null,null,null,null,null,null,null,null,null,"QU9",{"$f":"VLOOKUP(P2648,'[1]CCG & RG names'!D:E,2,0)","v":"Buckinghamshire, Oxfordshire and Berkshire West STP"},"10Q",{"$f":"VLOOKUP(R2648,'[1]CCG & RG names'!A:B,2,0)","v":"NHS Oxfordshire CCG"},"V005536","The Windmill Orthodontic Centre, The Old Bank House, 95 London Road, Headington, OXFORD, OX3 9AE","OX3 9AE","OX3 "]
[null,null,null,null,null,null,null,null,null,null,null,null,null,null,null,"QU9",{"$f":"VLOOKUP(P2651,'[1]CCG & RG names'!D:E,2,0)","v":"Buckinghamshire, Oxfordshire and Berkshire West STP"},"10Q",{"$f":"VLOOKUP(R2651,'[1]CCG & RG names'!A:B,2,0)","v":"NHS Oxfordshire CCG"},"V005541","Oasis Dental Care, 22 Beaumont Street, OXFORD, Oxfordshire, OX1 2NA","OX1 2NA","OX1 "]
[null,null,null,null,null,null,null,null,null,null,null,null,null,null,null,"QU9",{"$f":"VLOOKUP(P2658,'[1]CCG & RG names'!D:E,2,0)","v":"Buckinghamshire, Oxfordshire and Berkshire West STP"},"10Q",{"$f":"VLOOKUP(R2658,'[1]CCG & RG names'!A:B,2,0)","v":"NHS Oxfordshire CCG"},"V005568","Dental Surgery, 54A - 55A Between Towns Road, OXFORD, Oxfordshire, OX4 3LR","OX4 3LR","OX4 "]
[null,null,null,null,null,null,null,null,null,null,null,null,null,null,null,"QU9",{"$f":"VLOOKUP(P2662,'[1]CCG & RG names'!D:E,2,0)","v":"Buckinghamshire, Oxfordshire and Berkshire West STP"},"10Q",{"$f":"VLOOKUP(R2662,'[1]CCG & RG names'!A:B,2,0)","v":"NHS Oxfordshire CCG"},"V005680","Dental Surgery, Blandy House, 29 Hart Street, HENLEY ON THAMES, Oxfordshire, RG9 2AR","RG9 2AR","RG9 "]
[null,null,null,null,null,null,null,null,null,null,null,null,null,null,null,"QU9",{"$f":"VLOOKUP(P2669,'[1]CCG & RG names'!D:E,2,0)","v":"Buckinghamshire, Oxfordshire and Berkshire West STP"},"10Q",{"$f":"VLOOKUP(R2669,'[1]CCG & RG names'!A:B,2,0)","v":"NHS Oxfordshire CCG"},"V005688","Courtrai House Dental Surgery, 84 Reading Road, HENLEY ON THAMES, Oxfordshire, RG9 1DA","RG9 1DA","RG9 "]
[null,null,null,null,null,null,null,null,null,null,null,null,null,null,null,"QU9",{"$f":"VLOOKUP(P2676,'[1]CCG & RG names'!D:E,2,0)","v":"Buckinghamshire, Oxfordshire and Berkshire West STP"},"10Q",{"$f":"VLOOKUP(R2676,'[1]CCG & RG names'!A:B,2,0)","v":"NHS Oxfordshire CCG"},"V005701","Gloucester House Dental Surgery, 8 Gloucester Street, FARINGDON, Oxfordshire, SN7 7HY","SN7 7HY","SN7 "]
[null,null,null,null,null,null,null,null,null,null,null,null,null,null,null,"QU9",{"$f":"VLOOKUP(P2680,'[1]CCG & RG names'!D:E,2,0)","v":"Buckinghamshire, Oxfordshire and Berkshire West STP"},"10Q",{"$f":"VLOOKUP(R2680,'[1]CCG & RG names'!A:B,2,0)","v":"NHS Oxfordshire CCG"},"V005706","Dental Surgery, 102 High Street, WITNEY, Oxfordshire, OX28 6HT","OX28 6HT","OX28"]
[null,null,null,null,null,null,null,null,null,null,null,null,null,null,null,"QU9",{"$f":"VLOOKUP(P2687,'[1]CCG & RG names'!D:E,2,0)","v":"Buckinghamshire, Oxfordshire and Berkshire West STP"},"10Q",{"$f":"VLOOKUP(R2687,'[1]CCG & RG names'!A:B,2,0)","v":"NHS Oxfordshire CCG"},"V005720","Burford Road Dental, 50 Burford Road, CARTERTON, Oxfordshire, OX18 3AD","OX18 3AD","OX18"]
[null,null,null,null,null,null,null,null,null,null,null,null,null,null,null,"QU9",{"$f":"VLOOKUP(P2694,'[1]CCG & RG names'!D:E,2,0)","v":"Buckinghamshire, Oxfordshire and Berkshire West STP"},"10Q",{"$f":"VLOOKUP(R2694,'[1]CCG & RG names'!A:B,2,0)","v":"NHS Oxfordshire CCG"},"V006264","Bicester Health Centre, Coker Close, BICESTER, Oxfordshire, OX26 6AT","OX26 6AT","OX26"]
[null,null,null,null,null,null,null,null,null,null,null,null,null,null,null,"QU9",{"$f":"VLOOKUP(P2697,'[1]CCG & RG names'!D:E,2,0)","v":"Buckinghamshire, Oxfordshire and Berkshire West STP"},"10Q",{"$f":"VLOOKUP(R2697,'[1]CCG & RG names'!A:B,2,0)","v":"NHS Oxfordshire CCG"},"V006268","Dental Surgery, 98 Sheep Street, BICESTER, Oxfordshire, OX26 6LP","OX26 6LP","OX26"]
[null,null,null,null,null,null,null,null,null,null,null,null,null,null,null,"QU9",{"$f":"VLOOKUP(P2705,'[1]CCG & RG names'!D:E,2,0)","v":"Buckinghamshire, Oxfordshire and Berkshire West STP"},"10Q",{"$f":"VLOOKUP(R2705,'[1]CCG & RG names'!A:B,2,0)","v":"NHS Oxfordshire CCG"},"V007821","7 Manor Buildings, Osler Road, Headington, Oxford, OX3 7RB","OX3 7RB","OX3 "]
[null,null,null,null,null,null,null,null,null,null,null,null,null,null,null,"QU9",{"$f":"VLOOKUP(P2706,'[1]CCG & RG names'!D:E,2,0)","v":"Buckinghamshire, Oxfordshire and Berkshire West STP"},"10Q",{"$f":"VLOOKUP(R2706,'[1]CCG & RG names'!A:B,2,0)","v":"NHS Oxfordshire CCG"},"V007823","Studental, Oxford Brookes University, Gipsy Lane, Headington, Oxford, OX3 0BP","OX3 0BP","OX3 "]
[null,null,null,null,null,null,null,null,null,null,null,null,null,null,null,"QU9",{"$f":"VLOOKUP(P2715,'[1]CCG & RG names'!D:E,2,0)","v":"Buckinghamshire, Oxfordshire and Berkshire West STP"},"10Q",{"$f":"VLOOKUP(R2715,'[1]CCG & RG names'!A:B,2,0)","v":"NHS Oxfordshire CCG"},"V011199","The East Oxford Health Centre, 1 Manzil Way, OXFORD, Oxfordshire, OX4 1XD","OX4 1XD","OX4 "]
[null,null,null,null,null,null,null,null,null,null,null,null,null,null,null,"QU9",{"$f":"VLOOKUP(P2722,'[1]CCG & RG names'!D:E,2,0)","v":"Buckinghamshire, Oxfordshire and Berkshire West STP"},"10Q",{"$f":"VLOOKUP(R2722,'[1]CCG & RG names'!A:B,2,0)","v":"NHS Oxfordshire CCG"},"V013323","14 High Street, Benson, WALLINGFORD, Oxfordshire, OX10 6RP","OX10 6RP","OX10"]
[null,null,null,null,null,null,null,null,null,null,null,null,null,null,null,"QU9",{"$f":"VLOOKUP(P2724,'[1]CCG & RG names'!D:E,2,0)","v":"Buckinghamshire, Oxfordshire and Berkshire West STP"},"10Q",{"$f":"VLOOKUP(R2724,'[1]CCG & RG names'!A:B,2,0)","v":"NHS Oxfordshire CCG"},"V014237","Dental Department, HMP Huntercombe, Huntercombe Place, Nuffield, Henley On Thames, Oxfordshire, RG9 5SB","RG9 5SB","RG9 "]
[null,null,null,null,null,null,null,null,null,null,null,null,null,null,null,"QU9",{"$f":"VLOOKUP(P2733,'[1]CCG & RG names'!D:E,2,0)","v":"Buckinghamshire, Oxfordshire and Berkshire West STP"},"10Q",{"$f":"VLOOKUP(R2733,'[1]CCG & RG names'!A:B,2,0)","v":"NHS Oxfordshire CCG"},"V065243","49 The Green, South Bar Street, Banbury, Oxfordshire, OX16 9AB","OX16 9AB","OX16"]
[null,null,null,null,null,null,null,null,null,null,null,null,null,null,null,"QU9",{"$f":"VLOOKUP(P2740,'[1]CCG & RG names'!D:E,2,0)","v":"Buckinghamshire, Oxfordshire and Berkshire West STP"},"14Y",{"$f":"VLOOKUP(R2740,'[1]CCG & RG names'!A:B,2,0)","v":"NHS Buckinghamshire CCG"},"V000313","Eastgate Dental Centre, Eastgate House, 46 Wedgewood Street, Aylesbury, Buckinghamshire, HP19 7HL","HP19 7HL","HP19"]
[null,null,null,null,null,null,null,null,null,null,null,null,null,null,null,"QU9",{"$f":"VLOOKUP(P2743,'[1]CCG & RG names'!D:E,2,0)","v":"Buckinghamshire, Oxfordshire and Berkshire West STP"},"14Y",{"$f":"VLOOKUP(R2743,'[1]CCG & RG names'!A:B,2,0)","v":"NHS Buckinghamshire CCG"},"V000318","Watermead Dental Centre, Lakeside, AYLESBURY, Buckinghamshire, HP19 0FX","HP19 0FX","HP19"]
[null,null,null,null,null,null,null,null,null,null,null,null,null,null,null,"QU9",{"$f":"VLOOKUP(P2749,'[1]CCG & RG names'!D:E,2,0)","v":"Buckinghamshire, Oxfordshire and Berkshire West STP"},"14Y",{"$f":"VLOOKUP(R2749,'[1]CCG & RG names'!A:B,2,0)","v":"NHS Buckinghamshire CCG"},"V000327","Dental Surgery, 1B Meadow Walk, BUCKINGHAM, Buckinghamshire, MK18 1RS","MK18 1RS","MK18"]
[null,null,null,null,null,null,null,null,null,null,null,null,null,null,null,"QU9",{"$f":"VLOOKUP(P2752,'[1]CCG & RG names'!D:E,2,0)","v":"Buckinghamshire, Oxfordshire and Berkshire West STP"},"14Y",{"$f":"VLOOKUP(R2752,'[1]CCG & RG names'!A:B,2,0)","v":"NHS Buckinghamshire CCG"},"V000426","The Hazlemere Dental Practice, 1 Holmer Green Road, Hazlemere, HIGH WYCOMBE, Buckinghamshire, HP15 7BB","HP15 7BB","HP15"]
[null,null,null,null,null,null,null,null,null,null,null,null,null,null,null,"QU9",{"$f":"VLOOKUP(P2761,'[1]CCG & RG names'!D:E,2,0)","v":"Buckinghamshire, Oxfordshire and Berkshire West STP"},"14Y",{"$f":"VLOOKUP(R2761,'[1]CCG & RG names'!A:B,2,0)","v":"NHS Buckinghamshire CCG"},"V000451","Crendon Dental Centre, 7A Crendon Street, HIGH WYCOMBE, Buckinghamshire, HP13 6LE","HP13 6LE","HP13"]
[null,null,null,null,null,null,null,null,null,null,null,null,null,null,null,"QU9",{"$f":"VLOOKUP(P2768,'[1]CCG & RG names'!D:E,2,0)","v":"Buckinghamshire, Oxfordshire and Berkshire West STP"},"14Y",{"$f":"VLOOKUP(R2768,'[1]CCG & RG names'!A:B,2,0)","v":"NHS Buckinghamshire CCG"},"V000740","146 Station Road, AMERSHAM, Buckinghamshire, HP6 5DW","HP6 5DW","HP6 "]
[null,null,null,null,null,null,null,null,null,null,null,null,null,null,null,"QU9",{"$f":"VLOOKUP(P2773,'[1]CCG & RG names'!D:E,2,0)","v":"Buckinghamshire, Oxfordshire and Berkshire West STP"},"14Y",{"$f":"VLOOKUP(R2773,'[1]CCG & RG names'!A:B,2,0)","v":"NHS Buckinghamshire CCG"},"V000748","The Dental Surgery, 43 - 45 High Street, Burnham, SLOUGH, Berkshire, SL1 7JD","SL1 7JD","SL1 "]
[null,null,null,null,null,null,null,null,null,null,null,null,null,null,null,"QU9",{"$f":"VLOOKUP(P2777,'[1]CCG & RG names'!D:E,2,0)","v":"Buckinghamshire, Oxfordshire and Berkshire West STP"},"14Y",{"$f":"VLOOKUP(R2777,'[1]CCG & RG names'!A:B,2,0)","v":"NHS Buckinghamshire CCG"},"V000753","Dental Surgery, 15 Lower Road, Chalfont St Peter, GERRARDS CROSS, Buckinghamshire, SL9 9AL","SL9 9AL","SL9 "]
[null,null,null,null,null,null,null,null,null,null,null,null,null,null,null,"QU9",{"$f":"VLOOKUP(P2786,'[1]CCG & RG names'!D:E,2,0)","v":"Buckinghamshire, Oxfordshire and Berkshire West STP"},"14Y",{"$f":"VLOOKUP(R2786,'[1]CCG & RG names'!A:B,2,0)","v":"NHS Buckinghamshire CCG"},"V000800","Dental Surgery, 202 White Lion Road, AMERSHAM, Buckinghamshire, HP7 9NU","HP7 9NU","HP7 "]
[null,null,null,null,null,null,null,null,null,null,null,null,null,null,null,"QU9",{"$f":"VLOOKUP(P2789,'[1]CCG & RG names'!D:E,2,0)","v":"Buckinghamshire, Oxfordshire and Berkshire West STP"},"14Y",{"$f":"VLOOKUP(R2789,'[1]CCG & RG names'!A:B,2,0)","v":"NHS Buckinghamshire CCG"},"V003173","First Floor, Prestwood Centre, 99 High Street, Prestwood, Buckinghamshire, HP16 9EU","HP16 9EU","HP16"]
[null,null,null,null,null,null,null,null,null,null,null,null,null,null,null,"QU9",{"$f":"VLOOKUP(P2793,'[1]CCG & RG names'!D:E,2,0)","v":"Buckinghamshire, Oxfordshire and Berkshire West STP"},"14Y",{"$f":"VLOOKUP(R2793,'[1]CCG & RG names'!A:B,2,0)","v":"NHS Buckinghamshire CCG"},"V010776","Chesham Dental Care, 14 Red Lion Street, CHESHAM, Bucks, HP5 1HB","HP5 1HB","HP5 "]
[null,null,null,null,null,null,null,null,null,null,null,null,null,null,null,"QU9",{"$f":"VLOOKUP(P2798,'[1]CCG & RG names'!D:E,2,0)","v":"Buckinghamshire, Oxfordshire and Berkshire West STP"},"14Y",{"$f":"VLOOKUP(R2798,'[1]CCG & RG names'!A:B,2,0)","v":"NHS Buckinghamshire CCG"},"V012762","Beaconsfield Dental Practice, 5 Ledborough Lane, BEACONSFIELD, Buckinghamshire, HP9 2PZ","HP9 2PZ","HP9 "]
[null,null,null,null,null,null,null,null,null,null,null,null,null,null,null,"QU9",{"$f":"VLOOKUP(P2807,'[1]CCG & RG names'!D:E,2,0)","v":"Buckinghamshire, Oxfordshire and Berkshire West STP"},"14Y",{"$f":"VLOOKUP(R2807,'[1]CCG & RG names'!A:B,2,0)","v":"NHS Buckinghamshire CCG"},"V013898","Sands House Dental Practice, 43 Mill End Road, Sands, High Wycombe, Buckinghamshire, HP12 4JN","HP12 4JN","HP12"]
[null,null,null,null,null,null,null,null,null,null,null,null,null,null,null,"QU9",{"$f":"VLOOKUP(P2814,'[1]CCG & RG names'!D:E,2,0)","v":"Buckinghamshire, Oxfordshire and Berkshire West STP"},"14Y",{"$f":"VLOOKUP(R2814,'[1]CCG & RG names'!A:B,2,0)","v":"NHS Buckinghamshire CCG"},"V061641","191 DESBOROUGH AVENUE, HIGH WYCOMBE, HP11 2ST","HP11 2ST","HP11"]
[null,null,null,null,null,null,null,null,null,null,null,null,null,null,null,"QU9",{"$f":"VLOOKUP(P2817,'[1]CCG & RG names'!D:E,2,0)","v":"Buckinghamshire, Oxfordshire and Berkshire West STP"},"15A",{"$f":"VLOOKUP(R2817,'[1]CCG & RG names'!A:B,2,0)","v":"NHS Berkshire West CCG"},"V000054","Community Dental Clinic, W Berkshire Community Hospital, Benham Hill, London Road, Thatcham, Berkshire, RG18 3AS","RG18 3AS","RG18"]
[null,null,null,null,null,null,null,null,null,null,null,null,null,null,null,"QU9",{"$f":"VLOOKUP(P2823,'[1]CCG & RG names'!D:E,2,0)","v":"Buckinghamshire, Oxfordshire and Berkshire West STP"},"15A",{"$f":"VLOOKUP(R2823,'[1]CCG & RG names'!A:B,2,0)","v":"NHS Berkshire West CCG"},"V003714","Dentalign Orthodontics LLP, 31 Wiltshire Road, WOKINGHAM, RG40 1TS","RG40 1TS","RG40"]
[null,null,null,null,null,null,null,null,null,null,null,null,null,null,null,"QU9",{"$f":"VLOOKUP(P2832,'[1]CCG & RG names'!D:E,2,0)","v":"Buckinghamshire, Oxfordshire and Berkshire West STP"},"15A",{"$f":"VLOOKUP(R2832,'[1]CCG & RG names'!A:B,2,0)","v":"NHS Berkshire West CCG"},"V004242","Halford House Dental Surgery, West Street, NEWBURY, Berkshire, RG14 1BE","RG14 1BE","RG14"]
[null,null,null,null,null,null,null,null,null,null,null,null,null,null,null,"QU9",{"$f":"VLOOKUP(P2835,'[1]CCG & RG names'!D:E,2,0)","v":"Buckinghamshire, Oxfordshire and Berkshire West STP"},"15A",{"$f":"VLOOKUP(R2835,'[1]CCG & RG names'!A:B,2,0)","v":"NHS Berkshire West CCG"},"V004319","Dental Surgery, 96 High Street, HUNGERFORD, Berkshire, RG17 0NB","RG17 0NB","RG17"]
[null,null,null,null,null,null,null,null,null,null,null,null,null,null,null,"QU9",{"$f":"VLOOKUP(P2842,'[1]CCG & RG names'!D:E,2,0)","v":"Buckinghamshire, Oxfordshire and Berkshire West STP"},"15A",{"$f":"VLOOKUP(R2842,'[1]CCG & RG names'!A:B,2,0)","v":"NHS Berkshire West CCG"},"V005642","Friar Street Dental Surgery, 15 Friar Street, READING, Berkshire, RG1 1DB","RG1 1DB","RG1 "]
[null,null,null,null,null,null,null,null,null,null,null,null,null,null,null,"QU9",{"$f":"VLOOKUP(P2844,'[1]CCG & RG names'!D:E,2,0)","v":"Buckinghamshire, Oxfordshire and Berkshire West STP"},"15A",{"$f":"VLOOKUP(R2844,'[1]CCG & RG names'!A:B,2,0)","v":"NHS Berkshire West CCG"},"V005648","Kendrick View Dental Practice, 39 London Road, READING, Berkshire, RG1 5BL","RG1 5BL","RG1 "]
[null,null,null,null,null,null,null,null,null,null,null,null,null,null,null,"QU9",{"$f":"VLOOKUP(P2853,'[1]CCG & RG names'!D:E,2,0)","v":"Buckinghamshire, Oxfordshire and Berkshire West STP"},"15A",{"$f":"VLOOKUP(R2853,'[1]CCG & RG names'!A:B,2,0)","v":"NHS Berkshire West CCG"},"V005673","Dental Surgery, 221 Shinfield Road, READING, Berkshire, RG2 8HA","RG2 8HA","RG2 "]
[null,null,null,null,null,null,null,null,null,null,null,null,null,null,null,"QU9",{"$f":"VLOOKUP(P2860,'[1]CCG & RG names'!D:E,2,0)","v":"Buckinghamshire, Oxfordshire and Berkshire West STP"},"15A",{"$f":"VLOOKUP(R2860,'[1]CCG & RG names'!A:B,2,0)","v":"NHS Berkshire West CCG"},"V011424","Community Dental Clinic, Tilehurst Health Clinic, Corwen Road, Tilehurst, READING, RG30 4SH","RG30 4SH","RG30"]
[null,null,null,null,null,null,null,null,null,null,null,null,null,null,null,"QU9",{"$f":"VLOOKUP(P2866,'[1]CCG & RG names'!D:E,2,0)","v":"Buckinghamshire, Oxfordshire and Berkshire West STP"},"15A",{"$f":"VLOOKUP(R2866,'[1]CCG & RG names'!A:B,2,0)","v":"NHS Berkshire West CCG"},"V012647","Shinfield Dental Centre, School Green, Shinfield, Reading, RG2 9EH","RG2 9EH","RG2 "]
[null,null,null,null,null,null,null,null,null,null,null,null,null,null,null,"QU9",{"$f":"VLOOKUP(P2869,'[1]CCG & RG names'!D:E,2,0)","v":"Buckinghamshire, Oxfordshire and Berkshire West STP"},"15A",{"$f":"VLOOKUP(R2869,'[1]CCG & RG names'!A:B,2,0)","v":"NHS Berkshire West CCG"},"V015042","The Tooth Booth, 422B Finchampstead Road, Finchampstead, WOKINGHAM, Berkshire, RG40 3RB","RG40 3RB","RG40"]
[null,null,null,null,null,null,null,null,null,null,null,null,null,null,null,"QXU",{"$f":"VLOOKUP(P2878,'[1]CCG & RG names'!D:E,2,0)","v":"Surrey Heartlands Health & Care Partnership (STP)"},"92A",{"$f":"VLOOKUP(R2878,'[1]CCG & RG names'!A:B,2,0)","v":"NHS Surrey Heartlands CCG"},"V002020","Firs Dental Surgery, Challis House, 85 High Street, CATERHAM, Surrey, CR3 5UH","CR3 5UH","CR3 "]
[null,null,null,null,null,null,null,null,null,null,null,null,null,null,null,"QXU",{"$f":"VLOOKUP(P2881,'[1]CCG & RG names'!D:E,2,0)","v":"Surrey Heartlands Health & Care Partnership (STP)"},"92A",{"$f":"VLOOKUP(R2881,'[1]CCG & RG names'!A:B,2,0)","v":"NHS Surrey Heartlands CCG"},"V002026","IDH Caterham, 64 Croydon Road, CATERHAM, Surrey, CR3 6QB","CR3 6QB","CR3 "]
[null,null,null,null,null,null,null,null,null,null,null,null,null,null,null,"QXU",{"$f":"VLOOKUP(P2886,'[1]CCG & RG names'!D:E,2,0)","v":"Surrey Heartlands Health & Care Partnership (STP)"},"92A",{"$f":"VLOOKUP(R2886,'[1]CCG & RG names'!A:B,2,0)","v":"NHS Surrey Heartlands CCG"},"V002032","Dental Surgery, 98 Victoria Road, HORLEY, Surrey, RH6 7AB","RH6 7AB","RH6 "]
[null,null,null,null,null,null,null,null,null,null,null,null,null,null,null,"QXU",{"$f":"VLOOKUP(P2890,'[1]CCG & RG names'!D:E,2,0)","v":"Surrey Heartlands Health & Care Partnership (STP)"},"92A",{"$f":"VLOOKUP(R2890,'[1]CCG & RG names'!A:B,2,0)","v":"NHS Surrey Heartlands CCG"},"V002039","Dental Surgery, 31 Nutfield Road, Merstham, REDHILL, Surrey, RH1 3EN","RH1 3EN","RH1 "]
[null,null,null,null,null,null,null,null,null,null,null,null,null,null,null,"QXU",{"$f":"VLOOKUP(P2897,'[1]CCG & RG names'!D:E,2,0)","v":"Surrey Heartlands Health & Care Partnership (STP)"},"92A",{"$f":"VLOOKUP(R2897,'[1]CCG & RG names'!A:B,2,0)","v":"NHS Surrey Heartlands CCG"},"V002057","Dental Surgery, 39 - 41 Prices Lane, REIGATE, Surrey, RH2 8BA","RH2 8BA","RH2 "]
[null,null,null,null,null,null,null,null,null,null,null,null,null,null,null,"QXU",{"$f":"VLOOKUP(P2906,'[1]CCG & RG names'!D:E,2,0)","v":"Surrey Heartlands Health & Care Partnership (STP)"},"92A",{"$f":"VLOOKUP(R2906,'[1]CCG & RG names'!A:B,2,0)","v":"NHS Surrey Heartlands CCG"},"V002146","Crown House Dental Practice, 4 Grange Road, EGHAM, Surrey, TW20 9QW","TW20 9QW","TW20"]
[null,null,null,null,null,null,null,null,null,null,null,null,null,null,null,"QXU",{"$f":"VLOOKUP(P2910,'[1]CCG & RG names'!D:E,2,0)","v":"Surrey Heartlands Health & Care Partnership (STP)"},"92A",{"$f":"VLOOKUP(R2910,'[1]CCG & RG names'!A:B,2,0)","v":"NHS Surrey Heartlands CCG"},"V002192","Fairfield Dental Surgery, 10 Station Path, STAINES, Middlesex, TW18 4LW","TW18 4LW","TW18"]
[null,null,null,null,null,null,null,null,null,null,null,null,null,null,null,"QXU",{"$f":"VLOOKUP(P2915,'[1]CCG & RG names'!D:E,2,0)","v":"Surrey Heartlands Health & Care Partnership (STP)"},"92A",{"$f":"VLOOKUP(R2915,'[1]CCG & RG names'!A:B,2,0)","v":"NHS Surrey Heartlands CCG"},"V002204","Dental Surgery, Ground Floor, 19 Ashley Road, WALTON ON THAMES, Surrey, KT12 1JB","KT12 1JB","KT12"]
[null,null,null,null,null,null,null,null,null,null,null,null,null,null,null,"QXU",{"$f":"VLOOKUP(P2924,'[1]CCG & RG names'!D:E,2,0)","v":"Surrey Heartlands Health & Care Partnership (STP)"},"92A",{"$f":"VLOOKUP(R2924,'[1]CCG & RG names'!A:B,2,0)","v":"NHS Surrey Heartlands CCG"},"V002262","Dental Surgery, 4 Scotland Bridge Road, New Haw, ADDLESTONE, Surrey, KT15 3HD","KT15 3HD","KT15"]
[null,null,null,null,null,null,null,null,null,null,null,null,null,null,null,"QXU",{"$f":"VLOOKUP(P2928,'[1]CCG & RG names'!D:E,2,0)","v":"Surrey Heartlands Health & Care Partnership (STP)"},"92A",{"$f":"VLOOKUP(R2928,'[1]CCG & RG names'!A:B,2,0)","v":"NHS Surrey Heartlands CCG"},"V002282","Goldsworth Road Dental Centre, 96 Goldsworth Road, WOKING, Surrey, GU21 6LN","GU21 6LN","GU21"]
[null,null,null,null,null,null,null,null,null,null,null,null,null,null,null,"QXU",{"$f":"VLOOKUP(P2933,'[1]CCG & RG names'!D:E,2,0)","v":"Surrey Heartlands Health & Care Partnership (STP)"},"92A",{"$f":"VLOOKUP(R2933,'[1]CCG & RG names'!A:B,2,0)","v":"NHS Surrey Heartlands CCG"},"V002397","Katoomba Dental Practice, 19 Russells Crescent, HORLEY, Surrey, RH6 7DJ","RH6 7DJ","RH6 "]
[null,null,null,null,null,null,null,null,null,null,null,null,null,null,null,"QXU",{"$f":"VLOOKUP(P2936,'[1]CCG & RG names'!D:E,2,0)","v":"Surrey Heartlands Health & Care Partnership (STP)"},"92A",{"$f":"VLOOKUP(R2936,'[1]CCG & RG names'!A:B,2,0)","v":"NHS Surrey Heartlands CCG"},"V002603","Dental Surgery, 66 Brighton Road, BANSTEAD, Surrey, SM7 1BT","SM7 1BT","SM7 "]
[null,null,null,null,null,null,null,null,null,null,null,null,null,null,null,"QXU",{"$f":"VLOOKUP(P2943,'[1]CCG & RG names'!D:E,2,0)","v":"Surrey Heartlands Health & Care Partnership (STP)"},"92A",{"$f":"VLOOKUP(R2943,'[1]CCG & RG names'!A:B,2,0)","v":"NHS Surrey Heartlands CCG"},"V002858","Arundel Lodge Dental Surgery, 20 21 Howard Road, DORKING, Surrey, RH4 3HR","RH4 3HR","RH4 "]
[null,null,null,null,null,null,null,null,null,null,null,null,null,null,null,"QXU",{"$f":"VLOOKUP(P2948,'[1]CCG & RG names'!D:E,2,0)","v":"Surrey Heartlands Health & Care Partnership (STP)"},"92A",{"$f":"VLOOKUP(R2948,'[1]CCG & RG names'!A:B,2,0)","v":"NHS Surrey Heartlands CCG"},"V002869","Bright Smile Dental Care (E), 76 East Street, EPSOM, Surrey, KT17 1HF","KT17 1HF","KT17"]
[null,null,null,null,null,null,null,null,null,null,null,null,null,null,null,"QXU",{"$f":"VLOOKUP(P2954,'[1]CCG & RG names'!D:E,2,0)","v":"Surrey Heartlands Health & Care Partnership (STP)"},"92A",{"$f":"VLOOKUP(R2954,'[1]CCG & RG names'!A:B,2,0)","v":"NHS Surrey Heartlands CCG"},"V002899","Harland And Dear Dental Surgeons, 2 Newbury Gardens, Stoneleigh, Surrey, KT19 0PG","KT19 0PG","KT19"]
[null,null,null,null,null,null,null,null,null,null,null,null,null,null,null,"QXU",{"$f":"VLOOKUP(P2961,'[1]CCG & RG names'!D:E,2,0)","v":"Surrey Heartlands Health & Care Partnership (STP)"},"92A",{"$f":"VLOOKUP(R2961,'[1]CCG & RG names'!A:B,2,0)","v":"NHS Surrey Heartlands CCG"},"V004713","Lakeside Dental Practice, 1 Shackstead Lane, GODALMING, Surrey, GU7 1RL","GU7 1RL","GU7 "]
[null,null,null,null,null,null,null,null,null,null,null,null,null,null,null,"QXU",{"$f":"VLOOKUP(P2970,'[1]CCG & RG names'!D:E,2,0)","v":"Surrey Heartlands Health & Care Partnership (STP)"},"92A",{"$f":"VLOOKUP(R2970,'[1]CCG & RG names'!A:B,2,0)","v":"NHS Surrey Heartlands CCG"},"V004722","Dental Surgery, 17 Aldershot Road, GUILDFORD, Surrey, GU2 8AE","GU2 8AE","GU2 "]
[null,null,null,null,null,null,null,null,null,null,null,null,null,null,null,"QXU",{"$f":"VLOOKUP(P2973,'[1]CCG & RG names'!D:E,2,0)","v":"Surrey Heartlands Health & Care Partnership (STP)"},"92A",{"$f":"VLOOKUP(R2973,'[1]CCG & RG names'!A:B,2,0)","v":"NHS Surrey Heartlands CCG"},"V004726","Dental Practice, 17 London Road, GUILDFORD, Surrey, GU1 2AA","GU1 2AA","GU1 "]
[null,null,null,null,null,null,null,null,null,null,null,null,null,null,null,"QXU",{"$f":"VLOOKUP(P2979,'[1]CCG & RG names'!D:E,2,0)","v":"Surrey Heartlands Health & Care Partnership (STP)"},"92A",{"$f":"VLOOKUP(R2979,'[1]CCG & RG names'!A:B,2,0)","v":"NHS Surrey Heartlands CCG"},"V004742","Hurst Farm Dental Practice, Chapel Lane, Milford, GODALMING, Surrey, GU8 5HU","GU8 5HU","GU8 "]
[null,null,null,null,null,null,null,null,null,null,null,null,null,null,null,"QXU",{"$f":"VLOOKUP(P2982,'[1]CCG & RG names'!D:E,2,0)","v":"Surrey Heartlands Health & Care Partnership (STP)"},"92A",{"$f":"VLOOKUP(R2982,'[1]CCG & RG names'!A:B,2,0)","v":"NHS Surrey Heartlands CCG"},"V004747","Dental Surgery, Roke Lane, Witley, GODALMING, Surrey, GU8 5NA","GU8 5NA","GU8 "]
[null,null,null,null,null,null,null,null,null,null,null,null,null,null,null,"QXU",{"$f":"VLOOKUP(P2989,'[1]CCG & RG names'!D:E,2,0)","v":"Surrey Heartlands Health & Care Partnership (STP)"},"92A",{"$f":"VLOOKUP(R2989,'[1]CCG & RG names'!A:B,2,0)","v":"NHS Surrey Heartlands CCG"},"V009060","Special Needs Dental Clinic, Buryfields Clinic, Lawn Road, GUILDFORD, GU2 4AX","GU2 4AX","GU2 "]
[null,null,null,null,null,null,null,null,null,null,null,null,null,null,null,"QXU",{"$f":"VLOOKUP(P2997,'[1]CCG & RG names'!D:E,2,0)","v":"Surrey Heartlands Health & Care Partnership (STP)"},"92A",{"$f":"VLOOKUP(R2997,'[1]CCG & RG names'!A:B,2,0)","v":"NHS Surrey Heartlands CCG"},"V009425","Epsom Health Clinic, Church Street, EPSOM, Surrey, KT17 4PH","KT17 4PH","KT17"]
[null,null,null,null,null,null,null,null,null,null,null,null,null,null,null,"QXU",{"$f":"VLOOKUP(P3000,'[1]CCG & RG names'!D:E,2,0)","v":"Surrey Heartlands Health & Care Partnership (STP)"},"92A",{"$f":"VLOOKUP(R3000,'[1]CCG & RG names'!A:B,2,0)","v":"NHS Surrey Heartlands CCG"},"V009849","Old Court House Dental Practice, 277 High Street, DORKING, Surrey, RH4 1RY","RH4 1RY","RH4 "]
[null,null,null,null,null,null,null,null,null,null,null,null,null,null,null,"QXU",{"$f":"VLOOKUP(P3007,'[1]CCG & RG names'!D:E,2,0)","v":"Surrey Heartlands Health & Care Partnership (STP)"},"92A",{"$f":"VLOOKUP(R3007,'[1]CCG & RG names'!A:B,2,0)","v":"NHS Surrey Heartlands CCG"},"V011712","Mews Dental Clinic, Station Road, Godalming, Surrey, GU7 1JE","GU7 1JE","GU7 "]
[null,null,null,null,null,null,null,null,null,null,null,null,null,null,null,"QXU",{"$f":"VLOOKUP(P3016,'[1]CCG & RG names'!D:E,2,0)","v":"Surrey Heartlands Health & Care Partnership (STP)"},"92A",{"$f":"VLOOKUP(R3016,'[1]CCG & RG names'!A:B,2,0)","v":"NHS Surrey Heartlands CCG"},"V012784","Burpham Dental Care, 1 New Inn Lane, GUILDFORD, Surrey, GU4 7HN","GU4 7HN","GU4 "]
[null,null,null,null,null,null,null,null,null,null,null,null,null,null,null,"QXU",{"$f":"VLOOKUP(P3017,'[1]CCG & RG names'!D:E,2,0)","v":"Surrey Heartlands Health & Care Partnership (STP)"},"92A",{"$f":"VLOOKUP(R3017,'[1]CCG & RG names'!A:B,2,0)","v":"NHS Surrey Heartlands CCG"},"V012963","1 Church Street, EPSOM, Surrey, KT17 4PF","KT17 4PF","KT17"]
[null,null,null,null,null,null,null,null,null,null,null,null,null,null,null,"QXU",{"$f":"VLOOKUP(P3025,'[1]CCG & RG names'!D:E,2,0)","v":"Surrey Heartlands Health & Care Partnership (STP)"},"92A",{"$f":"VLOOKUP(R3025,'[1]CCG & RG names'!A:B,2,0)","v":"NHS Surrey Heartlands CCG"},"V016881","HINDHEAD DENTAL CLINIC, TILFORD ROAD, HINDHEAD, SURREY, GU26 6TD","GU26 6TD","GU26"]
[null,null,null,null,null,null,null,null,null,null,null,null,null,null,null,"QXU",{"$f":"VLOOKUP(P3028,'[1]CCG & RG names'!D:E,2,0)","v":"Surrey Heartlands Health & Care Partnership (STP)"},"92A",{"$f":"VLOOKUP(R3028,'[1]CCG & RG names'!A:B,2,0)","v":"NHS Surrey Heartlands CCG"},"V024375","99 Goldsworth Road, Woking, Surrey, GU21 6LJ","GU21 6LJ","GU21"]
[null,null,null,null,null,null,null,null,null,null,null,null,null,null,null,"QXU",{"$f":"VLOOKUP(P3035,'[1]CCG & RG names'!D:E,2,0)","v":"Surrey Heartlands Health & Care Partnership (STP)"},"92A",{"$f":"VLOOKUP(R3035,'[1]CCG & RG names'!A:B,2,0)","v":"NHS Surrey Heartlands CCG"},"V046091","152-154, WALTON ROAD, EAST MOLESEY, KT8 0HP","KT8 0HP","KT8 "]
[null,null,null,null,null,null,null,null,null,null,null,null,null,null,null,"QXU",{"$f":"VLOOKUP(P3041,'[1]CCG & RG names'!D:E,2,0)","v":"Surrey Heartlands Health & Care Partnership (STP)"},"92A",{"$f":"VLOOKUP(R3041,'[1]CCG & RG names'!A:B,2,0)","v":"NHS Surrey Heartlands CCG"},"V064785","GRAPHIC HOUSE 1-3, HERMITAGE ROAD, WOKING, GU21 8TE","GU21 8TE","GU21"]
[null,null,null,null,null,null,null,null,null,null,null,null,null,null,null,"QXU",{"$f":"VLOOKUP(P3046,'[1]CCG & RG names'!D:E,2,0)","v":"Surrey Heartlands Health & Care Partnership (STP)"},"92A",{"$f":"VLOOKUP(R3046,'[1]CCG & RG names'!A:B,2,0)","v":"NHS Surrey Heartlands CCG"},"V260283","4 SCOTLAND BRIDGE ROAD, NEW HAW, ADDLESTONE, KT15 3HD","KT15 3HD","KT15"]
[null,null,null,null,null,null,null,null,null,null,null,null,null,null,null,"QGH",{"$f":"VLOOKUP(P3053,'[1]CCG & RG names'!D:E,2,0)","v":"Herefordshire and Worcestershire STP"},"18C",{"$f":"VLOOKUP(R3053,'[1]CCG & RG names'!A:B,2,0)","v":"NHS Herefordshire and Worcestershire CCG"},"V007063","Church Street Practice, 16 Church Street, LEOMINSTER, Herefordshire, HR6 8NQ","HR6 8NQ","HR6 "]
[null,null,null,null,null,null,null,null,null,null,null,null,null,null,null,"QGH",{"$f":"VLOOKUP(P3062,'[1]CCG & RG names'!D:E,2,0)","v":"Herefordshire and Worcestershire STP"},"18C",{"$f":"VLOOKUP(R3062,'[1]CCG & RG names'!A:B,2,0)","v":"NHS Herefordshire and Worcestershire CCG"},"V007187","Grafton House Dental Surgery, 11 Vine Street, EVESHAM, Worcestershire, WR11 4RE","WR11 4RE","WR11"]
[null,null,null,null,null,null,null,null,null,null,null,null,null,null,null,"QGH",{"$f":"VLOOKUP(P3066,'[1]CCG & RG names'!D:E,2,0)","v":"Herefordshire and Worcestershire STP"},"18C",{"$f":"VLOOKUP(R3066,'[1]CCG & RG names'!A:B,2,0)","v":"NHS Herefordshire and Worcestershire CCG"},"V007321","Pinnacle Orthodontics, 343 Birchfield Road, REDDITCH, Worcestershire, B97 4NE","B97 4NE","B97 "]
[null,null,null,null,null,null,null,null,null,null,null,null,null,null,null,"QGH",{"$f":"VLOOKUP(P3071,'[1]CCG & RG names'!D:E,2,0)","v":"Herefordshire and Worcestershire STP"},"18C",{"$f":"VLOOKUP(R3071,'[1]CCG & RG names'!A:B,2,0)","v":"NHS Herefordshire and Worcestershire CCG"},"V007329","Dental Surgery, 14 Eachway, Rubery, Rednal, BIRMINGHAM, B45 9DQ","B45 9DQ","B45 "]
[null,null,null,null,null,null,null,null,null,null,null,null,null,null,null,"QGH",{"$f":"VLOOKUP(P3074,'[1]CCG & RG names'!D:E,2,0)","v":"Herefordshire and Worcestershire STP"},"18C",{"$f":"VLOOKUP(R3074,'[1]CCG & RG names'!A:B,2,0)","v":"NHS Herefordshire and Worcestershire CCG"},"V007332","Dental Surgery, 15 Chapel Street, BROMSGROVE, Worcestershire, B60 2BQ","B60 2BQ","B60 "]
[null,null,null,null,null,null,null,null,null,null,null,null,null,null,null,"QGH",{"$f":"VLOOKUP(P3081,'[1]CCG & RG names'!D:E,2,0)","v":"Herefordshire and Worcestershire STP"},"18C",{"$f":"VLOOKUP(R3081,'[1]CCG & RG names'!A:B,2,0)","v":"NHS Herefordshire and Worcestershire CCG"},"V007341","11 Tynsall Avenue, REDDITCH, Worcestershire, B97 5SF","B97 5SF","B97 "]
[null,null,null,null,null,null,null,null,null,null,null,null,null,null,null,"QGH",{"$f":"VLOOKUP(P3090,'[1]CCG & RG names'!D:E,2,0)","v":"Herefordshire and Worcestershire STP"},"18C",{"$f":"VLOOKUP(R3090,'[1]CCG & RG names'!A:B,2,0)","v":"NHS Herefordshire and Worcestershire CCG"},"V008001","Dental Surgery, 54 Connaught Avenue, KIDDERMINSTER, Worcestershire, DY11 6LS","DY11 6LS","DY11"]
[null,null,null,null,null,null,null,null,null,null,null,null,null,null,null,"QGH",{"$f":"VLOOKUP(P3096,'[1]CCG & RG names'!D:E,2,0)","v":"Herefordshire and Worcestershire STP"},"18C",{"$f":"VLOOKUP(R3096,'[1]CCG & RG names'!A:B,2,0)","v":"NHS Herefordshire and Worcestershire CCG"},"V008126","Redcliffe Orthodontics, Redcliffe, Battenhall Avenue, WORCESTER, Worcestershire, WR5 2HN","WR5 2HN","WR5 "]
[null,null,null,null,null,null,null,null,null,null,null,null,null,null,null,"QGH",{"$f":"VLOOKUP(P3099,'[1]CCG & RG names'!D:E,2,0)","v":"Herefordshire and Worcestershire STP"},"18C",{"$f":"VLOOKUP(R3099,'[1]CCG & RG names'!A:B,2,0)","v":"NHS Herefordshire and Worcestershire CCG"},"V008173","Dental Surgery, 23 Church Street, KIDDERMINSTER, Worcestershire, DY10 2AW","DY10 2AW","DY10"]
[null,null,null,null,null,null,null,null,null,null,null,null,null,null,null,"QGH",{"$f":"VLOOKUP(P3108,'[1]CCG & RG names'!D:E,2,0)","v":"Herefordshire and Worcestershire STP"},"18C",{"$f":"VLOOKUP(R3108,'[1]CCG & RG names'!A:B,2,0)","v":"NHS Herefordshire and Worcestershire CCG"},"V008942","Evesham Health Centre, Merstow Green, EVESHAM, Worcestershire, WR11 4BS","WR11 4BS","WR11"]
[null,null,null,null,null,null,null,null,null,null,null,null,null,null,null,"QGH",{"$f":"VLOOKUP(P3110,'[1]CCG & RG names'!D:E,2,0)","v":"Herefordshire and Worcestershire STP"},"18C",{"$f":"VLOOKUP(R3110,'[1]CCG & RG names'!A:B,2,0)","v":"NHS Herefordshire and Worcestershire CCG"},"V008956","The Dental Practice, 63 Port Street, EVESHAM, Worcestershire, WR11 3LF","WR11 3LF","WR11"]
[null,null,null,null,null,null,null,null,null,null,null,null,null,null,null,"QGH",{"$f":"VLOOKUP(P3117,'[1]CCG & RG names'!D:E,2,0)","v":"Herefordshire and Worcestershire STP"},"18C",{"$f":"VLOOKUP(R3117,'[1]CCG & RG names'!A:B,2,0)","v":"NHS Herefordshire and Worcestershire CCG"},"V009396","91 Worcester Road, DROITWICH SPA, Worcestershire, WR9 8AQ","WR9 8AQ","WR9 "]
[null,null,null,null,null,null,null,null,null,null,null,null,null,null,null,"QGH",{"$f":"VLOOKUP(P3120,'[1]CCG & RG names'!D:E,2,0)","v":"Herefordshire and Worcestershire STP"},"18C",{"$f":"VLOOKUP(R3120,'[1]CCG & RG names'!A:B,2,0)","v":"NHS Herefordshire and Worcestershire CCG"},"V009456","Princess of Wales Hospital, Comunity Dental Clinic, Stourbridge Road, BROMSGROVE, Worcestershire, B61 0BB","B61 0BB","B61 "]
[null,null,null,null,null,null,null,null,null,null,null,null,null,null,null,"QGH",{"$f":"VLOOKUP(P3127,'[1]CCG & RG names'!D:E,2,0)","v":"Herefordshire and Worcestershire STP"},"18C",{"$f":"VLOOKUP(R3127,'[1]CCG & RG names'!A:B,2,0)","v":"NHS Herefordshire and Worcestershire CCG"},"V010865","Leominster Dental Centre, Dishley Street, Leominster, Herefordshire, HR6 8NY","HR6 8NY","HR6 "]
[null,null,null,null,null,null,null,null,null,null,null,null,null,null,null,"QGH",{"$f":"VLOOKUP(P3134,'[1]CCG & RG names'!D:E,2,0)","v":"Herefordshire and Worcestershire STP"},"18C",{"$f":"VLOOKUP(R3134,'[1]CCG & RG names'!A:B,2,0)","v":"NHS Herefordshire and Worcestershire CCG"},"V016302","62 Friar Street, Droitwich, Worcestershire, WR9 8EF","WR9 8EF","WR9 "]
[null,null,null,null,null,null,null,null,null,null,null,null,null,null,null,"QGH",{"$f":"VLOOKUP(P3142,'[1]CCG & RG names'!D:E,2,0)","v":"Herefordshire and Worcestershire STP"},"18C",{"$f":"VLOOKUP(R3142,'[1]CCG & RG names'!A:B,2,0)","v":"NHS Herefordshire and Worcestershire CCG"},"V195319","26A-26B, MITTON GARDENS, STOURPORT-ON-SEVERN, DY13 9AE","DY13 9AE","DY13"]
[null,null,null,null,null,null,null,null,null,null,null,null,null,null,null,"QHL",{"$f":"VLOOKUP(P3145,'[1]CCG & RG names'!D:E,2,0)","v":"Birmingham and Solihull STP"},"15E",{"$f":"VLOOKUP(R3145,'[1]CCG & RG names'!A:B,2,0)","v":"NHS Birmingham and Solihull CCG"},"V001180","633 - 635 Shirley Road, Hall Green, BIRMINGHAM, West Midlands, B28 9JU","B28 9JU","B28 "]
[null,null,null,null,null,null,null,null,null,null,null,null,null,null,null,"QHL",{"$f":"VLOOKUP(P3154,'[1]CCG & RG names'!D:E,2,0)","v":"Birmingham and Solihull STP"},"15E",{"$f":"VLOOKUP(R3154,'[1]CCG & RG names'!A:B,2,0)","v":"NHS Birmingham and Solihull CCG"},"V001191","Dental Surgery, 58 Bunbury Road, BIRMINGHAM, West Midlands, B31 2DW","B31 2DW","B31 "]
[null,null,null,null,null,null,null,null,null,null,null,null,null,null,null,"QHL",{"$f":"VLOOKUP(P3159,'[1]CCG & RG names'!D:E,2,0)","v":"Birmingham and Solihull STP"},"15E",{"$f":"VLOOKUP(R3159,'[1]CCG & RG names'!A:B,2,0)","v":"NHS Birmingham and Solihull CCG"},"V001196","Orthodontist Surgery, 20 Summer Road, Acocks Green, BIRMINGHAM, West Midlands, B27 7UT","B27 7UT","B27 "]
[null,null,null,null,null,null,null,null,null,null,null,null,null,null,null,"QHL",{"$f":"VLOOKUP(P3163,'[1]CCG & RG names'!D:E,2,0)","v":"Birmingham and Solihull STP"},"15E",{"$f":"VLOOKUP(R3163,'[1]CCG & RG names'!A:B,2,0)","v":"NHS Birmingham and Solihull CCG"},"V001202","Dental Surgery, 145 Bells Lane, BIRMINGHAM, West Midlands, B14 5QJ","B14 5QJ","B14 "]
[null,null,null,null,null,null,null,null,null,null,null,null,null,null,null,"QHL",{"$f":"VLOOKUP(P3170,'[1]CCG & RG names'!D:E,2,0)","v":"Birmingham and Solihull STP"},"15E",{"$f":"VLOOKUP(R3170,'[1]CCG & RG names'!A:B,2,0)","v":"NHS Birmingham and Solihull CCG"},"V001212","Dental Surgery, 990 Bristol Road South, Northfield, BIRMINGHAM, West Midlands, B31 2PE","B31 2PE","B31 "]
[null,null,null,null,null,null,null,null,null,null,null,null,null,null,null,"QHL",{"$f":"VLOOKUP(P3172,'[1]CCG & RG names'!D:E,2,0)","v":"Birmingham and Solihull STP"},"15E",{"$f":"VLOOKUP(R3172,'[1]CCG & RG names'!A:B,2,0)","v":"NHS Birmingham and Solihull CCG"},"V001221","Mydentist, 183 Redditch Road, Kings Norton, BIRMINGHAM, West Midlands, B38 8RH","B38 8RH","B38 "]
[null,null,null,null,null,null,null,null,null,null,null,null,null,null,null,"QHL",{"$f":"VLOOKUP(P3181,'[1]CCG & RG names'!D:E,2,0)","v":"Birmingham and Solihull STP"},"15E",{"$f":"VLOOKUP(R3181,'[1]CCG & RG names'!A:B,2,0)","v":"NHS Birmingham and Solihull CCG"},"V001444","Rooprai-Rooprai & Associates, 68 Northfield Road, Harborne, BIRMINGHAM, West Midlands, B17 0SU","B17 0SU","B17 "]
[null,null,null,null,null,null,null,null,null,null,null,null,null,null,null,"QHL",{"$f":"VLOOKUP(P3188,'[1]CCG & RG names'!D:E,2,0)","v":"Birmingham and Solihull STP"},"15E",{"$f":"VLOOKUP(R3188,'[1]CCG & RG names'!A:B,2,0)","v":"NHS Birmingham and Solihull CCG"},"V001479","17 Jiggins Lane, BIRMINGHAM, West Midlands, B32 3LE","B32 3LE","B32 "]
[null,null,null,null,null,null,null,null,null,null,null,null,null,null,null,"QHL",{"$f":"VLOOKUP(P3191,'[1]CCG & RG names'!D:E,2,0)","v":"Birmingham and Solihull STP"},"15E",{"$f":"VLOOKUP(R3191,'[1]CCG & RG names'!A:B,2,0)","v":"NHS Birmingham and Solihull CCG"},"V002304","Dental Surgery, 22 Manor House Lane, BIRMINGHAM, West Midlands, B26 1PG","B26 1PG","B26 "]
[null,null,null,null,null,null,null,null,null,null,null,null,null,null,null,"QHL",{"$f":"VLOOKUP(P3196,'[1]CCG & RG names'!D:E,2,0)","v":"Birmingham and Solihull STP"},"15E",{"$f":"VLOOKUP(R3196,'[1]CCG & RG names'!A:B,2,0)","v":"NHS Birmingham and Solihull CCG"},"V002327","Dental Surgery, 104 Lea Village, BIRMINGHAM, West Midlands, B33 9SD","B33 9SD","B33 "]
[null,null,null,null,null,null,null,null,null,null,null,null,null,null,null,"QHL",{"$f":"VLOOKUP(P3200,'[1]CCG & RG names'!D:E,2,0)","v":"Birmingham and Solihull STP"},"15E",{"$f":"VLOOKUP(R3200,'[1]CCG & RG names'!A:B,2,0)","v":"NHS Birmingham and Solihull CCG"},"V002337","Stockland Green Health Centre, 192 Reservoir Road, Erdington, BIRMINGHAM, West Midlands, B23 6DJ","B23 6DJ","B23 "]
[null,null,null,null,null,null,null,null,null,null,null,null,null,null,null,"QHL",{"$f":"VLOOKUP(P3209,'[1]CCG & RG names'!D:E,2,0)","v":"Birmingham and Solihull STP"},"15E",{"$f":"VLOOKUP(R3209,'[1]CCG & RG names'!A:B,2,0)","v":"NHS Birmingham and Solihull CCG"},"V002380","Dental Surgery, 221 Heath Way, BIRMINGHAM, West Midlands, B34 6QU","B34 6QU","B34 "]
[null,null,null,null,null,null,null,null,null,null,null,null,null,null,null,"QHL",{"$f":"VLOOKUP(P3216,'[1]CCG & RG names'!D:E,2,0)","v":"Birmingham and Solihull STP"},"15E",{"$f":"VLOOKUP(R3216,'[1]CCG & RG names'!A:B,2,0)","v":"NHS Birmingham and Solihull CCG"},"V002401","Dental Surgery, 354 - 356 College Road, BIRMINGHAM, West Midlands, B44 0HH","B44 0HH","B44 "]
[null,null,null,null,null,null,null,null,null,null,null,null,null,null,null,"QHL",{"$f":"VLOOKUP(P3221,'[1]CCG & RG names'!D:E,2,0)","v":"Birmingham and Solihull STP"},"15E",{"$f":"VLOOKUP(R3221,'[1]CCG & RG names'!A:B,2,0)","v":"NHS Birmingham and Solihull CCG"},"V002436","Midland Orthodontists, 7 Penns Lane, Wylde Green, SUTTON COLDFIELD, West Midlands, B72 1AY","B72 1AY","B72 "]
[null,null,null,null,null,null,null,null,null,null,null,null,null,null,null,"QHL",{"$f":"VLOOKUP(P3227,'[1]CCG & RG names'!D:E,2,0)","v":"Birmingham and Solihull STP"},"15E",{"$f":"VLOOKUP(R3227,'[1]CCG & RG names'!A:B,2,0)","v":"NHS Birmingham and Solihull CCG"},"V004361","604 Stratford Road, Sparkhill, BIRMINGHAM, West Midlands, B11 4AP","B11 4AP","B11 "]
[null,null,null,null,null,null,null,null,null,null,null,null,null,null,null,"QHL",{"$f":"VLOOKUP(P3234,'[1]CCG & RG names'!D:E,2,0)","v":"Birmingham and Solihull STP"},"15E",{"$f":"VLOOKUP(R3234,'[1]CCG & RG names'!A:B,2,0)","v":"NHS Birmingham and Solihull CCG"},"V004866","Dental Surgery, 1 Poplar Road, Sparkhill, BIRMINGHAM, West Midlands, B11 1UH","B11 1UH","B11 "]
[null,null,null,null,null,null,null,null,null,null,null,null,null,null,null,"QHL",{"$f":"VLOOKUP(P3237,'[1]CCG & RG names'!D:E,2,0)","v":"Birmingham and Solihull STP"},"15E",{"$f":"VLOOKUP(R3237,'[1]CCG & RG names'!A:B,2,0)","v":"NHS Birmingham and Solihull CCG"},"V004889","Dental Surgery, 408 Green Lane, Small Heath, BIRMINGHAM, West Midlands, B9 5QJ","B9 5QJ","B9 "]
[null,null,null,null,null,null,null,null,null,null,null,null,null,null,null,"QHL",{"$f":"VLOOKUP(P3245,'[1]CCG & RG names'!D:E,2,0)","v":"Birmingham and Solihull STP"},"15E",{"$f":"VLOOKUP(R3245,'[1]CCG & RG names'!A:B,2,0)","v":"NHS Birmingham and Solihull CCG"},"V004910","Dental Surgery, 488 Bordesley Green, BIRMINGHAM, West Midlands, B9 5PA","B9 5PA","B9 "]
[null,null,null,null,null,null,null,null,null,null,null,null,null,null,null,"QHL",{"$f":"VLOOKUP(P3246,'[1]CCG & RG names'!D:E,2,0)","v":"Birmingham and Solihull STP"},"15E",{"$f":"VLOOKUP(R3246,'[1]CCG & RG names'!A:B,2,0)","v":"NHS Birmingham and Solihull CCG"},"V004913","Dental Surgery, 410 Coventry Road, Small Heath, BIRMINGHAM, West Midlands, B10 0UF","B10 0UF","B10 "]
[null,null,null,null,null,null,null,null,null,null,null,null,null,null,null,"QHL",{"$f":"VLOOKUP(P3255,'[1]CCG & RG names'!D:E,2,0)","v":"Birmingham and Solihull STP"},"15E",{"$f":"VLOOKUP(R3255,'[1]CCG & RG names'!A:B,2,0)","v":"NHS Birmingham and Solihull CCG"},"V006773","Dental Surgery, 1473B Warwick Road, Knowle, SOLIHULL, West Midlands, B93 9LU","B93 9LU","B93 "]
[null,null,null,null,null,null,null,null,null,null,null,null,null,null,null,"QHL",{"$f":"VLOOKUP(P3262,'[1]CCG & RG names'!D:E,2,0)","v":"Birmingham and Solihull STP"},"15E",{"$f":"VLOOKUP(R3262,'[1]CCG & RG names'!A:B,2,0)","v":"NHS Birmingham and Solihull CCG"},"V007262","Euro Dental Care, 368 Court Oak Road, Harborne, Birmingham, B32 2DY","B32 2DY","B32 "]
[null,null,null,null,null,null,null,null,null,null,null,null,null,null,null,"QHL",{"$f":"VLOOKUP(P3265,'[1]CCG & RG names'!D:E,2,0)","v":"Birmingham and Solihull STP"},"15E",{"$f":"VLOOKUP(R3265,'[1]CCG & RG names'!A:B,2,0)","v":"NHS Birmingham and Solihull CCG"},"V007890","Lansdown Dental Practice, 711 Chester Road, Kingshurst, BIRMINGHAM, West Midlands, B36 0LN","B36 0LN","B36 "]
[null,null,null,null,null,null,null,null,null,null,null,null,null,null,null,"QHL",{"$f":"VLOOKUP(P3273,'[1]CCG & RG names'!D:E,2,0)","v":"Birmingham and Solihull STP"},"15E",{"$f":"VLOOKUP(R3273,'[1]CCG & RG names'!A:B,2,0)","v":"NHS Birmingham and Solihull CCG"},"V009095","Dental Surgery, 27 Coleshill Street, Sutton Coldfield, West Midlands, B72 1SD","B72 1SD","B72 "]
[null,null,null,null,null,null,null,null,null,null,null,null,null,null,null,"QHL",{"$f":"VLOOKUP(P3280,'[1]CCG & RG names'!D:E,2,0)","v":"Birmingham and Solihull STP"},"15E",{"$f":"VLOOKUP(R3280,'[1]CCG & RG names'!A:B,2,0)","v":"NHS Birmingham and Solihull CCG"},"V017214","Balsall Common Dental Care, 1, Ashley Drive, Balsall Common, CV7 7RW","CV7 7RW","CV7 "]
[null,null,null,null,null,null,null,null,null,null,null,null,null,null,null,"QHL",{"$f":"VLOOKUP(P3283,'[1]CCG & RG names'!D:E,2,0)","v":"Birmingham and Solihull STP"},"15E",{"$f":"VLOOKUP(R3283,'[1]CCG & RG names'!A:B,2,0)","v":"NHS Birmingham and Solihull CCG"},"V028581","Roughlea Avenue, Birmingham, B36 8GH","B36 8GH","B36 "]
[null,null,null,null,null,null,null,null,null,null,null,null,null,null,null,"QJ2",{"$f":"VLOOKUP(P3290,'[1]CCG & RG names'!D:E,2,0)","v":"Joined Up Care Derbyshire STP"},"15M",{"$f":"VLOOKUP(R3290,'[1]CCG & RG names'!A:B,2,0)","v":"NHS Derby and Derbyshire CCG"},"V004126","Derwent Valley Dental Surgery, 22 St Marks Road, DERBY, Derbyshire, DE21 6AH","DE21 6AH","DE21"]
[null,null,null,null,null,null,null,null,null,null,null,null,null,null,null,"QJ2",{"$f":"VLOOKUP(P3292,'[1]CCG & RG names'!D:E,2,0)","v":"Joined Up Care Derbyshire STP"},"15M",{"$f":"VLOOKUP(R3292,'[1]CCG & RG names'!A:B,2,0)","v":"NHS Derby and Derbyshire CCG"},"V004277","Risley Hill Dental Practice, 98 Derby Road, Sandiacre, NOTTINGHAM, Nottinghamshire, NG10 5HU","NG10 5HU","NG10"]
[null,null,null,null,null,null,null,null,null,null,null,null,null,null,null,"QJ2",{"$f":"VLOOKUP(P3301,'[1]CCG & RG names'!D:E,2,0)","v":"Joined Up Care Derbyshire STP"},"15M",{"$f":"VLOOKUP(R3301,'[1]CCG & RG names'!A:B,2,0)","v":"NHS Derby and Derbyshire CCG"},"V005230","New Mills Dental Practice, 6 Union Road, New Mills, HIGH PEAK, Derbyshire, SK22 3ES","SK22 3ES","SK22"]
[null,null,null,null,null,null,null,null,null,null,null,null,null,null,null,"QJ2",{"$f":"VLOOKUP(P3308,'[1]CCG & RG names'!D:E,2,0)","v":"Joined Up Care Derbyshire STP"},"15M",{"$f":"VLOOKUP(R3308,'[1]CCG & RG names'!A:B,2,0)","v":"NHS Derby and Derbyshire CCG"},"V005817","Chesterfield Orthodontics, South Place, Beetwell Street, CHESTERFIELD, S40 1SZ","S40 1SZ","S40 "]
[null,null,null,null,null,null,null,null,null,null,null,null,null,null,null,"QJ2",{"$f":"VLOOKUP(P3314,'[1]CCG & RG names'!D:E,2,0)","v":"Joined Up Care Derbyshire STP"},"15M",{"$f":"VLOOKUP(R3314,'[1]CCG & RG names'!A:B,2,0)","v":"NHS Derby and Derbyshire CCG"},"V006527","Dental Surgery, 1 Cressy Road, ALFRETON, Derbyshire, DE55 7BR","DE55 7BR","DE55"]
[null,null,null,null,null,null,null,null,null,null,null,null,null,null,null,"QJ2",{"$f":"VLOOKUP(P3319,'[1]CCG & RG names'!D:E,2,0)","v":"Joined Up Care Derbyshire STP"},"15M",{"$f":"VLOOKUP(R3319,'[1]CCG & RG names'!A:B,2,0)","v":"NHS Derby and Derbyshire CCG"},"V006764","Koshal Dental Surgery, 52 - 56 Curzon Street, DERBY, Derbyshire, DE1 1LP","DE1 1LP","DE1 "]
[null,null,null,null,null,null,null,null,null,null,null,null,null,null,null,"QJ2",{"$f":"VLOOKUP(P3326,'[1]CCG & RG names'!D:E,2,0)","v":"Joined Up Care Derbyshire STP"},"15M",{"$f":"VLOOKUP(R3326,'[1]CCG & RG names'!A:B,2,0)","v":"NHS Derby and Derbyshire CCG"},"V007724","Peak Smile Studio Partnership, 34 Eldon Street, Clay Cross, CHESTERFIELD, Derbyshire, S45 9PE","S45 9PE","S45 "]
[null,null,null,null,null,null,null,null,null,null,null,null,null,null,null,"QJ2",{"$f":"VLOOKUP(P3329,'[1]CCG & RG names'!D:E,2,0)","v":"Joined Up Care Derbyshire STP"},"15M",{"$f":"VLOOKUP(R3329,'[1]CCG & RG names'!A:B,2,0)","v":"NHS Derby and Derbyshire CCG"},"V008033","Diamond Court Dental Practice, Water Street, Bakewell, Derbyshire, DE45 1EW","DE45 1EW","DE45"]
[null,null,null,null,null,null,null,null,null,null,null,null,null,null,null,"QJ2",{"$f":"VLOOKUP(P3334,'[1]CCG & RG names'!D:E,2,0)","v":"Joined Up Care Derbyshire STP"},"15M",{"$f":"VLOOKUP(R3334,'[1]CCG & RG names'!A:B,2,0)","v":"NHS Derby and Derbyshire CCG"},"V008327","Dental Surgery, 2A Chesterfield Road, Brimington, CHESTERFIELD, Derbyshire, S43 1AD","S43 1AD","S43 "]
[null,null,null,null,null,null,null,null,null,null,null,null,null,null,null,"QJ2",{"$f":"VLOOKUP(P3338,'[1]CCG & RG names'!D:E,2,0)","v":"Joined Up Care Derbyshire STP"},"15M",{"$f":"VLOOKUP(R3338,'[1]CCG & RG names'!A:B,2,0)","v":"NHS Derby and Derbyshire CCG"},"V008339","New Whittington Dental Practice, 2 Crown Close, New Whittington, CHESTERFIELD, Derbyshire, S43 2AH","S43 2AH","S43 "]
[null,null,null,null,null,null,null,null,null,null,null,null,null,null,null,"QJ2",{"$f":"VLOOKUP(P3347,'[1]CCG & RG names'!D:E,2,0)","v":"Joined Up Care Derbyshire STP"},"15M",{"$f":"VLOOKUP(R3347,'[1]CCG & RG names'!A:B,2,0)","v":"NHS Derby and Derbyshire CCG"},"V008473","Allenton Dental Care, 39 Chellaston Road, DERBY, Derbyshire, DE24 9AD","DE24 9AD","DE24"]
[null,null,null,null,null,null,null,null,null,null,null,null,null,null,null,"QJ2",{"$f":"VLOOKUP(P3354,'[1]CCG & RG names'!D:E,2,0)","v":"Joined Up Care Derbyshire STP"},"15M",{"$f":"VLOOKUP(R3354,'[1]CCG & RG names'!A:B,2,0)","v":"NHS Derby and Derbyshire CCG"},"V008485","The Dove Dental Practice, 33 - 35 Normanton Road, DERBY, Derbyshire, DE1 2GJ","DE1 2GJ","DE1 "]
[null,null,null,null,null,null,null,null,null,null,null,null,null,null,null,"QJ2",{"$f":"VLOOKUP(P3358,'[1]CCG & RG names'!D:E,2,0)","v":"Joined Up Care Derbyshire STP"},"15M",{"$f":"VLOOKUP(R3358,'[1]CCG & RG names'!A:B,2,0)","v":"NHS Derby and Derbyshire CCG"},"V008490","The Dental Practice, 44 Main Street, Etwall, DERBY, Derbyshire, DE65 6LP","DE65 6LP","DE65"]
[null,null,null,null,null,null,null,null,null,null,null,null,null,null,null,"QJ2",{"$f":"VLOOKUP(P3365,'[1]CCG & RG names'!D:E,2,0)","v":"Joined Up Care Derbyshire STP"},"15M",{"$f":"VLOOKUP(R3365,'[1]CCG & RG names'!A:B,2,0)","v":"NHS Derby and Derbyshire CCG"},"V008497","Steeple Grange Dental Practice, 36 Steeple Grange, Wirksworth, MATLOCK, Derbyshire, DE4 4FS","DE4 4FS","DE4 "]
[null,null,null,null,null,null,null,null,null,null,null,null,null,null,null,"QJ2",{"$f":"VLOOKUP(P3372,'[1]CCG & RG names'!D:E,2,0)","v":"Joined Up Care Derbyshire STP"},"15M",{"$f":"VLOOKUP(R3372,'[1]CCG & RG names'!A:B,2,0)","v":"NHS Derby and Derbyshire CCG"},"V008876","Bamford Dental Practice, Hancock Building, Main Road, Bamford, HOPE VALLEY, S33 0AY","S33 0AY","S33 "]
[null,null,null,null,null,null,null,null,null,null,null,null,null,null,null,"QJ2",{"$f":"VLOOKUP(P3375,'[1]CCG & RG names'!D:E,2,0)","v":"Joined Up Care Derbyshire STP"},"15M",{"$f":"VLOOKUP(R3375,'[1]CCG & RG names'!A:B,2,0)","v":"NHS Derby and Derbyshire CCG"},"V008947","Hope Clinic, Eccles Close, Off Edale Road, Hope, HOPE VALLEY, S33 6RG","S33 6RG","S33 "]
[null,null,null,null,null,null,null,null,null,null,null,null,null,null,null,"QJ2",{"$f":"VLOOKUP(P3383,'[1]CCG & RG names'!D:E,2,0)","v":"Joined Up Care Derbyshire STP"},"15M",{"$f":"VLOOKUP(R3383,'[1]CCG & RG names'!A:B,2,0)","v":"NHS Derby and Derbyshire CCG"},"V011536","Swadlincote Dental Practice, Blueberry Worx, Blueberry Way, Hartshorne Road, Woodville, DE11 7GX","DE11 7GX","DE11"]
[null,null,null,null,null,null,null,null,null,null,null,null,null,null,null,"QJ2",{"$f":"VLOOKUP(P3384,'[1]CCG & RG names'!D:E,2,0)","v":"Joined Up Care Derbyshire STP"},"15M",{"$f":"VLOOKUP(R3384,'[1]CCG & RG names'!A:B,2,0)","v":"NHS Derby and Derbyshire CCG"},"V011597","Goyt Valley Medical and Dental, Practice, Chapel Street, Whaley Bridge, High Peak, Derbyshire, SK23 7SR","SK23 7SR","SK23"]
[null,null,null,null,null,null,null,null,null,null,null,null,null,null,null,"QJ2",{"$f":"VLOOKUP(P3393,'[1]CCG & RG names'!D:E,2,0)","v":"Joined Up Care Derbyshire STP"},"15M",{"$f":"VLOOKUP(R3393,'[1]CCG & RG names'!A:B,2,0)","v":"NHS Derby and Derbyshire CCG"},"V013226","TLC 4 Smiles Ashbourne LLP, 30 Clifton Road, Ashbourne, Derbyshire, DE6 1DT","DE6 1DT","DE6 "]
[null,null,null,null,null,null,null,null,null,null,null,null,null,null,null,"QJ2",{"$f":"VLOOKUP(P3396,'[1]CCG & RG names'!D:E,2,0)","v":"Joined Up Care Derbyshire STP"},"15M",{"$f":"VLOOKUP(R3396,'[1]CCG & RG names'!A:B,2,0)","v":"NHS Derby and Derbyshire CCG"},"V013486","Staveley Dental Care, 9A Church Street, Staveley, Chesterfield, Derbyshire, S43 3TL","S43 3TL","S43 "]
[null,null,null,null,null,null,null,null,null,null,null,null,null,null,null,"QJ2",{"$f":"VLOOKUP(P3402,'[1]CCG & RG names'!D:E,2,0)","v":"Joined Up Care Derbyshire STP"},"15M",{"$f":"VLOOKUP(R3402,'[1]CCG & RG names'!A:B,2,0)","v":"NHS Derby and Derbyshire CCG"},"V016886","2 Main Avenue, Derby, DE22 2EF","DE22 2EF","DE22"]
[null,null,null,null,null,null,null,null,null,null,null,null,null,null,null,"QJM",{"$f":"VLOOKUP(P3409,'[1]CCG & RG names'!D:E,2,0)","v":"Lincolnshire STP"},"71E",{"$f":"VLOOKUP(R3409,'[1]CCG & RG names'!A:B,2,0)","v":"NHS Lincolnshire CCG"},"V005776","134 Bridge Street, Gainsborough, Lincolnshire, Lincolnshire, DN21 1LP","DN21 1LP","DN21"]
[null,null,null,null,null,null,null,null,null,null,null,null,null,null,null,"QJM",{"$f":"VLOOKUP(P3418,'[1]CCG & RG names'!D:E,2,0)","v":"Lincolnshire STP"},"71E",{"$f":"VLOOKUP(R3418,'[1]CCG & RG names'!A:B,2,0)","v":"NHS Lincolnshire CCG"},"V007629","Dental Surgery, The Maltings, Commercial Road, GRANTHAM, Lincolnshire, NG31 6DE","NG31 6DE","NG31"]
[null,null,null,null,null,null,null,null,null,null,null,null,null,null,null,"QJM",{"$f":"VLOOKUP(P3420,'[1]CCG & RG names'!D:E,2,0)","v":"Lincolnshire STP"},"71E",{"$f":"VLOOKUP(R3420,'[1]CCG & RG names'!A:B,2,0)","v":"NHS Lincolnshire CCG"},"V007632","Dental Health Centre, 3 Avenue Road, GRANTHAM, Lincolnshire, NG31 6TA","NG31 6TA","NG31"]
[null,null,null,null,null,null,null,null,null,null,null,null,null,null,null,"QJM",{"$f":"VLOOKUP(P3427,'[1]CCG & RG names'!D:E,2,0)","v":"Lincolnshire STP"},"71E",{"$f":"VLOOKUP(R3427,'[1]CCG & RG names'!A:B,2,0)","v":"NHS Lincolnshire CCG"},"V007807","Tower Gardens Dental Clinic, 25 Algitha Road, SKEGNESS, Lincolnshire, PE25 2AG","PE25 2AG","PE25"]
[null,null,null,null,null,null,null,null,null,null,null,null,null,null,null,"QJM",{"$f":"VLOOKUP(P3430,'[1]CCG & RG names'!D:E,2,0)","v":"Lincolnshire STP"},"71E",{"$f":"VLOOKUP(R3430,'[1]CCG & RG names'!A:B,2,0)","v":"NHS Lincolnshire CCG"},"V007877","11 Eastgate, SLEAFORD, Lincolnshire, NG34 7DL","NG34 7DL","NG34"]
[null,null,null,null,null,null,null,null,null,null,null,null,null,null,null,"QJM",{"$f":"VLOOKUP(P3439,'[1]CCG & RG names'!D:E,2,0)","v":"Lincolnshire STP"},"71E",{"$f":"VLOOKUP(R3439,'[1]CCG & RG names'!A:B,2,0)","v":"NHS Lincolnshire CCG"},"V008407","Bridge House Dental Practice, Bridge Foot, Market Deeping, PETERBOROUGH, Cambridgeshire, PE6 8AA","PE6 8AA","PE6 "]
[null,null,null,null,null,null,null,null,null,null,null,null,null,null,null,"QJM",{"$f":"VLOOKUP(P3445,'[1]CCG & RG names'!D:E,2,0)","v":"Lincolnshire STP"},"71E",{"$f":"VLOOKUP(R3445,'[1]CCG & RG names'!A:B,2,0)","v":"NHS Lincolnshire CCG"},"V008809","Holbeach Dental Surgery, 12 Albert Street, Holbeach, SPALDING, Lincoinshire, PE12 7DN","PE12 7DN","PE12"]
[null,null,null,null,null,null,null,null,null,null,null,null,null,null,null,"QJM",{"$f":"VLOOKUP(P3448,'[1]CCG & RG names'!D:E,2,0)","v":"Lincolnshire STP"},"71E",{"$f":"VLOOKUP(R3448,'[1]CCG & RG names'!A:B,2,0)","v":"NHS Lincolnshire CCG"},"V009929","Fen House Dental Practice, 42 High Street, Gosberton, Spalding, Lincolnshire, PE11 4NJ","PE11 4NJ","PE11"]
[null,null,null,null,null,null,null,null,null,null,null,null,null,null,null,"QJM",{"$f":"VLOOKUP(P3455,'[1]CCG & RG names'!D:E,2,0)","v":"Lincolnshire STP"},"71E",{"$f":"VLOOKUP(R3455,'[1]CCG & RG names'!A:B,2,0)","v":"NHS Lincolnshire CCG"},"V011334","50 Bourne Road, SPALDING, Lincolnshire, PE11 1JW","PE11 1JW","PE11"]
[null,null,null,null,null,null,null,null,null,null,null,null,null,null,null,"QJM",{"$f":"VLOOKUP(P3464,'[1]CCG & RG names'!D:E,2,0)","v":"Lincolnshire STP"},"71E",{"$f":"VLOOKUP(R3464,'[1]CCG & RG names'!A:B,2,0)","v":"NHS Lincolnshire CCG"},"V025154","Appoline Dental Care, Appoline House, 137 Dysart Road, Grantham, Lincolnshire, NG31 7DL","NG31 7DL","NG31"]
[null,null,null,null,null,null,null,null,null,null,null,null,null,null,null,"QJM",{"$f":"VLOOKUP(P3469,'[1]CCG & RG names'!D:E,2,0)","v":"Lincolnshire STP"},"71E",{"$f":"VLOOKUP(R3469,'[1]CCG & RG names'!A:B,2,0)","v":"NHS Lincolnshire CCG"},"V044872","31 WIDE BARGATE, BOSTON, PE21 6SR","PE21 6SR","PE21"]
[null,null,null,null,null,null,null,null,null,null,null,null,null,null,null,"QJM",{"$f":"VLOOKUP(P3473,'[1]CCG & RG names'!D:E,2,0)","v":"Lincolnshire STP"},"71E",{"$f":"VLOOKUP(R3473,'[1]CCG & RG names'!A:B,2,0)","v":"NHS Lincolnshire CCG"},"V177127","156 SPILSBY ROAD, BOSTON, LINCS, PE21 9QP","PE21 9QP","PE21"]
[null,null,null,null,null,null,null,null,null,null,null,null,null,null,null,"QK1",{"$f":"VLOOKUP(P3476,'[1]CCG & RG names'!D:E,2,0)","v":"Leicester, Leicestershire and Rutland STP"},"03W",{"$f":"VLOOKUP(R3476,'[1]CCG & RG names'!A:B,2,0)","v":"NHS East Leicestershire and Rutland CCG"},"V004771","Ishak Pratices Limited, 11 Fairfield Road, Market Harborough, Leicestershire, LE16 9QQ","LE16 9QQ","LE16"]
[null,null,null,null,null,null,null,null,null,null,null,null,null,null,null,"QK1",{"$f":"VLOOKUP(P3483,'[1]CCG & RG names'!D:E,2,0)","v":"Leicester, Leicestershire and Rutland STP"},"03W",{"$f":"VLOOKUP(R3483,'[1]CCG & RG names'!A:B,2,0)","v":"NHS East Leicestershire and Rutland CCG"},"V004785","Dental Surgery, 16 Asfordby Road, MELTON MOWBRAY, Leicestershire, LE13 0HR","LE13 0HR","LE13"]
[null,null,null,null,null,null,null,null,null,null,null,null,null,null,null,"QK1",{"$f":"VLOOKUP(P3489,'[1]CCG & RG names'!D:E,2,0)","v":"Leicester, Leicestershire and Rutland STP"},"03W",{"$f":"VLOOKUP(R3489,'[1]CCG & RG names'!A:B,2,0)","v":"NHS East Leicestershire and Rutland CCG"},"V006104","Dental Surgery, 7 Carvers Corner, Grange Drive, Glen Parva, LEICESTER, LE2 9PE","LE2 9PE","LE2 "]
[null,null,null,null,null,null,null,null,null,null,null,null,null,null,null,"QK1",{"$f":"VLOOKUP(P3494,'[1]CCG & RG names'!D:E,2,0)","v":"Leicester, Leicestershire and Rutland STP"},"03W",{"$f":"VLOOKUP(R3494,'[1]CCG & RG names'!A:B,2,0)","v":"NHS East Leicestershire and Rutland CCG"},"V006148","Dental Surgery, 101 Leicester Road, WIGSTON, Leicestershire, LE18 1NS","LE18 1NS","LE18"]
[null,null,null,null,null,null,null,null,null,null,null,null,null,null,null,"QK1",{"$f":"VLOOKUP(P3501,'[1]CCG & RG names'!D:E,2,0)","v":"Leicester, Leicestershire and Rutland STP"},"03W",{"$f":"VLOOKUP(R3501,'[1]CCG & RG names'!A:B,2,0)","v":"NHS East Leicestershire and Rutland CCG"},"V006173","Dental Surgery, 42 Lutterworth Road, Blaby, LEICESTER, Leicestershire, LE8 4DN","LE8 4DN","LE8 "]
[null,null,null,null,null,null,null,null,null,null,null,null,null,null,null,"QK1",{"$f":"VLOOKUP(P3510,'[1]CCG & RG names'!D:E,2,0)","v":"Leicester, Leicestershire and Rutland STP"},"03W",{"$f":"VLOOKUP(R3510,'[1]CCG & RG names'!A:B,2,0)","v":"NHS East Leicestershire and Rutland CCG"},"V011567","Oakham Dental Studio, Knights Yard, Gaol Street, Oakham, LE15 6AQ","LE15 6AQ","LE15"]
[null,null,null,null,null,null,null,null,null,null,null,null,null,null,null,"QK1",{"$f":"VLOOKUP(P3513,'[1]CCG & RG names'!D:E,2,0)","v":"Leicester, Leicestershire and Rutland STP"},"03W",{"$f":"VLOOKUP(R3513,'[1]CCG & RG names'!A:B,2,0)","v":"NHS East Leicestershire and Rutland CCG"},"V044763","36-38, NOTTINGHAM STREET, MELTON MOWBRAY, LE13 1NW","LE13 1NW","LE13"]
[null,null,null,null,null,null,null,null,null,null,null,null,null,null,null,"QK1",{"$f":"VLOOKUP(P3519,'[1]CCG & RG names'!D:E,2,0)","v":"Leicester, Leicestershire and Rutland STP"},"04C",{"$f":"VLOOKUP(R3519,'[1]CCG & RG names'!A:B,2,0)","v":"NHS Leicester City CCG"},"V007740","Mr A Moosajee, 21-23 Fosse Road Central, Leicester, LE3 5PU","LE3 5PU","LE3 "]
[null,null,null,null,null,null,null,null,null,null,null,null,null,null,null,"QK1",{"$f":"VLOOKUP(P3522,'[1]CCG & RG names'!D:E,2,0)","v":"Leicester, Leicestershire and Rutland STP"},"04C",{"$f":"VLOOKUP(R3522,'[1]CCG & RG names'!A:B,2,0)","v":"NHS Leicester City CCG"},"V007746","Dental Surgery, 44 Fosse Road North, LEICESTER, Leicestershire, LE3 5EQ","LE3 5EQ","LE3 "]
[null,null,null,null,null,null,null,null,null,null,null,null,null,null,null,"QK1",{"$f":"VLOOKUP(P3529,'[1]CCG & RG names'!D:E,2,0)","v":"Leicester, Leicestershire and Rutland STP"},"04C",{"$f":"VLOOKUP(R3529,'[1]CCG & RG names'!A:B,2,0)","v":"NHS Leicester City CCG"},"V007761","Dental Surgery, 591 Saffron Lane, LEICESTER, Leicestershire, LE2 6UN","LE2 6UN","LE2 "]
[null,null,null,null,null,null,null,null,null,null,null,null,null,null,null,"QK1",{"$f":"VLOOKUP(P3538,'[1]CCG & RG names'!D:E,2,0)","v":"Leicester, Leicestershire and Rutland STP"},"04C",{"$f":"VLOOKUP(R3538,'[1]CCG & RG names'!A:B,2,0)","v":"NHS Leicester City CCG"},"V008623","194 East Park Road, LEICESTER, Leicestershire, LE5 5FD","LE5 5FD","LE5 "]
[null,null,null,null,null,null,null,null,null,null,null,null,null,null,null,"QK1",{"$f":"VLOOKUP(P3540,'[1]CCG & RG names'!D:E,2,0)","v":"Leicester, Leicestershire and Rutland STP"},"04C",{"$f":"VLOOKUP(R3540,'[1]CCG & RG names'!A:B,2,0)","v":"NHS Leicester City CCG"},"V008627","Dental Surgery, 339 Humberstone Road, LEICESTER, Leicestershire, LE5 3DF","LE5 3DF","LE5 "]
[null,null,null,null,null,null,null,null,null,null,null,null,null,null,null,"QK1",{"$f":"VLOOKUP(P3547,'[1]CCG & RG names'!D:E,2,0)","v":"Leicester, Leicestershire and Rutland STP"},"04C",{"$f":"VLOOKUP(R3547,'[1]CCG & RG names'!A:B,2,0)","v":"NHS Leicester City CCG"},"V008639","222 Uppingham Road, LEICESTER, Leicestershire, LE5 0QG","LE5 0QG","LE5 "]
[null,null,null,null,null,null,null,null,null,null,null,null,null,null,null,"QK1",{"$f":"VLOOKUP(P3556,'[1]CCG & RG names'!D:E,2,0)","v":"Leicester, Leicestershire and Rutland STP"},"04C",{"$f":"VLOOKUP(R3556,'[1]CCG & RG names'!A:B,2,0)","v":"NHS Leicester City CCG"},"V008662","Dental Surgery, 101 Aylestone Road, LEICESTER, Leicestershire, LE2 7LN","LE2 7LN","LE2 "]
[null,null,null,null,null,null,null,null,null,null,null,null,null,null,null,"QK1",{"$f":"VLOOKUP(P3557,'[1]CCG & RG names'!D:E,2,0)","v":"Leicester, Leicestershire and Rutland STP"},"04C",{"$f":"VLOOKUP(R3557,'[1]CCG & RG names'!A:B,2,0)","v":"NHS Leicester City CCG"},"V008664","Dental Art, 168 Evington Road, LEICESTER, Leicestershire, LE2 1HL","LE2 1HL","LE2 "]
[null,null,null,null,null,null,null,null,null,null,null,null,null,null,null,"QK1",{"$f":"VLOOKUP(P3565,'[1]CCG & RG names'!D:E,2,0)","v":"Leicester, Leicestershire and Rutland STP"},"04C",{"$f":"VLOOKUP(R3565,'[1]CCG & RG names'!A:B,2,0)","v":"NHS Leicester City CCG"},"V013879","Unit 15, Barshaw Park, Leycroft Road, Beaumont Leys, Leicester, LE4 1ET","LE4 1ET","LE4 "]
[null,null,null,null,null,null,null,null,null,null,null,null,null,null,null,"QK1",{"$f":"VLOOKUP(P3568,'[1]CCG & RG names'!D:E,2,0)","v":"Leicester, Leicestershire and Rutland STP"},"04C",{"$f":"VLOOKUP(R3568,'[1]CCG & RG names'!A:B,2,0)","v":"NHS Leicester City CCG"},"V020403","146 Melton Road, Leicester, Leics, LE4 5EE","LE4 5EE","LE4 "]
[null,null,null,null,null,null,null,null,null,null,null,null,null,null,null,"QK1",{"$f":"VLOOKUP(P3575,'[1]CCG & RG names'!D:E,2,0)","v":"Leicester, Leicestershire and Rutland STP"},"04V",{"$f":"VLOOKUP(R3575,'[1]CCG & RG names'!A:B,2,0)","v":"NHS West Leicestershire CCG"},"V006436","Rothley Dental Practice, 1 Anthony Street, Rothley, LEICESTER, Leicestershire, LE7 7PA","LE7 7PA","LE7 "]
[null,null,null,null,null,null,null,null,null,null,null,null,null,null,null,"QK1",{"$f":"VLOOKUP(P3582,'[1]CCG & RG names'!D:E,2,0)","v":"Leicester, Leicestershire and Rutland STP"},"04V",{"$f":"VLOOKUP(R3582,'[1]CCG & RG names'!A:B,2,0)","v":"NHS West Leicestershire CCG"},"V006484","Dental Surgery, 34 Station Road, HINCKLEY, Leicestershire, LE10 1AP","LE10 1AP","LE10"]
[null,null,null,null,null,null,null,null,null,null,null,null,null,null,null,"QK1",{"$f":"VLOOKUP(P3586,'[1]CCG & RG names'!D:E,2,0)","v":"Leicester, Leicestershire and Rutland STP"},"04V",{"$f":"VLOOKUP(R3586,'[1]CCG & RG names'!A:B,2,0)","v":"NHS West Leicestershire CCG"},"V006500","Dental Surgery, 8 Borough Street, Castle Donington, DERBY, Derbyshire, DE74 2LA","DE74 2LA","DE74"]
[null,null,null,null,null,null,null,null,null,null,null,null,null,null,null,"QK1",{"$f":"VLOOKUP(P3593,'[1]CCG & RG names'!D:E,2,0)","v":"Leicester, Leicestershire and Rutland STP"},"04V",{"$f":"VLOOKUP(R3593,'[1]CCG & RG names'!A:B,2,0)","v":"NHS West Leicestershire CCG"},"V008042","89-91 Ashby Road, Loughborough, Leicestershire, LE11 3AB","LE11 3AB","LE11"]
[null,null,null,null,null,null,null,null,null,null,null,null,null,null,null,"QK1",{"$f":"VLOOKUP(P3602,'[1]CCG & RG names'!D:E,2,0)","v":"Leicester, Leicestershire and Rutland STP"},"04V",{"$f":"VLOOKUP(R3602,'[1]CCG & RG names'!A:B,2,0)","v":"NHS West Leicestershire CCG"},"V009002","Dental Surgery, 4 High Street, Sileby, LOUGHBOROUGH, Leicestershire, LE12 7RX","LE12 7RX","LE12"]
[null,null,null,null,null,null,null,null,null,null,null,null,null,null,null,"QK1",{"$f":"VLOOKUP(P3607,'[1]CCG & RG names'!D:E,2,0)","v":"Leicester, Leicestershire and Rutland STP"},"04V",{"$f":"VLOOKUP(R3607,'[1]CCG & RG names'!A:B,2,0)","v":"NHS West Leicestershire CCG"},"V009085","Loughborough Students Union, Ashby Road, LOUGHBOROUGH, Leicestershire, LE11 3TT","LE11 3TT","LE11"]
[null,null,null,null,null,null,null,null,null,null,null,null,null,null,null,"QK1",{"$f":"VLOOKUP(P3611,'[1]CCG & RG names'!D:E,2,0)","v":"Leicester, Leicestershire and Rutland STP"},"04V",{"$f":"VLOOKUP(R3611,'[1]CCG & RG names'!A:B,2,0)","v":"NHS West Leicestershire CCG"},"V013288","Marlborough Dental, Marlborough Square, COALVILLE, Leicestershire, LE67 3WD","LE67 3WD","LE67"]
[null,null,null,null,null,null,null,null,null,null,null,null,null,null,null,"QK1",{"$f":"VLOOKUP(P3614,'[1]CCG & RG names'!D:E,2,0)","v":"Leicester, Leicestershire and Rutland STP"},"04V",{"$f":"VLOOKUP(R3614,'[1]CCG & RG names'!A:B,2,0)","v":"NHS West Leicestershire CCG"},"V044815","40 LEICESTER ROAD, LOUGHBOROUGH, LE11 2AG","LE11 2AG","LE11"]
[null,null,null,null,null,null,null,null,null,null,null,null,null,null,null,"QNC",{"$f":"VLOOKUP(P3621,'[1]CCG & RG names'!D:E,2,0)","v":"Staffordshire & Stoke on Trent STP"},"04Y",{"$f":"VLOOKUP(R3621,'[1]CCG & RG names'!A:B,2,0)","v":"NHS Cannock Chase CCG"},"V006067","Dental Surgery, 171 Walsall Road, Great Wyrley, WALSALL, West Midlands, WS6 6NL","WS6 6NL","WS6 "]
[null,null,null,null,null,null,null,null,null,null,null,null,null,null,null,"QNC",{"$f":"VLOOKUP(P3626,'[1]CCG & RG names'!D:E,2,0)","v":"Staffordshire & Stoke on Trent STP"},"04Y",{"$f":"VLOOKUP(R3626,'[1]CCG & RG names'!A:B,2,0)","v":"NHS Cannock Chase CCG"},"V006083","Dental Surgery, 92A Eskrett Street, Hednesford, CANNOCK, Staffordshire, WS12 1AP","WS12 1AP","WS12"]
[null,null,null,null,null,null,null,null,null,null,null,null,null,null,null,"QNC",{"$f":"VLOOKUP(P3632,'[1]CCG & RG names'!D:E,2,0)","v":"Staffordshire & Stoke on Trent STP"},"05D",{"$f":"VLOOKUP(R3632,'[1]CCG & RG names'!A:B,2,0)","v":"NHS East Staffordshire CCG"},"V006252","Dental Surgery, 6 St Peters Street, BURTON ON TRENT, Staffordshire, DE15 9AW","DE15 9AW","DE15"]
[null,null,null,null,null,null,null,null,null,null,null,null,null,null,null,"QNC",{"$f":"VLOOKUP(P3639,'[1]CCG & RG names'!D:E,2,0)","v":"Staffordshire & Stoke on Trent STP"},"05D",{"$f":"VLOOKUP(R3639,'[1]CCG & RG names'!A:B,2,0)","v":"NHS East Staffordshire CCG"},"V012137","Hill Street Dental Practice,, Health and Wellbeing Centre,, Hill Street, Stapenhill, Burton on Trent, DE15 9LD","DE15 9LD","DE15"]
[null,null,null,null,null,null,null,null,null,null,null,null,null,null,null,"QNC",{"$f":"VLOOKUP(P3644,'[1]CCG & RG names'!D:E,2,0)","v":"Staffordshire & Stoke on Trent STP"},"05D",{"$f":"VLOOKUP(R3644,'[1]CCG & RG names'!A:B,2,0)","v":"NHS East Staffordshire CCG"},"V046588","33 High Street, Burton upon Trent, DE14 1JN","DE14 1JN","DE14"]
[null,null,null,null,null,null,null,null,null,null,null,null,null,null,null,"QNC",{"$f":"VLOOKUP(P3648,'[1]CCG & RG names'!D:E,2,0)","v":"Staffordshire & Stoke on Trent STP"},"05G",{"$f":"VLOOKUP(R3648,'[1]CCG & RG names'!A:B,2,0)","v":"NHS North Staffordshire CCG"},"V004979","Mr M E Neeld And Associates, Cherry Orchard Dental Surgery, 1 Cherry Orchard, NEWCASTLE, Staffordshire, ST5 2UB","ST5 2UB","ST5 "]
[null,null,null,null,null,null,null,null,null,null,null,null,null,null,null,"QNC",{"$f":"VLOOKUP(P3657,'[1]CCG & RG names'!D:E,2,0)","v":"Staffordshire & Stoke on Trent STP"},"05G",{"$f":"VLOOKUP(R3657,'[1]CCG & RG names'!A:B,2,0)","v":"NHS North Staffordshire CCG"},"V007618","Werrington Dental Practice, 497 Ash Bank Road, Werrington, STOKE ON TRENT, Staffordshire, ST9 0DT","ST9 0DT","ST9 "]
[null,null,null,null,null,null,null,null,null,null,null,null,null,null,null,"QNC",{"$f":"VLOOKUP(P3660,'[1]CCG & RG names'!D:E,2,0)","v":"Staffordshire & Stoke on Trent STP"},"05G",{"$f":"VLOOKUP(R3660,'[1]CCG & RG names'!A:B,2,0)","v":"NHS North Staffordshire CCG"},"V007621","Millennium Dentistry, 40 - 42 Tape Street, Cheadle, STOKE ON TRENT, Staffordshire, ST10 1EP","ST10 1EP","ST10"]
[null,null,null,null,null,null,null,null,null,null,null,null,null,null,null,"QNC",{"$f":"VLOOKUP(P3669,'[1]CCG & RG names'!D:E,2,0)","v":"Staffordshire & Stoke on Trent STP"},"05G",{"$f":"VLOOKUP(R3669,'[1]CCG & RG names'!A:B,2,0)","v":"NHS North Staffordshire CCG"},"V014044","Park Dental Practice, 16 Ball Haye road, leek, Staffordshire, ST13 6AF","ST13 6AF","ST13"]
[null,null,null,null,null,null,null,null,null,null,null,null,null,null,null,"QNC",{"$f":"VLOOKUP(P3675,'[1]CCG & RG names'!D:E,2,0)","v":"Staffordshire & Stoke on Trent STP"},"05Q",{"$f":"VLOOKUP(R3675,'[1]CCG & RG names'!A:B,2,0)","v":"NHS South East Staffordshire and Seisdon Peninsula CCG"},"V006544","Dental Surgery, 37 High Street, Kinver, STOURBRIDGE, West Midlands, DY7 6HF","DY7 6HF","DY7 "]
[null,null,null,null,null,null,null,null,null,null,null,null,null,null,null,"QNC",{"$f":"VLOOKUP(P3678,'[1]CCG & RG names'!D:E,2,0)","v":"Staffordshire & Stoke on Trent STP"},"05Q",{"$f":"VLOOKUP(R3678,'[1]CCG & RG names'!A:B,2,0)","v":"NHS South East Staffordshire and Seisdon Peninsula CCG"},"V006589","Pickering House Dental Practice, 76 Upper St John Street, LICHFIELD, Staffordshire, WS14 9DX","WS14 9DX","WS14"]
[null,null,null,null,null,null,null,null,null,null,null,null,null,null,null,"QNC",{"$f":"VLOOKUP(P3685,'[1]CCG & RG names'!D:E,2,0)","v":"Staffordshire & Stoke on Trent STP"},"05Q",{"$f":"VLOOKUP(R3685,'[1]CCG & RG names'!A:B,2,0)","v":"NHS South East Staffordshire and Seisdon Peninsula CCG"},"V006699","Dental Dept., H M P Featherstone, Featherstone, Wolverhampton, West Midlands, WV10 7PU","WV10 7PU","WV10"]
[null,null,null,null,null,null,null,null,null,null,null,null,null,null,null,"QNC",{"$f":"VLOOKUP(P3693,'[1]CCG & RG names'!D:E,2,0)","v":"Staffordshire & Stoke on Trent STP"},"05Q",{"$f":"VLOOKUP(R3693,'[1]CCG & RG names'!A:B,2,0)","v":"NHS South East Staffordshire and Seisdon Peninsula CCG"},"V008916","Tamworth Dental Practice, The Hollies, 25 Albert Road, TAMWORTH, Staffordshire, B79 7JS","B79 7JS","B79 "]
[null,null,null,null,null,null,null,null,null,null,null,null,null,null,null,"QNC",{"$f":"VLOOKUP(P3694,'[1]CCG & RG names'!D:E,2,0)","v":"Staffordshire & Stoke on Trent STP"},"05Q",{"$f":"VLOOKUP(R3694,'[1]CCG & RG names'!A:B,2,0)","v":"NHS South East Staffordshire and Seisdon Peninsula CCG"},"V010536","80 Upper St John Street, LICHFIELD, Staffordshire, WS14 9DX","WS14 9DX","WS14"]
[null,null,null,null,null,null,null,null,null,null,null,null,null,null,null,"QNC",{"$f":"VLOOKUP(P3703,'[1]CCG & RG names'!D:E,2,0)","v":"Staffordshire & Stoke on Trent STP"},"05V",{"$f":"VLOOKUP(R3703,'[1]CCG & RG names'!A:B,2,0)","v":"NHS Stafford and Surrounds CCG"},"V006583","Dental Surgery, 5 St Marys Place, STAFFORD, Staffordshire, ST16 2AR","ST16 2AR","ST16"]
[null,null,null,null,null,null,null,null,null,null,null,null,null,null,null,"QNC",{"$f":"VLOOKUP(P3706,'[1]CCG & RG names'!D:E,2,0)","v":"Staffordshire & Stoke on Trent STP"},"05V",{"$f":"VLOOKUP(R3706,'[1]CCG & RG names'!A:B,2,0)","v":"NHS Stafford and Surrounds CCG"},"V006611","C N Grocott and D Vlok, Dental Surgery, 18 Wolverhampton Road, STAFFORD, Staffordshire, ST17 4BP","ST17 4BP","ST17"]
[null,null,null,null,null,null,null,null,null,null,null,null,null,null,null,"QNC",{"$f":"VLOOKUP(P3713,'[1]CCG & RG names'!D:E,2,0)","v":"Staffordshire & Stoke on Trent STP"},"05V",{"$f":"VLOOKUP(R3713,'[1]CCG & RG names'!A:B,2,0)","v":"NHS Stafford and Surrounds CCG"},"V006695","Dental Dept., H M Prison, 54 Gaol Road, Stafford, Staffordshire, ST16 3AW","ST16 3AW","ST16"]
[null,null,null,null,null,null,null,null,null,null,null,null,null,null,null,"QNC",{"$f":"VLOOKUP(P3721,'[1]CCG & RG names'!D:E,2,0)","v":"Staffordshire & Stoke on Trent STP"},"05W",{"$f":"VLOOKUP(R3721,'[1]CCG & RG names'!A:B,2,0)","v":"NHS Stoke on Trent CCG"},"V000198","10 Pall Mall, STOKE ON TRENT, Staffordshire, ST1 1ER","ST1 1ER","ST1 "]
[null,null,null,null,null,null,null,null,null,null,null,null,null,null,null,"QNC",{"$f":"VLOOKUP(P3728,'[1]CCG & RG names'!D:E,2,0)","v":"Staffordshire & Stoke on Trent STP"},"05W",{"$f":"VLOOKUP(R3728,'[1]CCG & RG names'!A:B,2,0)","v":"NHS Stoke on Trent CCG"},"V006811","Dental Surgery, 3 Campbell Road, Stoke on Trent, Staffordshire, Staffordshire, ST4 4EA","ST4 4EA","ST4 "]
[null,null,null,null,null,null,null,null,null,null,null,null,null,null,null,"QNC",{"$f":"VLOOKUP(P3731,'[1]CCG & RG names'!D:E,2,0)","v":"Staffordshire & Stoke on Trent STP"},"05W",{"$f":"VLOOKUP(R3731,'[1]CCG & RG names'!A:B,2,0)","v":"NHS Stoke on Trent CCG"},"V006834","Dental Surgery, 26 Stoke Road, STOKE ON TRENT, Staffordshire, ST4 2QX","ST4 2QX","ST4 "]
[null,null,null,null,null,null,null,null,null,null,null,null,null,null,null,"QNC",{"$f":"VLOOKUP(P3737,'[1]CCG & RG names'!D:E,2,0)","v":"Staffordshire & Stoke on Trent STP"},"05W",{"$f":"VLOOKUP(R3737,'[1]CCG & RG names'!A:B,2,0)","v":"NHS Stoke on Trent CCG"},"V007403","Dental Surgery, 14 Diana Road, STOKE ON TRENT, Staffordshire, ST1 6RS","ST1 6RS","ST1 "]
[null,null,null,null,null,null,null,null,null,null,null,null,null,null,null,"QNC",{"$f":"VLOOKUP(P3740,'[1]CCG & RG names'!D:E,2,0)","v":"Staffordshire & Stoke on Trent STP"},"05W",{"$f":"VLOOKUP(R3740,'[1]CCG & RG names'!A:B,2,0)","v":"NHS Stoke on Trent CCG"},"V007408","The Boulevard Dental Practice, 73 The Boulevard, Tunstall, Stoke on Trent, Staffordshire, ST6 6BD","ST6 6BD","ST6 "]
[null,null,null,null,null,null,null,null,null,null,null,null,null,null,null,"QOC",{"$f":"VLOOKUP(P3749,'[1]CCG & RG names'!D:E,2,0)","v":"Shropshire and Telford and Wrekin STP"},"M2L0M",{"$f":"VLOOKUP(R3749,'[1]CCG & RG names'!A:B,2,0)","v":"NHS SHROPSHIRE, TELFORD AND WREKIN CCG"},"V002785","Dental Surgery, 20 Station Road, Albrighton, WOLVERHAMPTON, West Midlands, WV7 3QG","WV7 3QG","WV7 "]
[null,null,null,null,null,null,null,null,null,null,null,null,null,null,null,"QOC",{"$f":"VLOOKUP(P3752,'[1]CCG & RG names'!D:E,2,0)","v":"Shropshire and Telford and Wrekin STP"},"M2L0M",{"$f":"VLOOKUP(R3752,'[1]CCG & RG names'!A:B,2,0)","v":"NHS SHROPSHIRE, TELFORD AND WREKIN CCG"},"V006371","BroseleyDental Practice Ltd, 79 High Street, BROSELEY, Shropshire, TF12 5ET","TF12 5ET","TF12"]
[null,null,null,null,null,null,null,null,null,null,null,null,null,null,null,"QOC",{"$f":"VLOOKUP(P3762,'[1]CCG & RG names'!D:E,2,0)","v":"Shropshire and Telford and Wrekin STP"},"M2L0M",{"$f":"VLOOKUP(R3762,'[1]CCG & RG names'!A:B,2,0)","v":"NHS SHROPSHIRE, TELFORD AND WREKIN CCG"},"V006713","2 Claremont Buildings, Claremont Bank, SHREWSBURY, Shropshire, SY1 1RJ","SY1 1RJ","SY1 "]
[null,null,null,null,null,null,null,null,null,null,null,null,null,null,null,"QOC",{"$f":"VLOOKUP(P3767,'[1]CCG & RG names'!D:E,2,0)","v":"Shropshire and Telford and Wrekin STP"},"M2L0M",{"$f":"VLOOKUP(R3767,'[1]CCG & RG names'!A:B,2,0)","v":"NHS SHROPSHIRE, TELFORD AND WREKIN CCG"},"V006761","Butler And Finnigan, Dental Surgery, 2 Market Square, BISHOPS CASTLE, Shropshire, SY9 5BN","SY9 5BN","SY9 "]
[null,null,null,null,null,null,null,null,null,null,null,null,null,null,null,"QOC",{"$f":"VLOOKUP(P3774,'[1]CCG & RG names'!D:E,2,0)","v":"Shropshire and Telford and Wrekin STP"},"M2L0M",{"$f":"VLOOKUP(R3774,'[1]CCG & RG names'!A:B,2,0)","v":"NHS SHROPSHIRE, TELFORD AND WREKIN CCG"},"V006815","Shifnal Dental Practice, Park Street, SHIFNAL, Shropshire, TF11 9BG","TF11 9BG","TF11"]
[null,null,null,null,null,null,null,null,null,null,null,null,null,null,null,"QOC",{"$f":"VLOOKUP(P3777,'[1]CCG & RG names'!D:E,2,0)","v":"Shropshire and Telford and Wrekin STP"},"M2L0M",{"$f":"VLOOKUP(R3777,'[1]CCG & RG names'!A:B,2,0)","v":"NHS SHROPSHIRE, TELFORD AND WREKIN CCG"},"V007031","Oxon Dental Care, Roselyn, Welshpool Road, Bicton Heath, SHREWSBURY, SY3 5AH","SY3 5AH","SY3 "]
[null,null,null,null,null,null,null,null,null,null,null,null,null,null,null,"QOC",{"$f":"VLOOKUP(P3781,'[1]CCG & RG names'!D:E,2,0)","v":"Shropshire and Telford and Wrekin STP"},"M2L0M",{"$f":"VLOOKUP(R3781,'[1]CCG & RG names'!A:B,2,0)","v":"NHS SHROPSHIRE, TELFORD AND WREKIN CCG"},"V007101","Dental Surgery, 73 Whitchurch Road, SHREWSBURY, Shropshire, SY1 4EE","SY1 4EE","SY1 "]
[null,null,null,null,null,null,null,null,null,null,null,null,null,null,null,"QOC",{"$f":"VLOOKUP(P3786,'[1]CCG & RG names'!D:E,2,0)","v":"Shropshire and Telford and Wrekin STP"},"M2L0M",{"$f":"VLOOKUP(R3786,'[1]CCG & RG names'!A:B,2,0)","v":"NHS SHROPSHIRE, TELFORD AND WREKIN CCG"},"V007195","Pride Hill Dental Surgery, Butcher Row Chambers, Butcher Row, SHREWSBURY, Shropshire, SY1 1UW","SY1 1UW","SY1 "]
[null,null,null,null,null,null,null,null,null,null,null,null,null,null,null,"QOC",{"$f":"VLOOKUP(P3795,'[1]CCG & RG names'!D:E,2,0)","v":"Shropshire and Telford and Wrekin STP"},"M2L0M",{"$f":"VLOOKUP(R3795,'[1]CCG & RG names'!A:B,2,0)","v":"NHS SHROPSHIRE, TELFORD AND WREKIN CCG"},"V007232","Bridge Dental Centre, 2 Bridge Street, Oakengates, TELFORD, Shropshire, TF2 6AH","TF2 6AH","TF2 "]
[null,null,null,null,null,null,null,null,null,null,null,null,null,null,null,"QOC",{"$f":"VLOOKUP(P3802,'[1]CCG & RG names'!D:E,2,0)","v":"Shropshire and Telford and Wrekin STP"},"M2L0M",{"$f":"VLOOKUP(R3802,'[1]CCG & RG names'!A:B,2,0)","v":"NHS SHROPSHIRE, TELFORD AND WREKIN CCG"},"V007252","Integrated Dental Holdings, Unit 2, Hollinswood Court, Stafford Park 1, TELFORD, TF3 3DE","TF3 3DE","TF3 "]
[null,null,null,null,null,null,null,null,null,null,null,null,null,null,null,"QOC",{"$f":"VLOOKUP(P3806,'[1]CCG & RG names'!D:E,2,0)","v":"Shropshire and Telford and Wrekin STP"},"M2L0M",{"$f":"VLOOKUP(R3806,'[1]CCG & RG names'!A:B,2,0)","v":"NHS SHROPSHIRE, TELFORD AND WREKIN CCG"},"V009179","Woodside Dental Clinic, Park Lane Centre, Park Lane, Woodside, TELFORD, TF7 5QZ","TF7 5QZ","TF7 "]
[null,null,null,null,null,null,null,null,null,null,null,null,null,null,null,"QOC",{"$f":"VLOOKUP(P3813,'[1]CCG & RG names'!D:E,2,0)","v":"Shropshire and Telford and Wrekin STP"},"M2L0M",{"$f":"VLOOKUP(R3813,'[1]CCG & RG names'!A:B,2,0)","v":"NHS SHROPSHIRE, TELFORD AND WREKIN CCG"},"V012220","Shrewsbury Orthodontic Centre, 9 St Marys Place, Shrewsbury, Shropshire, SY1 1DZ","SY1 1DZ","SY1 "]
[null,null,null,null,null,null,null,null,null,null,null,null,null,null,null,"QOC",{"$f":"VLOOKUP(P3820,'[1]CCG & RG names'!D:E,2,0)","v":"Shropshire and Telford and Wrekin STP"},"M2L0M",{"$f":"VLOOKUP(R3820,'[1]CCG & RG names'!A:B,2,0)","v":"NHS SHROPSHIRE, TELFORD AND WREKIN CCG"},"V014879","Oswestry Dental, Primary Health Care Centre, Thomas Savin Road, Oswestry, SY11 1GA","SY11 1GA","SY11"]
[null,null,null,null,null,null,null,null,null,null,null,null,null,null,null,"QOC",{"$f":"VLOOKUP(P3823,'[1]CCG & RG names'!D:E,2,0)","v":"Shropshire and Telford and Wrekin STP"},"M2L0M",{"$f":"VLOOKUP(R3823,'[1]CCG & RG names'!A:B,2,0)","v":"NHS SHROPSHIRE, TELFORD AND WREKIN CCG"},"V026831","71 Castle Foregate, Shrewsbury, SY1 2EJ","SY1 2EJ","SY1 "]
[null,null,null,null,null,null,null,null,null,null,null,null,null,null,null,"QPM",{"$f":"VLOOKUP(P3830,'[1]CCG & RG names'!D:E,2,0)","v":"Northamptonshire STP"},"78H",{"$f":"VLOOKUP(R3830,'[1]CCG & RG names'!A:B,2,0)","v":"NHS Northamptonshire CCG"},"V005156","Dental Surgery, 9 London Road, KETTERING, Northamptonshire, NN16 0EF","NN16 0EF","NN16"]
[null,null,null,null,null,null,null,null,null,null,null,null,null,null,null,"QPM",{"$f":"VLOOKUP(P3832,'[1]CCG & RG names'!D:E,2,0)","v":"Northamptonshire STP"},"78H",{"$f":"VLOOKUP(R3832,'[1]CCG & RG names'!A:B,2,0)","v":"NHS Northamptonshire CCG"},"V005217","Family Dental Health Centre, 52 Rockingham Road, CORBY, Northamptonshire, NN17 1AE","NN17 1AE","NN17"]
[null,null,null,null,null,null,null,null,null,null,null,null,null,null,null,"QPM",{"$f":"VLOOKUP(P3841,'[1]CCG & RG names'!D:E,2,0)","v":"Northamptonshire STP"},"78H",{"$f":"VLOOKUP(R3841,'[1]CCG & RG names'!A:B,2,0)","v":"NHS Northamptonshire CCG"},"V005323","Burnawn House, High Street, Raunds, WELLINGBOROUGH, Northamptonshire, NN9 6HS","NN9 6HS","NN9 "]
[null,null,null,null,null,null,null,null,null,null,null,null,null,null,null,"QPM",{"$f":"VLOOKUP(P3848,'[1]CCG & RG names'!D:E,2,0)","v":"Northamptonshire STP"},"78H",{"$f":"VLOOKUP(R3848,'[1]CCG & RG names'!A:B,2,0)","v":"NHS Northamptonshire CCG"},"V005502","The Old School House, Orthodontic Centre, 9 Dryden Street, Kettering, Northamptonshire, NN16 8EU","NN16 8EU","NN16"]
[null,null,null,null,null,null,null,null,null,null,null,null,null,null,null,"QPM",{"$f":"VLOOKUP(P3850,'[1]CCG & RG names'!D:E,2,0)","v":"Northamptonshire STP"},"78H",{"$f":"VLOOKUP(R3850,'[1]CCG & RG names'!A:B,2,0)","v":"NHS Northamptonshire CCG"},"V006912","Dental Surgery, 7 High Street, Long Buckby, NORTHAMPTON, Northamptonshire, NN6 7RE","NN6 7RE","NN6 "]
[null,null,null,null,null,null,null,null,null,null,null,null,null,null,null,"QPM",{"$f":"VLOOKUP(P3859,'[1]CCG & RG names'!D:E,2,0)","v":"Northamptonshire STP"},"78H",{"$f":"VLOOKUP(R3859,'[1]CCG & RG names'!A:B,2,0)","v":"NHS Northamptonshire CCG"},"V007689","Dental Surgery, 74 Main Road, Duston, NORTHAMPTON, Northamptonshire, NN5 6JN","NN5 6JN","NN5 "]
[null,null,null,null,null,null,null,null,null,null,null,null,null,null,null,"QPM",{"$f":"VLOOKUP(P3866,'[1]CCG & RG names'!D:E,2,0)","v":"Northamptonshire STP"},"78H",{"$f":"VLOOKUP(R3866,'[1]CCG & RG names'!A:B,2,0)","v":"NHS Northamptonshire CCG"},"V007776","Dental Surgery, Rowtree Road, NORTHAMPTON, Northamptonshire, NN4 0NY","NN4 0NY","NN4 "]
[null,null,null,null,null,null,null,null,null,null,null,null,null,null,null,"QPM",{"$f":"VLOOKUP(P3869,'[1]CCG & RG names'!D:E,2,0)","v":"Northamptonshire STP"},"78H",{"$f":"VLOOKUP(R3869,'[1]CCG & RG names'!A:B,2,0)","v":"NHS Northamptonshire CCG"},"V007810","The Dental Surgery, 42 Kingsley Road, Northampton, NN2 7BL","NN2 7BL","NN2 "]
[null,null,null,null,null,null,null,null,null,null,null,null,null,null,null,"QPM",{"$f":"VLOOKUP(P3874,'[1]CCG & RG names'!D:E,2,0)","v":"Northamptonshire STP"},"78H",{"$f":"VLOOKUP(R3874,'[1]CCG & RG names'!A:B,2,0)","v":"NHS Northamptonshire CCG"},"V007943","Dental Surgery, 73 Weedon Road, NORTHAMPTON, Northamptonshire, NN5 5BG","NN5 5BG","NN5 "]
[null,null,null,null,null,null,null,null,null,null,null,null,null,null,null,"QPM",{"$f":"VLOOKUP(P3878,'[1]CCG & RG names'!D:E,2,0)","v":"Northamptonshire STP"},"78H",{"$f":"VLOOKUP(R3878,'[1]CCG & RG names'!A:B,2,0)","v":"NHS Northamptonshire CCG"},"V008028","Victoria Promenade Dental, Surgery, 16 Victoria Promenade, NORTHAMPTON, Northamptonshire, NN1 1HH","NN1 1HH","NN1 "]
[null,null,null,null,null,null,null,null,null,null,null,null,null,null,null,"QPM",{"$f":"VLOOKUP(P3887,'[1]CCG & RG names'!D:E,2,0)","v":"Northamptonshire STP"},"78H",{"$f":"VLOOKUP(R3887,'[1]CCG & RG names'!A:B,2,0)","v":"NHS Northamptonshire CCG"},"V012219","29 Harborough Road, NORTHAMPTON, Northamptonshire, NN2 7BB","NN2 7BB","NN2 "]
[null,null,null,null,null,null,null,null,null,null,null,null,null,null,null,"QPM",{"$f":"VLOOKUP(P3893,'[1]CCG & RG names'!D:E,2,0)","v":"Northamptonshire STP"},"78H",{"$f":"VLOOKUP(R3893,'[1]CCG & RG names'!A:B,2,0)","v":"NHS Northamptonshire CCG"},"V016056","54-56, Kingsley Road, Northampton, NN2 7BL","NN2 7BL","NN2 "]
[null,null,null,null,null,null,null,null,null,null,null,null,null,null,null,"QPM",{"$f":"VLOOKUP(P3896,'[1]CCG & RG names'!D:E,2,0)","v":"Northamptonshire STP"},"78H",{"$f":"VLOOKUP(R3896,'[1]CCG & RG names'!A:B,2,0)","v":"NHS Northamptonshire CCG"},"V026782","Redhill Dental Care, 4 FARM ROAD, WELLINGBOROUGH, NORTHAMPTONSHIRE, NN8 4UF","NN8 4UF","NN8 "]
[null,null,null,null,null,null,null,null,null,null,null,null,null,null,null,"QT1",{"$f":"VLOOKUP(P3905,'[1]CCG & RG names'!D:E,2,0)","v":"Nottingham and Nottinghamshire Health and Care STP"},"52R",{"$f":"VLOOKUP(R3905,'[1]CCG & RG names'!A:B,2,0)","v":"NHS Nottingham and Nottinghamshire CCG"},"V001906","Keyworth Dental Practice, 18A The Square, Keyworth, NOTTINGHAM, Nottinghamshire, NG12 5JT","NG12 5JT","NG12"]
[null,null,null,null,null,null,null,null,null,null,null,null,null,null,null,"QT1",{"$f":"VLOOKUP(P3912,'[1]CCG & RG names'!D:E,2,0)","v":"Nottingham and Nottinghamshire Health and Care STP"},"52R",{"$f":"VLOOKUP(R3912,'[1]CCG & RG names'!A:B,2,0)","v":"NHS Nottingham and Nottinghamshire CCG"},"V001918","The Village Dental Surgery, 50 Main Street, East Leake, LOUGHBOROUGH, Leicestershire, LE12 6PG","LE12 6PG","LE12"]
[null,null,null,null,null,null,null,null,null,null,null,null,null,null,null,"QT1",{"$f":"VLOOKUP(P3917,'[1]CCG & RG names'!D:E,2,0)","v":"Nottingham and Nottinghamshire Health and Care STP"},"52R",{"$f":"VLOOKUP(R3917,'[1]CCG & RG names'!A:B,2,0)","v":"NHS Nottingham and Nottinghamshire CCG"},"V001926","Dental Surgery, 1 Hilton Crescent, West Bridgford, NOTTINGHAM, Nottinghamshire, NG2 6HT","NG2 6HT","NG2 "]
[null,null,null,null,null,null,null,null,null,null,null,null,null,null,null,"QT1",{"$f":"VLOOKUP(P3921,'[1]CCG & RG names'!D:E,2,0)","v":"Nottingham and Nottinghamshire Health and Care STP"},"52R",{"$f":"VLOOKUP(R3921,'[1]CCG & RG names'!A:B,2,0)","v":"NHS Nottingham and Nottinghamshire CCG"},"V001930","5 Davies Road, West Bridgford, NOTTINGHAM, Nottinghamshire, NG2 5JE","NG2 5JE","NG2 "]
[null,null,null,null,null,null,null,null,null,null,null,null,null,null,null,"QT1",{"$f":"VLOOKUP(P3924,'[1]CCG & RG names'!D:E,2,0)","v":"Nottingham and Nottinghamshire Health and Care STP"},"52R",{"$f":"VLOOKUP(R3924,'[1]CCG & RG names'!A:B,2,0)","v":"NHS Nottingham and Nottinghamshire CCG"},"V002111","ADP Mansfield Ltd, 23 Bath Lane, MANSFIELD, Nottinghamshire, NG18 2BU","NG18 2BU","NG18"]
[null,null,null,null,null,null,null,null,null,null,null,null,null,null,null,"QT1",{"$f":"VLOOKUP(P3933,'[1]CCG & RG names'!D:E,2,0)","v":"Nottingham and Nottinghamshire Health and Care STP"},"52R",{"$f":"VLOOKUP(R3933,'[1]CCG & RG names'!A:B,2,0)","v":"NHS Nottingham and Nottinghamshire CCG"},"V003071","Dental Surgery, Sherwood Parade, Kirklington Road, Rainworth, MANSFIELD, NG21 0JP","NG21 0JP","NG21"]
[null,null,null,null,null,null,null,null,null,null,null,null,null,null,null,"QT1",{"$f":"VLOOKUP(P3937,'[1]CCG & RG names'!D:E,2,0)","v":"Nottingham and Nottinghamshire Health and Care STP"},"52R",{"$f":"VLOOKUP(R3937,'[1]CCG & RG names'!A:B,2,0)","v":"NHS Nottingham and Nottinghamshire CCG"},"V003394","The Peartree Dental Centre, 22 Nottingham Road, Burton Joyce, NOTTINGHAM, Nottinghamshire, NG14 5AE","NG14 5AE","NG14"]
[null,null,null,null,null,null,null,null,null,null,null,null,null,null,null,"QT1",{"$f":"VLOOKUP(P3942,'[1]CCG & RG names'!D:E,2,0)","v":"Nottingham and Nottinghamshire Health and Care STP"},"52R",{"$f":"VLOOKUP(R3942,'[1]CCG & RG names'!A:B,2,0)","v":"NHS Nottingham and Nottinghamshire CCG"},"V003402","Dental Surgery, 109A Front Street, Arnold, NOTTINGHAM, Nottinghamshire, NG5 7ED","NG5 7ED","NG5 "]
[null,null,null,null,null,null,null,null,null,null,null,null,null,null,null,"QT1",{"$f":"VLOOKUP(P3951,'[1]CCG & RG names'!D:E,2,0)","v":"Nottingham and Nottinghamshire Health and Care STP"},"52R",{"$f":"VLOOKUP(R3951,'[1]CCG & RG names'!A:B,2,0)","v":"NHS Nottingham and Nottinghamshire CCG"},"V003656","Dental Surgery, 1 St Albans Road, NOTTINGHAM, Nottinghamshire, NG6 9JQ","NG6 9JQ","NG6 "]
[null,null,null,null,null,null,null,null,null,null,null,null,null,null,null,"QT1",{"$f":"VLOOKUP(P3958,'[1]CCG & RG names'!D:E,2,0)","v":"Nottingham and Nottinghamshire Health and Care STP"},"52R",{"$f":"VLOOKUP(R3958,'[1]CCG & RG names'!A:B,2,0)","v":"NHS Nottingham and Nottinghamshire CCG"},"V003663","Grangewood Dental Practice, 146 Bramcote Lane, NOTTINGHAM, Nottinghamshire, NG8 2QP","NG8 2QP","NG8 "]
[null,null,null,null,null,null,null,null,null,null,null,null,null,null,null,"QT1",{"$f":"VLOOKUP(P3961,'[1]CCG & RG names'!D:E,2,0)","v":"Nottingham and Nottinghamshire Health and Care STP"},"52R",{"$f":"VLOOKUP(R3961,'[1]CCG & RG names'!A:B,2,0)","v":"NHS Nottingham and Nottinghamshire CCG"},"V003666","Family Medical Centre, 171 Carlton Road, NOTTINGHAM, Nottinghamshire, NG3 2FW","NG3 2FW","NG3 "]
[null,null,null,null,null,null,null,null,null,null,null,null,null,null,null,"QT1",{"$f":"VLOOKUP(P3967,'[1]CCG & RG names'!D:E,2,0)","v":"Nottingham and Nottinghamshire Health and Care STP"},"52R",{"$f":"VLOOKUP(R3967,'[1]CCG & RG names'!A:B,2,0)","v":"NHS Nottingham and Nottinghamshire CCG"},"V003673","Lyndhurst Family Dental Centre, 110 - 114 Sneinton Dale, NOTTINGHAM, Nottinghamshire, NG2 4HG","NG2 4HG","NG2 "]
[null,null,null,null,null,null,null,null,null,null,null,null,null,null,null,"QT1",{"$f":"VLOOKUP(P3970,'[1]CCG & RG names'!D:E,2,0)","v":"Nottingham and Nottinghamshire Health and Care STP"},"52R",{"$f":"VLOOKUP(R3970,'[1]CCG & RG names'!A:B,2,0)","v":"NHS Nottingham and Nottinghamshire CCG"},"V003678","Dental Surgery, 431 Woodborough Road, NOTTINGHAM, Nottinghamshire, NG3 5FF","NG3 5FF","NG3 "]
[null,null,null,null,null,null,null,null,null,null,null,null,null,null,null,"QT1",{"$f":"VLOOKUP(P3979,'[1]CCG & RG names'!D:E,2,0)","v":"Nottingham and Nottinghamshire Health and Care STP"},"52R",{"$f":"VLOOKUP(R3979,'[1]CCG & RG names'!A:B,2,0)","v":"NHS Nottingham and Nottinghamshire CCG"},"V003701","Cripps Dental Centre, University of Nottingham, University Park, Nottingham, Nottinghamshire, NG7 2RD","NG7 2RD","NG7 "]
[null,null,null,null,null,null,null,null,null,null,null,null,null,null,null,"QT1",{"$f":"VLOOKUP(P3986,'[1]CCG & RG names'!D:E,2,0)","v":"Nottingham and Nottinghamshire Health and Care STP"},"52R",{"$f":"VLOOKUP(R3986,'[1]CCG & RG names'!A:B,2,0)","v":"NHS Nottingham and Nottinghamshire CCG"},"V004383","Dental Surgery, 3 Devonshire Avenue, Beeston, NOTTINGHAM, Nottinghamshire, NG9 1BS","NG9 1BS","NG9 "]
[null,null,null,null,null,null,null,null,null,null,null,null,null,null,null,"QT1",{"$f":"VLOOKUP(P3988,'[1]CCG & RG names'!D:E,2,0)","v":"Nottingham and Nottinghamshire Health and Care STP"},"52R",{"$f":"VLOOKUP(R3988,'[1]CCG & RG names'!A:B,2,0)","v":"NHS Nottingham and Nottinghamshire CCG"},"V004424","Hall & Purchase, Forest Road, New Ollerton, NEWARK, Nottinghamshire, NG22 9PR","NG22 9PR","NG22"]
[null,null,null,null,null,null,null,null,null,null,null,null,null,null,null,"QT1",{"$f":"VLOOKUP(P3995,'[1]CCG & RG names'!D:E,2,0)","v":"Nottingham and Nottinghamshire Health and Care STP"},"52R",{"$f":"VLOOKUP(R3995,'[1]CCG & RG names'!A:B,2,0)","v":"NHS Nottingham and Nottinghamshire CCG"},"V005491","Portland Rd Family Dent Centre, Dental Surgery, 7 Portland Road, Hucknall, NOTTINGHAM, NG15 7SL","NG15 7SL","NG15"]
[null,null,null,null,null,null,null,null,null,null,null,null,null,null,null,"QT1",{"$f":"VLOOKUP(P4004,'[1]CCG & RG names'!D:E,2,0)","v":"Nottingham and Nottinghamshire Health and Care STP"},"52R",{"$f":"VLOOKUP(R4004,'[1]CCG & RG names'!A:B,2,0)","v":"NHS Nottingham and Nottinghamshire CCG"},"V013556","89 Wilford Road, Ruddington, NOTTINGHAM, Nottinghamshire, NG11 6BN","NG11 6BN","NG11"]
[null,null,null,null,null,null,null,null,null,null,null,null,null,null,null,"QT1",{"$f":"VLOOKUP(P4005,'[1]CCG & RG names'!D:E,2,0)","v":"Nottingham and Nottinghamshire Health and Care STP"},"52R",{"$f":"VLOOKUP(R4005,'[1]CCG & RG names'!A:B,2,0)","v":"NHS Nottingham and Nottinghamshire CCG"},"V013730","Sherwood Dental Practice, 65-69 High street, Mansfield Woodhouse, Nottinghamshire, NG19 8BB","NG19 8BB","NG19"]
[null,null,null,null,null,null,null,null,null,null,null,null,null,null,null,"QT1",{"$f":"VLOOKUP(P4013,'[1]CCG & RG names'!D:E,2,0)","v":"Nottingham and Nottinghamshire Health and Care STP"},"52R",{"$f":"VLOOKUP(R4013,'[1]CCG & RG names'!A:B,2,0)","v":"NHS Nottingham and Nottinghamshire CCG"},"V016991","Carlton Dental Care, 360-362 Carlton Hill, Carlton, Nottingham, NG4 1JB","NG4 1JB","NG4 "]
[null,null,null,null,null,null,null,null,null,null,null,null,null,null,null,"QT1",{"$f":"VLOOKUP(P4016,'[1]CCG & RG names'!D:E,2,0)","v":"Nottingham and Nottinghamshire Health and Care STP"},"52R",{"$f":"VLOOKUP(R4016,'[1]CCG & RG names'!A:B,2,0)","v":"NHS Nottingham and Nottinghamshire CCG"},"V020028","Stockwell Gate, Mansfield, Nottinghamshire, NG18 5QJ","NG18 5QJ","NG18"]
[null,null,null,null,null,null,null,null,null,null,null,null,null,null,null,"QT1",{"$f":"VLOOKUP(P4025,'[1]CCG & RG names'!D:E,2,0)","v":"Nottingham and Nottinghamshire Health and Care STP"},"52R",{"$f":"VLOOKUP(R4025,'[1]CCG & RG names'!A:B,2,0)","v":"NHS Nottingham and Nottinghamshire CCG"},"V187942","41-45 St Mary's Gate, Nottingham, Nottinghamshire, NG1 1PU","NG1 1PU","NG1 "]
[null,null,null,null,null,null,null,null,null,null,null,null,null,null,null,"QUA",{"$f":"VLOOKUP(P4030,'[1]CCG & RG names'!D:E,2,0)","v":"The Black Country and West Birmingham STP"},"D2P2L",{"$f":"VLOOKUP(R4030,'[1]CCG & RG names'!A:B,2,0)","v":"NHS BLACK COUNTRY AND WEST BIRMINGHAM CCG"},"V001522","Dental Surgery, 26 The Square, Lichfield Road, WILLENHALL, West Midlands, WV12 5EA","WV12 5EA","WV12"]
[null,null,null,null,null,null,null,null,null,null,null,null,null,null,null,"QUA",{"$f":"VLOOKUP(P4034,'[1]CCG & RG names'!D:E,2,0)","v":"The Black Country and West Birmingham STP"},"D2P2L",{"$f":"VLOOKUP(R4034,'[1]CCG & RG names'!A:B,2,0)","v":"NHS BLACK COUNTRY AND WEST BIRMINGHAM CCG"},"V003347","The Gables Dental Practice, 9 St James Road, DUDLEY, West Midlands, DY1 1JG","DY1 1JG","DY1 "]
[null,null,null,null,null,null,null,null,null,null,null,null,null,null,null,"QUA",{"$f":"VLOOKUP(P4041,'[1]CCG & RG names'!D:E,2,0)","v":"The Black Country and West Birmingham STP"},"D2P2L",{"$f":"VLOOKUP(R4041,'[1]CCG & RG names'!A:B,2,0)","v":"NHS BLACK COUNTRY AND WEST BIRMINGHAM CCG"},"V003438","Bhandal Dental Practice, 1 Marriott Road, DUDLEY, West Midlands, DY2 0LN","DY2 0LN","DY2 "]
[null,null,null,null,null,null,null,null,null,null,null,null,null,null,null,"QUA",{"$f":"VLOOKUP(P4050,'[1]CCG & RG names'!D:E,2,0)","v":"The Black Country and West Birmingham STP"},"D2P2L",{"$f":"VLOOKUP(R4050,'[1]CCG & RG names'!A:B,2,0)","v":"NHS BLACK COUNTRY AND WEST BIRMINGHAM CCG"},"V004082","Kingswinford Health Centre, Dental Surgery, Standhills Road, Kingswinford, West Midlands, DY6 8DN","DY6 8DN","DY6 "]
[null,null,null,null,null,null,null,null,null,null,null,null,null,null,null,"QUA",{"$f":"VLOOKUP(P4054,'[1]CCG & RG names'!D:E,2,0)","v":"The Black Country and West Birmingham STP"},"D2P2L",{"$f":"VLOOKUP(R4054,'[1]CCG & RG names'!A:B,2,0)","v":"NHS BLACK COUNTRY AND WEST BIRMINGHAM CCG"},"V004101","Bhandal Dental Practice, 179 - 180 High Street, Quarry Bank, Brierley Hill, West Midlands, DY5 2AB","DY5 2AB","DY5 "]
[null,null,null,null,null,null,null,null,null,null,null,null,null,null,null,"QUA",{"$f":"VLOOKUP(P4059,'[1]CCG & RG names'!D:E,2,0)","v":"The Black Country and West Birmingham STP"},"D2P2L",{"$f":"VLOOKUP(R4059,'[1]CCG & RG names'!A:B,2,0)","v":"NHS BLACK COUNTRY AND WEST BIRMINGHAM CCG"},"V004107","Castle View Dental Practice, 269 Castle Street, Dudley, West Midlands, DY1 1LQ","DY1 1LQ","DY1 "]
[null,null,null,null,null,null,null,null,null,null,null,null,null,null,null,"QUA",{"$f":"VLOOKUP(P4062,'[1]CCG & RG names'!D:E,2,0)","v":"The Black Country and West Birmingham STP"},"D2P2L",{"$f":"VLOOKUP(R4062,'[1]CCG & RG names'!A:B,2,0)","v":"NHS BLACK COUNTRY AND WEST BIRMINGHAM CCG"},"V004248","Morgan Dental Practice, Rumbow House, Rumbow, Halesowen, West Midlands, B63 3HU","B63 3HU","B63 "]
[null,null,null,null,null,null,null,null,null,null,null,null,null,null,null,"QUA",{"$f":"VLOOKUP(P4071,'[1]CCG & RG names'!D:E,2,0)","v":"The Black Country and West Birmingham STP"},"D2P2L",{"$f":"VLOOKUP(R4071,'[1]CCG & RG names'!A:B,2,0)","v":"NHS BLACK COUNTRY AND WEST BIRMINGHAM CCG"},"V004840","Dental Surgery, 15 Shopping Centre, Wheeler Street, BIRMINGHAM, West Midlands, B19 2ER","B19 2ER","B19 "]
[null,null,null,null,null,null,null,null,null,null,null,null,null,null,null,"QUA",{"$f":"VLOOKUP(P4074,'[1]CCG & RG names'!D:E,2,0)","v":"The Black Country and West Birmingham STP"},"D2P2L",{"$f":"VLOOKUP(R4074,'[1]CCG & RG names'!A:B,2,0)","v":"NHS BLACK COUNTRY AND WEST BIRMINGHAM CCG"},"V004897","Grove Lane Dental Surgery, 105 Grove Lane, Handsworth, BIRMINGHAM, West Midlands, B21 9HF","B21 9HF","B21 "]
[null,null,null,null,null,null,null,null,null,null,null,null,null,null,null,"QUA",{"$f":"VLOOKUP(P4080,'[1]CCG & RG names'!D:E,2,0)","v":"The Black Country and West Birmingham STP"},"D2P2L",{"$f":"VLOOKUP(R4080,'[1]CCG & RG names'!A:B,2,0)","v":"NHS BLACK COUNTRY AND WEST BIRMINGHAM CCG"},"V005051","Dental Surgery, 32 36 Englestede Close, BIRMINGHAM, West Midlands, B20 1BJ","B20 1BJ","B20 "]
[null,null,null,null,null,null,null,null,null,null,null,null,null,null,null,"QUA",{"$f":"VLOOKUP(P4087,'[1]CCG & RG names'!D:E,2,0)","v":"The Black Country and West Birmingham STP"},"D2P2L",{"$f":"VLOOKUP(R4087,'[1]CCG & RG names'!A:B,2,0)","v":"NHS BLACK COUNTRY AND WEST BIRMINGHAM CCG"},"V006351","Dental Surgery, 47 - 48 Dudley Street, WOLVERHAMPTON, West Midlands, WV1 3ER","WV1 3ER","WV1 "]
[null,null,null,null,null,null,null,null,null,null,null,null,null,null,null,"QUA",{"$f":"VLOOKUP(P4096,'[1]CCG & RG names'!D:E,2,0)","v":"The Black Country and West Birmingham STP"},"D2P2L",{"$f":"VLOOKUP(R4096,'[1]CCG & RG names'!A:B,2,0)","v":"NHS BLACK COUNTRY AND WEST BIRMINGHAM CCG"},"V006392","Dental Surgery, 9 - 10 Three Tuns Parade, Stafford Road, WOLVERHAMPTON, West Midlands, WV10 6BA","WV10 6BA","WV10"]
[null,null,null,null,null,null,null,null,null,null,null,null,null,null,null,"QUA",{"$f":"VLOOKUP(P4098,'[1]CCG & RG names'!D:E,2,0)","v":"The Black Country and West Birmingham STP"},"D2P2L",{"$f":"VLOOKUP(R4098,'[1]CCG & RG names'!A:B,2,0)","v":"NHS BLACK COUNTRY AND WEST BIRMINGHAM CCG"},"V006393","Cannock Road Dental Practice, 108/110 Cannock Road, Wednesfield, WOLVERHAMPTON, West Midlands, WV10 8PW","WV10 8PW","WV10"]
[null,null,null,null,null,null,null,null,null,null,null,null,null,null,null,"QUA",{"$f":"VLOOKUP(P4105,'[1]CCG & RG names'!D:E,2,0)","v":"The Black Country and West Birmingham STP"},"D2P2L",{"$f":"VLOOKUP(R4105,'[1]CCG & RG names'!A:B,2,0)","v":"NHS BLACK COUNTRY AND WEST BIRMINGHAM CCG"},"V006405","Dental Surgery, 74 Lichfield Road, WOLVERHAMPTON, West Midlands, WV11 1TP","WV11 1TP","WV11"]
[null,null,null,null,null,null,null,null,null,null,null,null,null,null,null,"QUA",{"$f":"VLOOKUP(P4108,'[1]CCG & RG names'!D:E,2,0)","v":"The Black Country and West Birmingham STP"},"D2P2L",{"$f":"VLOOKUP(R4108,'[1]CCG & RG names'!A:B,2,0)","v":"NHS BLACK COUNTRY AND WEST BIRMINGHAM CCG"},"V006452","Bilston Dental Practice, Dental Surgery, 218 Wellington Road, BILSTON, West Midlands, WV14 6RL","WV14 6RL","WV14"]
[null,null,null,null,null,null,null,null,null,null,null,null,null,null,null,"QUA",{"$f":"VLOOKUP(P4117,'[1]CCG & RG names'!D:E,2,0)","v":"The Black Country and West Birmingham STP"},"D2P2L",{"$f":"VLOOKUP(R4117,'[1]CCG & RG names'!A:B,2,0)","v":"NHS BLACK COUNTRY AND WEST BIRMINGHAM CCG"},"V006952","Ground Floor, 1 - 3 Walsall Road, WEDNESBURY, West Midlands, WS10 9JL","WS10 9JL","WS10"]
[null,null,null,null,null,null,null,null,null,null,null,null,null,null,null,"QUA",{"$f":"VLOOKUP(P4123,'[1]CCG & RG names'!D:E,2,0)","v":"The Black Country and West Birmingham STP"},"D2P2L",{"$f":"VLOOKUP(R4123,'[1]CCG & RG names'!A:B,2,0)","v":"NHS BLACK COUNTRY AND WEST BIRMINGHAM CCG"},"V006964","Dental Surgery, 21 Portland Road, WALSALL, West Midlands, WS9 8NS","WS9 8NS","WS9 "]
[null,null,null,null,null,null,null,null,null,null,null,null,null,null,null,"QUA",{"$f":"VLOOKUP(P4126,'[1]CCG & RG names'!D:E,2,0)","v":"The Black Country and West Birmingham STP"},"D2P2L",{"$f":"VLOOKUP(R4126,'[1]CCG & RG names'!A:B,2,0)","v":"NHS BLACK COUNTRY AND WEST BIRMINGHAM CCG"},"V006971","Dental Surgery, 150 152 Caldmore Road, WALSALL, West Midlands, WS1 3RF","WS1 3RF","WS1 "]
[null,null,null,null,null,null,null,null,null,null,null,null,null,null,null,"QUA",{"$f":"VLOOKUP(P4133,'[1]CCG & RG names'!D:E,2,0)","v":"The Black Country and West Birmingham STP"},"D2P2L",{"$f":"VLOOKUP(R4133,'[1]CCG & RG names'!A:B,2,0)","v":"NHS BLACK COUNTRY AND WEST BIRMINGHAM CCG"},"V006990","Dental Surgery, 71 New Road, Willenhall, West Midlands, WV13 2DA","WV13 2DA","WV13"]
[null,null,null,null,null,null,null,null,null,null,null,null,null,null,null,"QUA",{"$f":"VLOOKUP(P4141,'[1]CCG & RG names'!D:E,2,0)","v":"The Black Country and West Birmingham STP"},"D2P2L",{"$f":"VLOOKUP(R4141,'[1]CCG & RG names'!A:B,2,0)","v":"NHS BLACK COUNTRY AND WEST BIRMINGHAM CCG"},"V008162","Dental Surgery, 10 Church Square, OLDBURY, West Midlands, B69 4DX","B69 4DX","B69 "]
[null,null,null,null,null,null,null,null,null,null,null,null,null,null,null,"QUA",{"$f":"VLOOKUP(P4144,'[1]CCG & RG names'!D:E,2,0)","v":"The Black Country and West Birmingham STP"},"D2P2L",{"$f":"VLOOKUP(R4144,'[1]CCG & RG names'!A:B,2,0)","v":"NHS BLACK COUNTRY AND WEST BIRMINGHAM CCG"},"V008168","80 Sandon Road, Smethwick, West Midlands, B66 4AG","B66 4AG","B66 "]
[null,null,null,null,null,null,null,null,null,null,null,null,null,null,null,"QUA",{"$f":"VLOOKUP(P4151,'[1]CCG & RG names'!D:E,2,0)","v":"The Black Country and West Birmingham STP"},"D2P2L",{"$f":"VLOOKUP(R4151,'[1]CCG & RG names'!A:B,2,0)","v":"NHS BLACK COUNTRY AND WEST BIRMINGHAM CCG"},"V008335","Dental Surgery, 122-123 Walsall Street, WEDNESBURY, West Midlands, WS10 9BY","WS10 9BY","WS10"]
[null,null,null,null,null,null,null,null,null,null,null,null,null,null,null,"QUA",{"$f":"VLOOKUP(P4154,'[1]CCG & RG names'!D:E,2,0)","v":"The Black Country and West Birmingham STP"},"D2P2L",{"$f":"VLOOKUP(R4154,'[1]CCG & RG names'!A:B,2,0)","v":"NHS BLACK COUNTRY AND WEST BIRMINGHAM CCG"},"V008367","Dental Surgery, Asden House, 1 5 Victoria Street, WEST BROMWICH, West Midlands, B70 8ET","B70 8ET","B70 "]
[null,null,null,null,null,null,null,null,null,null,null,null,null,null,null,"QUA",{"$f":"VLOOKUP(P4161,'[1]CCG & RG names'!D:E,2,0)","v":"The Black Country and West Birmingham STP"},"D2P2L",{"$f":"VLOOKUP(R4161,'[1]CCG & RG names'!A:B,2,0)","v":"NHS BLACK COUNTRY AND WEST BIRMINGHAM CCG"},"V008389","Dental Surgery, 73 Victoria Road, TIPTON, West Midlands, DY4 8SW","DY4 8SW","DY4 "]
[null,null,null,null,null,null,null,null,null,null,null,null,null,null,null,"QUA",{"$f":"VLOOKUP(P4169,'[1]CCG & RG names'!D:E,2,0)","v":"The Black Country and West Birmingham STP"},"D2P2L",{"$f":"VLOOKUP(R4169,'[1]CCG & RG names'!A:B,2,0)","v":"NHS BLACK COUNTRY AND WEST BIRMINGHAM CCG"},"V010855","Glebefields Health Centre, St Marks Road, TIPTON, West Midlands, DY4 0UB","DY4 0UB","DY4 "]
[null,null,null,null,null,null,null,null,null,null,null,null,null,null,null,"QUA",{"$f":"VLOOKUP(P4172,'[1]CCG & RG names'!D:E,2,0)","v":"The Black Country and West Birmingham STP"},"D2P2L",{"$f":"VLOOKUP(R4172,'[1]CCG & RG names'!A:B,2,0)","v":"NHS BLACK COUNTRY AND WEST BIRMINGHAM CCG"},"V012744","78 Bridgnorth Road, Wollaston, STOURBRIDGE, West Midlands, DY8 3PA","DY8 3PA","DY8 "]
[null,null,null,null,null,null,null,null,null,null,null,null,null,null,null,"QUA",{"$f":"VLOOKUP(P4179,'[1]CCG & RG names'!D:E,2,0)","v":"The Black Country and West Birmingham STP"},"D2P2L",{"$f":"VLOOKUP(R4179,'[1]CCG & RG names'!A:B,2,0)","v":"NHS BLACK COUNTRY AND WEST BIRMINGHAM CCG"},"V014059","OASIS DENTAL CARE TIPTON, 1 OWEN STREET, TIPTON, WEST MIDLANDS, DY4 8HB","DY4 8HB","DY4 "]
[null,null,null,null,null,null,null,null,null,null,null,null,null,null,null,"QUA",{"$f":"VLOOKUP(P4185,'[1]CCG & RG names'!D:E,2,0)","v":"The Black Country and West Birmingham STP"},"D2P2L",{"$f":"VLOOKUP(R4185,'[1]CCG & RG names'!A:B,2,0)","v":"NHS BLACK COUNTRY AND WEST BIRMINGHAM CCG"},"V021942","2 Unity Walk, Tipton, West Midlands, DY4 8QL","DY4 8QL","DY4 "]
[null,null,null,null,null,null,null,null,null,null,null,null,null,null,null,"QUA",{"$f":"VLOOKUP(P4190,'[1]CCG & RG names'!D:E,2,0)","v":"The Black Country and West Birmingham STP"},"D2P2L",{"$f":"VLOOKUP(R4190,'[1]CCG & RG names'!A:B,2,0)","v":"NHS BLACK COUNTRY AND WEST BIRMINGHAM CCG"},"V100550","9-11, MARKET PLACE, GREAT BRIDGE, TIPTON, DY4 7AR","DY4 7AR","DY4 "]
[null,null,null,null,null,null,null,null,null,null,null,null,null,null,null,"QWU",{"$f":"VLOOKUP(P4197,'[1]CCG & RG names'!D:E,2,0)","v":"Coventry and Warwickshire STP"},"B2M3M",{"$f":"VLOOKUP(R4197,'[1]CCG & RG names'!A:B,2,0)","v":"NHS COVENTRY AND WARWICKSHIRE CCG"},"V006046","Dental Surgery, 12 Clifton Road, RUGBY, Warwickshire, CV21 3QF","CV21 3QF","CV21"]
[null,null,null,null,null,null,null,null,null,null,null,null,null,null,null,"QWU",{"$f":"VLOOKUP(P4200,'[1]CCG & RG names'!D:E,2,0)","v":"Coventry and Warwickshire STP"},"B2M3M",{"$f":"VLOOKUP(R4200,'[1]CCG & RG names'!A:B,2,0)","v":"NHS COVENTRY AND WARWICKSHIRE CCG"},"V006051","One Dental, 51 53 Albert Street, RUGBY, Warwickshire, CV21 2SG","CV21 2SG","CV21"]
[null,null,null,null,null,null,null,null,null,null,null,null,null,null,null,"QWU",{"$f":"VLOOKUP(P4210,'[1]CCG & RG names'!D:E,2,0)","v":"Coventry and Warwickshire STP"},"B2M3M",{"$f":"VLOOKUP(R4210,'[1]CCG & RG names'!A:B,2,0)","v":"NHS COVENTRY AND WARWICKSHIRE CCG"},"V006087","Camphill Dental Practice, 206 Camp Hill Road, NUNEATON, Warwickshire, CV10 0JL","CV10 0JL","CV10"]
[null,null,null,null,null,null,null,null,null,null,null,null,null,null,null,"QWU",{"$f":"VLOOKUP(P4215,'[1]CCG & RG names'!D:E,2,0)","v":"Coventry and Warwickshire STP"},"B2M3M",{"$f":"VLOOKUP(R4215,'[1]CCG & RG names'!A:B,2,0)","v":"NHS COVENTRY AND WARWICKSHIRE CCG"},"V006099","Dental Surgery, 5 Station Buildings, Birmingham Road, Water Orton, BIRMINGHAM, B46 1SR","B46 1SR","B46 "]
[null,null,null,null,null,null,null,null,null,null,null,null,null,null,null,"QWU",{"$f":"VLOOKUP(P4218,'[1]CCG & RG names'!D:E,2,0)","v":"Coventry and Warwickshire STP"},"B2M3M",{"$f":"VLOOKUP(R4218,'[1]CCG & RG names'!A:B,2,0)","v":"NHS COVENTRY AND WARWICKSHIRE CCG"},"V006108","Dental Surgery, 19 Priory Road, ALCESTER, Warwickshire, B49 5DX","B49 5DX","B49 "]
[null,null,null,null,null,null,null,null,null,null,null,null,null,null,null,"QWU",{"$f":"VLOOKUP(P4225,'[1]CCG & RG names'!D:E,2,0)","v":"Coventry and Warwickshire STP"},"B2M3M",{"$f":"VLOOKUP(R4225,'[1]CCG & RG names'!A:B,2,0)","v":"NHS COVENTRY AND WARWICKSHIRE CCG"},"V006124","Dental Surgery, 7 Crown Way, LEAMINGTON SPA, Warwickshire, CV32 7SF","CV32 7SF","CV32"]
[null,null,null,null,null,null,null,null,null,null,null,null,null,null,null,"QWU",{"$f":"VLOOKUP(P4229,'[1]CCG & RG names'!D:E,2,0)","v":"Coventry and Warwickshire STP"},"B2M3M",{"$f":"VLOOKUP(R4229,'[1]CCG & RG names'!A:B,2,0)","v":"NHS COVENTRY AND WARWICKSHIRE CCG"},"V006132","Dental Surgery, 13 Euston Place, LEAMINGTON SPA, Warwickshire, CV32 4LJ","CV32 4LJ","CV32"]
[null,null,null,null,null,null,null,null,null,null,null,null,null,null,null,"QWU",{"$f":"VLOOKUP(P4234,'[1]CCG & RG names'!D:E,2,0)","v":"Coventry and Warwickshire STP"},"B2M3M",{"$f":"VLOOKUP(R4234,'[1]CCG & RG names'!A:B,2,0)","v":"NHS COVENTRY AND WARWICKSHIRE CCG"},"V006138","Brook House, Moreton Morrell, WARWICK, Warwickshire, CV35 9AR","CV35 9AR","CV35"]
[null,null,null,null,null,null,null,null,null,null,null,null,null,null,null,"QWU",{"$f":"VLOOKUP(P4243,'[1]CCG & RG names'!D:E,2,0)","v":"Coventry and Warwickshire STP"},"B2M3M",{"$f":"VLOOKUP(R4243,'[1]CCG & RG names'!A:B,2,0)","v":"NHS COVENTRY AND WARWICKSHIRE CCG"},"V006166","Westgate Dental Practice, 13 West Street, WARWICK, Warwickshire, CV34 6AB","CV34 6AB","CV34"]
[null,null,null,null,null,null,null,null,null,null,null,null,null,null,null,"QWU",{"$f":"VLOOKUP(P4246,'[1]CCG & RG names'!D:E,2,0)","v":"Coventry and Warwickshire STP"},"B2M3M",{"$f":"VLOOKUP(R4246,'[1]CCG & RG names'!A:B,2,0)","v":"NHS COVENTRY AND WARWICKSHIRE CCG"},"V006172","Dental Surgery, 2 Willow Drive, Wellesbourne, WARWICK, Warwickshire, CV35 9SB","CV35 9SB","CV35"]
[null,null,null,null,null,null,null,null,null,null,null,null,null,null,null,"QWU",{"$f":"VLOOKUP(P4254,'[1]CCG & RG names'!D:E,2,0)","v":"Coventry and Warwickshire STP"},"B2M3M",{"$f":"VLOOKUP(R4254,'[1]CCG & RG names'!A:B,2,0)","v":"NHS COVENTRY AND WARWICKSHIRE CCG"},"V007076","Kingston Road Dental Care, 2 Kingston Road, COVENTRY, West Midlands, CV5 6LN","CV5 6LN","CV5 "]
[null,null,null,null,null,null,null,null,null,null,null,null,null,null,null,"QWU",{"$f":"VLOOKUP(P4261,'[1]CCG & RG names'!D:E,2,0)","v":"Coventry and Warwickshire STP"},"B2M3M",{"$f":"VLOOKUP(R4261,'[1]CCG & RG names'!A:B,2,0)","v":"NHS COVENTRY AND WARWICKSHIRE CCG"},"V007107","Gentle Dental Centre, 318 - 320 Bell Green Road, COVENTRY, West Midlands, CV6 7HB","CV6 7HB","CV6 "]
[null,null,null,null,null,null,null,null,null,null,null,null,null,null,null,"QWU",{"$f":"VLOOKUP(P4264,'[1]CCG & RG names'!D:E,2,0)","v":"Coventry and Warwickshire STP"},"B2M3M",{"$f":"VLOOKUP(R4264,'[1]CCG & RG names'!A:B,2,0)","v":"NHS COVENTRY AND WARWICKSHIRE CCG"},"V007112","Dental Surgery, 107 Moseley Avenue, COVENTRY, West Midlands, CV6 1HR","CV6 1HR","CV6 "]
[null,null,null,null,null,null,null,null,null,null,null,null,null,null,null,"QWU",{"$f":"VLOOKUP(P4271,'[1]CCG & RG names'!D:E,2,0)","v":"Coventry and Warwickshire STP"},"B2M3M",{"$f":"VLOOKUP(R4271,'[1]CCG & RG names'!A:B,2,0)","v":"NHS COVENTRY AND WARWICKSHIRE CCG"},"V007123","Dental Surgery, 276 Broad Lane, COVENTRY, West Midlands, CV5 7AT","CV5 7AT","CV5 "]
[null,null,null,null,null,null,null,null,null,null,null,null,null,null,null,"QWU",{"$f":"VLOOKUP(P4278,'[1]CCG & RG names'!D:E,2,0)","v":"Coventry and Warwickshire STP"},"B2M3M",{"$f":"VLOOKUP(R4278,'[1]CCG & RG names'!A:B,2,0)","v":"NHS COVENTRY AND WARWICKSHIRE CCG"},"V010298","Stoke Aldermoor Clinic, Aldermoor Lane, COVENTRY, West Midlands, CV3 1BN","CV3 1BN","CV3 "]
[null,null,null,null,null,null,null,null,null,null,null,null,null,null,null,"QWU",{"$f":"VLOOKUP(P4280,'[1]CCG & RG names'!D:E,2,0)","v":"Coventry and Warwickshire STP"},"B2M3M",{"$f":"VLOOKUP(R4280,'[1]CCG & RG names'!A:B,2,0)","v":"NHS COVENTRY AND WARWICKSHIRE CCG"},"V010935","135 Clifton Road, RUGBY, Warwickshire, CV21 3QN","CV21 3QN","CV21"]
[null,null,null,null,null,null,null,null,null,null,null,null,null,null,null,"QWU",{"$f":"VLOOKUP(P4289,'[1]CCG & RG names'!D:E,2,0)","v":"Coventry and Warwickshire STP"},"B2M3M",{"$f":"VLOOKUP(R4289,'[1]CCG & RG names'!A:B,2,0)","v":"NHS COVENTRY AND WARWICKSHIRE CCG"},"V014063","42 Regent Street, RUGBY, Warwickshire, CV21 2PS","CV21 2PS","CV21"]
[null,null,null,null,null,null,null,null,null,null,null,null,null,null,null,"QWU",{"$f":"VLOOKUP(P4292,'[1]CCG & RG names'!D:E,2,0)","v":"Coventry and Warwickshire STP"},"B2M3M",{"$f":"VLOOKUP(R4292,'[1]CCG & RG names'!A:B,2,0)","v":"NHS COVENTRY AND WARWICKSHIRE CCG"},"V020786","Ely Place, 28 Ely Street, Stratford-upon-Avon, Warwickshire, CV37 6LW","CV37 6LW","CV37"]
[null,null,null,null,null,null,null,null,null,null,null,null,null,null,null,"QWU",{"$f":"VLOOKUP(P4298,'[1]CCG & RG names'!D:E,2,0)","v":"Coventry and Warwickshire STP"},"B2M3M",{"$f":"VLOOKUP(R4298,'[1]CCG & RG names'!A:B,2,0)","v":"NHS COVENTRY AND WARWICKSHIRE CCG"},"V043880","112 COLESHILL ROAD, WATER ORTON, BIRMINGHAM, B46 1RD","B46 1RD","B46 "]
[null,null,null,null,null,null,null,null,null,null,null,null,null,null,null,"QH8",{"$f":"VLOOKUP(P4307,'[1]CCG & RG names'!D:E,2,0)","v":"Mid and South Essex STP"},"06Q",{"$f":"VLOOKUP(R4307,'[1]CCG & RG names'!A:B,2,0)","v":"NHS Mid Essex CCG"},"V005884","Dental Surgery, Unit 25 26, Bentalls Shopping Centre, Colchester Road, Heybridge, CM9 4GD","CM9 4GD","CM9 "]
[null,null,null,null,null,null,null,null,null,null,null,null,null,null,null,"QH8",{"$f":"VLOOKUP(P4314,'[1]CCG & RG names'!D:E,2,0)","v":"Mid and South Essex STP"},"06Q",{"$f":"VLOOKUP(R4314,'[1]CCG & RG names'!A:B,2,0)","v":"NHS Mid Essex CCG"},"V007865","Ellton Dental Surgery, Victoria Road, CHELMSFORD, Essex, CM1 1NZ","CM1 1NZ","CM1 "]
[null,null,null,null,null,null,null,null,null,null,null,null,null,null,null,"QH8",{"$f":"VLOOKUP(P4317,'[1]CCG & RG names'!D:E,2,0)","v":"Mid and South Essex STP"},"06Q",{"$f":"VLOOKUP(R4317,'[1]CCG & RG names'!A:B,2,0)","v":"NHS Mid Essex CCG"},"V007888","Dental Surgery, 31 Rochford Road, CHELMSFORD, Essex, CM2 0EF","CM2 0EF","CM2 "]
[null,null,null,null,null,null,null,null,null,null,null,null,null,null,null,"QH8",{"$f":"VLOOKUP(P4322,'[1]CCG & RG names'!D:E,2,0)","v":"Mid and South Essex STP"},"06Q",{"$f":"VLOOKUP(R4322,'[1]CCG & RG names'!A:B,2,0)","v":"NHS Mid Essex CCG"},"V008071","Mr N R Chappell And Associates, Dental Surgery, 2 Butler Road, HALSTEAD, Essex, CO9 1LL","CO9 1LL","CO9 "]
[null,null,null,null,null,null,null,null,null,null,null,null,null,null,null,"QH8",{"$f":"VLOOKUP(P4326,'[1]CCG & RG names'!D:E,2,0)","v":"Mid and South Essex STP"},"06Q",{"$f":"VLOOKUP(R4326,'[1]CCG & RG names'!A:B,2,0)","v":"NHS Mid Essex CCG"},"V008077","Cairn Brae Dental Practice, 2 Maldon Road, WITHAM, Essex, CM8 2AB","CM8 2AB","CM8 "]
[null,null,null,null,null,null,null,null,null,null,null,null,null,null,null,"QH8",{"$f":"VLOOKUP(P4335,'[1]CCG & RG names'!D:E,2,0)","v":"Mid and South Essex STP"},"06Q",{"$f":"VLOOKUP(R4335,'[1]CCG & RG names'!A:B,2,0)","v":"NHS Mid Essex CCG"},"V010811","H M Prison, 200 Springfield Road, CHELMSFORD, Essex, CM2 6LQ","CM2 6LQ","CM2 "]
[null,null,null,null,null,null,null,null,null,null,null,null,null,null,null,"QH8",{"$f":"VLOOKUP(P4338,'[1]CCG & RG names'!D:E,2,0)","v":"Mid and South Essex STP"},"06Q",{"$f":"VLOOKUP(R4338,'[1]CCG & RG names'!A:B,2,0)","v":"NHS Mid Essex CCG"},"V013508","Quest Dental Care, 129 High Street, Maldon, Essex, CM9 5BS","CM9 5BS","CM9 "]
[null,null,null,null,null,null,null,null,null,null,null,null,null,null,null,"QH8",{"$f":"VLOOKUP(P4347,'[1]CCG & RG names'!D:E,2,0)","v":"Mid and South Essex STP"},"07G",{"$f":"VLOOKUP(R4347,'[1]CCG & RG names'!A:B,2,0)","v":"NHS Thurrock CCG"},"V001777","Dental Surgery, 103 The Sorrells, STANFORD LE HOPE, Essex, SS17 7ER","SS17 7ER","SS17"]
[null,null,null,null,null,null,null,null,null,null,null,null,null,null,null,"QH8",{"$f":"VLOOKUP(P4353,'[1]CCG & RG names'!D:E,2,0)","v":"Mid and South Essex STP"},"07G",{"$f":"VLOOKUP(R4353,'[1]CCG & RG names'!A:B,2,0)","v":"NHS Thurrock CCG"},"V001784","Dental Surgery, 279 Rectory Road, GRAYS, Essex, RM17 5SW","RM17 5SW","RM17"]
[null,null,null,null,null,null,null,null,null,null,null,null,null,null,null,"QH8",{"$f":"VLOOKUP(P4360,'[1]CCG & RG names'!D:E,2,0)","v":"Mid and South Essex STP"},"07G",{"$f":"VLOOKUP(R4360,'[1]CCG & RG names'!A:B,2,0)","v":"NHS Thurrock CCG"},"V011882","St Clements Health Centre, Dental Suite, London Road, West Thurrock, Grays,, Essex, RM20 4AR","RM20 4AR","RM20"]
[null,null,null,null,null,null,null,null,null,null,null,null,null,null,null,"QH8",{"$f":"VLOOKUP(P4365,'[1]CCG & RG names'!D:E,2,0)","v":"Mid and South Essex STP"},"99E",{"$f":"VLOOKUP(R4365,'[1]CCG & RG names'!A:B,2,0)","v":"NHS Basildon and Brentwood CCG"},"V005082","Felmores Dental Practice, The Surgery, Felmores End, Pitsea, BASILDON, SS13 1PN","SS13 1PN","SS13"]
[null,null,null,null,null,null,null,null,null,null,null,null,null,null,null,"QH8",{"$f":"VLOOKUP(P4371,'[1]CCG & RG names'!D:E,2,0)","v":"Mid and South Essex STP"},"99E",{"$f":"VLOOKUP(R4371,'[1]CCG & RG names'!A:B,2,0)","v":"NHS Basildon and Brentwood CCG"},"V005454","Dental Surgery, 2 Roberts Road, BASILDON, Essex, SS15 6AZ","SS15 6AZ","SS15"]
[null,null,null,null,null,null,null,null,null,null,null,null,null,null,null,"QH8",{"$f":"VLOOKUP(P4372,'[1]CCG & RG names'!D:E,2,0)","v":"Mid and South Essex STP"},"99E",{"$f":"VLOOKUP(R4372,'[1]CCG & RG names'!A:B,2,0)","v":"NHS Basildon and Brentwood CCG"},"V005902","Dental Surgery, 15 The Pantiles, BILLERICAY, Essex, CM12 0UA","CM12 0UA","CM12"]
[null,null,null,null,null,null,null,null,null,null,null,null,null,null,null,"QH8",{"$f":"VLOOKUP(P4381,'[1]CCG & RG names'!D:E,2,0)","v":"Mid and South Essex STP"},"99E",{"$f":"VLOOKUP(R4381,'[1]CCG & RG names'!A:B,2,0)","v":"NHS Basildon and Brentwood CCG"},"V007024","Orthodontic Practice,, Suite E, 2nd Floor,, Southgate House,, 88 Town Square, BASILDON, SS14 1BN","SS14 1BN","SS14"]
[null,null,null,null,null,null,null,null,null,null,null,null,null,null,null,"QH8",{"$f":"VLOOKUP(P4384,'[1]CCG & RG names'!D:E,2,0)","v":"Mid and South Essex STP"},"99E",{"$f":"VLOOKUP(R4384,'[1]CCG & RG names'!A:B,2,0)","v":"NHS Basildon and Brentwood CCG"},"V009229","Billericay Dental Care, Crown Yard, High Street, Billericay, Essex, CM12 9BX","CM12 9BX","CM12"]
[null,null,null,null,null,null,null,null,null,null,null,null,null,null,null,"QH8",{"$f":"VLOOKUP(P4390,'[1]CCG & RG names'!D:E,2,0)","v":"Mid and South Essex STP"},"99E",{"$f":"VLOOKUP(R4390,'[1]CCG & RG names'!A:B,2,0)","v":"NHS Basildon and Brentwood CCG"},"V032555","Bridge House, 134 Sandon Road, Basildon, Essex, SS14 1TS","SS14 1TS","SS14"]
[null,null,null,null,null,null,null,null,null,null,null,null,null,null,null,"QH8",{"$f":"VLOOKUP(P4399,'[1]CCG & RG names'!D:E,2,0)","v":"Mid and South Essex STP"},"99F",{"$f":"VLOOKUP(R4399,'[1]CCG & RG names'!A:B,2,0)","v":"NHS Castle Point and Rochford CCG"},"V008060","Dental Surgery, 526 High Road, BENFLEET, Essex, SS7 5RE","SS7 5RE","SS7 "]
[null,null,null,null,null,null,null,null,null,null,null,null,null,null,null,"QH8",{"$f":"VLOOKUP(P4406,'[1]CCG & RG names'!D:E,2,0)","v":"Mid and South Essex STP"},"99F",{"$f":"VLOOKUP(R4406,'[1]CCG & RG names'!A:B,2,0)","v":"NHS Castle Point and Rochford CCG"},"V013959","45 Southend Road, Hockley, Essex, SS5 4EZ","SS5 4EZ","SS5 "]
[null,null,null,null,null,null,null,null,null,null,null,null,null,null,null,"QH8",{"$f":"VLOOKUP(P4409,'[1]CCG & RG names'!D:E,2,0)","v":"Mid and South Essex STP"},"99G",{"$f":"VLOOKUP(R4409,'[1]CCG & RG names'!A:B,2,0)","v":"NHS Southend CCG"},"V007351","Thames Dental Surgery, 1707 London Road, Leigh on Sea, Essex, SS9 2SH","SS9 2SH","SS9 "]
[null,null,null,null,null,null,null,null,null,null,null,null,null,null,null,"QH8",{"$f":"VLOOKUP(P4417,'[1]CCG & RG names'!D:E,2,0)","v":"Mid and South Essex STP"},"99G",{"$f":"VLOOKUP(R4417,'[1]CCG & RG names'!A:B,2,0)","v":"NHS Southend CCG"},"V007378","Dental Surgery, 647 London Road, WESTCLIFF ON SEA, Essex, SS0 9PD","SS0 9PD","SS0 "]
[null,null,null,null,null,null,null,null,null,null,null,null,null,null,null,"QH8",{"$f":"VLOOKUP(P4418,'[1]CCG & RG names'!D:E,2,0)","v":"Mid and South Essex STP"},"99G",{"$f":"VLOOKUP(R4418,'[1]CCG & RG names'!A:B,2,0)","v":"NHS Southend CCG"},"V007384","Cambridge Dental Practice, 117 West Road, Shoeburyness, SOUTHEND ON SEA, Essex, SS3 9DT","SS3 9DT","SS3 "]
[null,null,null,null,null,null,null,null,null,null,null,null,null,null,null,"QHG",{"$f":"VLOOKUP(P4427,'[1]CCG & RG names'!D:E,2,0)","v":"Bedfordshire, Luton and Milton Keynes STP"},"M1J4Y",{"$f":"VLOOKUP(R4427,'[1]CCG & RG names'!A:B,2,0)","v":"NHS BEDFORDSHIRE, LUTON AND MILTON KEYNES CCG"},"V000444","IDH Limited, 1 Dunstable Road, LUTON, Beds, LU1 1BB","LU1 1BB","LU1 "]
[null,null,null,null,null,null,null,null,null,null,null,null,null,null,null,"QHG",{"$f":"VLOOKUP(P4434,'[1]CCG & RG names'!D:E,2,0)","v":"Bedfordshire, Luton and Milton Keynes STP"},"M1J4Y",{"$f":"VLOOKUP(R4434,'[1]CCG & RG names'!A:B,2,0)","v":"NHS BEDFORDSHIRE, LUTON AND MILTON KEYNES CCG"},"V000874","52 Lennon Drive, Crownhill, MILTON KEYNES, Buckinghamshire, MK8 0AS","MK8 0AS","MK8 "]
[null,null,null,null,null,null,null,null,null,null,null,null,null,null,null,"QHG",{"$f":"VLOOKUP(P4436,'[1]CCG & RG names'!D:E,2,0)","v":"Bedfordshire, Luton and Milton Keynes STP"},"M1J4Y",{"$f":"VLOOKUP(R4436,'[1]CCG & RG names'!A:B,2,0)","v":"NHS BEDFORDSHIRE, LUTON AND MILTON KEYNES CCG"},"V000878","2 Duckworth Court, Oldbrook, MILTON KEYNES, Buckinghamshire, MK6 2RX","MK6 2RX","MK6 "]
[null,null,null,null,null,null,null,null,null,null,null,null,null,null,null,"QHG",{"$f":"VLOOKUP(P4445,'[1]CCG & RG names'!D:E,2,0)","v":"Bedfordshire, Luton and Milton Keynes STP"},"M1J4Y",{"$f":"VLOOKUP(R4445,'[1]CCG & RG names'!A:B,2,0)","v":"NHS BEDFORDSHIRE, LUTON AND MILTON KEYNES CCG"},"V000949","Dental Surgery, 5 The Avenue, Stotfold, HITCHIN, Hertfordshire, SG5 4LY","SG5 4LY","SG5 "]
[null,null,null,null,null,null,null,null,null,null,null,null,null,null,null,"QHG",{"$f":"VLOOKUP(P4452,'[1]CCG & RG names'!D:E,2,0)","v":"Bedfordshire, Luton and Milton Keynes STP"},"M1J4Y",{"$f":"VLOOKUP(R4452,'[1]CCG & RG names'!A:B,2,0)","v":"NHS BEDFORDSHIRE, LUTON AND MILTON KEYNES CCG"},"V001026","All Smile Dental Care, Unit 12 - 13 Barnsdale Drive, Westcroft, Milton Keynes, Buckinghamshire, MK4 4DD","MK4 4DD","MK4 "]
[null,null,null,null,null,null,null,null,null,null,null,null,null,null,null,"QHG",{"$f":"VLOOKUP(P4453,'[1]CCG & RG names'!D:E,2,0)","v":"Bedfordshire, Luton and Milton Keynes STP"},"M1J4Y",{"$f":"VLOOKUP(R4453,'[1]CCG & RG names'!A:B,2,0)","v":"NHS BEDFORDSHIRE, LUTON AND MILTON KEYNES CCG"},"V001069","Cranfield Dental Practice, 192 High Street, Cranfield, Bedford, MK43 0EN","MK43 0EN","MK43"]
[null,null,null,null,null,null,null,null,null,null,null,null,null,null,null,"QHG",{"$f":"VLOOKUP(P4463,'[1]CCG & RG names'!D:E,2,0)","v":"Bedfordshire, Luton and Milton Keynes STP"},"M1J4Y",{"$f":"VLOOKUP(R4463,'[1]CCG & RG names'!A:B,2,0)","v":"NHS BEDFORDSHIRE, LUTON AND MILTON KEYNES CCG"},"V001593","Dental Surgery, 56 Soulbury Road, LEIGHTON BUZZARD, Bedfordshire, LU7 2RN","LU7 2RN","LU7 "]
[null,null,null,null,null,null,null,null,null,null,null,null,null,null,null,"QHG",{"$f":"VLOOKUP(P4464,'[1]CCG & RG names'!D:E,2,0)","v":"Bedfordshire, Luton and Milton Keynes STP"},"M1J4Y",{"$f":"VLOOKUP(R4464,'[1]CCG & RG names'!A:B,2,0)","v":"NHS BEDFORDSHIRE, LUTON AND MILTON KEYNES CCG"},"V002086","Luton Dental Practice, 12A King Street, LUTON, Bedfordshire, LU1 2DP","LU1 2DP","LU1 "]
[null,null,null,null,null,null,null,null,null,null,null,null,null,null,null,"QHG",{"$f":"VLOOKUP(P4473,'[1]CCG & RG names'!D:E,2,0)","v":"Bedfordshire, Luton and Milton Keynes STP"},"M1J4Y",{"$f":"VLOOKUP(R4473,'[1]CCG & RG names'!A:B,2,0)","v":"NHS BEDFORDSHIRE, LUTON AND MILTON KEYNES CCG"},"V003409","Maple Dental Clinic, 29 Upper George Street, LUTON, Bedfordshire, LU1 2RD","LU1 2RD","LU1 "]
[null,null,null,null,null,null,null,null,null,null,null,null,null,null,null,"QHG",{"$f":"VLOOKUP(P4478,'[1]CCG & RG names'!D:E,2,0)","v":"Bedfordshire, Luton and Milton Keynes STP"},"M1J4Y",{"$f":"VLOOKUP(R4478,'[1]CCG & RG names'!A:B,2,0)","v":"NHS BEDFORDSHIRE, LUTON AND MILTON KEYNES CCG"},"V005562","Dental Surgery, 11 High Street, BEDFORD, Bedfordshire, MK40 1RN","MK40 1RN","MK40"]
[null,null,null,null,null,null,null,null,null,null,null,null,null,null,null,"QHG",{"$f":"VLOOKUP(P4482,'[1]CCG & RG names'!D:E,2,0)","v":"Bedfordshire, Luton and Milton Keynes STP"},"M1J4Y",{"$f":"VLOOKUP(R4482,'[1]CCG & RG names'!A:B,2,0)","v":"NHS BEDFORDSHIRE, LUTON AND MILTON KEYNES CCG"},"V006432","Dental Surgery, 16 De Parys Avenue, BEDFORD, Bedfordshire, MK40 2TW","MK40 2TW","MK40"]
[null,null,null,null,null,null,null,null,null,null,null,null,null,null,null,"QHG",{"$f":"VLOOKUP(P4491,'[1]CCG & RG names'!D:E,2,0)","v":"Bedfordshire, Luton and Milton Keynes STP"},"M1J4Y",{"$f":"VLOOKUP(R4491,'[1]CCG & RG names'!A:B,2,0)","v":"NHS BEDFORDSHIRE, LUTON AND MILTON KEYNES CCG"},"V006498","Dental Clinic, 2 Honeysuckle Way, BEDFORD, Bedfordshire, MK41 0TF","MK41 0TF","MK41"]
[null,null,null,null,null,null,null,null,null,null,null,null,null,null,null,"QHG",{"$f":"VLOOKUP(P4498,'[1]CCG & RG names'!D:E,2,0)","v":"Bedfordshire, Luton and Milton Keynes STP"},"M1J4Y",{"$f":"VLOOKUP(R4498,'[1]CCG & RG names'!A:B,2,0)","v":"NHS BEDFORDSHIRE, LUTON AND MILTON KEYNES CCG"},"V009442","Dental Dept, H M Prison, Tattenhoe Street, Woodhill, Milton Keynes, Buckinghamshire, MK4 4DA","MK4 4DA","MK4 "]
[null,null,null,null,null,null,null,null,null,null,null,null,null,null,null,"QHG",{"$f":"VLOOKUP(P4502,'[1]CCG & RG names'!D:E,2,0)","v":"Bedfordshire, Luton and Milton Keynes STP"},"M1J4Y",{"$f":"VLOOKUP(R4502,'[1]CCG & RG names'!A:B,2,0)","v":"NHS BEDFORDSHIRE, LUTON AND MILTON KEYNES CCG"},"V010061","Stony Dental Practice, 4 Cofferidge Close, Stony Stratford, MILTON KEYNES, Buckinghamshire, MK11 1BY","MK11 1BY","MK11"]
[null,null,null,null,null,null,null,null,null,null,null,null,null,null,null,"QHG",{"$f":"VLOOKUP(P4509,'[1]CCG & RG names'!D:E,2,0)","v":"Bedfordshire, Luton and Milton Keynes STP"},"M1J4Y",{"$f":"VLOOKUP(R4509,'[1]CCG & RG names'!A:B,2,0)","v":"NHS BEDFORDSHIRE, LUTON AND MILTON KEYNES CCG"},"V012931","1A Peel Street, LUTON, Bedfordshire, LU1 2QR","LU1 2QR","LU1 "]
[null,null,null,null,null,null,null,null,null,null,null,null,null,null,null,"QHG",{"$f":"VLOOKUP(P4510,'[1]CCG & RG names'!D:E,2,0)","v":"Bedfordshire, Luton and Milton Keynes STP"},"M1J4Y",{"$f":"VLOOKUP(R4510,'[1]CCG & RG names'!A:B,2,0)","v":"NHS BEDFORDSHIRE, LUTON AND MILTON KEYNES CCG"},"V013439","Citident Dental Centre, 12 - 15 Yearlstone Square, Ashland, Milton Keynes, MK6 4AT","MK6 4AT","MK6 "]
[null,null,null,null,null,null,null,null,null,null,null,null,null,null,null,"QHG",{"$f":"VLOOKUP(P4519,'[1]CCG & RG names'!D:E,2,0)","v":"Bedfordshire, Luton and Milton Keynes STP"},"M1J4Y",{"$f":"VLOOKUP(R4519,'[1]CCG & RG names'!A:B,2,0)","v":"NHS BEDFORDSHIRE, LUTON AND MILTON KEYNES CCG"},"V025436","81 Bedford Road, Bedford, MK45 4LL","MK45 4LL","MK45"]
[null,null,null,null,null,null,null,null,null,null,null,null,null,null,null,"QHG",{"$f":"VLOOKUP(P4522,'[1]CCG & RG names'!D:E,2,0)","v":"Bedfordshire, Luton and Milton Keynes STP"},"M1J4Y",{"$f":"VLOOKUP(R4522,'[1]CCG & RG names'!A:B,2,0)","v":"NHS BEDFORDSHIRE, LUTON AND MILTON KEYNES CCG"},"V042451","Bedford House Dental Practice, 98 High Street, Bedford, MK40 1NN","MK40 1NN","MK40"]
[null,null,null,null,null,null,null,null,null,null,null,null,null,null,null,"QHG",{"$f":"VLOOKUP(P4528,'[1]CCG & RG names'!D:E,2,0)","v":"Bedfordshire, Luton and Milton Keynes STP"},"M1J4Y",{"$f":"VLOOKUP(R4528,'[1]CCG & RG names'!A:B,2,0)","v":"NHS BEDFORDSHIRE, LUTON AND MILTON KEYNES CCG"},"V196199","Yarlswood IRC, Tinwood Road, Bedford, MK41 6HL","MK41 6HL","MK41"]
[null,null,null,null,null,null,null,null,null,null,null,null,null,null,null,"QJG",{"$f":"VLOOKUP(P4537,'[1]CCG & RG names'!D:E,2,0)","v":"Suffolk and North East Essex STP"},"06L",{"$f":"VLOOKUP(R4537,'[1]CCG & RG names'!A:B,2,0)","v":"NHS Ipswich and East Suffolk CCG"},"V000267","60 Cobbold Road, FELIXSTOWE, Suffolk, IP11 7BX","IP11 7BX","IP11"]
[null,null,null,null,null,null,null,null,null,null,null,null,null,null,null,"QJG",{"$f":"VLOOKUP(P4544,'[1]CCG & RG names'!D:E,2,0)","v":"Suffolk and North East Essex STP"},"06L",{"$f":"VLOOKUP(R4544,'[1]CCG & RG names'!A:B,2,0)","v":"NHS Ipswich and East Suffolk CCG"},"V000278","Dental Surgery, 32 Bury Street, STOWMARKET, Suffolk, IP14 1HH","IP14 1HH","IP14"]
[null,null,null,null,null,null,null,null,null,null,null,null,null,null,null,"QJG",{"$f":"VLOOKUP(P4546,'[1]CCG & RG names'!D:E,2,0)","v":"Suffolk and North East Essex STP"},"06L",{"$f":"VLOOKUP(R4546,'[1]CCG & RG names'!A:B,2,0)","v":"NHS Ipswich and East Suffolk CCG"},"V000283","Dental Surgery, 56 High Street, Needham Market, IPSWICH, Suffolk, IP6 8AP","IP6 8AP","IP6 "]
[null,null,null,null,null,null,null,null,null,null,null,null,null,null,null,"QJG",{"$f":"VLOOKUP(P4553,'[1]CCG & RG names'!D:E,2,0)","v":"Suffolk and North East Essex STP"},"06L",{"$f":"VLOOKUP(R4553,'[1]CCG & RG names'!A:B,2,0)","v":"NHS Ipswich and East Suffolk CCG"},"V000349","Dental Surgery, 383 Hawthorn Drive, IPSWICH, Suffolk, IP2 0RD","IP2 0RD","IP2 "]
[null,null,null,null,null,null,null,null,null,null,null,null,null,null,null,"QJG",{"$f":"VLOOKUP(P4556,'[1]CCG & RG names'!D:E,2,0)","v":"Suffolk and North East Essex STP"},"06L",{"$f":"VLOOKUP(R4556,'[1]CCG & RG names'!A:B,2,0)","v":"NHS Ipswich and East Suffolk CCG"},"V000352","Dental Surgery, 365 Hawthorn Drive, IPSWICH, Suffolk, IP2 0QY","IP2 0QY","IP2 "]
[null,null,null,null,null,null,null,null,null,null,null,null,null,null,null,"QJG",{"$f":"VLOOKUP(P4565,'[1]CCG & RG names'!D:E,2,0)","v":"Suffolk and North East Essex STP"},"06L",{"$f":"VLOOKUP(R4565,'[1]CCG & RG names'!A:B,2,0)","v":"NHS Ipswich and East Suffolk CCG"},"V000365","Dental Surgery, 49 Foxhall Road, IPSWICH, Suffolk, IP3 8JU","IP3 8JU","IP3 "]
[null,null,null,null,null,null,null,null,null,null,null,null,null,null,null,"QJG",{"$f":"VLOOKUP(P4571,'[1]CCG & RG names'!D:E,2,0)","v":"Suffolk and North East Essex STP"},"06L",{"$f":"VLOOKUP(R4571,'[1]CCG & RG names'!A:B,2,0)","v":"NHS Ipswich and East Suffolk CCG"},"V012654","15 Meadows Way, Hadleigh, IPSWICH, Suffolk, IP7 5DX","IP7 5DX","IP7 "]
[null,null,null,null,null,null,null,null,null,null,null,null,null,null,null,"QJG",{"$f":"VLOOKUP(P4574,'[1]CCG & RG names'!D:E,2,0)","v":"Suffolk and North East Essex STP"},"06L",{"$f":"VLOOKUP(R4574,'[1]CCG & RG names'!A:B,2,0)","v":"NHS Ipswich and East Suffolk CCG"},"V013358","Orchid Dental, 47 Holly Road, Kesgrave, IPSWICH, Suffolk, IP5 1HX","IP5 1HX","IP5 "]
[null,null,null,null,null,null,null,null,null,null,null,null,null,null,null,"QJG",{"$f":"VLOOKUP(P4583,'[1]CCG & RG names'!D:E,2,0)","v":"Suffolk and North East Essex STP"},"06T",{"$f":"VLOOKUP(R4583,'[1]CCG & RG names'!A:B,2,0)","v":"NHS North East Essex CCG"},"V004578","12 The Avenue, Colchester, Essex, CO3 3PA","CO3 3PA","CO3 "]
[null,null,null,null,null,null,null,null,null,null,null,null,null,null,null,"QJG",{"$f":"VLOOKUP(P4590,'[1]CCG & RG names'!D:E,2,0)","v":"Suffolk and North East Essex STP"},"06T",{"$f":"VLOOKUP(R4590,'[1]CCG & RG names'!A:B,2,0)","v":"NHS North East Essex CCG"},"V004633","The Toothplace, 12 St Botolphs Street, COLCHESTER, Essex, CO2 7DU","CO2 7DU","CO2 "]
[null,null,null,null,null,null,null,null,null,null,null,null,null,null,null,"QJG",{"$f":"VLOOKUP(P4595,'[1]CCG & RG names'!D:E,2,0)","v":"Suffolk and North East Essex STP"},"06T",{"$f":"VLOOKUP(R4595,'[1]CCG & RG names'!A:B,2,0)","v":"NHS North East Essex CCG"},"V004660","Dental Surgery, 46 North Hill, COLCHESTER, Essex, CO1 1PY","CO1 1PY","CO1 "]
[null,null,null,null,null,null,null,null,null,null,null,null,null,null,null,"QJG",{"$f":"VLOOKUP(P4599,'[1]CCG & RG names'!D:E,2,0)","v":"Suffolk and North East Essex STP"},"06T",{"$f":"VLOOKUP(R4599,'[1]CCG & RG names'!A:B,2,0)","v":"NHS North East Essex CCG"},"V004689","236 Bergholt Road, COLCHESTER, Essex, CO4 5AS","CO4 5AS","CO4 "]
[null,null,null,null,null,null,null,null,null,null,null,null,null,null,null,"QJG",{"$f":"VLOOKUP(P4602,'[1]CCG & RG names'!D:E,2,0)","v":"Suffolk and North East Essex STP"},"06T",{"$f":"VLOOKUP(R4602,'[1]CCG & RG names'!A:B,2,0)","v":"NHS North East Essex CCG"},"V004698","316-318 Ipswich Road, Colchester, Essex, CO4 0ET","CO4 0ET","CO4 "]
[null,null,null,null,null,null,null,null,null,null,null,null,null,null,null,"QJG",{"$f":"VLOOKUP(P4608,'[1]CCG & RG names'!D:E,2,0)","v":"Suffolk and North East Essex STP"},"06T",{"$f":"VLOOKUP(R4608,'[1]CCG & RG names'!A:B,2,0)","v":"NHS North East Essex CCG"},"V005066","Green Elms Health Centre, 32 Crossways, Jaywick, CLACTON ON SEA, Essex, CO15 2NB","CO15 2NB","CO15"]
[null,null,null,null,null,null,null,null,null,null,null,null,null,null,null,"QJG",{"$f":"VLOOKUP(P4617,'[1]CCG & RG names'!D:E,2,0)","v":"Suffolk and North East Essex STP"},"06T",{"$f":"VLOOKUP(R4617,'[1]CCG & RG names'!A:B,2,0)","v":"NHS North East Essex CCG"},"V012501","118 Straight Road, COLCHESTER, Essex, CO3 9DJ","CO3 9DJ","CO3 "]
[null,null,null,null,null,null,null,null,null,null,null,null,null,null,null,"QJG",{"$f":"VLOOKUP(P4620,'[1]CCG & RG names'!D:E,2,0)","v":"Suffolk and North East Essex STP"},"06T",{"$f":"VLOOKUP(R4620,'[1]CCG & RG names'!A:B,2,0)","v":"NHS North East Essex CCG"},"V028051","Clacton-on-Sea Dental Centre, 121-129 Old Road, Clacton on Sea, CO15 3AW, CO15 3AW","CO15 3AW","CO15"]
[null,null,null,null,null,null,null,null,null,null,null,null,null,null,null,"QJG",{"$f":"VLOOKUP(P4627,'[1]CCG & RG names'!D:E,2,0)","v":"Suffolk and North East Essex STP"},"07K",{"$f":"VLOOKUP(R4627,'[1]CCG & RG names'!A:B,2,0)","v":"NHS West Suffolk CCG"},"V000342","Alvington House Dental Practice, 112 Northgate Street, BURY ST EDMUNDS, Suffolk, IP33 1HP","IP33 1HP","IP33"]
[null,null,null,null,null,null,null,null,null,null,null,null,null,null,null,"QJG",{"$f":"VLOOKUP(P4633,'[1]CCG & RG names'!D:E,2,0)","v":"Suffolk and North East Essex STP"},"07K",{"$f":"VLOOKUP(R4633,'[1]CCG & RG names'!A:B,2,0)","v":"NHS West Suffolk CCG"},"V000413","Banks Buildings Dental Practice, 5 Bank Buildings, SUDBURY, Suffolk, CO10 2SX","CO10 2SX","CO10"]
[null,null,null,null,null,null,null,null,null,null,null,null,null,null,null,"QJG",{"$f":"VLOOKUP(P4638,'[1]CCG & RG names'!D:E,2,0)","v":"Suffolk and North East Essex STP"},"07K",{"$f":"VLOOKUP(R4638,'[1]CCG & RG names'!A:B,2,0)","v":"NHS West Suffolk CCG"},"V000422","Dental Surgery, The Thatch, 1 King Street, Mildenhall, BURY ST EDMUNDS, IP28 7ES","IP28 7ES","IP28"]
[null,null,null,null,null,null,null,null,null,null,null,null,null,null,null,"QJG",{"$f":"VLOOKUP(P4645,'[1]CCG & RG names'!D:E,2,0)","v":"Suffolk and North East Essex STP"},"07K",{"$f":"VLOOKUP(R4645,'[1]CCG & RG names'!A:B,2,0)","v":"NHS West Suffolk CCG"},"V017501","Perfect Smile Clinic, 18/19 Prince Street, Sudbury, Suffolk, CO10 1JA","CO10 1JA","CO10"]
[null,null,null,null,null,null,null,null,null,null,null,null,null,null,null,"QJG",{"$f":"VLOOKUP(P4648,'[1]CCG & RG names'!D:E,2,0)","v":"Suffolk and North East Essex STP"},"07K",{"$f":"VLOOKUP(R4648,'[1]CCG & RG names'!A:B,2,0)","v":"NHS West Suffolk CCG"},"V030785","Highpoint, Newmarket, Suffolk, CB8 9YG","CB8 9YG","CB8 "]
[null,null,null,null,null,null,null,null,null,null,null,null,null,null,null,"QM7",{"$f":"VLOOKUP(P4657,'[1]CCG & RG names'!D:E,2,0)","v":"Hertfordshire and West Essex STP"},"06K",{"$f":"VLOOKUP(R4657,'[1]CCG & RG names'!A:B,2,0)","v":"NHS East and North Hertfordshire CCG"},"V001417","The Dental Centre, 4 Station Road, Cuffley, POTTERS BAR, Hertfordshire, EN6 4HT","EN6 4HT","EN6 "]
[null,null,null,null,null,null,null,null,null,null,null,null,null,null,null,"QM7",{"$f":"VLOOKUP(P4663,'[1]CCG & RG names'!D:E,2,0)","v":"Hertfordshire and West Essex STP"},"06K",{"$f":"VLOOKUP(R4663,'[1]CCG & RG names'!A:B,2,0)","v":"NHS East and North Hertfordshire CCG"},"V001426","Dental Surgery, 17 High Street, Stanstead Abbotts, WARE, Hertfordshire, SG12 8AA","SG12 8AA","SG12"]
[null,null,null,null,null,null,null,null,null,null,null,null,null,null,null,"QM7",{"$f":"VLOOKUP(P4666,'[1]CCG & RG names'!D:E,2,0)","v":"Hertfordshire and West Essex STP"},"06K",{"$f":"VLOOKUP(R4666,'[1]CCG & RG names'!A:B,2,0)","v":"NHS East and North Hertfordshire CCG"},"V001443","3 West Street, WARE, Hertfordshire, SG12 9EE","SG12 9EE","SG12"]
[null,null,null,null,null,null,null,null,null,null,null,null,null,null,null,"QM7",{"$f":"VLOOKUP(P4673,'[1]CCG & RG names'!D:E,2,0)","v":"Hertfordshire and West Essex STP"},"06K",{"$f":"VLOOKUP(R4673,'[1]CCG & RG names'!A:B,2,0)","v":"NHS East and North Hertfordshire CCG"},"V001573","The Dentist, 66 South Street, BISHOPS STORTFORD, Hertfordshire, CM23 3AZ","CM23 3AZ","CM23"]
[null,null,null,null,null,null,null,null,null,null,null,null,null,null,null,"QM7",{"$f":"VLOOKUP(P4677,'[1]CCG & RG names'!D:E,2,0)","v":"Hertfordshire and West Essex STP"},"06K",{"$f":"VLOOKUP(R4677,'[1]CCG & RG names'!A:B,2,0)","v":"NHS East and North Hertfordshire CCG"},"V001587","Dental Surgery, 23 High Street, BUNTINGFORD, Hertfordshire, SG9 9AB","SG9 9AB","SG9 "]
[null,null,null,null,null,null,null,null,null,null,null,null,null,null,null,"QM7",{"$f":"VLOOKUP(P4684,'[1]CCG & RG names'!D:E,2,0)","v":"Hertfordshire and West Essex STP"},"06K",{"$f":"VLOOKUP(R4684,'[1]CCG & RG names'!A:B,2,0)","v":"NHS East and North Hertfordshire CCG"},"V006119","Church Road Dental Practice, 4A Church Road, WELWYN GARDEN CITY, Hertfordshire, AL8 6NE","AL8 6NE","AL8 "]
[null,null,null,null,null,null,null,null,null,null,null,null,null,null,null,"QM7",{"$f":"VLOOKUP(P4691,'[1]CCG & RG names'!D:E,2,0)","v":"Hertfordshire and West Essex STP"},"06K",{"$f":"VLOOKUP(R4691,'[1]CCG & RG names'!A:B,2,0)","v":"NHS East and North Hertfordshire CCG"},"V006210","49 Ninesprings Way, HITCHIN, Hertfordshire, SG4 9NR","SG4 9NR","SG4 "]
[null,null,null,null,null,null,null,null,null,null,null,null,null,null,null,"QM7",{"$f":"VLOOKUP(P4694,'[1]CCG & RG names'!D:E,2,0)","v":"Hertfordshire and West Essex STP"},"06K",{"$f":"VLOOKUP(R4694,'[1]CCG & RG names'!A:B,2,0)","v":"NHS East and North Hertfordshire CCG"},"V006232","Dental Surgery, 1 High Street, HITCHIN, Hertfordshire, SG5 1BH","SG5 1BH","SG5 "]
[null,null,null,null,null,null,null,null,null,null,null,null,null,null,null,"QM7",{"$f":"VLOOKUP(P4701,'[1]CCG & RG names'!D:E,2,0)","v":"Hertfordshire and West Essex STP"},"06K",{"$f":"VLOOKUP(R4701,'[1]CCG & RG names'!A:B,2,0)","v":"NHS East and North Hertfordshire CCG"},"V006377","Chells Dental Practice, 5 Mobbsbury Way, STEVENAGE, Hertfordshire, SG2 0HL","SG2 0HL","SG2 "]
[null,null,null,null,null,null,null,null,null,null,null,null,null,null,null,"QM7",{"$f":"VLOOKUP(P4709,'[1]CCG & RG names'!D:E,2,0)","v":"Hertfordshire and West Essex STP"},"06K",{"$f":"VLOOKUP(R4709,'[1]CCG & RG names'!A:B,2,0)","v":"NHS East and North Hertfordshire CCG"},"V007308","35 Hermitage Road, Hitchin, Hertfordshire, SG5 1BY","SG5 1BY","SG5 "]
[null,null,null,null,null,null,null,null,null,null,null,null,null,null,null,"QM7",{"$f":"VLOOKUP(P4712,'[1]CCG & RG names'!D:E,2,0)","v":"Hertfordshire and West Essex STP"},"06K",{"$f":"VLOOKUP(R4712,'[1]CCG & RG names'!A:B,2,0)","v":"NHS East and North Hertfordshire CCG"},"V007874","Dental Surgery, 7 Birchwood Avenue, HATFIELD, Hertfordshire, AL10 0PL","AL10 0PL","AL10"]
[null,null,null,null,null,null,null,null,null,null,null,null,null,null,null,"QM7",{"$f":"VLOOKUP(P4719,'[1]CCG & RG names'!D:E,2,0)","v":"Hertfordshire and West Essex STP"},"06K",{"$f":"VLOOKUP(R4719,'[1]CCG & RG names'!A:B,2,0)","v":"NHS East and North Hertfordshire CCG"},"V014242","107 Norton Way South, LETCHWORTH GARDEN CITY, Hertfordshire, SG6 1NY","SG6 1NY","SG6 "]
[null,null,null,null,null,null,null,null,null,null,null,null,null,null,null,"QM7",{"$f":"VLOOKUP(P4726,'[1]CCG & RG names'!D:E,2,0)","v":"Hertfordshire and West Essex STP"},"06K",{"$f":"VLOOKUP(R4726,'[1]CCG & RG names'!A:B,2,0)","v":"NHS East and North Hertfordshire CCG"},"V044088","5 LETCHMORE ROAD, STEVENAGE, SG1 3JH","SG1 3JH","SG1 "]
[null,null,null,null,null,null,null,null,null,null,null,null,null,null,null,"QM7",{"$f":"VLOOKUP(P4730,'[1]CCG & RG names'!D:E,2,0)","v":"Hertfordshire and West Essex STP"},"06N",{"$f":"VLOOKUP(R4730,'[1]CCG & RG names'!A:B,2,0)","v":"NHS Herts Valleys CCG"},"V003365","Bowers Way Dental Surgery, 29 Bowers Way, HARPENDEN, Hertfordshire, AL5 4EP","AL5 4EP","AL5 "]
[null,null,null,null,null,null,null,null,null,null,null,null,null,null,null,"QM7",{"$f":"VLOOKUP(P4737,'[1]CCG & RG names'!D:E,2,0)","v":"Hertfordshire and West Essex STP"},"06N",{"$f":"VLOOKUP(R4737,'[1]CCG & RG names'!A:B,2,0)","v":"NHS Herts Valleys CCG"},"V004701","Dental Surgery, 11 - 11A Russell Avenue, ST ALBANS, Hertfordshire, AL3 5ES","AL3 5ES","AL3 "]
[null,null,null,null,null,null,null,null,null,null,null,null,null,null,null,"QM7",{"$f":"VLOOKUP(P4740,'[1]CCG & RG names'!D:E,2,0)","v":"Hertfordshire and West Essex STP"},"06N",{"$f":"VLOOKUP(R4740,'[1]CCG & RG names'!A:B,2,0)","v":"NHS Herts Valleys CCG"},"V006283","Redbourn Dental Practice, 39 High Street, Redbourn, ST ALBANS, Hertfordshire, AL3 7LW","AL3 7LW","AL3 "]
[null,null,null,null,null,null,null,null,null,null,null,null,null,null,null,"QM7",{"$f":"VLOOKUP(P4746,'[1]CCG & RG names'!D:E,2,0)","v":"Hertfordshire and West Essex STP"},"06N",{"$f":"VLOOKUP(R4746,'[1]CCG & RG names'!A:B,2,0)","v":"NHS Herts Valleys CCG"},"V006816","Dental Practice, Davenport House, Bowers Way, Harpenden, Hertfordshire, AL5 4HX","AL5 4HX","AL5 "]
[null,null,null,null,null,null,null,null,null,null,null,null,null,null,null,"QM7",{"$f":"VLOOKUP(P4755,'[1]CCG & RG names'!D:E,2,0)","v":"Hertfordshire and West Essex STP"},"06N",{"$f":"VLOOKUP(R4755,'[1]CCG & RG names'!A:B,2,0)","v":"NHS Herts Valleys CCG"},"V006962","Corner House Dental Care Centre, High Street, Elstree, BOREHAMWOOD, Hertfordshire, WD6 3BY","WD6 3BY","WD6 "]
[null,null,null,null,null,null,null,null,null,null,null,null,null,null,null,"QM7",{"$f":"VLOOKUP(P4758,'[1]CCG & RG names'!D:E,2,0)","v":"Hertfordshire and West Essex STP"},"06N",{"$f":"VLOOKUP(R4758,'[1]CCG & RG names'!A:B,2,0)","v":"NHS Herts Valleys CCG"},"V006985","138 High Street, BUSHEY, Hertfordshire, WD23 3DJ","WD23 3DJ","WD23"]
[null,null,null,null,null,null,null,null,null,null,null,null,null,null,null,"QM7",{"$f":"VLOOKUP(P4765,'[1]CCG & RG names'!D:E,2,0)","v":"Hertfordshire and West Essex STP"},"06N",{"$f":"VLOOKUP(R4765,'[1]CCG & RG names'!A:B,2,0)","v":"NHS Herts Valleys CCG"},"V007930","Dental Surgery, 60 High Street, Bovingdon, HEMEL HEMPSTEAD, Hertfordshire, HP3 0HJ","HP3 0HJ","HP3 "]
[null,null,null,null,null,null,null,null,null,null,null,null,null,null,null,"QM7",{"$f":"VLOOKUP(P4770,'[1]CCG & RG names'!D:E,2,0)","v":"Hertfordshire and West Essex STP"},"06N",{"$f":"VLOOKUP(R4770,'[1]CCG & RG names'!A:B,2,0)","v":"NHS Herts Valleys CCG"},"V007941","Alexandra Dental Practice, 98 Alexandra Road, HEMEL HEMPSTEAD, Hertfordshire, HP2 4AG","HP2 4AG","HP2 "]
[null,null,null,null,null,null,null,null,null,null,null,null,null,null,null,"QM7",{"$f":"VLOOKUP(P4776,'[1]CCG & RG names'!D:E,2,0)","v":"Hertfordshire and West Essex STP"},"06N",{"$f":"VLOOKUP(R4776,'[1]CCG & RG names'!A:B,2,0)","v":"NHS Herts Valleys CCG"},"V008007","Dental Surgery, 54 High Street, HEMEL HEMPSTEAD, Hertfordshire, HP1 3AF","HP1 3AF","HP1 "]
[null,null,null,null,null,null,null,null,null,null,null,null,null,null,null,"QM7",{"$f":"VLOOKUP(P4783,'[1]CCG & RG names'!D:E,2,0)","v":"Hertfordshire and West Essex STP"},"06N",{"$f":"VLOOKUP(R4783,'[1]CCG & RG names'!A:B,2,0)","v":"NHS Herts Valleys CCG"},"V008625","Marc Friedmann And Associates, Dental Surgery, 452 St Albans Road, Watford, Hertfordshire, WD24 6PJ","WD24 6PJ","WD24"]
[null,null,null,null,null,null,null,null,null,null,null,null,null,null,null,"QM7",{"$f":"VLOOKUP(P4786,'[1]CCG & RG names'!D:E,2,0)","v":"Hertfordshire and West Essex STP"},"06N",{"$f":"VLOOKUP(R4786,'[1]CCG & RG names'!A:B,2,0)","v":"NHS Herts Valleys CCG"},"V008678","Dietsch Dental Surgery, 133B High Street, RICKMANSWORTH, Hertfordshire, WD3 1AN","WD3 1AN","WD3 "]
[null,null,null,null,null,null,null,null,null,null,null,null,null,null,null,"QM7",{"$f":"VLOOKUP(P4795,'[1]CCG & RG names'!D:E,2,0)","v":"Hertfordshire and West Essex STP"},"06N",{"$f":"VLOOKUP(R4795,'[1]CCG & RG names'!A:B,2,0)","v":"NHS Herts Valleys CCG"},"V008734","Dental Surgery, 45 Berry Lane, RICKMANSWORTH, Hertfordshire, WD3 4DE","WD3 4DE","WD3 "]
[null,null,null,null,null,null,null,null,null,null,null,null,null,null,null,"QM7",{"$f":"VLOOKUP(P4801,'[1]CCG & RG names'!D:E,2,0)","v":"Hertfordshire and West Essex STP"},"06N",{"$f":"VLOOKUP(R4801,'[1]CCG & RG names'!A:B,2,0)","v":"NHS Herts Valleys CCG"},"V008937","Dental Surgery, Rosebank, Shire Lane, Chorleywood, RICKMANSWORTH, WD3 5NH","WD3 5NH","WD3 "]
[null,null,null,null,null,null,null,null,null,null,null,null,null,null,null,"QM7",{"$f":"VLOOKUP(P4804,'[1]CCG & RG names'!D:E,2,0)","v":"Hertfordshire and West Essex STP"},"06N",{"$f":"VLOOKUP(R4804,'[1]CCG & RG names'!A:B,2,0)","v":"NHS Herts Valleys CCG"},"V008991","Chartwell Clinic, Station Dental Clinic, 194 Watford Road, Croxley Green, RICKMANSWORTH, WD3 3DB","WD3 3DB","WD3 "]
[null,null,null,null,null,null,null,null,null,null,null,null,null,null,null,"QM7",{"$f":"VLOOKUP(P4811,'[1]CCG & RG names'!D:E,2,0)","v":"Hertfordshire and West Essex STP"},"06N",{"$f":"VLOOKUP(R4811,'[1]CCG & RG names'!A:B,2,0)","v":"NHS Herts Valleys CCG"},"V010847","65 Oakwood Road, Bricket Wood, ST ALBANS, Hertfordshire, AL2 3QB","AL2 3QB","AL2 "]
[null,null,null,null,null,null,null,null,null,null,null,null,null,null,null,"QM7",{"$f":"VLOOKUP(P4819,'[1]CCG & RG names'!D:E,2,0)","v":"Hertfordshire and West Essex STP"},"06N",{"$f":"VLOOKUP(R4819,'[1]CCG & RG names'!A:B,2,0)","v":"NHS Herts Valleys CCG"},"V017733","32 Baker Street, Potters Bar, Hertfordshire, EN6 2EB","EN6 2EB","EN6 "]
[null,null,null,null,null,null,null,null,null,null,null,null,null,null,null,"QM7",{"$f":"VLOOKUP(P4820,'[1]CCG & RG names'!D:E,2,0)","v":"Hertfordshire and West Essex STP"},"06N",{"$f":"VLOOKUP(R4820,'[1]CCG & RG names'!A:B,2,0)","v":"NHS Herts Valleys CCG"},"V202333","Maylands Dental Practice, Maylands Plaza, 5 Maylands Avenue, Hemel Hempstead, Hertfordshire, HP2 4XH","HP2 4XH","HP2 "]
[null,null,null,null,null,null,null,null,null,null,null,null,null,null,null,"QM7",{"$f":"VLOOKUP(P4829,'[1]CCG & RG names'!D:E,2,0)","v":"Hertfordshire and West Essex STP"},"07H",{"$f":"VLOOKUP(R4829,'[1]CCG & RG names'!A:B,2,0)","v":"NHS West Essex CCG"},"V006326","Dental Surgery, 83 Loughton Way, BUCKHURST HILL, Essex, IG9 6AS","IG9 6AS","IG9 "]
[null,null,null,null,null,null,null,null,null,null,null,null,null,null,null,"QM7",{"$f":"VLOOKUP(P4832,'[1]CCG & RG names'!D:E,2,0)","v":"Hertfordshire and West Essex STP"},"07H",{"$f":"VLOOKUP(R4832,'[1]CCG & RG names'!A:B,2,0)","v":"NHS West Essex CCG"},"V006331","Dental Surgery, 20 Farm Hill Road, WALTHAM ABBEY, Essex, EN9 1NN","EN9 1NN","EN9 "]
[null,null,null,null,null,null,null,null,null,null,null,null,null,null,null,"QM7",{"$f":"VLOOKUP(P4838,'[1]CCG & RG names'!D:E,2,0)","v":"Hertfordshire and West Essex STP"},"07H",{"$f":"VLOOKUP(R4838,'[1]CCG & RG names'!A:B,2,0)","v":"NHS West Essex CCG"},"V006479","Twyford Court Dental Surgery, 1 Twyford Court, High Street, GREAT DUNMOW, Essex, CM6 1AE","CM6 1AE","CM6 "]
[null,null,null,null,null,null,null,null,null,null,null,null,null,null,null,"QM7",{"$f":"VLOOKUP(P4847,'[1]CCG & RG names'!D:E,2,0)","v":"Hertfordshire and West Essex STP"},"07H",{"$f":"VLOOKUP(R4847,'[1]CCG & RG names'!A:B,2,0)","v":"NHS West Essex CCG"},"V010461","Saffron Walden Hospital, Radwinter Road, SAFFRON WALDEN, Essex, CB11 3HY","CB11 3HY","CB11"]
[null,null,null,null,null,null,null,null,null,null,null,null,null,null,null,"QM7",{"$f":"VLOOKUP(P4850,'[1]CCG & RG names'!D:E,2,0)","v":"Hertfordshire and West Essex STP"},"07H",{"$f":"VLOOKUP(R4850,'[1]CCG & RG names'!A:B,2,0)","v":"NHS West Essex CCG"},"V012052","2 Alderton Hall Lane, LOUGHTON, Essex, IG10 3HN","IG10 3HN","IG10"]
[null,null,null,null,null,null,null,null,null,null,null,null,null,null,null,"QMM",{"$f":"VLOOKUP(P4857,'[1]CCG & RG names'!D:E,2,0)","v":"Norfolk and Waveney Health & Care Partnership (STP)"},"26A",{"$f":"VLOOKUP(R4857,'[1]CCG & RG names'!A:B,2,0)","v":"NHS Norfolk and Waveney CCG"},"V000244","Market Place Dental Practice, 1 Bridewell Street, WYMONDHAM, Norfolk, NR18 0AR","NR18 0AR","NR18"]
[null,null,null,null,null,null,null,null,null,null,null,null,null,null,null,"QMM",{"$f":"VLOOKUP(P4865,'[1]CCG & RG names'!D:E,2,0)","v":"Norfolk and Waveney Health & Care Partnership (STP)"},"26A",{"$f":"VLOOKUP(R4865,'[1]CCG & RG names'!A:B,2,0)","v":"NHS Norfolk and Waveney CCG"},"V000391","Dental Surgery, 7 Regent Road, LOWESTOFT, Suffolk, NR32 1PA","NR32 1PA","NR32"]
[null,null,null,null,null,null,null,null,null,null,null,null,null,null,null,"QMM",{"$f":"VLOOKUP(P4866,'[1]CCG & RG names'!D:E,2,0)","v":"Norfolk and Waveney Health & Care Partnership (STP)"},"26A",{"$f":"VLOOKUP(R4866,'[1]CCG & RG names'!A:B,2,0)","v":"NHS Norfolk and Waveney CCG"},"V000391","Dental Surgery, 7 Regent Road, LOWESTOFT, Suffolk, NR32 1PA","NR32 1PA","NR32"]
[null,null,null,null,null,null,null,null,null,null,null,null,null,null,null,"QMM",{"$f":"VLOOKUP(P4875,'[1]CCG & RG names'!D:E,2,0)","v":"Norfolk and Waveney Health & Care Partnership (STP)"},"26A",{"$f":"VLOOKUP(R4875,'[1]CCG & RG names'!A:B,2,0)","v":"NHS Norfolk and Waveney CCG"},"V000429","The Little House Dental Surgery, 75 Spixworth Road, Old Catton, Norwich, Norfolk, NR6 7NQ","NR6 7NQ","NR6 "]
[null,null,null,null,null,null,null,null,null,null,null,null,null,null,null,"QMM",{"$f":"VLOOKUP(P4881,'[1]CCG & RG names'!D:E,2,0)","v":"Norfolk and Waveney Health & Care Partnership (STP)"},"26A",{"$f":"VLOOKUP(R4881,'[1]CCG & RG names'!A:B,2,0)","v":"NHS Norfolk and Waveney CCG"},"V000704","Dental Surgery, 65 Mount Street, DISS, Norfolk, IP22 4QQ","IP22 4QQ","IP22"]
[null,null,null,null,null,null,null,null,null,null,null,null,null,null,null,"QMM",{"$f":"VLOOKUP(P4884,'[1]CCG & RG names'!D:E,2,0)","v":"Norfolk and Waveney Health & Care Partnership (STP)"},"26A",{"$f":"VLOOKUP(R4884,'[1]CCG & RG names'!A:B,2,0)","v":"NHS Norfolk and Waveney CCG"},"V000710","Beechcroft Dental Practice, Beechcroft, NORWICH, Norfolk, NR5 0RS","NR5 0RS","NR5 "]
[null,null,null,null,null,null,null,null,null,null,null,null,null,null,null,"QMM",{"$f":"VLOOKUP(P4893,'[1]CCG & RG names'!D:E,2,0)","v":"Norfolk and Waveney Health & Care Partnership (STP)"},"26A",{"$f":"VLOOKUP(R4893,'[1]CCG & RG names'!A:B,2,0)","v":"NHS Norfolk and Waveney CCG"},"V000810","The Old Medical Centre, Beccles Road, Bradwell, GREAT YARMOUTH, Norfolk, NR31 8HB","NR31 8HB","NR31"]
[null,null,null,null,null,null,null,null,null,null,null,null,null,null,null,"QMM",{"$f":"VLOOKUP(P4896,'[1]CCG & RG names'!D:E,2,0)","v":"Norfolk and Waveney Health & Care Partnership (STP)"},"26A",{"$f":"VLOOKUP(R4896,'[1]CCG & RG names'!A:B,2,0)","v":"NHS Norfolk and Waveney CCG"},"V000813","Hemsby Medical Centre, 1 Kings Court, Hemsby, GREAT YARMOUTH, Norfolk, NR29 4EW","NR29 4EW","NR29"]
[null,null,null,null,null,null,null,null,null,null,null,null,null,null,null,"QMM",{"$f":"VLOOKUP(P4901,'[1]CCG & RG names'!D:E,2,0)","v":"Norfolk and Waveney Health & Care Partnership (STP)"},"26A",{"$f":"VLOOKUP(R4901,'[1]CCG & RG names'!A:B,2,0)","v":"NHS Norfolk and Waveney CCG"},"V000822","Dental Surgery, 23 Witard Road, NORWICH, Norfolk, NR7 9XD","NR7 9XD","NR7 "]
[null,null,null,null,null,null,null,null,null,null,null,null,null,null,null,"QMM",{"$f":"VLOOKUP(P4911,'[1]CCG & RG names'!D:E,2,0)","v":"Norfolk and Waveney Health & Care Partnership (STP)"},"26A",{"$f":"VLOOKUP(R4911,'[1]CCG & RG names'!A:B,2,0)","v":"NHS Norfolk and Waveney CCG"},"V000844","Cotman House Dental Surgery, Cotman House, 7 St Martins Palace Plain, NORWICH, Norfolk, NR3 1RN","NR3 1RN","NR3 "]
[null,null,null,null,null,null,null,null,null,null,null,null,null,null,null,"QMM",{"$f":"VLOOKUP(P4912,'[1]CCG & RG names'!D:E,2,0)","v":"Norfolk and Waveney Health & Care Partnership (STP)"},"26A",{"$f":"VLOOKUP(R4912,'[1]CCG & RG names'!A:B,2,0)","v":"NHS Norfolk and Waveney CCG"},"V000862","8 Orford Hill, NORWICH, Norfolk, NR1 3QD","NR1 3QD","NR1 "]
[null,null,null,null,null,null,null,null,null,null,null,null,null,null,null,"QMM",{"$f":"VLOOKUP(P4921,'[1]CCG & RG names'!D:E,2,0)","v":"Norfolk and Waveney Health & Care Partnership (STP)"},"26A",{"$f":"VLOOKUP(R4921,'[1]CCG & RG names'!A:B,2,0)","v":"NHS Norfolk and Waveney CCG"},"V001138","Station House Dental Surgery, 45 High Street, Stalham, NORWICH, Norfolk, NR12 9AH","NR12 9AH","NR12"]
[null,null,null,null,null,null,null,null,null,null,null,null,null,null,null,"QMM",{"$f":"VLOOKUP(P4925,'[1]CCG & RG names'!D:E,2,0)","v":"Norfolk and Waveney Health & Care Partnership (STP)"},"26A",{"$f":"VLOOKUP(R4925,'[1]CCG & RG names'!A:B,2,0)","v":"NHS Norfolk and Waveney CCG"},"V001148","Grange Dental Surgery, Lynn Road, Snettisham, KINGS LYNN, Norfolk, PE31 7QB","PE31 7QB","PE31"]
[null,null,null,null,null,null,null,null,null,null,null,null,null,null,null,"QMM",{"$f":"VLOOKUP(P4930,'[1]CCG & RG names'!D:E,2,0)","v":"Norfolk and Waveney Health & Care Partnership (STP)"},"26A",{"$f":"VLOOKUP(R4930,'[1]CCG & RG names'!A:B,2,0)","v":"NHS Norfolk and Waveney CCG"},"V001179","Hall Farm Dental Surgery, Roydon Hall, Roydon, Kings Lynn, Norfolk, PE32 1AR","PE32 1AR","PE32"]
[null,null,null,null,null,null,null,null,null,null,null,null,null,null,null,"QMM",{"$f":"VLOOKUP(P4939,'[1]CCG & RG names'!D:E,2,0)","v":"Norfolk and Waveney Health & Care Partnership (STP)"},"26A",{"$f":"VLOOKUP(R4939,'[1]CCG & RG names'!A:B,2,0)","v":"NHS Norfolk and Waveney CCG"},"V010494","Siskin Dental Centre, Norwich Community Hospital, Bowthorpe Road, Norwich, NR2 3TU","NR2 3TU","NR2 "]
[null,null,null,null,null,null,null,null,null,null,null,null,null,null,null,"QMM",{"$f":"VLOOKUP(P4946,'[1]CCG & RG names'!D:E,2,0)","v":"Norfolk and Waveney Health & Care Partnership (STP)"},"26A",{"$f":"VLOOKUP(R4946,'[1]CCG & RG names'!A:B,2,0)","v":"NHS Norfolk and Waveney CCG"},"V012969","6 Vawdrey Road, Drayton, NORWICH, Norfolk, NR8 6EL","NR8 6EL","NR8 "]
[null,null,null,null,null,null,null,null,null,null,null,null,null,null,null,"QMM",{"$f":"VLOOKUP(P4950,'[1]CCG & RG names'!D:E,2,0)","v":"Norfolk and Waveney Health & Care Partnership (STP)"},"26A",{"$f":"VLOOKUP(R4950,'[1]CCG & RG names'!A:B,2,0)","v":"NHS Norfolk and Waveney CCG"},"V014621","Loddon Dental Practice, 40-48 George Lane, Loddon, Norfolk, NR14 6QH","NR14 6QH","NR14"]
[null,null,null,null,null,null,null,null,null,null,null,null,null,null,null,"QMM",{"$f":"VLOOKUP(P4957,'[1]CCG & RG names'!D:E,2,0)","v":"Norfolk and Waveney Health & Care Partnership (STP)"},"26A",{"$f":"VLOOKUP(R4957,'[1]CCG & RG names'!A:B,2,0)","v":"NHS Norfolk and Waveney CCG"},"V228468","6 ST. ANNS STREET, KING'S LYNN, PE30 1LT","PE30 1LT","PE30"]
[null,null,null,null,null,null,null,null,null,null,null,null,null,null,null,"QUE",{"$f":"VLOOKUP(P4958,'[1]CCG & RG names'!D:E,2,0)","v":"Cambridgeshire and Peterborough STP"},"06H",{"$f":"VLOOKUP(R4958,'[1]CCG & RG names'!A:B,2,0)","v":"NHS Cambridgeshire and Peterborough CCG"},"V001578","Dental Surgery, First Floor, 29 31 High Street, ROYSTON, Hertfordshire, SG8 9AA","SG8 9AA","SG8 "]
[null,null,null,null,null,null,null,null,null,null,null,null,null,null,null,"QUE",{"$f":"VLOOKUP(P4967,'[1]CCG & RG names'!D:E,2,0)","v":"Cambridgeshire and Peterborough STP"},"06H",{"$f":"VLOOKUP(R4967,'[1]CCG & RG names'!A:B,2,0)","v":"NHS Cambridgeshire and Peterborough CCG"},"V002476","Dental Surgery, 50 Metcalfe Road, CAMBRIDGE, Cambridgeshire, CB4 2DD","CB4 2DD","CB4 "]
[null,null,null,null,null,null,null,null,null,null,null,null,null,null,null,"QUE",{"$f":"VLOOKUP(P4974,'[1]CCG & RG names'!D:E,2,0)","v":"Cambridgeshire and Peterborough STP"},"06H",{"$f":"VLOOKUP(R4974,'[1]CCG & RG names'!A:B,2,0)","v":"NHS Cambridgeshire and Peterborough CCG"},"V002803","111 Brewery Road, Pampisford, CAMBRIDGE, Cambridgeshire, CB2 4EW","CB2 4EW","CB2 "]
[null,null,null,null,null,null,null,null,null,null,null,null,null,null,null,"QUE",{"$f":"VLOOKUP(P4976,'[1]CCG & RG names'!D:E,2,0)","v":"Cambridgeshire and Peterborough STP"},"06H",{"$f":"VLOOKUP(R4976,'[1]CCG & RG names'!A:B,2,0)","v":"NHS Cambridgeshire and Peterborough CCG"},"V003226","Cambourne Dental Practice, Monkfield House, Monkfield Lane, Great Cambourne, CAMBRIDGE, CB23 6AJ","CB23 6AJ","CB23"]
[null,null,null,null,null,null,null,null,null,null,null,null,null,null,null,"QUE",{"$f":"VLOOKUP(P4985,'[1]CCG & RG names'!D:E,2,0)","v":"Cambridgeshire and Peterborough STP"},"06H",{"$f":"VLOOKUP(R4985,'[1]CCG & RG names'!A:B,2,0)","v":"NHS Cambridgeshire and Peterborough CCG"},"V005537","Dental Surgery, 26 St Marys Street, ELY, Cambridgeshire, CB7 4ES","CB7 4ES","CB7 "]
[null,null,null,null,null,null,null,null,null,null,null,null,null,null,null,"QUE",{"$f":"VLOOKUP(P4992,'[1]CCG & RG names'!D:E,2,0)","v":"Cambridgeshire and Peterborough STP"},"06H",{"$f":"VLOOKUP(R4992,'[1]CCG & RG names'!A:B,2,0)","v":"NHS Cambridgeshire and Peterborough CCG"},"V005755","The Hollies Dental Practice, 14 Park Street, CHATTERIS, Cambridgeshire, PE16 6AF","PE16 6AF","PE16"]
[null,null,null,null,null,null,null,null,null,null,null,null,null,null,null,"QUE",{"$f":"VLOOKUP(P4994,'[1]CCG & RG names'!D:E,2,0)","v":"Cambridgeshire and Peterborough STP"},"06H",{"$f":"VLOOKUP(R4994,'[1]CCG & RG names'!A:B,2,0)","v":"NHS Cambridgeshire and Peterborough CCG"},"V006451","157 Dental Group, 157 Broadway, PETERBOROUGH, Cambridgeshire, PE1 4DD","PE1 4DD","PE1 "]
[null,null,null,null,null,null,null,null,null,null,null,null,null,null,null,"QUE",{"$f":"VLOOKUP(P5003,'[1]CCG & RG names'!D:E,2,0)","v":"Cambridgeshire and Peterborough STP"},"06H",{"$f":"VLOOKUP(R5003,'[1]CCG & RG names'!A:B,2,0)","v":"NHS Cambridgeshire and Peterborough CCG"},"V007722","Dental Surgery, 3 Brampton Road, HUNTINGDON, Cambridgeshire, PE29 3BQ","PE29 3BQ","PE29"]
[null,null,null,null,null,null,null,null,null,null,null,null,null,null,null,"QUE",{"$f":"VLOOKUP(P5004,'[1]CCG & RG names'!D:E,2,0)","v":"Cambridgeshire and Peterborough STP"},"06H",{"$f":"VLOOKUP(R5004,'[1]CCG & RG names'!A:B,2,0)","v":"NHS Cambridgeshire and Peterborough CCG"},"V007723","11 Granby Street, Littleport, ELY, Cambridgeshire, CB6 1NE","CB6 1NE","CB6 "]
[null,null,null,null,null,null,null,null,null,null,null,null,null,null,null,"QUE",{"$f":"VLOOKUP(P5013,'[1]CCG & RG names'!D:E,2,0)","v":"Cambridgeshire and Peterborough STP"},"06H",{"$f":"VLOOKUP(R5013,'[1]CCG & RG names'!A:B,2,0)","v":"NHS Cambridgeshire and Peterborough CCG"},"V007842","Dental Surgery, Eastfield House, 147 Eastfield Road, PETERBOROUGH, Cambridgeshire, PE1 4AU","PE1 4AU","PE1 "]
[null,null,null,null,null,null,null,null,null,null,null,null,null,null,null,"QUE",{"$f":"VLOOKUP(P5018,'[1]CCG & RG names'!D:E,2,0)","v":"Cambridgeshire and Peterborough STP"},"06H",{"$f":"VLOOKUP(R5018,'[1]CCG & RG names'!A:B,2,0)","v":"NHS Cambridgeshire and Peterborough CCG"},"V009074","Dental Access Centre, 5 Midgate, PETERBOROUGH, Cambridgeshire, PE1 1TN","PE1 1TN","PE1 "]
[null,null,null,null,null,null,null,null,null,null,null,null,null,null,null,"QUE",{"$f":"VLOOKUP(P5022,'[1]CCG & RG names'!D:E,2,0)","v":"Cambridgeshire and Peterborough STP"},"06H",{"$f":"VLOOKUP(R5022,'[1]CCG & RG names'!A:B,2,0)","v":"NHS Cambridgeshire and Peterborough CCG"},"V009785","6A Church Street, Somersham, HUNTINGDON, Cambridgeshire, PE28 3EG","PE28 3EG","PE28"]
[null,null,null,null,null,null,null,null,null,null,null,null,null,null,null,"QUE",{"$f":"VLOOKUP(P5031,'[1]CCG & RG names'!D:E,2,0)","v":"Cambridgeshire and Peterborough STP"},"06H",{"$f":"VLOOKUP(R5031,'[1]CCG & RG names'!A:B,2,0)","v":"NHS Cambridgeshire and Peterborough CCG"},"V011762","H M Prison, Perry, HUNTINGDON, Cambridgeshire, PE28 0SR","PE28 0SR","PE28"]
[null,null,null,null,null,null,null,null,null,null,null,null,null,null,null,"QUE",{"$f":"VLOOKUP(P5038,'[1]CCG & RG names'!D:E,2,0)","v":"Cambridgeshire and Peterborough STP"},"06H",{"$f":"VLOOKUP(R5038,'[1]CCG & RG names'!A:B,2,0)","v":"NHS Cambridgeshire and Peterborough CCG"},"V013506","Orthoworld, 11 East Street, St Ives, Cambridgeshire, PE27 5PD","PE27 5PD","PE27"]
[null,null,null,null,null,null,null,null,null,null,null,null,null,null,null,"QUE",{"$f":"VLOOKUP(P5043,'[1]CCG & RG names'!D:E,2,0)","v":"Cambridgeshire and Peterborough STP"},"06H",{"$f":"VLOOKUP(R5043,'[1]CCG & RG names'!A:B,2,0)","v":"NHS Cambridgeshire and Peterborough CCG"},"V044636","84 ANGLE END, GREAT WILBRAHAM, CAMBRIDGE, CB21 5JG","CB21 5JG","CB21"]
[null,null,null,null,null,null,null,null,null,null,null,null,null,null,null,"QE1",{"$f":"VLOOKUP(P5049,'[1]CCG & RG names'!D:E,2,0)","v":"Healthier Lancashire and South Cumbria"},"00Q",{"$f":"VLOOKUP(R5049,'[1]CCG & RG names'!A:B,2,0)","v":"NHS Blackburn with Darwen CCG"},"V003835","Mill Hill Dental Practice, 17 New Wellington Street, BLACKBURN, Lancashire, BB2 4DY","BB2 4DY","BB2 "]
[null,null,null,null,null,null,null,null,null,null,null,null,null,null,null,"QE1",{"$f":"VLOOKUP(P5050,'[1]CCG & RG names'!D:E,2,0)","v":"Healthier Lancashire and South Cumbria"},"00Q",{"$f":"VLOOKUP(R5050,'[1]CCG & RG names'!A:B,2,0)","v":"NHS Blackburn with Darwen CCG"},"V003837","Dental Surgery, 334 Whalley Range, BLACKBURN, Lancashire, BB1 6NN","BB1 6NN","BB1 "]
[null,null,null,null,null,null,null,null,null,null,null,null,null,null,null,"QE1",{"$f":"VLOOKUP(P5059,'[1]CCG & RG names'!D:E,2,0)","v":"Healthier Lancashire and South Cumbria"},"00Q",{"$f":"VLOOKUP(R5059,'[1]CCG & RG names'!A:B,2,0)","v":"NHS Blackburn with Darwen CCG"},"V004490","Dental Surgery, 40D Preston New Road, BLACKBURN, Lancashire, BB2 6AH","BB2 6AH",{"$f":"IF(MID(V5059,3,1) =\" \",LEFT(V5059,3),LEFT(V5059,4))","v":"BB2 "}]
[null,null,null,null,null,null,null,null,null,null,null,null,null,null,null,"QE1",{"$f":"VLOOKUP(P5063,'[1]CCG & RG names'!D:E,2,0)","v":"Healthier Lancashire and South Cumbria"},"00Q",{"$f":"VLOOKUP(R5063,'[1]CCG & RG names'!A:B,2,0)","v":"NHS Blackburn with Darwen CCG"},"V008871","Darwen Health Centre, James Street West, DARWEN, Lancashire, BB3 1PY","BB3 1PY","BB3 "]
[null,null,null,null,null,null,null,null,null,null,null,null,null,null,null,"QE1",{"$f":"VLOOKUP(P5068,'[1]CCG & RG names'!D:E,2,0)","v":"Healthier Lancashire and South Cumbria"},"00Q",{"$f":"VLOOKUP(R5068,'[1]CCG & RG names'!A:B,2,0)","v":"NHS Blackburn with Darwen CCG"},"V016527","Barbara Castle Way Health Centre, Simmons Street, Blackburn, BB2 1AX","BB2 1AX","BB2 "]
[null,null,null,null,null,null,null,null,null,null,null,null,null,null,null,"QE1",{"$f":"VLOOKUP(P5077,'[1]CCG & RG names'!D:E,2,0)","v":"Healthier Lancashire and South Cumbria"},"00R",{"$f":"VLOOKUP(R5077,'[1]CCG & RG names'!A:B,2,0)","v":"NHS Blackpool CCG"},"V002577","Oasis Dental Care Ltd, 374 Lytham Road, BLACKPOOL, Lancashire, FY4 1DW","FY4 1DW","FY4 "]
[null,null,null,null,null,null,null,null,null,null,null,null,null,null,null,"QE1",{"$f":"VLOOKUP(P5081,'[1]CCG & RG names'!D:E,2,0)","v":"Healthier Lancashire and South Cumbria"},"00R",{"$f":"VLOOKUP(R5081,'[1]CCG & RG names'!A:B,2,0)","v":"NHS Blackpool CCG"},"V010787","370 Central Drive, BLACKPOOL, Lancashire, FY1 6LA","FY1 6LA","FY1 "]
[null,null,null,null,null,null,null,null,null,null,null,null,null,null,null,"QE1",{"$f":"VLOOKUP(P5086,'[1]CCG & RG names'!D:E,2,0)","v":"Healthier Lancashire and South Cumbria"},"00R",{"$f":"VLOOKUP(R5086,'[1]CCG & RG names'!A:B,2,0)","v":"NHS Blackpool CCG"},"V017322","575 Lytham Road, Blackpool, FY4 1TJ","FY4 1TJ","FY4 "]
[null,null,null,null,null,null,null,null,null,null,null,null,null,null,null,"QE1",{"$f":"VLOOKUP(P5095,'[1]CCG & RG names'!D:E,2,0)","v":"Healthier Lancashire and South Cumbria"},"00X",{"$f":"VLOOKUP(R5095,'[1]CCG & RG names'!A:B,2,0)","v":"NHS Chorley and South Ribble CCG"},"V005363","Dental Surgery, 9 Southport Road, CHORLEY, Lancashire, PR7 1LB","PR7 1LB","PR7 "]
[null,null,null,null,null,null,null,null,null,null,null,null,null,null,null,"QE1",{"$f":"VLOOKUP(P5096,'[1]CCG & RG names'!D:E,2,0)","v":"Healthier Lancashire and South Cumbria"},"00X",{"$f":"VLOOKUP(R5096,'[1]CCG & RG names'!A:B,2,0)","v":"NHS Chorley and South Ribble CCG"},"V005376","The Village Dental Practice, 173 Chorley Road, Adlington, CHORLEY, Lancashire, PR6 9LP","PR6 9LP","PR6 "]
[null,null,null,null,null,null,null,null,null,null,null,null,null,null,null,"QE1",{"$f":"VLOOKUP(P5105,'[1]CCG & RG names'!D:E,2,0)","v":"Healthier Lancashire and South Cumbria"},"00X",{"$f":"VLOOKUP(R5105,'[1]CCG & RG names'!A:B,2,0)","v":"NHS Chorley and South Ribble CCG"},"V019543","Bamber Bridge Clinic, School Lane, Bamber Bridge, Preston, PR5 6QE","PR5 6QE","PR5 "]
[null,null,null,null,null,null,null,null,null,null,null,null,null,null,null,"QE1",{"$f":"VLOOKUP(P5111,'[1]CCG & RG names'!D:E,2,0)","v":"Healthier Lancashire and South Cumbria"},"01A",{"$f":"VLOOKUP(R5111,'[1]CCG & RG names'!A:B,2,0)","v":"NHS East Lancashire CCG"},"V005503","Dental Care Centre, 17 Ormerod Road, BURNLEY, Lancashire, BB11 2RU","BB11 2RU","BB11"]
[null,null,null,null,null,null,null,null,null,null,null,null,null,null,null,"QE1",{"$f":"VLOOKUP(P5114,'[1]CCG & RG names'!D:E,2,0)","v":"Healthier Lancashire and South Cumbria"},"01A",{"$f":"VLOOKUP(R5114,'[1]CCG & RG names'!A:B,2,0)","v":"NHS East Lancashire CCG"},"V005594","Dental Surgery, 2 Colne Road, BURNLEY, Lancashire, BB10 1LA","BB10 1LA","BB10"]
[null,null,null,null,null,null,null,null,null,null,null,null,null,null,null,"QE1",{"$f":"VLOOKUP(P5123,'[1]CCG & RG names'!D:E,2,0)","v":"Healthier Lancashire and South Cumbria"},"01A",{"$f":"VLOOKUP(R5123,'[1]CCG & RG names'!A:B,2,0)","v":"NHS East Lancashire CCG"},"V007122","61 - 63 Church Street, Padiham, BURNLEY, Lancashire, BB12 8JH","BB12 8JH",{"$f":"IF(MID(V5123,3,1) =\" \",LEFT(V5123,3),LEFT(V5123,4))","v":"BB12"}]
[null,null,null,null,null,null,null,null,null,null,null,null,null,null,null,"QE1",{"$f":"VLOOKUP(P5125,'[1]CCG & RG names'!D:E,2,0)","v":"Healthier Lancashire and South Cumbria"},"01A",{"$f":"VLOOKUP(R5125,'[1]CCG & RG names'!A:B,2,0)","v":"NHS East Lancashire CCG"},"V007389","Dental Surgery, 72 Leeds Road, NELSON, Lancashire, BB9 9TD","BB9 9TD","BB9 "]
[null,null,null,null,null,null,null,null,null,null,null,null,null,null,null,"QE1",{"$f":"VLOOKUP(P5132,'[1]CCG & RG names'!D:E,2,0)","v":"Healthier Lancashire and South Cumbria"},"01A",{"$f":"VLOOKUP(R5132,'[1]CCG & RG names'!A:B,2,0)","v":"NHS East Lancashire CCG"},"V007440","Dental Surgery, 18 Glebe Street, Great Harwood, BLACKBURN, Lancashire, BB6 7AA","BB6 7AA","BB6 "]
[null,null,null,null,null,null,null,null,null,null,null,null,null,null,null,"QE1",{"$f":"VLOOKUP(P5139,'[1]CCG & RG names'!D:E,2,0)","v":"Healthier Lancashire and South Cumbria"},"01A",{"$f":"VLOOKUP(R5139,'[1]CCG & RG names'!A:B,2,0)","v":"NHS East Lancashire CCG"},"V007451","Dental Surgery, 69 Abbey Street, ACCRINGTON, Lancashire, BB5 1EH","BB5 1EH","BB5 "]
[null,null,null,null,null,null,null,null,null,null,null,null,null,null,null,"QE1",{"$f":"VLOOKUP(P5142,'[1]CCG & RG names'!D:E,2,0)","v":"Healthier Lancashire and South Cumbria"},"01A",{"$f":"VLOOKUP(R5142,'[1]CCG & RG names'!A:B,2,0)","v":"NHS East Lancashire CCG"},"V007454","56 York Street, CLITHEROE, Lancashire, BB7 2DL","BB7 2DL","BB7 "]
[null,null,null,null,null,null,null,null,null,null,null,null,null,null,null,"QE1",{"$f":"VLOOKUP(P5149,'[1]CCG & RG names'!D:E,2,0)","v":"Healthier Lancashire and South Cumbria"},"01A",{"$f":"VLOOKUP(R5149,'[1]CCG & RG names'!A:B,2,0)","v":"NHS East Lancashire CCG"},"V007881","13 Skipton Road, COLNE, Lancashire, BB8 0NQ","BB8 0NQ","BB8 "]
[null,null,null,null,null,null,null,null,null,null,null,null,null,null,null,"QE1",{"$f":"VLOOKUP(P5157,'[1]CCG & RG names'!D:E,2,0)","v":"Healthier Lancashire and South Cumbria"},"01A",{"$f":"VLOOKUP(R5157,'[1]CCG & RG names'!A:B,2,0)","v":"NHS East Lancashire CCG"},"V009255","Baxenden Dental Practice, 522 Manchester Road, ACCRINGTON, Lancashire, BB5 2RG","BB5 2RG","BB5 "]
[null,null,null,null,null,null,null,null,null,null,null,null,null,null,null,"QE1",{"$f":"VLOOKUP(P5160,'[1]CCG & RG names'!D:E,2,0)","v":"Healthier Lancashire and South Cumbria"},"01A",{"$f":"VLOOKUP(R5160,'[1]CCG & RG names'!A:B,2,0)","v":"NHS East Lancashire CCG"},"V011580","Oak House Dental Centre, 34 Church Street, Accrington, Lancashire, BB5 2ED","BB5 2ED","BB5 "]
[null,null,null,null,null,null,null,null,null,null,null,null,null,null,null,"QE1",{"$f":"VLOOKUP(P5169,'[1]CCG & RG names'!D:E,2,0)","v":"Healthier Lancashire and South Cumbria"},"01E",{"$f":"VLOOKUP(R5169,'[1]CCG & RG names'!A:B,2,0)","v":"NHS Greater Preston CCG"},"V001865","Adelphi Dental Surgery, 157 Adelphi Street, PRESTON, Lancashire, PR1 7BH","PR1 7BH","PR1 "]
[null,null,null,null,null,null,null,null,null,null,null,null,null,null,null,"QE1",{"$f":"VLOOKUP(P5174,'[1]CCG & RG names'!D:E,2,0)","v":"Healthier Lancashire and South Cumbria"},"01E",{"$f":"VLOOKUP(R5174,'[1]CCG & RG names'!A:B,2,0)","v":"NHS Greater Preston CCG"},"V001873","Oasis Dental Care Ltd, 25 Beech Drive, Fulwood, PRESTON, Lancashire, PR2 3NB","PR2 3NB","PR2 "]
[null,null,null,null,null,null,null,null,null,null,null,null,null,null,null,"QE1",{"$f":"VLOOKUP(P5178,'[1]CCG & RG names'!D:E,2,0)","v":"Healthier Lancashire and South Cumbria"},"01E",{"$f":"VLOOKUP(R5178,'[1]CCG & RG names'!A:B,2,0)","v":"NHS Greater Preston CCG"},"V001881","Oliver & Assoc. Dental Surgery, 12 Grafton Road, Ribbleton, PRESTON, Lancashire, PR2 6RT","PR2 6RT","PR2 "]
[null,null,null,null,null,null,null,null,null,null,null,null,null,null,null,"QE1",{"$f":"VLOOKUP(P5185,'[1]CCG & RG names'!D:E,2,0)","v":"Healthier Lancashire and South Cumbria"},"01E",{"$f":"VLOOKUP(R5185,'[1]CCG & RG names'!A:B,2,0)","v":"NHS Greater Preston CCG"},"V005405","46 - 48 Liverpool Road, Penwortham, Preston, Lancashire, Lancashire, PR1 0DQ","PR1 0DQ","PR1 "]
[null,null,null,null,null,null,null,null,null,null,null,null,null,null,null,"QE1",{"$f":"VLOOKUP(P5188,'[1]CCG & RG names'!D:E,2,0)","v":"Healthier Lancashire and South Cumbria"},"01E",{"$f":"VLOOKUP(R5188,'[1]CCG & RG names'!A:B,2,0)","v":"NHS Greater Preston CCG"},"V011644","Lancashire Care N H S Trust, Guild Park, Whittingham, PRESTON, Lancashire, PR3 2JH","PR3 2JH","PR3 "]
[null,null,null,null,null,null,null,null,null,null,null,null,null,null,null,"QE1",{"$f":"VLOOKUP(P5198,'[1]CCG & RG names'!D:E,2,0)","v":"Healthier Lancashire and South Cumbria"},"01K",{"$f":"VLOOKUP(R5198,'[1]CCG & RG names'!A:B,2,0)","v":"NHS Morecambe Bay CCG"},"V003041","Kendal Dental Care Ltd, 56 Stramongate, KENDAL, Cumbria, LA9 4BD","LA9 4BD","LA9 "]
[null,null,null,null,null,null,null,null,null,null,null,null,null,null,null,"QE1",{"$f":"VLOOKUP(P5203,'[1]CCG & RG names'!D:E,2,0)","v":"Healthier Lancashire and South Cumbria"},"01K",{"$f":"VLOOKUP(R5203,'[1]CCG & RG names'!A:B,2,0)","v":"NHS Morecambe Bay CCG"},"V003242","Dental Surgery, 31 Princes Crescent, MORECAMBE, Lancashire, LA4 6BY","LA4 6BY","LA4 "]
[null,null,null,null,null,null,null,null,null,null,null,null,null,null,null,"QE1",{"$f":"VLOOKUP(P5206,'[1]CCG & RG names'!D:E,2,0)","v":"Healthier Lancashire and South Cumbria"},"01K",{"$f":"VLOOKUP(R5206,'[1]CCG & RG names'!A:B,2,0)","v":"NHS Morecambe Bay CCG"},"V003270","Dental Surgery, 132 Market Street, DALTON IN FURNESS, Cumbria, LA15 8RG","LA15 8RG","LA15"]
[null,null,null,null,null,null,null,null,null,null,null,null,null,null,null,"QE1",{"$f":"VLOOKUP(P5215,'[1]CCG & RG names'!D:E,2,0)","v":"Healthier Lancashire and South Cumbria"},"01K",{"$f":"VLOOKUP(R5215,'[1]CCG & RG names'!A:B,2,0)","v":"NHS Morecambe Bay CCG"},"V008012","Brock Street Dental Practice, 8 Brock Street, LANCASTER, Lancashire, LA1 1UU","LA1 1UU","LA1 "]
[null,null,null,null,null,null,null,null,null,null,null,null,null,null,null,"QE1",{"$f":"VLOOKUP(P5218,'[1]CCG & RG names'!D:E,2,0)","v":"Healthier Lancashire and South Cumbria"},"01K",{"$f":"VLOOKUP(R5218,'[1]CCG & RG names'!A:B,2,0)","v":"NHS Morecambe Bay CCG"},"V008879","V S Dawber And Associates, Hordale Dental Surgery, Haverflatts Lane, MILNTHORPE, Cumbria, LA7 7PS","LA7 7PS","LA7 "]
[null,null,null,null,null,null,null,null,null,null,null,null,null,null,null,"QE1",{"$f":"VLOOKUP(P5224,'[1]CCG & RG names'!D:E,2,0)","v":"Healthier Lancashire and South Cumbria"},"01K",{"$f":"VLOOKUP(R5224,'[1]CCG & RG names'!A:B,2,0)","v":"NHS Morecambe Bay CCG"},"V010427","26 Victoria Terrace, Victoria Street, WINDERMERE, Cumbria, LA23 1AB","LA23 1AB","LA23"]
[null,null,null,null,null,null,null,null,null,null,null,null,null,null,null,"QE1",{"$f":"VLOOKUP(P5231,'[1]CCG & RG names'!D:E,2,0)","v":"Healthier Lancashire and South Cumbria"},"01K",{"$f":"VLOOKUP(R5231,'[1]CCG & RG names'!A:B,2,0)","v":"NHS Morecambe Bay CCG"},"V013924","Government Building, St George's Road, Millom, Cumbria, LA18 5DN","LA18 5DN","LA18"]
[null,null,null,null,null,null,null,null,null,null,null,null,null,null,null,"QE1",{"$f":"VLOOKUP(P5234,'[1]CCG & RG names'!D:E,2,0)","v":"Healthier Lancashire and South Cumbria"},"01K",{"$f":"VLOOKUP(R5234,'[1]CCG & RG names'!A:B,2,0)","v":"NHS Morecambe Bay CCG"},"V032192","3A, Great John Street, Lancaster, LA1 1NQ","LA1 1NQ","LA1 "]
[null,null,null,null,null,null,null,null,null,null,null,null,null,null,null,"QE1",{"$f":"VLOOKUP(P5242,'[1]CCG & RG names'!D:E,2,0)","v":"Healthier Lancashire and South Cumbria"},"02G",{"$f":"VLOOKUP(R5242,'[1]CCG & RG names'!A:B,2,0)","v":"NHS West Lancashire CCG"},"V002402","Dental Surgery, 27 Bold Lane, Aughton, ORMSKIRK, Lancashire, L39 6SG","L39 6SG","L39 "]
[null,null,null,null,null,null,null,null,null,null,null,null,null,null,null,"QE1",{"$f":"VLOOKUP(P5249,'[1]CCG & RG names'!D:E,2,0)","v":"Healthier Lancashire and South Cumbria"},"02G",{"$f":"VLOOKUP(R5249,'[1]CCG & RG names'!A:B,2,0)","v":"NHS West Lancashire CCG"},"V002425","Orthodontist Dental Practice, 55 Burscough Street, ORMSKIRK, Lancashire, L39 2EL","L39 2EL","L39 "]
[null,null,null,null,null,null,null,null,null,null,null,null,null,null,null,"QE1",{"$f":"VLOOKUP(P5252,'[1]CCG & RG names'!D:E,2,0)","v":"Healthier Lancashire and South Cumbria"},"02G",{"$f":"VLOOKUP(R5252,'[1]CCG & RG names'!A:B,2,0)","v":"NHS West Lancashire CCG"},"V002435","Digmour Dental Practice, 156 Birkrig, SKELMERSDALE, Lancashire, WN8 9HP","WN8 9HP","WN8 "]
[null,null,null,null,null,null,null,null,null,null,null,null,null,null,null,"QE1",{"$f":"VLOOKUP(P5259,'[1]CCG & RG names'!D:E,2,0)","v":"Healthier Lancashire and South Cumbria"},"02M",{"$f":"VLOOKUP(R5259,'[1]CCG & RG names'!A:B,2,0)","v":"NHS Fylde and Wyre CCG"},"V000302","Dental Surgery, 46 Poulton Street, Kirkham, PRESTON, Lancashire, PR4 2AH","PR4 2AH","PR4 "]
[null,null,null,null,null,null,null,null,null,null,null,null,null,null,null,"QE1",{"$f":"VLOOKUP(P5267,'[1]CCG & RG names'!D:E,2,0)","v":"Healthier Lancashire and South Cumbria"},"02M",{"$f":"VLOOKUP(R5267,'[1]CCG & RG names'!A:B,2,0)","v":"NHS Fylde and Wyre CCG"},"V003416","Dental Surgery, 18 Cleveleys Avenue, THORNTON CLEVELEYS, Lancashire, FY5 2AZ","FY5 2AZ","FY5 "]
[null,null,null,null,null,null,null,null,null,null,null,null,null,null,null,"QE1",{"$f":"VLOOKUP(P5270,'[1]CCG & RG names'!D:E,2,0)","v":"Healthier Lancashire and South Cumbria"},"02M",{"$f":"VLOOKUP(R5270,'[1]CCG & RG names'!A:B,2,0)","v":"NHS Fylde and Wyre CCG"},"V003441","Hardhorn Road Dental Surgery, 47 Hardhorn Road, POULTON LE FYLDE, Lancashire, FY6 7SR","FY6 7SR","FY6 "]
[null,null,null,null,null,null,null,null,null,null,null,null,null,null,null,"QE1",{"$f":"VLOOKUP(P5277,'[1]CCG & RG names'!D:E,2,0)","v":"Healthier Lancashire and South Cumbria"},"02M",{"$f":"VLOOKUP(R5277,'[1]CCG & RG names'!A:B,2,0)","v":"NHS Fylde and Wyre CCG"},"V014064","Woodlands Dental Surgery, 80 Woodlands Road, LYTHAM ST ANNES, Lancashire, FY8 1DA","FY8 1DA","FY8 "]
[null,null,null,null,null,null,null,null,null,null,null,null,null,null,null,"QOP",{"$f":"VLOOKUP(P5280,'[1]CCG & RG names'!D:E,2,0)","v":"Greater Manchester Health & Social Care Partnership"},"00T",{"$f":"VLOOKUP(R5280,'[1]CCG & RG names'!A:B,2,0)","v":"NHS Bolton CCG"},"V005427","The Dental Care Centre, 75 Market Street, Little Lever, BOLTON, Lancashire, BL3 1HH","BL3 1HH","BL3 "]
[null,null,null,null,null,null,null,null,null,null,null,null,null,null,null,"QOP",{"$f":"VLOOKUP(P5286,'[1]CCG & RG names'!D:E,2,0)","v":"Greater Manchester Health & Social Care Partnership"},"00T",{"$f":"VLOOKUP(R5286,'[1]CCG & RG names'!A:B,2,0)","v":"NHS Bolton CCG"},"V005738","Dental Surgery, 40 Chorley New Road, BOLTON, Lancashire, BL1 4AP","BL1 4AP","BL1 "]
[null,null,null,null,null,null,null,null,null,null,null,null,null,null,null,"QOP",{"$f":"VLOOKUP(P5295,'[1]CCG & RG names'!D:E,2,0)","v":"Greater Manchester Health & Social Care Partnership"},"00T",{"$f":"VLOOKUP(R5295,'[1]CCG & RG names'!A:B,2,0)","v":"NHS Bolton CCG"},"V005806","Dental Surgery, 513 Tonge Moor Road, BOLTON, Lancashire, BL2 3BG","BL2 3BG","BL2 "]
[null,null,null,null,null,null,null,null,null,null,null,null,null,null,null,"QOP",{"$f":"VLOOKUP(P5298,'[1]CCG & RG names'!D:E,2,0)","v":"Greater Manchester Health & Social Care Partnership"},"00T",{"$f":"VLOOKUP(R5298,'[1]CCG & RG names'!A:B,2,0)","v":"NHS Bolton CCG"},"V006036","Dental Surgery, 25 Bolton Road, Kearsley, Bolton, Lancashire, BL4 8DB","BL4 8DB","BL4 "]
[null,null,null,null,null,null,null,null,null,null,null,null,null,null,null,"QOP",{"$f":"VLOOKUP(P5305,'[1]CCG & RG names'!D:E,2,0)","v":"Greater Manchester Health & Social Care Partnership"},"00T",{"$f":"VLOOKUP(R5305,'[1]CCG & RG names'!A:B,2,0)","v":"NHS Bolton CCG"},"V009568","Dental Surgery, 274 Blackburn Road, BOLTON, Lancashire, BL1 8DT","BL1 8DT","BL1 "]
[null,null,null,null,null,null,null,null,null,null,null,null,null,null,null,"QOP",{"$f":"VLOOKUP(P5311,'[1]CCG & RG names'!D:E,2,0)","v":"Greater Manchester Health & Social Care Partnership"},"00V",{"$f":"VLOOKUP(R5311,'[1]CCG & RG names'!A:B,2,0)","v":"NHS Bury CCG"},"V008252","D P Lustman's Dental Surgery, 265 Bolton Road, Radcliffe, Manchester, MANCHESTER, M26 3QP","M26 3QP","M26 "]
[null,null,null,null,null,null,null,null,null,null,null,null,null,null,null,"QOP",{"$f":"VLOOKUP(P5316,'[1]CCG & RG names'!D:E,2,0)","v":"Greater Manchester Health & Social Care Partnership"},"00V",{"$f":"VLOOKUP(R5316,'[1]CCG & RG names'!A:B,2,0)","v":"NHS Bury CCG"},"V008261","A V Jacobs And S Lazarus, Dental Surgery, 406 Bury Old Road, Prestwich, MANCHESTER, M25 1PZ","M25 1PZ","M25 "]
[null,null,null,null,null,null,null,null,null,null,null,null,null,null,null,"QOP",{"$f":"VLOOKUP(P5323,'[1]CCG & RG names'!D:E,2,0)","v":"Greater Manchester Health & Social Care Partnership"},"00V",{"$f":"VLOOKUP(R5323,'[1]CCG & RG names'!A:B,2,0)","v":"NHS Bury CCG"},"V008268","Dental Surgery, 112 Walmersley Road, BURY, Lancashire, BL9 6DX","BL9 6DX","BL9 "]
[null,null,null,null,null,null,null,null,null,null,null,null,null,null,null,"QOP",{"$f":"VLOOKUP(P5329,'[1]CCG & RG names'!D:E,2,0)","v":"Greater Manchester Health & Social Care Partnership"},"00V",{"$f":"VLOOKUP(R5329,'[1]CCG & RG names'!A:B,2,0)","v":"NHS Bury CCG"},"V008379","1 -5 Parsonage Street, BURY, Lancashire, BL9 6BG","BL9 6BG","BL9 "]
[null,null,null,null,null,null,null,null,null,null,null,null,null,null,null,"QOP",{"$f":"VLOOKUP(P5332,'[1]CCG & RG names'!D:E,2,0)","v":"Greater Manchester Health & Social Care Partnership"},"00V",{"$f":"VLOOKUP(R5332,'[1]CCG & RG names'!A:B,2,0)","v":"NHS Bury CCG"},"V009216","R E Noar And Associates, Dental Surgery, 6 Knowsley Road, Whitefield, MANCHESTER, M45 6BF","M45 6BF","M45 "]
[null,null,null,null,null,null,null,null,null,null,null,null,null,null,null,"QOP",{"$f":"VLOOKUP(P5341,'[1]CCG & RG names'!D:E,2,0)","v":"Greater Manchester Health & Social Care Partnership"},"00Y",{"$f":"VLOOKUP(R5341,'[1]CCG & RG names'!A:B,2,0)","v":"NHS Oldham CCG"},"V000147","Dental Surgery, 918 Middleton Road, Chadderton, OLDHAM, Lancashire, OL9 9SB","OL9 9SB","OL9 "]
[null,null,null,null,null,null,null,null,null,null,null,null,null,null,null,"QOP",{"$f":"VLOOKUP(P5344,'[1]CCG & RG names'!D:E,2,0)","v":"Greater Manchester Health & Social Care Partnership"},"00Y",{"$f":"VLOOKUP(R5344,'[1]CCG & RG names'!A:B,2,0)","v":"NHS Oldham CCG"},"V000156","Dental Surgery, 353 Oldham Road, Failsworth, MANCHESTER, Lancashire, M35 0AN","M35 0AN","M35 "]
[null,null,null,null,null,null,null,null,null,null,null,null,null,null,null,"QOP",{"$f":"VLOOKUP(P5349,'[1]CCG & RG names'!D:E,2,0)","v":"Greater Manchester Health & Social Care Partnership"},"00Y",{"$f":"VLOOKUP(R5349,'[1]CCG & RG names'!A:B,2,0)","v":"NHS Oldham CCG"},"V000167","Dental Surgery, 36 Oldham Road, Uppermill, OLDHAM, Lancashire, OL3 6HY","OL3 6HY","OL3 "]
[null,null,null,null,null,null,null,null,null,null,null,null,null,null,null,"QOP",{"$f":"VLOOKUP(P5359,'[1]CCG & RG names'!D:E,2,0)","v":"Greater Manchester Health & Social Care Partnership"},"00Y",{"$f":"VLOOKUP(R5359,'[1]CCG & RG names'!A:B,2,0)","v":"NHS Oldham CCG"},"V013028","Integrated Care Centre, New Radcliffe Street, OLDHAM, Lancashire, OL1 1NL","OL1 1NL","OL1 "]
[null,null,null,null,null,null,null,null,null,null,null,null,null,null,null,"QOP",{"$f":"VLOOKUP(P5362,'[1]CCG & RG names'!D:E,2,0)","v":"Greater Manchester Health & Social Care Partnership"},"00Y",{"$f":"VLOOKUP(R5362,'[1]CCG & RG names'!A:B,2,0)","v":"NHS Oldham CCG"},"V013713","Royton Health &, Well Being Centre, Park Street, Royton, Oldham, OL2 6QW","OL2 6QW","OL2 "]
[null,null,null,null,null,null,null,null,null,null,null,null,null,null,null,"QOP",{"$f":"VLOOKUP(P5369,'[1]CCG & RG names'!D:E,2,0)","v":"Greater Manchester Health & Social Care Partnership"},"00Y",{"$f":"VLOOKUP(R5369,'[1]CCG & RG names'!A:B,2,0)","v":"NHS Oldham CCG"},"V043201","63-65, YORKSHIRE STREET, OLDHAM, OL1 3SL","OL1 3SL","OL1 "]
[null,null,null,null,null,null,null,null,null,null,null,null,null,null,null,"QOP",{"$f":"VLOOKUP(P5373,'[1]CCG & RG names'!D:E,2,0)","v":"Greater Manchester Health & Social Care Partnership"},"01D",{"$f":"VLOOKUP(R5373,'[1]CCG & RG names'!A:B,2,0)","v":"NHS Heywood, Middleton and Rochdale CCG"},"V007424","Bamford Dental Practice, Norden Road, ROCHDALE, Lancashire, OL11 5PT","OL11 5PT","OL11"]
[null,null,null,null,null,null,null,null,null,null,null,null,null,null,null,"QOP",{"$f":"VLOOKUP(P5378,'[1]CCG & RG names'!D:E,2,0)","v":"Greater Manchester Health & Social Care Partnership"},"01D",{"$f":"VLOOKUP(R5378,'[1]CCG & RG names'!A:B,2,0)","v":"NHS Heywood, Middleton and Rochdale CCG"},"V008214","181 Manchester Road, HEYWOOD, Lancashire, OL10 2PP","OL10 2PP","OL10"]
[null,null,null,null,null,null,null,null,null,null,null,null,null,null,null,"QOP",{"$f":"VLOOKUP(P5387,'[1]CCG & RG names'!D:E,2,0)","v":"Greater Manchester Health & Social Care Partnership"},"01D",{"$f":"VLOOKUP(R5387,'[1]CCG & RG names'!A:B,2,0)","v":"NHS Heywood, Middleton and Rochdale CCG"},"V012400","Nye Bevan House, Maclure Road, Rochdale, Lancs, OL11 1DN","OL11 1DN","OL11"]
[null,null,null,null,null,null,null,null,null,null,null,null,null,null,null,"QOP",{"$f":"VLOOKUP(P5390,'[1]CCG & RG names'!D:E,2,0)","v":"Greater Manchester Health & Social Care Partnership"},"01D",{"$f":"VLOOKUP(R5390,'[1]CCG & RG names'!A:B,2,0)","v":"NHS Heywood, Middleton and Rochdale CCG"},"V013500","Croft Shifa Dental Practice, Croft Shifa Health Centre, Belfield Road, Rochdale, Lancashire, OL16 2UY","OL16 2UY","OL16"]
[null,null,null,null,null,null,null,null,null,null,null,null,null,null,null,"QOP",{"$f":"VLOOKUP(P5398,'[1]CCG & RG names'!D:E,2,0)","v":"Greater Manchester Health & Social Care Partnership"},"01G",{"$f":"VLOOKUP(R5398,'[1]CCG & RG names'!A:B,2,0)","v":"NHS Salford CCG"},"V002733","Dental Surgery, 2 Bexley Square, SALFORD, Lancashire, M3 6BZ","M3 6BZ","M3 "]
[null,null,null,null,null,null,null,null,null,null,null,null,null,null,null,"QOP",{"$f":"VLOOKUP(P5405,'[1]CCG & RG names'!D:E,2,0)","v":"Greater Manchester Health & Social Care Partnership"},"01G",{"$f":"VLOOKUP(R5405,'[1]CCG & RG names'!A:B,2,0)","v":"NHS Salford CCG"},"V002745","Dental Surgery, 311 Littleton Road, SALFORD, Lancashire, M7 3TA","M7 3TA","M7 "]
[null,null,null,null,null,null,null,null,null,null,null,null,null,null,null,"QOP",{"$f":"VLOOKUP(P5408,'[1]CCG & RG names'!D:E,2,0)","v":"Greater Manchester Health & Social Care Partnership"},"01G",{"$f":"VLOOKUP(R5408,'[1]CCG & RG names'!A:B,2,0)","v":"NHS Salford CCG"},"V002750","Dental Surgery, 89 Bolton Road, SALFORD, Lancashire, M6 7HN","M6 7HN","M6 "]
[null,null,null,null,null,null,null,null,null,null,null,null,null,null,null,"QOP",{"$f":"VLOOKUP(P5415,'[1]CCG & RG names'!D:E,2,0)","v":"Greater Manchester Health & Social Care Partnership"},"01G",{"$f":"VLOOKUP(R5415,'[1]CCG & RG names'!A:B,2,0)","v":"NHS Salford CCG"},"V002761","Orthodontic Practice, 56 Chorley Road, Swinton, MANCHESTER, Lancashire, M27 5AD","M27 5AD","M27 "]
[null,null,null,null,null,null,null,null,null,null,null,null,null,null,null,"QOP",{"$f":"VLOOKUP(P5422,'[1]CCG & RG names'!D:E,2,0)","v":"Greater Manchester Health & Social Care Partnership"},"01G",{"$f":"VLOOKUP(R5422,'[1]CCG & RG names'!A:B,2,0)","v":"NHS Salford CCG"},"V002876","H M Forest Bank Prison, Forestbank, Swinton, MANCHESTER, Lancashire, M27 8FB","M27 8FB","M27 "]
[null,null,null,null,null,null,null,null,null,null,null,null,null,null,null,"QOP",{"$f":"VLOOKUP(P5424,'[1]CCG & RG names'!D:E,2,0)","v":"Greater Manchester Health & Social Care Partnership"},"01G",{"$f":"VLOOKUP(R5424,'[1]CCG & RG names'!A:B,2,0)","v":"NHS Salford CCG"},"V014710","Berkshire Dental, 390 Manchester Road East, Little Hulton, Manchester, M38 9WH","M38 9WH","M38 "]
[null,null,null,null,null,null,null,null,null,null,null,null,null,null,null,"QOP",{"$f":"VLOOKUP(P5433,'[1]CCG & RG names'!D:E,2,0)","v":"Greater Manchester Health & Social Care Partnership"},"01W",{"$f":"VLOOKUP(R5433,'[1]CCG & RG names'!A:B,2,0)","v":"NHS Stockport CCG"},"V002838","White House Dental Practice, 11 Ack Lane East, Bramhall, STOCKPORT, Cheshire, SK7 2BE","SK7 2BE","SK7 "]
[null,null,null,null,null,null,null,null,null,null,null,null,null,null,null,"QOP",{"$f":"VLOOKUP(P5436,'[1]CCG & RG names'!D:E,2,0)","v":"Greater Manchester Health & Social Care Partnership"},"01W",{"$f":"VLOOKUP(R5436,'[1]CCG & RG names'!A:B,2,0)","v":"NHS Stockport CCG"},"V002844","1 Albert Road, Cheadle Hulme, CHEADLE, Cheshire, SK8 5DB","SK8 5DB","SK8 "]
[null,null,null,null,null,null,null,null,null,null,null,null,null,null,null,"QOP",{"$f":"VLOOKUP(P5442,'[1]CCG & RG names'!D:E,2,0)","v":"Greater Manchester Health & Social Care Partnership"},"01W",{"$f":"VLOOKUP(R5442,'[1]CCG & RG names'!A:B,2,0)","v":"NHS Stockport CCG"},"V003112","Pearldent Surgery, 442 Buxton Road, STOCKPORT, Cheshire, SK2 7JB","SK2 7JB","SK2 "]
[null,null,null,null,null,null,null,null,null,null,null,null,null,null,null,"QOP",{"$f":"VLOOKUP(P5451,'[1]CCG & RG names'!D:E,2,0)","v":"Greater Manchester Health & Social Care Partnership"},"01W",{"$f":"VLOOKUP(R5451,'[1]CCG & RG names'!A:B,2,0)","v":"NHS Stockport CCG"},"V003212","Ethos Dental Surgery, 126 Wellington Road North, STOCKPORT, Cheshire, SK4 2LL","SK4 2LL","SK4 "]
[null,null,null,null,null,null,null,null,null,null,null,null,null,null,null,"QOP",{"$f":"VLOOKUP(P5452,'[1]CCG & RG names'!D:E,2,0)","v":"Greater Manchester Health & Social Care Partnership"},"01W",{"$f":"VLOOKUP(R5452,'[1]CCG & RG names'!A:B,2,0)","v":"NHS Stockport CCG"},"V003214","High Lane Dental Practice, 73 Buxton Road, High Lane, STOCKPORT, Cheshire, SK6 8DR","SK6 8DR","SK6 "]
[null,null,null,null,null,null,null,null,null,null,null,null,null,null,null,"QOP",{"$f":"VLOOKUP(P5461,'[1]CCG & RG names'!D:E,2,0)","v":"Greater Manchester Health & Social Care Partnership"},"01W",{"$f":"VLOOKUP(R5461,'[1]CCG & RG names'!A:B,2,0)","v":"NHS Stockport CCG"},"V003250","Fir Tree Dental Practice, 268 Gorton Road, Reddish, Stockport, SK5 6RN","SK5 6RN","SK5 "]
[null,null,null,null,null,null,null,null,null,null,null,null,null,null,null,"QOP",{"$f":"VLOOKUP(P5466,'[1]CCG & RG names'!D:E,2,0)","v":"Greater Manchester Health & Social Care Partnership"},"01W",{"$f":"VLOOKUP(R5466,'[1]CCG & RG names'!A:B,2,0)","v":"NHS Stockport CCG"},"V003264","Holly House Dental Practice, 105 Hyde Road, Woodley, STOCKPORT, Cheshire, SK6 1NB","SK6 1NB","SK6 "]
[null,null,null,null,null,null,null,null,null,null,null,null,null,null,null,"QOP",{"$f":"VLOOKUP(P5470,'[1]CCG & RG names'!D:E,2,0)","v":"Greater Manchester Health & Social Care Partnership"},"01W",{"$f":"VLOOKUP(R5470,'[1]CCG & RG names'!A:B,2,0)","v":"NHS Stockport CCG"},"V010807","Churchgate Dental Practice, 50 Churchgate, Stockport, Cheshire, SK1 1YG","SK1 1YG","SK1 "]
[null,null,null,null,null,null,null,null,null,null,null,null,null,null,null,"QOP",{"$f":"VLOOKUP(P5479,'[1]CCG & RG names'!D:E,2,0)","v":"Greater Manchester Health & Social Care Partnership"},"01Y",{"$f":"VLOOKUP(R5479,'[1]CCG & RG names'!A:B,2,0)","v":"NHS Tameside and Glossop CCG"},"V000758","Petrie Tucker & Partners Ltd, 2 Victoria Street, Denton, Manchester, M34 3JQ","M34 3JQ","M34 "]
[null,null,null,null,null,null,null,null,null,null,null,null,null,null,null,"QOP",{"$f":"VLOOKUP(P5482,'[1]CCG & RG names'!D:E,2,0)","v":"Greater Manchester Health & Social Care Partnership"},"01Y",{"$f":"VLOOKUP(R5482,'[1]CCG & RG names'!A:B,2,0)","v":"NHS Tameside and Glossop CCG"},"V005348","Dental Practice, 1 Borough Arcade, HYDE, Cheshire, SK14 2AA","SK14 2AA","SK14"]
[null,null,null,null,null,null,null,null,null,null,null,null,null,null,null,"QOP",{"$f":"VLOOKUP(P5491,'[1]CCG & RG names'!D:E,2,0)","v":"Greater Manchester Health & Social Care Partnership"},"01Y",{"$f":"VLOOKUP(R5491,'[1]CCG & RG names'!A:B,2,0)","v":"NHS Tameside and Glossop CCG"},"V005387","Dental Surgery, 1 Kenworthy Street, STALYBRIDGE, Cheshire, SK15 2DX","SK15 2DX","SK15"]
[null,null,null,null,null,null,null,null,null,null,null,null,null,null,null,"QOP",{"$f":"VLOOKUP(P5497,'[1]CCG & RG names'!D:E,2,0)","v":"Greater Manchester Health & Social Care Partnership"},"01Y",{"$f":"VLOOKUP(R5497,'[1]CCG & RG names'!A:B,2,0)","v":"NHS Tameside and Glossop CCG"},"V005393","Wood Family Dental Practice, 673 Manchester Road, Denton, MANCHESTER, Lancashire, M34 2NA","M34 2NA","M34 "]
[null,null,null,null,null,null,null,null,null,null,null,null,null,null,null,"QOP",{"$f":"VLOOKUP(P5498,'[1]CCG & RG names'!D:E,2,0)","v":"Greater Manchester Health & Social Care Partnership"},"01Y",{"$f":"VLOOKUP(R5498,'[1]CCG & RG names'!A:B,2,0)","v":"NHS Tameside and Glossop CCG"},"V007368","First Dental Care, 22 Manchester Road, Denton, MANCHESTER, Lancashire, M34 3LE","M34 3LE","M34 "]
[null,null,null,null,null,null,null,null,null,null,null,null,null,null,null,"QOP",{"$f":"VLOOKUP(P5507,'[1]CCG & RG names'!D:E,2,0)","v":"Greater Manchester Health & Social Care Partnership"},"02A",{"$f":"VLOOKUP(R5507,'[1]CCG & RG names'!A:B,2,0)","v":"NHS Trafford CCG"},"V008039","Dental Surgery, Upper Unit, 43 Arndale Centre, Stretford, MANCHESTER, M32 9BB","M32 9BB",{"$f":"IF(MID(V5507,3,1) =\" \",LEFT(V5507,3),LEFT(V5507,4))","v":"M32 "}]
[null,null,null,null,null,null,null,null,null,null,null,null,null,null,null,"QOP",{"$f":"VLOOKUP(P5510,'[1]CCG & RG names'!D:E,2,0)","v":"Greater Manchester Health & Social Care Partnership"},"02A",{"$f":"VLOOKUP(R5510,'[1]CCG & RG names'!A:B,2,0)","v":"NHS Trafford CCG"},"V008145","Dental Surgery, 132C Flixton Road, Urmston, MANCHESTER, Lancashire, M41 5BG","M41 5BG","M41 "]
[null,null,null,null,null,null,null,null,null,null,null,null,null,null,null,"QOP",{"$f":"VLOOKUP(P5516,'[1]CCG & RG names'!D:E,2,0)","v":"Greater Manchester Health & Social Care Partnership"},"02A",{"$f":"VLOOKUP(R5516,'[1]CCG & RG names'!A:B,2,0)","v":"NHS Trafford CCG"},"V008209","Turret Orthodontist, Washway Road, SALE, Cheshire, M33 4RZ","M33 4RZ","M33 "]
[null,null,null,null,null,null,null,null,null,null,null,null,null,null,null,"QOP",{"$f":"VLOOKUP(P5525,'[1]CCG & RG names'!D:E,2,0)","v":"Greater Manchester Health & Social Care Partnership"},"02A",{"$f":"VLOOKUP(R5525,'[1]CCG & RG names'!A:B,2,0)","v":"NHS Trafford CCG"},"V008528","Lazenby Dental Surgery, 23 Washway Road, SALE, Cheshire, M33 7AD","M33 7AD","M33 "]
[null,null,null,null,null,null,null,null,null,null,null,null,null,null,null,"QOP",{"$f":"VLOOKUP(P5528,'[1]CCG & RG names'!D:E,2,0)","v":"Greater Manchester Health & Social Care Partnership"},"02A",{"$f":"VLOOKUP(R5528,'[1]CCG & RG names'!A:B,2,0)","v":"NHS Trafford CCG"},"V008572","Dental Surgery, 63 Manchester Road, ALTRINCHAM, Cheshire, WA14 4RH","WA14 4RH","WA14"]
[null,null,null,null,null,null,null,null,null,null,null,null,null,null,null,"QOP",{"$f":"VLOOKUP(P5535,'[1]CCG & RG names'!D:E,2,0)","v":"Greater Manchester Health & Social Care Partnership"},"02A",{"$f":"VLOOKUP(R5535,'[1]CCG & RG names'!A:B,2,0)","v":"NHS Trafford CCG"},"V012791","1 Hope Road,, Sale, Cheshire, M33 3AB","M33 3AB","M33 "]
[null,null,null,null,null,null,null,null,null,null,null,null,null,null,null,"QOP",{"$f":"VLOOKUP(P5543,'[1]CCG & RG names'!D:E,2,0)","v":"Greater Manchester Health & Social Care Partnership"},"02H",{"$f":"VLOOKUP(R5543,'[1]CCG & RG names'!A:B,2,0)","v":"NHS Wigan Borough CCG"},"V007346","B C Kelly And M A Vallely, Dental Surgery, 396 Manchester Road, Astley, Tyldesley, M29 7DY","M29 7DY","M29 "]
[null,null,null,null,null,null,null,null,null,null,null,null,null,null,null,"QOP",{"$f":"VLOOKUP(P5544,'[1]CCG & RG names'!D:E,2,0)","v":"Greater Manchester Health & Social Care Partnership"},"02H",{"$f":"VLOOKUP(R5544,'[1]CCG & RG names'!A:B,2,0)","v":"NHS Wigan Borough CCG"},"V007348","Tyldesley Dental Centre Partnership, Dental Surgery, 217a - 223 Elliott Street, Tyldesley, MANCHESTER, M29 8DG","M29 8DG","M29 "]
[null,null,null,null,null,null,null,null,null,null,null,null,null,null,null,"QOP",{"$f":"VLOOKUP(P5553,'[1]CCG & RG names'!D:E,2,0)","v":"Greater Manchester Health & Social Care Partnership"},"02H",{"$f":"VLOOKUP(R5553,'[1]CCG & RG names'!A:B,2,0)","v":"NHS Wigan Borough CCG"},"V007446","Dental Surgery, 56 Ince Green Lane, Ince, WIGAN, Lancashire, WN2 2AR","WN2 2AR","WN2 "]
[null,null,null,null,null,null,null,null,null,null,null,null,null,null,null,"QOP",{"$f":"VLOOKUP(P5555,'[1]CCG & RG names'!D:E,2,0)","v":"Greater Manchester Health & Social Care Partnership"},"02H",{"$f":"VLOOKUP(R5555,'[1]CCG & RG names'!A:B,2,0)","v":"NHS Wigan Borough CCG"},"V007461","Dental Surgery, 2 Cross Street, Hindley, WIGAN, Lancashire, WN2 3AT","WN2 3AT","WN2 "]
[null,null,null,null,null,null,null,null,null,null,null,null,null,null,null,"QOP",{"$f":"VLOOKUP(P5562,'[1]CCG & RG names'!D:E,2,0)","v":"Greater Manchester Health & Social Care Partnership"},"02H",{"$f":"VLOOKUP(R5562,'[1]CCG & RG names'!A:B,2,0)","v":"NHS Wigan Borough CCG"},"V007521","Dental Surgery, 100 Warrington Road, WIGAN, Lancashire, WN5 9AL","WN5 9AL","WN5 "]
[null,null,null,null,null,null,null,null,null,null,null,null,null,null,null,"QOP",{"$f":"VLOOKUP(P5571,'[1]CCG & RG names'!D:E,2,0)","v":"Greater Manchester Health & Social Care Partnership"},"02H",{"$f":"VLOOKUP(R5571,'[1]CCG & RG names'!A:B,2,0)","v":"NHS Wigan Borough CCG"},"V007727","Dental Surgery, 3 and 5 Bedford Street, LEIGH, Lancashire, WN7 1BX","WN7 1BX",{"$f":"IF(MID(V5571,3,1) =\" \",LEFT(V5571,3),LEFT(V5571,4))","v":"WN7 "}]
[null,null,null,null,null,null,null,null,null,null,null,null,null,null,null,"QOP",{"$f":"VLOOKUP(P5573,'[1]CCG & RG names'!D:E,2,0)","v":"Greater Manchester Health & Social Care Partnership"},"02H",{"$f":"VLOOKUP(R5573,'[1]CCG & RG names'!A:B,2,0)","v":"NHS Wigan Borough CCG"},"V008944","Claremont Dental Surgery, Mesnes Street, WIGAN, Lancashire, WN1 1ST","WN1 1ST","WN1 "]
[null,null,null,null,null,null,null,null,null,null,null,null,null,null,null,"QOP",{"$f":"VLOOKUP(P5580,'[1]CCG & RG names'!D:E,2,0)","v":"Greater Manchester Health & Social Care Partnership"},"14L",{"$f":"VLOOKUP(R5580,'[1]CCG & RG names'!A:B,2,0)","v":"NHS Manchester CCG"},"V005047","429 Wilmslow Road, MANCHESTER, Lancashire, M20 4AF","M20 4AF","M20 "]
[null,null,null,null,null,null,null,null,null,null,null,null,null,null,null,"QOP",{"$f":"VLOOKUP(P5589,'[1]CCG & RG names'!D:E,2,0)","v":"Greater Manchester Health & Social Care Partnership"},"14L",{"$f":"VLOOKUP(R5589,'[1]CCG & RG names'!A:B,2,0)","v":"NHS Manchester CCG"},"V005497","Glen Maye Dental Surgery, Sale Road, MANCHESTER, Lancashire, M23 0DF","M23 0DF","M23 "]
[null,null,null,null,null,null,null,null,null,null,null,null,null,null,null,"QOP",{"$f":"VLOOKUP(P5590,'[1]CCG & RG names'!D:E,2,0)","v":"Greater Manchester Health & Social Care Partnership"},"14L",{"$f":"VLOOKUP(R5590,'[1]CCG & RG names'!A:B,2,0)","v":"NHS Manchester CCG"},"V005508","Dental Surgery, 40 Portway, MANCHESTER, Lancashire, M22 1UB","M22 1UB","M22 "]
[null,null,null,null,null,null,null,null,null,null,null,null,null,null,null,"QOP",{"$f":"VLOOKUP(P5597,'[1]CCG & RG names'!D:E,2,0)","v":"Greater Manchester Health & Social Care Partnership"},"14L",{"$f":"VLOOKUP(R5597,'[1]CCG & RG names'!A:B,2,0)","v":"NHS Manchester CCG"},"V006179","Dental Surgery, 117 Droylsden Road, MANCHESTER, Lancashire, M40 1NT","M40 1NT","M40 "]
[null,null,null,null,null,null,null,null,null,null,null,null,null,null,null,"QOP",{"$f":"VLOOKUP(P5601,'[1]CCG & RG names'!D:E,2,0)","v":"Greater Manchester Health & Social Care Partnership"},"14L",{"$f":"VLOOKUP(R5601,'[1]CCG & RG names'!A:B,2,0)","v":"NHS Manchester CCG"},"V006187","C M Chau's Dental Surgery, 337 Queens Road, MANCHESTER, Lancashire, M8 0JL","M8 0JL","M8 "]
[null,null,null,null,null,null,null,null,null,null,null,null,null,null,null,"QOP",{"$f":"VLOOKUP(P5608,'[1]CCG & RG names'!D:E,2,0)","v":"Greater Manchester Health & Social Care Partnership"},"14L",{"$f":"VLOOKUP(R5608,'[1]CCG & RG names'!A:B,2,0)","v":"NHS Manchester CCG"},"V006206","Church Lane Dental Practice, 187 Church Lane, MANCHESTER, Lancashire, M9 4LY","M9 4LY","M9 "]
[null,null,null,null,null,null,null,null,null,null,null,null,null,null,null,"QOP",{"$f":"VLOOKUP(P5617,'[1]CCG & RG names'!D:E,2,0)","v":"Greater Manchester Health & Social Care Partnership"},"14L",{"$f":"VLOOKUP(R5617,'[1]CCG & RG names'!A:B,2,0)","v":"NHS Manchester CCG"},"V006410","Dental Surgery, 283 Slade Lane, MANCHESTER, Lancashire, M19 2HR","M19 2HR","M19 "]
[null,null,null,null,null,null,null,null,null,null,null,null,null,null,null,"QOP",{"$f":"VLOOKUP(P5622,'[1]CCG & RG names'!D:E,2,0)","v":"Greater Manchester Health & Social Care Partnership"},"14L",{"$f":"VLOOKUP(R5622,'[1]CCG & RG names'!A:B,2,0)","v":"NHS Manchester CCG"},"V006416","Dental Surgery, 566 Stockport Road, MANCHESTER, Lancashire, M12 4JJ","M12 4JJ","M12 "]
[null,null,null,null,null,null,null,null,null,null,null,null,null,null,null,"QOP",{"$f":"VLOOKUP(P5626,'[1]CCG & RG names'!D:E,2,0)","v":"Greater Manchester Health & Social Care Partnership"},"14L",{"$f":"VLOOKUP(R5626,'[1]CCG & RG names'!A:B,2,0)","v":"NHS Manchester CCG"},"V007659","Dental Surgery, Brooklyn Court, 390 Wilmslow Road, Manchester, M20 3NA","M20 3NA","M20 "]
[null,null,null,null,null,null,null,null,null,null,null,null,null,null,null,"QOP",{"$f":"VLOOKUP(P5635,'[1]CCG & RG names'!D:E,2,0)","v":"Greater Manchester Health & Social Care Partnership"},"14L",{"$f":"VLOOKUP(R5635,'[1]CCG & RG names'!A:B,2,0)","v":"NHS Manchester CCG"},"V012879","The Dental Practice, Ancoats Primary Care Centre, Old Mill Street, Ancoats, Manchester, M4 6EE","M4 6EE",{"$f":"IF(MID(V5635,3,1) =\" \",LEFT(V5635,3),LEFT(V5635,4))","v":"M4 "}]
[null,null,null,null,null,null,null,null,null,null,null,null,null,null,null,"QOP",{"$f":"VLOOKUP(P5636,'[1]CCG & RG names'!D:E,2,0)","v":"Greater Manchester Health & Social Care Partnership"},"14L",{"$f":"VLOOKUP(R5636,'[1]CCG & RG names'!A:B,2,0)","v":"NHS Manchester CCG"},"V012939","Burton Dental Care, 125 Burton Road, Manchester, Lancashire, M20 1JP","M20 1JP","M20 "]
[null,null,null,null,null,null,null,null,null,null,null,null,null,null,null,"QOP",{"$f":"VLOOKUP(P5646,'[1]CCG & RG names'!D:E,2,0)","v":"Greater Manchester Health & Social Care Partnership"},"14L",{"$f":"VLOOKUP(R5646,'[1]CCG & RG names'!A:B,2,0)","v":"NHS Manchester CCG"},"V028473","43 Lever Street, Manchester, M1 1FN","M1 1FN","M1 "]
[null,null,null,null,null,null,null,null,null,null,null,null,null,null,null,"QOP",{"$f":"VLOOKUP(P5651,'[1]CCG & RG names'!D:E,2,0)","v":"Greater Manchester Health & Social Care Partnership"},"14L",{"$f":"VLOOKUP(R5651,'[1]CCG & RG names'!A:B,2,0)","v":"NHS Manchester CCG"},"V252308","City Centre Dentists, 31 Booth Street, Manchester, M2 4AF","M2 4AF","M2 "]
[null,null,null,null,null,null,null,null,null,null,null,null,null,null,null,"QYG",{"$f":"VLOOKUP(P5654,'[1]CCG & RG names'!D:E,2,0)","v":"Cheshire and Merseyside STP"},"01F",{"$f":"VLOOKUP(R5654,'[1]CCG & RG names'!A:B,2,0)","v":"NHS Halton CCG"},"V008107","Dental Surgery, 105 Church Street, RUNCORN, Cheshire, WA7 1LA","WA7 1LA","WA7 "]
[null,null,null,null,null,null,null,null,null,null,null,null,null,null,null,"QYG",{"$f":"VLOOKUP(P5663,'[1]CCG & RG names'!D:E,2,0)","v":"Cheshire and Merseyside STP"},"01F",{"$f":"VLOOKUP(R5663,'[1]CCG & RG names'!A:B,2,0)","v":"NHS Halton CCG"},"V012759","Dental Elements, Unit 3, Liebig Court, WIDNES, Cheshire, WA8 6GD","WA8 6GD","WA8 "]
[null,null,null,null,null,null,null,null,null,null,null,null,null,null,null,"QYG",{"$f":"VLOOKUP(P5666,'[1]CCG & RG names'!D:E,2,0)","v":"Cheshire and Merseyside STP"},"01J",{"$f":"VLOOKUP(R5666,'[1]CCG & RG names'!A:B,2,0)","v":"NHS Knowsley CCG"},"V005949","Dental Surgery, 137 Higher Road, LIVERPOOL, Merseyside, L26 1UN","L26 1UN","L26 "]
[null,null,null,null,null,null,null,null,null,null,null,null,null,null,null,"QYG",{"$f":"VLOOKUP(P5672,'[1]CCG & RG names'!D:E,2,0)","v":"Cheshire and Merseyside STP"},"01J",{"$f":"VLOOKUP(R5672,'[1]CCG & RG names'!A:B,2,0)","v":"NHS Knowsley CCG"},"V005957","R A Kuncewicz And Associates, 23 Old Rough Lane, LIVERPOOL, Merseyside, L33 6XE","L33 6XE","L33 "]
[null,null,null,null,null,null,null,null,null,null,null,null,null,null,null,"QYG",{"$f":"VLOOKUP(P5681,'[1]CCG & RG names'!D:E,2,0)","v":"Cheshire and Merseyside STP"},"01J",{"$f":"VLOOKUP(R5681,'[1]CCG & RG names'!A:B,2,0)","v":"NHS Knowsley CCG"},"V012540","Dental Practice, 34 Hillside Road, Huyton, Knowsley, L36 8BJ","L36 8BJ","L36 "]
[null,null,null,null,null,null,null,null,null,null,null,null,null,null,null,"QYG",{"$f":"VLOOKUP(P5682,'[1]CCG & RG names'!D:E,2,0)","v":"Cheshire and Merseyside STP"},"01J",{"$f":"VLOOKUP(R5682,'[1]CCG & RG names'!A:B,2,0)","v":"NHS Knowsley CCG"},"V012821","Huyton Multi Purpose Resource Ce, 102A Woolfall Heath Avenue, LIVERPOOL, Merseyside, L36 3YE","L36 3YE","L36 "]
[null,null,null,null,null,null,null,null,null,null,null,null,null,null,null,"QYG",{"$f":"VLOOKUP(P5690,'[1]CCG & RG names'!D:E,2,0)","v":"Cheshire and Merseyside STP"},"01T",{"$f":"VLOOKUP(R5690,'[1]CCG & RG names'!A:B,2,0)","v":"NHS South Sefton CCG"},"V007481","Chu And Tsao And Associates, Dental Surgery, 192 Church Road, Litherland, LIVERPOOL, L21 5HE","L21 5HE","L21 "]
[null,null,null,null,null,null,null,null,null,null,null,null,null,null,null,"QYG",{"$f":"VLOOKUP(P5697,'[1]CCG & RG names'!D:E,2,0)","v":"Cheshire and Merseyside STP"},"01T",{"$f":"VLOOKUP(R5697,'[1]CCG & RG names'!A:B,2,0)","v":"NHS South Sefton CCG"},"V007502","Crosby Village Dental Practice, 43 Moor Lane, Crosby, LIVERPOOL, Merseyside, L23 2SF","L23 2SF","L23 "]
[null,null,null,null,null,null,null,null,null,null,null,null,null,null,null,"QYG",{"$f":"VLOOKUP(P5700,'[1]CCG & RG names'!D:E,2,0)","v":"Cheshire and Merseyside STP"},"01T",{"$f":"VLOOKUP(R5700,'[1]CCG & RG names'!A:B,2,0)","v":"NHS South Sefton CCG"},"V007509","Lynwood Dental Surgery, Lynwood, School Road, LIVERPOOL, Merseyside, L38 0BN","L38 0BN","L38 "]
[null,null,null,null,null,null,null,null,null,null,null,null,null,null,null,"QYG",{"$f":"VLOOKUP(P5709,'[1]CCG & RG names'!D:E,2,0)","v":"Cheshire and Merseyside STP"},"01V",{"$f":"VLOOKUP(R5709,'[1]CCG & RG names'!A:B,2,0)","v":"NHS Southport and Formby CCG"},"V007707","Dental Surgery, 26 Station Road, Ainsdale, SOUTHPORT, Merseyside, PR8 3HS","PR8 3HS","PR8 "]
[null,null,null,null,null,null,null,null,null,null,null,null,null,null,null,"QYG",{"$f":"VLOOKUP(P5715,'[1]CCG & RG names'!D:E,2,0)","v":"Cheshire and Merseyside STP"},"01V",{"$f":"VLOOKUP(R5715,'[1]CCG & RG names'!A:B,2,0)","v":"NHS Southport and Formby CCG"},"V007816","125 Cambridge Road, Southport, Merseyside, PR9 9SD","PR9 9SD","PR9 "]
[null,null,null,null,null,null,null,null,null,null,null,null,null,null,null,"QYG",{"$f":"VLOOKUP(P5718,'[1]CCG & RG names'!D:E,2,0)","v":"Cheshire and Merseyside STP"},"01V",{"$f":"VLOOKUP(R5718,'[1]CCG & RG names'!A:B,2,0)","v":"NHS Southport and Formby CCG"},"V030022","2 Fairfield Road, Southport, Merseyside, PR8 3LH","PR8 3LH","PR8 "]
[null,null,null,null,null,null,null,null,null,null,null,null,null,null,null,"QYG",{"$f":"VLOOKUP(P5727,'[1]CCG & RG names'!D:E,2,0)","v":"Cheshire and Merseyside STP"},"01X",{"$f":"VLOOKUP(R5727,'[1]CCG & RG names'!A:B,2,0)","v":"NHS St Helens CCG"},"V005987","Dental Surgery, 40 Junction Lane, ST HELENS, Merseyside, WA9 3JN","WA9 3JN","WA9 "]
[null,null,null,null,null,null,null,null,null,null,null,null,null,null,null,"QYG",{"$f":"VLOOKUP(P5728,'[1]CCG & RG names'!D:E,2,0)","v":"Cheshire and Merseyside STP"},"01X",{"$f":"VLOOKUP(R5728,'[1]CCG & RG names'!A:B,2,0)","v":"NHS St Helens CCG"},"V005988","45 Blackbrook Road, ST HELENS, Merseyside, WA11 9QA","WA11 9QA","WA11"]
[null,null,null,null,null,null,null,null,null,null,null,null,null,null,null,"QYG",{"$f":"VLOOKUP(P5734,'[1]CCG & RG names'!D:E,2,0)","v":"Cheshire and Merseyside STP"},"01X",{"$f":"VLOOKUP(R5734,'[1]CCG & RG names'!A:B,2,0)","v":"NHS St Helens CCG"},"V013049","20 Barrow Street, ST HELENS, Merseyside, WA10 1RX","WA10 1RX","WA10"]
[null,null,null,null,null,null,null,null,null,null,null,null,null,null,null,"QYG",{"$f":"VLOOKUP(P5743,'[1]CCG & RG names'!D:E,2,0)","v":"Cheshire and Merseyside STP"},"02E",{"$f":"VLOOKUP(R5743,'[1]CCG & RG names'!A:B,2,0)","v":"NHS Warrington CCG"},"V006864","Dental Surgery, 123 Lovely Lane, WARRINGTON, Cheshire, WA5 1UB","WA5 1UB","WA5 "]
[null,null,null,null,null,null,null,null,null,null,null,null,null,null,null,"QYG",{"$f":"VLOOKUP(P5746,'[1]CCG & RG names'!D:E,2,0)","v":"Cheshire and Merseyside STP"},"02E",{"$f":"VLOOKUP(R5746,'[1]CCG & RG names'!A:B,2,0)","v":"NHS Warrington CCG"},"V006873","G J Houghton Dental Surgery, 86 Station Road North, Fearnhead, WARRINGTON, Cheshire, WA2 0QG","WA2 0QG","WA2 "]
[null,null,null,null,null,null,null,null,null,null,null,null,null,null,null,"QYG",{"$f":"VLOOKUP(P5755,'[1]CCG & RG names'!D:E,2,0)","v":"Cheshire and Merseyside STP"},"02E",{"$f":"VLOOKUP(R5755,'[1]CCG & RG names'!A:B,2,0)","v":"NHS Warrington CCG"},"V006890","Rose Cottage Surgery, 179 Warrington Road, Penketh, WARRINGTON, Cheshire, WA5 2EN","WA5 2EN","WA5 "]
[null,null,null,null,null,null,null,null,null,null,null,null,null,null,null,"QYG",{"$f":"VLOOKUP(P5759,'[1]CCG & RG names'!D:E,2,0)","v":"Cheshire and Merseyside STP"},"02E",{"$f":"VLOOKUP(R5759,'[1]CCG & RG names'!A:B,2,0)","v":"NHS Warrington CCG"},"V006895","72 Bewsey Street, WARRINGTON, Cheshire, WA2 7JE","WA2 7JE","WA2 "]
[null,null,null,null,null,null,null,null,null,null,null,null,null,null,null,"QYG",{"$f":"VLOOKUP(P5764,'[1]CCG & RG names'!D:E,2,0)","v":"Cheshire and Merseyside STP"},"02E",{"$f":"VLOOKUP(R5764,'[1]CCG & RG names'!A:B,2,0)","v":"NHS Warrington CCG"},"V018031","The Baths Health & Wellbeing, Centre, Legh Street, Warrington, WA1 1UG","WA1 1UG","WA1 "]
[null,null,null,null,null,null,null,null,null,null,null,null,null,null,null,"QYG",{"$f":"VLOOKUP(P5771,'[1]CCG & RG names'!D:E,2,0)","v":"Cheshire and Merseyside STP"},"12F",{"$f":"VLOOKUP(R5771,'[1]CCG & RG names'!A:B,2,0)","v":"NHS Wirral CCG"},"V007955","Dental Surgery, 25 Church Road, Bebington, WIRRAL, Merseyside, CH63 7PG","CH63 7PG","CH63"]
[null,null,null,null,null,null,null,null,null,null,null,null,null,null,null,"QYG",{"$f":"VLOOKUP(P5774,'[1]CCG & RG names'!D:E,2,0)","v":"Cheshire and Merseyside STP"},"12F",{"$f":"VLOOKUP(R5774,'[1]CCG & RG names'!A:B,2,0)","v":"NHS Wirral CCG"},"V007960","Heathfield Dental Practice, 106 Meols Drive, West Kirby, WIRRAL, Merseyside, CH48 5DA","CH48 5DA","CH48"]
[null,null,null,null,null,null,null,null,null,null,null,null,null,null,null,"QYG",{"$f":"VLOOKUP(P5783,'[1]CCG & RG names'!D:E,2,0)","v":"Cheshire and Merseyside STP"},"12F",{"$f":"VLOOKUP(R5783,'[1]CCG & RG names'!A:B,2,0)","v":"NHS Wirral CCG"},"V007973","Park Road North Dental Surgery, 406 Park Road North, Birkenhead, Wirral, CH41 0DA","CH41 0DA","CH41"]
[null,null,null,null,null,null,null,null,null,null,null,null,null,null,null,"QYG",{"$f":"VLOOKUP(P5789,'[1]CCG & RG names'!D:E,2,0)","v":"Cheshire and Merseyside STP"},"12F",{"$f":"VLOOKUP(R5789,'[1]CCG & RG names'!A:B,2,0)","v":"NHS Wirral CCG"},"V007984","Martins Lane Dental Practice, 1 - 3 Martins Lane, WALLASEY, Merseyside, CH44 1BA","CH44 1BA","CH44"]
[null,null,null,null,null,null,null,null,null,null,null,null,null,null,null,"QYG",{"$f":"VLOOKUP(P5792,'[1]CCG & RG names'!D:E,2,0)","v":"Cheshire and Merseyside STP"},"12F",{"$f":"VLOOKUP(R5792,'[1]CCG & RG names'!A:B,2,0)","v":"NHS Wirral CCG"},"V007987","Claughton Dental Centre, 12 Cavendish Road, BIRKENHEAD, Merseyside, CH41 8AX","CH41 8AX","CH41"]
[null,null,null,null,null,null,null,null,null,null,null,null,null,null,null,"QYG",{"$f":"VLOOKUP(P5801,'[1]CCG & RG names'!D:E,2,0)","v":"Cheshire and Merseyside STP"},"12F",{"$f":"VLOOKUP(R5801,'[1]CCG & RG names'!A:B,2,0)","v":"NHS Wirral CCG"},"V008285","Children's Dental Surgery, Rocky Lane Dental Practice, 2 Rocky Lane, Heswall, CH60 0BY","CH60 0BY","CH60"]
[null,null,null,null,null,null,null,null,null,null,null,null,null,null,null,"QYG",{"$f":"VLOOKUP(P5807,'[1]CCG & RG names'!D:E,2,0)","v":"Cheshire and Merseyside STP"},"12F",{"$f":"VLOOKUP(R5807,'[1]CCG & RG names'!A:B,2,0)","v":"NHS Wirral CCG"},"V017241","145 Victoria Road, Wallasey, Merseyside, CH45 9LB","CH45 9LB","CH45"]
[null,null,null,null,null,null,null,null,null,null,null,null,null,null,null,"QYG",{"$f":"VLOOKUP(P5810,'[1]CCG & RG names'!D:E,2,0)","v":"Cheshire and Merseyside STP"},"27D",{"$f":"VLOOKUP(R5810,'[1]CCG & RG names'!A:B,2,0)","v":"NHS Cheshire CCG"},"V003463","Petrie Tucker & Partner Ltd, 8 Queens Parade, Winsford, Cheshire, CW7 1AE","CW7 1AE","CW7 "]
[null,null,null,null,null,null,null,null,null,null,null,null,null,null,null,"QYG",{"$f":"VLOOKUP(P5817,'[1]CCG & RG names'!D:E,2,0)","v":"Cheshire and Merseyside STP"},"27D",{"$f":"VLOOKUP(R5817,'[1]CCG & RG names'!A:B,2,0)","v":"NHS Cheshire CCG"},"V004923","Haslington Dental Practice, 99 Crewe Road, Haslington, CREWE, Cheshire, CW1 5RE","CW1 5RE","CW1 "]
[null,null,null,null,null,null,null,null,null,null,null,null,null,null,null,"QYG",{"$f":"VLOOKUP(P5821,'[1]CCG & RG names'!D:E,2,0)","v":"Cheshire and Merseyside STP"},"27D",{"$f":"VLOOKUP(R5821,'[1]CCG & RG names'!A:B,2,0)","v":"NHS Cheshire CCG"},"V004938","Dental Surgery, 1 Lawrence Avenue, MIDDLEWICH, Cheshire, CW10 9DP","CW10 9DP","CW10"]
[null,null,null,null,null,null,null,null,null,null,null,null,null,null,null,"QYG",{"$f":"VLOOKUP(P5828,'[1]CCG & RG names'!D:E,2,0)","v":"Cheshire and Merseyside STP"},"27D",{"$f":"VLOOKUP(R5828,'[1]CCG & RG names'!A:B,2,0)","v":"NHS Cheshire CCG"},"V004959","53 Heath Road, SANDBACH, Cheshire, CW11 2JU","CW11 2JU","CW11"]
[null,null,null,null,null,null,null,null,null,null,null,null,null,null,null,"QYG",{"$f":"VLOOKUP(P5835,'[1]CCG & RG names'!D:E,2,0)","v":"Cheshire and Merseyside STP"},"27D",{"$f":"VLOOKUP(R5835,'[1]CCG & RG names'!A:B,2,0)","v":"NHS Cheshire CCG"},"V004988","Dental Surgery, 30 Chester Road, MACCLESFIELD, Cheshire, SK11 8DG","SK11 8DG","SK11"]
[null,null,null,null,null,null,null,null,null,null,null,null,null,null,null,"QYG",{"$f":"VLOOKUP(P5838,'[1]CCG & RG names'!D:E,2,0)","v":"Cheshire and Merseyside STP"},"27D",{"$f":"VLOOKUP(R5838,'[1]CCG & RG names'!A:B,2,0)","v":"NHS Cheshire CCG"},"V005001","Dental Surgery, 256A Edleston Road, CREWE, Cheshire, CW2 7EH","CW2 7EH","CW2 "]
[null,null,null,null,null,null,null,null,null,null,null,null,null,null,null,"QYG",{"$f":"VLOOKUP(P5845,'[1]CCG & RG names'!D:E,2,0)","v":"Cheshire and Merseyside STP"},"27D",{"$f":"VLOOKUP(R5845,'[1]CCG & RG names'!A:B,2,0)","v":"NHS Cheshire CCG"},"V005600","Globe Dental Practice, 53 Beam Street, NANTWICH, Cheshire, CW5 5NF","CW5 5NF","CW5 "]
[null,null,null,null,null,null,null,null,null,null,null,null,null,null,null,"QYG",{"$f":"VLOOKUP(P5853,'[1]CCG & RG names'!D:E,2,0)","v":"Cheshire and Merseyside STP"},"27D",{"$f":"VLOOKUP(R5853,'[1]CCG & RG names'!A:B,2,0)","v":"NHS Cheshire CCG"},"V005644","Chester Road Dental Surgery, 118 Chester Road, NORTHWICH, Cheshire, CW8 4AN","CW8 4AN","CW8 "]
[null,null,null,null,null,null,null,null,null,null,null,null,null,null,null,"QYG",{"$f":"VLOOKUP(P5856,'[1]CCG & RG names'!D:E,2,0)","v":"Cheshire and Merseyside STP"},"27D",{"$f":"VLOOKUP(R5856,'[1]CCG & RG names'!A:B,2,0)","v":"NHS Cheshire CCG"},"V005650","Brunner Court Dental Practice, 95 Witton Street, NORTHWICH, Cheshire, CW9 5DR","CW9 5DR","CW9 "]
[null,null,null,null,null,null,null,null,null,null,null,null,null,null,null,"QYG",{"$f":"VLOOKUP(P5863,'[1]CCG & RG names'!D:E,2,0)","v":"Cheshire and Merseyside STP"},"27D",{"$f":"VLOOKUP(R5863,'[1]CCG & RG names'!A:B,2,0)","v":"NHS Cheshire CCG"},"V005666","Dental Surgery, 69A Crewe Road, Alsager, STOKE ON TRENT, Staffordshire, ST7 2EZ","ST7 2EZ","ST7 "]
[null,null,null,null,null,null,null,null,null,null,null,null,null,null,null,"QYG",{"$f":"VLOOKUP(P5870,'[1]CCG & RG names'!D:E,2,0)","v":"Cheshire and Merseyside STP"},"27D",{"$f":"VLOOKUP(R5870,'[1]CCG & RG names'!A:B,2,0)","v":"NHS Cheshire CCG"},"V005779","Dental Surgery, 144 Foregate Street, CHESTER, Cheshire, CH1 1HB","CH1 1HB","CH1 "]
[null,null,null,null,null,null,null,null,null,null,null,null,null,null,null,"QYG",{"$f":"VLOOKUP(P5874,'[1]CCG & RG names'!D:E,2,0)","v":"Cheshire and Merseyside STP"},"27D",{"$f":"VLOOKUP(R5874,'[1]CCG & RG names'!A:B,2,0)","v":"NHS Cheshire CCG"},"V005794","White House Dental Practice, 55 Chester Road, Huntington, CHESTER, Cheshire, CH3 6BS","CH3 6BS","CH3 "]
[null,null,null,null,null,null,null,null,null,null,null,null,null,null,null,"QYG",{"$f":"VLOOKUP(P5881,'[1]CCG & RG names'!D:E,2,0)","v":"Cheshire and Merseyside STP"},"27D",{"$f":"VLOOKUP(R5881,'[1]CCG & RG names'!A:B,2,0)","v":"NHS Cheshire CCG"},"V005928","Wilmslow Dental Practice, 26 Chapel Lane, WILMSLOW, SK9 5HZ","SK9 5HZ","SK9 "]
[null,null,null,null,null,null,null,null,null,null,null,null,null,null,null,"QYG",{"$f":"VLOOKUP(P5884,'[1]CCG & RG names'!D:E,2,0)","v":"Cheshire and Merseyside STP"},"27D",{"$f":"VLOOKUP(R5884,'[1]CCG & RG names'!A:B,2,0)","v":"NHS Cheshire CCG"},"V005935","Vicars Cross Dental Practice, 48 Green Lane, Vicars Cross, CHESTER, Cheshire, CH3 5LB","CH3 5LB","CH3 "]
[null,null,null,null,null,null,null,null,null,null,null,null,null,null,null,"QYG",{"$f":"VLOOKUP(P5890,'[1]CCG & RG names'!D:E,2,0)","v":"Cheshire and Merseyside STP"},"27D",{"$f":"VLOOKUP(R5890,'[1]CCG & RG names'!A:B,2,0)","v":"NHS Cheshire CCG"},"V006026","Tudor House Dental Surgery, 62 High Street, Tarvin, CHESTER, Cheshire, CH3 8JB","CH3 8JB","CH3 "]
[null,null,null,null,null,null,null,null,null,null,null,null,null,null,null,"QYG",{"$f":"VLOOKUP(P5899,'[1]CCG & RG names'!D:E,2,0)","v":"Cheshire and Merseyside STP"},"27D",{"$f":"VLOOKUP(R5899,'[1]CCG & RG names'!A:B,2,0)","v":"NHS Cheshire CCG"},"V006257","Wheatley, Neston Road, Willaston, NESTON, Merseyside, CH64 2TN","CH64 2TN","CH64"]
[null,null,null,null,null,null,null,null,null,null,null,null,null,null,null,"QYG",{"$f":"VLOOKUP(P5902,'[1]CCG & RG names'!D:E,2,0)","v":"Cheshire and Merseyside STP"},"27D",{"$f":"VLOOKUP(R5902,'[1]CCG & RG names'!A:B,2,0)","v":"NHS Cheshire CCG"},"V006418","White Dental Spa, 8 - 10 Trafford Road, Alderley Edge, Cheshire, SK9 7NT","SK9 7NT","SK9 "]
[null,null,null,null,null,null,null,null,null,null,null,null,null,null,null,"QYG",{"$f":"VLOOKUP(P5909,'[1]CCG & RG names'!D:E,2,0)","v":"Cheshire and Merseyside STP"},"27D",{"$f":"VLOOKUP(R5909,'[1]CCG & RG names'!A:B,2,0)","v":"NHS Cheshire CCG"},"V009567","201 - 203 Edleston Road, CREWE, Cheshire, CW2 7HT","CW2 7HT","CW2 "]
[null,null,null,null,null,null,null,null,null,null,null,null,null,null,null,"QYG",{"$f":"VLOOKUP(P5914,'[1]CCG & RG names'!D:E,2,0)","v":"Cheshire and Merseyside STP"},"27D",{"$f":"VLOOKUP(R5914,'[1]CCG & RG names'!A:B,2,0)","v":"NHS Cheshire CCG"},"V011440","2 Volunteer Street, CHESTER, Cheshire, CH1 1RG","CH1 1RG","CH1 "]
[null,null,null,null,null,null,null,null,null,null,null,null,null,null,null,"QYG",{"$f":"VLOOKUP(P5920,'[1]CCG & RG names'!D:E,2,0)","v":"Cheshire and Merseyside STP"},"27D",{"$f":"VLOOKUP(R5920,'[1]CCG & RG names'!A:B,2,0)","v":"NHS Cheshire CCG"},"V017434","33 St. Anns Road, Middlewich, Cheshire, CW10 9BN","CW10 9BN","CW10"]
[null,null,null,null,null,null,null,null,null,null,null,null,null,null,null,"QYG",{"$f":"VLOOKUP(P5927,'[1]CCG & RG names'!D:E,2,0)","v":"Cheshire and Merseyside STP"},"99A",{"$f":"VLOOKUP(R5927,'[1]CCG & RG names'!A:B,2,0)","v":"NHS Liverpool CCG"},"V003770","Vauxhall Health Centre, 111 117 Limekiln Lane, LIVERPOOL, Merseyside, L5 8XR","L5 8XR","L5 "]
[null,null,null,null,null,null,null,null,null,null,null,null,null,null,null,"QYG",{"$f":"VLOOKUP(P5930,'[1]CCG & RG names'!D:E,2,0)","v":"Cheshire and Merseyside STP"},"99A",{"$f":"VLOOKUP(R5930,'[1]CCG & RG names'!A:B,2,0)","v":"NHS Liverpool CCG"},"V003779","The Orthodontic Practice, 84 Rodney Street, LIVERPOOL, Merseyside, L1 9AR","L1 9AR","L1 "]
[null,null,null,null,null,null,null,null,null,null,null,null,null,null,null,"QYG",{"$f":"VLOOKUP(P5939,'[1]CCG & RG names'!D:E,2,0)","v":"Cheshire and Merseyside STP"},"99A",{"$f":"VLOOKUP(R5939,'[1]CCG & RG names'!A:B,2,0)","v":"NHS Liverpool CCG"},"V003811","Green Lane Dental Surgery, 19 Green Lane, Stoneycroft, LIVERPOOL, Merseyside, L13 7DT","L13 7DT","L13 "]
[null,null,null,null,null,null,null,null,null,null,null,null,null,null,null,"QYG",{"$f":"VLOOKUP(P5945,'[1]CCG & RG names'!D:E,2,0)","v":"Cheshire and Merseyside STP"},"99A",{"$f":"VLOOKUP(R5945,'[1]CCG & RG names'!A:B,2,0)","v":"NHS Liverpool CCG"},"V003823","Menlove Dental Surgery, 1 Menlove Avenue, LIVERPOOL, Merseyside, L18 1LS","L18 1LS","L18 "]
[null,null,null,null,null,null,null,null,null,null,null,null,null,null,null,"QYG",{"$f":"VLOOKUP(P5948,'[1]CCG & RG names'!D:E,2,0)","v":"Cheshire and Merseyside STP"},"99A",{"$f":"VLOOKUP(R5948,'[1]CCG & RG names'!A:B,2,0)","v":"NHS Liverpool CCG"},"V003883","Dental Surgery, 2 Caldy Road, LIVERPOOL, Merseyside, L9 4RY","L9 4RY","L9 "]
[null,null,null,null,null,null,null,null,null,null,null,null,null,null,null,"QYG",{"$f":"VLOOKUP(P5955,'[1]CCG & RG names'!D:E,2,0)","v":"Cheshire and Merseyside STP"},"99A",{"$f":"VLOOKUP(R5955,'[1]CCG & RG names'!A:B,2,0)","v":"NHS Liverpool CCG"},"V003903","Dental Practice, 108 Childwall Priory Road, Childwall, Liverpool, Merseyside, L16 7PF","L16 7PF",{"$f":"IF(MID(V5955,3,1) =\" \",LEFT(V5955,3),LEFT(V5955,4))","v":"L16 "}]
[null,null,null,null,null,null,null,null,null,null,null,null,null,null,null,"QYG",{"$f":"VLOOKUP(P5958,'[1]CCG & RG names'!D:E,2,0)","v":"Cheshire and Merseyside STP"},"99A",{"$f":"VLOOKUP(R5958,'[1]CCG & RG names'!A:B,2,0)","v":"NHS Liverpool CCG"},"V003907","Dental Surgery, 1A Chelwood Avenue, LIVERPOOL, Merseyside, L16 3NN","L16 3NN","L16 "]
[null,null,null,null,null,null,null,null,null,null,null,null,null,null,null,"QYG",{"$f":"VLOOKUP(P5964,'[1]CCG & RG names'!D:E,2,0)","v":"Cheshire and Merseyside STP"},"99A",{"$f":"VLOOKUP(R5964,'[1]CCG & RG names'!A:B,2,0)","v":"NHS Liverpool CCG"},"V003931","Dental Surgery, Belle Vale Health Centre, Hedgefield Road, LIVERPOOL, Merseyside, L25 2XE","L25 2XE","L25 "]
[null,null,null,null,null,null,null,null,null,null,null,null,null,null,null,"QYG",{"$f":"VLOOKUP(P5973,'[1]CCG & RG names'!D:E,2,0)","v":"Cheshire and Merseyside STP"},"99A",{"$f":"VLOOKUP(R5973,'[1]CCG & RG names'!A:B,2,0)","v":"NHS Liverpool CCG"},"V014610","South Liverpool NHS, Treatment Centre, 32 Church Road, Garston, L19 2LW","L19 2LW","L19 "]
[null,null,null,null,null,null,null,null,null,null,null,null,null,null,null,"QYG",{"$f":"VLOOKUP(P5976,'[1]CCG & RG names'!D:E,2,0)","v":"Cheshire and Merseyside STP"},"99A",{"$f":"VLOOKUP(R5976,'[1]CCG & RG names'!A:B,2,0)","v":"NHS Liverpool CCG"},"V023216","DENTAL SURGERY 158-160, COUNTY ROAD, LIVERPOOL, L4 5PH","L4 5PH","L4 "]
[null,null,null,null,null,null,null,null,null,null,null,null,null,null,null,"QF7",{"$f":"VLOOKUP(P5983,'[1]CCG & RG names'!D:E,2,0)","v":"South Yorkshire and Bassetlaw STP"},"02P",{"$f":"VLOOKUP(R5983,'[1]CCG & RG names'!A:B,2,0)","v":"NHS Barnsley CCG"},"V004836","Dental Surgery, 11 - 17 High Street, Penistone, SHEFFIELD, South Yorkshire, S36 6BR","S36 6BR","S36 "]
[null,null,null,null,null,null,null,null,null,null,null,null,null,null,null,"QF7",{"$f":"VLOOKUP(P5991,'[1]CCG & RG names'!D:E,2,0)","v":"South Yorkshire and Bassetlaw STP"},"02P",{"$f":"VLOOKUP(R5991,'[1]CCG & RG names'!A:B,2,0)","v":"NHS Barnsley CCG"},"V004966","Darfield Dental Practice, 16 School Street, Darfield, BARNSLEY, south Yorkshire, S73 9ET","S73 9ET","S73 "]
[null,null,null,null,null,null,null,null,null,null,null,null,null,null,null,"QF7",{"$f":"VLOOKUP(P5994,'[1]CCG & RG names'!D:E,2,0)","v":"South Yorkshire and Bassetlaw STP"},"02P",{"$f":"VLOOKUP(R5994,'[1]CCG & RG names'!A:B,2,0)","v":"NHS Barnsley CCG"},"V005061","Queens Road Dental Surgery, 27 Queens Road, BARNSLEY, South Yorkshire, S71 1AN","S71 1AN","S71 "]
[null,null,null,null,null,null,null,null,null,null,null,null,null,null,null,"QF7",{"$f":"VLOOKUP(P6001,'[1]CCG & RG names'!D:E,2,0)","v":"South Yorkshire and Bassetlaw STP"},"02P",{"$f":"VLOOKUP(R6001,'[1]CCG & RG names'!A:B,2,0)","v":"NHS Barnsley CCG"},"V005123","Dental Surgery, 226 Pontefract Road, BARNSLEY, South Yorkshire, S71 5PN","S71 5PN","S71 "]
[null,null,null,null,null,null,null,null,null,null,null,null,null,null,null,"QF7",{"$f":"VLOOKUP(P6007,'[1]CCG & RG names'!D:E,2,0)","v":"South Yorkshire and Bassetlaw STP"},"02P",{"$f":"VLOOKUP(R6007,'[1]CCG & RG names'!A:B,2,0)","v":"NHS Barnsley CCG"},"V013453","Dental Clinic, The Cudworth Centre, Carlton Street, Cudworth, Barnsley, S72 8ST","S72 8ST","S72 "]
[null,null,null,null,null,null,null,null,null,null,null,null,null,null,null,"QF7",{"$f":"VLOOKUP(P6010,'[1]CCG & RG names'!D:E,2,0)","v":"South Yorkshire and Bassetlaw STP"},"02P",{"$f":"VLOOKUP(R6010,'[1]CCG & RG names'!A:B,2,0)","v":"NHS Barnsley CCG"},"V029968","23-27, Peel Street, Barnsley, South Yorkshire, S70 2RA","S70 2RA","S70 "]
[null,null,null,null,null,null,null,null,null,null,null,null,null,null,null,"QF7",{"$f":"VLOOKUP(P6019,'[1]CCG & RG names'!D:E,2,0)","v":"South Yorkshire and Bassetlaw STP"},"02Q",{"$f":"VLOOKUP(R6019,'[1]CCG & RG names'!A:B,2,0)","v":"NHS Bassetlaw CCG"},"V001336","The Dental Surgery, 37 Carlton Road, WORKSOP, Nottinghamshire, S80 1PD","S80 1PD",{"$f":"IF(MID(V6019,3,1) =\" \",LEFT(V6019,3),LEFT(V6019,4))","v":"S80 "}]
[null,null,null,null,null,null,null,null,null,null,null,null,null,null,null,"QF7",{"$f":"VLOOKUP(P6022,'[1]CCG & RG names'!D:E,2,0)","v":"South Yorkshire and Bassetlaw STP"},"02Q",{"$f":"VLOOKUP(R6022,'[1]CCG & RG names'!A:B,2,0)","v":"NHS Bassetlaw CCG"},"V014853","Retford Dental Care Ltd, Dental22, Crown House, Chapelgate, Retford, DN22 6NX","DN22 6NX","DN22"]
[null,null,null,null,null,null,null,null,null,null,null,null,null,null,null,"QF7",{"$f":"VLOOKUP(P6027,'[1]CCG & RG names'!D:E,2,0)","v":"South Yorkshire and Bassetlaw STP"},"02X",{"$f":"VLOOKUP(R6027,'[1]CCG & RG names'!A:B,2,0)","v":"NHS Doncaster CCG"},"V002959","Shelswell Dental Practice, 5 Alston Road, DONCASTER, South Yorkshire, DN4 7HA","DN4 7HA","DN4 "]
[null,null,null,null,null,null,null,null,null,null,null,null,null,null,null,"QF7",{"$f":"VLOOKUP(P6037,'[1]CCG & RG names'!D:E,2,0)","v":"South Yorkshire and Bassetlaw STP"},"02X",{"$f":"VLOOKUP(R6037,'[1]CCG & RG names'!A:B,2,0)","v":"NHS Doncaster CCG"},"V003079","Robinson Dentist, 3 Darnley Buildings, Queen Marys Road, New Rossington, DONCASTER, DN11 0TS","DN11 0TS","DN11"]
[null,null,null,null,null,null,null,null,null,null,null,null,null,null,null,"QF7",{"$f":"VLOOKUP(P6040,'[1]CCG & RG names'!D:E,2,0)","v":"South Yorkshire and Bassetlaw STP"},"02X",{"$f":"VLOOKUP(R6040,'[1]CCG & RG names'!A:B,2,0)","v":"NHS Doncaster CCG"},"V003082","Dental Surgery, 14A Church Street, Armthorpe, DONCASTER, South Yorkshire, DN3 3AL","DN3 3AL","DN3 "]
[null,null,null,null,null,null,null,null,null,null,null,null,null,null,null,"QF7",{"$f":"VLOOKUP(P6045,'[1]CCG & RG names'!D:E,2,0)","v":"South Yorkshire and Bassetlaw STP"},"02X",{"$f":"VLOOKUP(R6045,'[1]CCG & RG names'!A:B,2,0)","v":"NHS Doncaster CCG"},"V003223","325 Bentley Road, DONCASTER, South Yorkshire, DN5 9TG","DN5 9TG","DN5 "]
[null,null,null,null,null,null,null,null,null,null,null,null,null,null,null,"QF7",{"$f":"VLOOKUP(P6049,'[1]CCG & RG names'!D:E,2,0)","v":"South Yorkshire and Bassetlaw STP"},"02X",{"$f":"VLOOKUP(R6049,'[1]CCG & RG names'!A:B,2,0)","v":"NHS Doncaster CCG"},"V003230","Skellow Dental Practice, 205 Skellow Road, Skellow, DONCASTER, South Yorkshire, DN6 8HP","DN6 8HP","DN6 "]
[null,null,null,null,null,null,null,null,null,null,null,null,null,null,null,"QF7",{"$f":"VLOOKUP(P6056,'[1]CCG & RG names'!D:E,2,0)","v":"South Yorkshire and Bassetlaw STP"},"02X",{"$f":"VLOOKUP(R6056,'[1]CCG & RG names'!A:B,2,0)","v":"NHS Doncaster CCG"},"V003288","Julias Dental Surgery, 103 Gattison Lane, New Rossington, DONCASTER, South Yorkshire, DN11 0NS","DN11 0NS","DN11"]
[null,null,null,null,null,null,null,null,null,null,null,null,null,null,null,"QF7",{"$f":"VLOOKUP(P6065,'[1]CCG & RG names'!D:E,2,0)","v":"South Yorkshire and Bassetlaw STP"},"02X",{"$f":"VLOOKUP(R6065,'[1]CCG & RG names'!A:B,2,0)","v":"NHS Doncaster CCG"},"V016859","The Flying Scotsman Centre, St Sepulchre Gate West, Doncaster, DN1 3AP","DN1 3AP","DN1 "]
[null,null,null,null,null,null,null,null,null,null,null,null,null,null,null,"QF7",{"$f":"VLOOKUP(P6069,'[1]CCG & RG names'!D:E,2,0)","v":"South Yorkshire and Bassetlaw STP"},"03L",{"$f":"VLOOKUP(R6069,'[1]CCG & RG names'!A:B,2,0)","v":"NHS Rotherham CCG"},"V001031","Orthodontic Practice, 1 Poplar Drive, Brinsworth, ROTHERHAM, South Yorkshire, S60 5BP","S60 5BP","S60 "]
[null,null,null,null,null,null,null,null,null,null,null,null,null,null,null,"QF7",{"$f":"VLOOKUP(P6074,'[1]CCG & RG names'!D:E,2,0)","v":"South Yorkshire and Bassetlaw STP"},"03L",{"$f":"VLOOKUP(R6074,'[1]CCG & RG names'!A:B,2,0)","v":"NHS Rotherham CCG"},"V001035","Dental Surgery, 101 Wales Road, Kiveton Park, SHEFFIELD, South Yorkshire, S26 6RA","S26 6RA","S26 "]
[null,null,null,null,null,null,null,null,null,null,null,null,null,null,null,"QF7",{"$f":"VLOOKUP(P6083,'[1]CCG & RG names'!D:E,2,0)","v":"South Yorkshire and Bassetlaw STP"},"03L",{"$f":"VLOOKUP(R6083,'[1]CCG & RG names'!A:B,2,0)","v":"NHS Rotherham CCG"},"V001048","Dental Surgery, 41 Broom Road, ROTHERHAM, South Yorkshire, S60 2SW","S60 2SW",{"$f":"IF(MID(V6083,3,1) =\" \",LEFT(V6083,3),LEFT(V6083,4))","v":"S60 "}]
[null,null,null,null,null,null,null,null,null,null,null,null,null,null,null,"QF7",{"$f":"VLOOKUP(P6084,'[1]CCG & RG names'!D:E,2,0)","v":"South Yorkshire and Bassetlaw STP"},"03L",{"$f":"VLOOKUP(R6084,'[1]CCG & RG names'!A:B,2,0)","v":"NHS Rotherham CCG"},"V001049","Kimberworth Park Dental Practice, 246-250 Kimberworth Park Road, ROTHERHAM, South Yorkshire, S61 3JN","S61 3JN","S61 "]
[null,null,null,null,null,null,null,null,null,null,null,null,null,null,null,"QF7",{"$f":"VLOOKUP(P6094,'[1]CCG & RG names'!D:E,2,0)","v":"South Yorkshire and Bassetlaw STP"},"03L",{"$f":"VLOOKUP(R6094,'[1]CCG & RG names'!A:B,2,0)","v":"NHS Rotherham CCG"},"V009997","Maltby Dental Clinic, Braithwell Road, Maltby, ROTHERHAM, South Yorkshire, S66 8JE","S66 8JE","S66 "]
[null,null,null,null,null,null,null,null,null,null,null,null,null,null,null,"QF7",{"$f":"VLOOKUP(P6095,'[1]CCG & RG names'!D:E,2,0)","v":"South Yorkshire and Bassetlaw STP"},"03L",{"$f":"VLOOKUP(R6095,'[1]CCG & RG names'!A:B,2,0)","v":"NHS Rotherham CCG"},"V009998","Wath Community Dental Clinic, Church Street, Wath Upon Dearne, ROTHERHAM, South Yorkshire, S63 7RF","S63 7RF","S63 "]
[null,null,null,null,null,null,null,null,null,null,null,null,null,null,null,"QF7",{"$f":"VLOOKUP(P6102,'[1]CCG & RG names'!D:E,2,0)","v":"South Yorkshire and Bassetlaw STP"},"03N",{"$f":"VLOOKUP(R6102,'[1]CCG & RG names'!A:B,2,0)","v":"NHS Sheffield CCG"},"V000049","Abbeydale Road Dental Surgery, 4 - 6 Abbeydale Road, SHEFFIELD, South Yorkshire, S7 1FD","S7 1FD","S7 "]
[null,null,null,null,null,null,null,null,null,null,null,null,null,null,null,"QF7",{"$f":"VLOOKUP(P6111,'[1]CCG & RG names'!D:E,2,0)","v":"South Yorkshire and Bassetlaw STP"},"03N",{"$f":"VLOOKUP(R6111,'[1]CCG & RG names'!A:B,2,0)","v":"NHS Sheffield CCG"},"V005246","Waterthorpe Dental Surgery, 1 Harwood Gardens, Waterthorpe, SHEFFIELD, South Yorkshire, S20 7LE","S20 7LE","S20 "]
[null,null,null,null,null,null,null,null,null,null,null,null,null,null,null,"QF7",{"$f":"VLOOKUP(P6113,'[1]CCG & RG names'!D:E,2,0)","v":"South Yorkshire and Bassetlaw STP"},"03N",{"$f":"VLOOKUP(R6113,'[1]CCG & RG names'!A:B,2,0)","v":"NHS Sheffield CCG"},"V005257","Manor Dental Practice, 1A Motehall Road, SHEFFIELD, South Yorkshire, S2 1RA","S2 1RA","S2 "]
[null,null,null,null,null,null,null,null,null,null,null,null,null,null,null,"QF7",{"$f":"VLOOKUP(P6120,'[1]CCG & RG names'!D:E,2,0)","v":"South Yorkshire and Bassetlaw STP"},"03N",{"$f":"VLOOKUP(R6120,'[1]CCG & RG names'!A:B,2,0)","v":"NHS Sheffield CCG"},"V005266","J M Summerfield And Associates, 2 Newfield Green Road, SHEFFIELD, South Yorkshire, S2 2BR","S2 2BR","S2 "]
[null,null,null,null,null,null,null,null,null,null,null,null,null,null,null,"QF7",{"$f":"VLOOKUP(P6129,'[1]CCG & RG names'!D:E,2,0)","v":"South Yorkshire and Bassetlaw STP"},"03N",{"$f":"VLOOKUP(R6129,'[1]CCG & RG names'!A:B,2,0)","v":"NHS Sheffield CCG"},"V005318","Montgomery House Medical Centre, 83 Infirmary Road, SHEFFIELD, South Yorkshire, S6 3BZ","S6 3BZ","S6 "]
[null,null,null,null,null,null,null,null,null,null,null,null,null,null,null,"QF7",{"$f":"VLOOKUP(P6130,'[1]CCG & RG names'!D:E,2,0)","v":"South Yorkshire and Bassetlaw STP"},"03N",{"$f":"VLOOKUP(R6130,'[1]CCG & RG names'!A:B,2,0)","v":"NHS Sheffield CCG"},"V005320","Forge Farm Dental Practice, 22 Stannington Road, SHEFFIELD, South Yorkshire, S6 5FL","S6 5FL","S6 "]
[null,null,null,null,null,null,null,null,null,null,null,null,null,null,null,"QF7",{"$f":"VLOOKUP(P6138,'[1]CCG & RG names'!D:E,2,0)","v":"South Yorkshire and Bassetlaw STP"},"03N",{"$f":"VLOOKUP(R6138,'[1]CCG & RG names'!A:B,2,0)","v":"NHS Sheffield CCG"},"V005395","Dental Surgery, 58 Hemper Lane, SHEFFIELD, South Yorkshire, S8 7FD","S8 7FD","S8 "]
[null,null,null,null,null,null,null,null,null,null,null,null,null,null,null,"QF7",{"$f":"VLOOKUP(P6141,'[1]CCG & RG names'!D:E,2,0)","v":"South Yorkshire and Bassetlaw STP"},"03N",{"$f":"VLOOKUP(R6141,'[1]CCG & RG names'!A:B,2,0)","v":"NHS Sheffield CCG"},"V005400","Woodseats Dental Care, 44 Holmhirst Road, SHEFFIELD, South Yorkshire, S8 0GU","S8 0GU","S8 "]
[null,null,null,null,null,null,null,null,null,null,null,null,null,null,null,"QF7",{"$f":"VLOOKUP(P6148,'[1]CCG & RG names'!D:E,2,0)","v":"South Yorkshire and Bassetlaw STP"},"03N",{"$f":"VLOOKUP(R6148,'[1]CCG & RG names'!A:B,2,0)","v":"NHS Sheffield CCG"},"V005423","Dental Surgery, 262 Sharrow Vale Road, SHEFFIELD, South Yorkshire, S11 8ZH","S11 8ZH","S11 "]
[null,null,null,null,null,null,null,null,null,null,null,null,null,null,null,"QF7",{"$f":"VLOOKUP(P6157,'[1]CCG & RG names'!D:E,2,0)","v":"South Yorkshire and Bassetlaw STP"},"03N",{"$f":"VLOOKUP(R6157,'[1]CCG & RG names'!A:B,2,0)","v":"NHS Sheffield CCG"},"V005446","Park Dental Care, 241 High Greave, SHEFFIELD, South Yorkshire, S5 9GS","S5 9GS","S5 "]
[null,null,null,null,null,null,null,null,null,null,null,null,null,null,null,"QF7",{"$f":"VLOOKUP(P6163,'[1]CCG & RG names'!D:E,2,0)","v":"South Yorkshire and Bassetlaw STP"},"03N",{"$f":"VLOOKUP(R6163,'[1]CCG & RG names'!A:B,2,0)","v":"NHS Sheffield CCG"},"V009579","112 - 114 Richards Road, Heeley, SHEFFIELD, South Yorkshire, S2 3DU","S2 3DU","S2 "]
[null,null,null,null,null,null,null,null,null,null,null,null,null,null,null,"QF7",{"$f":"VLOOKUP(P6166,'[1]CCG & RG names'!D:E,2,0)","v":"South Yorkshire and Bassetlaw STP"},"03N",{"$f":"VLOOKUP(R6166,'[1]CCG & RG names'!A:B,2,0)","v":"NHS Sheffield CCG"},"V011438","652-654 STANIFORTH ROAD, DARNALL, SHEFFIELD, S9 4LP","S9 4LP","S9 "]
[null,null,null,null,null,null,null,null,null,null,null,null,null,null,null,"QF7",{"$f":"VLOOKUP(P6175,'[1]CCG & RG names'!D:E,2,0)","v":"South Yorkshire and Bassetlaw STP"},"03N",{"$f":"VLOOKUP(R6175,'[1]CCG & RG names'!A:B,2,0)","v":"NHS Sheffield CCG"},"V022412","194 Duke Street, Park Hill, Sheffield, S2 5QQ","S2 5QQ","S2 "]
[null,null,null,null,null,null,null,null,null,null,null,null,null,null,null,"QF7",{"$f":"VLOOKUP(P6176,'[1]CCG & RG names'!D:E,2,0)","v":"South Yorkshire and Bassetlaw STP"},"03N",{"$f":"VLOOKUP(R6176,'[1]CCG & RG names'!A:B,2,0)","v":"NHS Sheffield CCG"},"V029967","19-21, Northumberland Road, Sheffield, S10 2TX","S10 2TX","S10 "]
[null,null,null,null,null,null,null,null,null,null,null,null,null,null,null,"QHM",{"$f":"VLOOKUP(P6182,'[1]CCG & RG names'!D:E,2,0)","v":"Cumbria and North East STP"},"00L",{"$f":"VLOOKUP(R6182,'[1]CCG & RG names'!A:B,2,0)","v":"NHS Northumberland CCG"},"V003768","Darras Hall Dental Practice, Broadway, Ponteland, NEWCASTLE UPON TYNE, Tyne And Wear, NE20 9PW","NE20 9PW","NE20"]
[null,null,null,null,null,null,null,null,null,null,null,null,null,null,null,"QHM",{"$f":"VLOOKUP(P6187,'[1]CCG & RG names'!D:E,2,0)","v":"Cumbria and North East STP"},"00L",{"$f":"VLOOKUP(R6187,'[1]CCG & RG names'!A:B,2,0)","v":"NHS Northumberland CCG"},"V003831","Prudhoe Dental Practice, 78 Front Street, PRUDHOE, Northumberland, NE42 5PU","NE42 5PU","NE42"]
[null,null,null,null,null,null,null,null,null,null,null,null,null,null,null,"QHM",{"$f":"VLOOKUP(P6194,'[1]CCG & RG names'!D:E,2,0)","v":"Cumbria and North East STP"},"00L",{"$f":"VLOOKUP(R6194,'[1]CCG & RG names'!A:B,2,0)","v":"NHS Northumberland CCG"},"V003857","Dental Surgery, Linden Cottage, High Market, ASHINGTON, Northumberland, NE63 8NQ","NE63 8NQ","NE63"]
[null,null,null,null,null,null,null,null,null,null,null,null,null,null,null,"QHM",{"$f":"VLOOKUP(P6203,'[1]CCG & RG names'!D:E,2,0)","v":"Cumbria and North East STP"},"00L",{"$f":"VLOOKUP(R6203,'[1]CCG & RG names'!A:B,2,0)","v":"NHS Northumberland CCG"},"V003900","Waterloo Dental Practice, 72A Waterloo Road, BLYTH, Northumberland, NE24 1DG","NE24 1DG","NE24"]
[null,null,null,null,null,null,null,null,null,null,null,null,null,null,null,"QHM",{"$f":"VLOOKUP(P6207,'[1]CCG & RG names'!D:E,2,0)","v":"Cumbria and North East STP"},"00L",{"$f":"VLOOKUP(R6207,'[1]CCG & RG names'!A:B,2,0)","v":"NHS Northumberland CCG"},"V009300","Tweedmouth Dental Clinic, Shielfield Terrace, BERWICK UPON TWEED, Northumberland, TD15 2EQ","TD15 2EQ","TD15"]
[null,null,null,null,null,null,null,null,null,null,null,null,null,null,null,"QHM",{"$f":"VLOOKUP(P6212,'[1]CCG & RG names'!D:E,2,0)","v":"Cumbria and North East STP"},"00L",{"$f":"VLOOKUP(R6212,'[1]CCG & RG names'!A:B,2,0)","v":"NHS Northumberland CCG"},"V012158","25 Oldgate, MORPETH, Northumberland, NE61 1QF","NE61 1QF","NE61"]
[null,null,null,null,null,null,null,null,null,null,null,null,null,null,null,"QHM",{"$f":"VLOOKUP(P6221,'[1]CCG & RG names'!D:E,2,0)","v":"Cumbria and North East STP"},"00N",{"$f":"VLOOKUP(R6221,'[1]CCG & RG names'!A:B,2,0)","v":"NHS South Tyneside CCG"},"V001344","16 - 22 Westoe Road, SOUTH SHIELDS, Tyne and Wear, NE33 4LZ","NE33 4LZ","NE33"]
[null,null,null,null,null,null,null,null,null,null,null,null,null,null,null,"QHM",{"$f":"VLOOKUP(P6222,'[1]CCG & RG names'!D:E,2,0)","v":"Cumbria and North East STP"},"00N",{"$f":"VLOOKUP(R6222,'[1]CCG & RG names'!A:B,2,0)","v":"NHS South Tyneside CCG"},"V001350","1 A The Dental Practice, 74 Fowler Street, SOUTH SHIELDS, Tyne And Wear, NE33 1PD","NE33 1PD","NE33"]
[null,null,null,null,null,null,null,null,null,null,null,null,null,null,null,"QHM",{"$f":"VLOOKUP(P6231,'[1]CCG & RG names'!D:E,2,0)","v":"Cumbria and North East STP"},"00N",{"$f":"VLOOKUP(R6231,'[1]CCG & RG names'!A:B,2,0)","v":"NHS South Tyneside CCG"},"V010133","Dental Department, Palmer Community Hospital, Wear Street, JARROW, Tyne And Wear, NE32 3UX","NE32 3UX","NE32"]
[null,null,null,null,null,null,null,null,null,null,null,null,null,null,null,"QHM",{"$f":"VLOOKUP(P6233,'[1]CCG & RG names'!D:E,2,0)","v":"Cumbria and North East STP"},"00P",{"$f":"VLOOKUP(R6233,'[1]CCG & RG names'!A:B,2,0)","v":"NHS Sunderland CCG"},"V001620","The Dental Centre, 14 Front Street, WASHINGTON, Tyne and Wear, Tyne And Wear, NE37 2BA","NE37 2BA","NE37"]
[null,null,null,null,null,null,null,null,null,null,null,null,null,null,null,"QHM",{"$f":"VLOOKUP(P6240,'[1]CCG & RG names'!D:E,2,0)","v":"Cumbria and North East STP"},"00P",{"$f":"VLOOKUP(R6240,'[1]CCG & RG names'!A:B,2,0)","v":"NHS Sunderland CCG"},"V001690","Frederick Family Dental Practice, 55 Frederick Street, SUNDERLAND, Tyne And Wear, SR1 1NF","SR1 1NF","SR1 "]
[null,null,null,null,null,null,null,null,null,null,null,null,null,null,null,"QHM",{"$f":"VLOOKUP(P6249,'[1]CCG & RG names'!D:E,2,0)","v":"Cumbria and North East STP"},"00P",{"$f":"VLOOKUP(R6249,'[1]CCG & RG names'!A:B,2,0)","v":"NHS Sunderland CCG"},"V001732","Dental Surgery, 1 Burdon Lane, SUNDERLAND, Tyne And Wear, SR2 0HQ","SR2 0HQ","SR2 "]
[null,null,null,null,null,null,null,null,null,null,null,null,null,null,null,"QHM",{"$f":"VLOOKUP(P6251,'[1]CCG & RG names'!D:E,2,0)","v":"Cumbria and North East STP"},"00P",{"$f":"VLOOKUP(R6251,'[1]CCG & RG names'!A:B,2,0)","v":"NHS Sunderland CCG"},"V003186","The Green Dental Surgery, 44D The Green, Southwick, SUNDERLAND, Tyne And Wear, SR5 2HY","SR5 2HY","SR5 "]
[null,null,null,null,null,null,null,null,null,null,null,null,null,null,null,"QHM",{"$f":"VLOOKUP(P6258,'[1]CCG & RG names'!D:E,2,0)","v":"Cumbria and North East STP"},"01H",{"$f":"VLOOKUP(R6258,'[1]CCG & RG names'!A:B,2,0)","v":"NHS North Cumbria CCG"},"V003419","Derwent House Orthodontics, 1st Floor Derwent House, Wakefield Road, COCKERMOUTH, Cumbria, CA13 0HS","CA13 0HS","CA13"]
[null,null,null,null,null,null,null,null,null,null,null,null,null,null,null,"QHM",{"$f":"VLOOKUP(P6267,'[1]CCG & RG names'!D:E,2,0)","v":"Cumbria and North East STP"},"01H",{"$f":"VLOOKUP(R6267,'[1]CCG & RG names'!A:B,2,0)","v":"NHS North Cumbria CCG"},"V003487","Dental Surgery, 12 Aglionby Street, CARLISLE, Cumbria, CA1 1JP","CA1 1JP","CA1 "]
[null,null,null,null,null,null,null,null,null,null,null,null,null,null,null,"QHM",{"$f":"VLOOKUP(P6269,'[1]CCG & RG names'!D:E,2,0)","v":"Cumbria and North East STP"},"01H",{"$f":"VLOOKUP(R6269,'[1]CCG & RG names'!A:B,2,0)","v":"NHS North Cumbria CCG"},"V003489","Skirsgill Dental Practice, Skirsgill Park, Penrith, Cumbria, CA11 0FA","CA11 0FA","CA11"]
[null,null,null,null,null,null,null,null,null,null,null,null,null,null,null,"QHM",{"$f":"VLOOKUP(P6276,'[1]CCG & RG names'!D:E,2,0)","v":"Cumbria and North East STP"},"01H",{"$f":"VLOOKUP(R6276,'[1]CCG & RG names'!A:B,2,0)","v":"NHS North Cumbria CCG"},"V005828","Dental Surgery, Lismore House, Lismore Street, CARLISLE, Cumbria, CA1 2AH","CA1 2AH","CA1 "]
[null,null,null,null,null,null,null,null,null,null,null,null,null,null,null,"QHM",{"$f":"VLOOKUP(P6283,'[1]CCG & RG names'!D:E,2,0)","v":"Cumbria and North East STP"},"01H",{"$f":"VLOOKUP(R6283,'[1]CCG & RG names'!A:B,2,0)","v":"NHS North Cumbria CCG"},"V008787","Dental Surgery, Stricklandgate, PENRITH, Cumbria, CA11 7NH","CA11 7NH","CA11"]
[null,null,null,null,null,null,null,null,null,null,null,null,null,null,null,"QHM",{"$f":"VLOOKUP(P6286,'[1]CCG & RG names'!D:E,2,0)","v":"Cumbria and North East STP"},"01H",{"$f":"VLOOKUP(R6286,'[1]CCG & RG names'!A:B,2,0)","v":"NHS North Cumbria CCG"},"V009305","Cleator Moor Dental Practice, 74 - 75 High Street, CLEATOR MOOR, Cumbria, CA25 5BL","CA25 5BL","CA25"]
[null,null,null,null,null,null,null,null,null,null,null,null,null,null,null,"QHM",{"$f":"VLOOKUP(P6293,'[1]CCG & RG names'!D:E,2,0)","v":"Cumbria and North East STP"},"01H",{"$f":"VLOOKUP(R6293,'[1]CCG & RG names'!A:B,2,0)","v":"NHS North Cumbria CCG"},"V012753","Oasis Dental Care Ltd., Units 3 and 4, Ground Floor, Pears House, Whitehaven, CA28 7HW","CA28 7HW","CA28"]
[null,null,null,null,null,null,null,null,null,null,null,null,null,null,null,"QHM",{"$f":"VLOOKUP(P6301,'[1]CCG & RG names'!D:E,2,0)","v":"Cumbria and North East STP"},"01H",{"$f":"VLOOKUP(R6301,'[1]CCG & RG names'!A:B,2,0)","v":"NHS North Cumbria CCG"},"V022462","SHIRE HALL, THE SANDS, APPLEBY-IN-WESTMORLAND, CUMBRIA, CA16 6XN","CA16 6XN","CA16"]
[null,null,null,null,null,null,null,null,null,null,null,null,null,null,null,"QHM",{"$f":"VLOOKUP(P6304,'[1]CCG & RG names'!D:E,2,0)","v":"Cumbria and North East STP"},"13T",{"$f":"VLOOKUP(R6304,'[1]CCG & RG names'!A:B,2,0)","v":"NHS Newcastle Gateshead CCG"},"V001606","Dental Surgery, 1 Spoor Street, GATESHEAD, Tyne And Wear, NE11 9BD","NE11 9BD","NE11"]
[null,null,null,null,null,null,null,null,null,null,null,null,null,null,null,"QHM",{"$f":"VLOOKUP(P6313,'[1]CCG & RG names'!D:E,2,0)","v":"Cumbria and North East STP"},"13T",{"$f":"VLOOKUP(R6313,'[1]CCG & RG names'!A:B,2,0)","v":"NHS Newcastle Gateshead CCG"},"V001626","Heaton Dental Clinic, 392 Chillingham Road, NEWCASTLE UPON TYNE, Tyne And Wear, NE6 5QX","NE6 5QX","NE6 "]
[null,null,null,null,null,null,null,null,null,null,null,null,null,null,null,"QHM",{"$f":"VLOOKUP(P6318,'[1]CCG & RG names'!D:E,2,0)","v":"Cumbria and North East STP"},"13T",{"$f":"VLOOKUP(R6318,'[1]CCG & RG names'!A:B,2,0)","v":"NHS Newcastle Gateshead CCG"},"V001638","Westgate Dental Practice, 7 Graingerville North, Westgate Road, NEWCASTLE UPON TYNE, Tyne And Wear, NE4 6UJ","NE4 6UJ","NE4 "]
[null,null,null,null,null,null,null,null,null,null,null,null,null,null,null,"QHM",{"$f":"VLOOKUP(P6322,'[1]CCG & RG names'!D:E,2,0)","v":"Cumbria and North East STP"},"13T",{"$f":"VLOOKUP(R6322,'[1]CCG & RG names'!A:B,2,0)","v":"NHS Newcastle Gateshead CCG"},"V001651","Saville Dental Practice, 6 Saville Place, NEWCASTLE UPON TYNE, Tyne And Wear, NE1 8DQ","NE1 8DQ","NE1 "]
[null,null,null,null,null,null,null,null,null,null,null,null,null,null,null,"QHM",{"$f":"VLOOKUP(P6329,'[1]CCG & RG names'!D:E,2,0)","v":"Cumbria and North East STP"},"13T",{"$f":"VLOOKUP(R6329,'[1]CCG & RG names'!A:B,2,0)","v":"NHS Newcastle Gateshead CCG"},"V001667","The Dental Care Clinic, 369 Stamfordham Road, NEWCASTLE UPON TYNE, NE5 2LH","NE5 2LH","NE5 "]
[null,null,null,null,null,null,null,null,null,null,null,null,null,null,null,"QHM",{"$f":"VLOOKUP(P6332,'[1]CCG & RG names'!D:E,2,0)","v":"Cumbria and North East STP"},"13T",{"$f":"VLOOKUP(R6332,'[1]CCG & RG names'!A:B,2,0)","v":"NHS Newcastle Gateshead CCG"},"V001676","Dental Surgery, 1 Victoria Terrace, NEWCASTLE UPON TYNE, Tyne And Wear, NE15 9EL","NE15 9EL","NE15"]
[null,null,null,null,null,null,null,null,null,null,null,null,null,null,null,"QHM",{"$f":"VLOOKUP(P6337,'[1]CCG & RG names'!D:E,2,0)","v":"Cumbria and North East STP"},"13T",{"$f":"VLOOKUP(R6337,'[1]CCG & RG names'!A:B,2,0)","v":"NHS Newcastle Gateshead CCG"},"V001683","Dental Surgery, 25 Fewster Square, Leam Lane Estate, Gateshead, Tyne and Wear, NE10 8XQ","NE10 8XQ","NE10"]
[null,null,null,null,null,null,null,null,null,null,null,null,null,null,null,"QHM",{"$f":"VLOOKUP(P6347,'[1]CCG & RG names'!D:E,2,0)","v":"Cumbria and North East STP"},"13T",{"$f":"VLOOKUP(R6347,'[1]CCG & RG names'!A:B,2,0)","v":"NHS Newcastle Gateshead CCG"},"V001711","Richard Grant Dental Surgeon, 55A Church Road, Gosforth, NEWCASTLE UPON TYNE, Tyne And Wear, NE3 1UE","NE3 1UE","NE3 "]
[null,null,null,null,null,null,null,null,null,null,null,null,null,null,null,"QHM",{"$f":"VLOOKUP(P6350,'[1]CCG & RG names'!D:E,2,0)","v":"Cumbria and North East STP"},"13T",{"$f":"VLOOKUP(R6350,'[1]CCG & RG names'!A:B,2,0)","v":"NHS Newcastle Gateshead CCG"},"V001716","Newcastle Dental Care, 11 Ridley Place, NEWCASTLE UPON TYNE, Tyne And Wear, NE1 8JQ","NE1 8JQ","NE1 "]
[null,null,null,null,null,null,null,null,null,null,null,null,null,null,null,"QHM",{"$f":"VLOOKUP(P6359,'[1]CCG & RG names'!D:E,2,0)","v":"Cumbria and North East STP"},"13T",{"$f":"VLOOKUP(R6359,'[1]CCG & RG names'!A:B,2,0)","v":"NHS Newcastle Gateshead CCG"},"V013109","50 Leazes Park Road, NEWCASTLE UPON TYNE, Tyne And Wear, NE1 4PG","NE1 4PG","NE1 "]
[null,null,null,null,null,null,null,null,null,null,null,null,null,null,null,"QHM",{"$f":"VLOOKUP(P6362,'[1]CCG & RG names'!D:E,2,0)","v":"Cumbria and North East STP"},"13T",{"$f":"VLOOKUP(R6362,'[1]CCG & RG names'!A:B,2,0)","v":"NHS Newcastle Gateshead CCG"},"V019959","Park View Dental Practice, The Victoria Buildings, Heaton Park View, Heaton, Newcastle upon Tyne, NE6 5AH","NE6 5AH","NE6 "]
[null,null,null,null,null,null,null,null,null,null,null,null,null,null,null,"QHM",{"$f":"VLOOKUP(P6368,'[1]CCG & RG names'!D:E,2,0)","v":"Cumbria and North East STP"},"16C",{"$f":"VLOOKUP(R6368,'[1]CCG & RG names'!A:B,2,0)","v":"NHS Tees Valley CCG"},"V000070","Unit 2, Roseberry Shopping Centre,, Roseberry Road,, Redcar,, TS10 4NY","TS10 4NY","TS10"]
[null,null,null,null,null,null,null,null,null,null,null,null,null,null,null,"QHM",{"$f":"VLOOKUP(P6375,'[1]CCG & RG names'!D:E,2,0)","v":"Cumbria and North East STP"},"16C",{"$f":"VLOOKUP(R6375,'[1]CCG & RG names'!A:B,2,0)","v":"NHS Tees Valley CCG"},"V000081","Orthodontic Clinic, 34 - 36 Baker Street, MIDDLESBROUGH, Cleveland, TS1 2LH","TS1 2LH","TS1 "]
[null,null,null,null,null,null,null,null,null,null,null,null,null,null,null,"QHM",{"$f":"VLOOKUP(P6378,'[1]CCG & RG names'!D:E,2,0)","v":"Cumbria and North East STP"},"16C",{"$f":"VLOOKUP(R6378,'[1]CCG & RG names'!A:B,2,0)","v":"NHS Tees Valley CCG"},"V000088","The Dental Centre, 153 Marton Road, MIDDLESBROUGH, Cleveland, TS4 2EN","TS4 2EN","TS4 "]
[null,null,null,null,null,null,null,null,null,null,null,null,null,null,null,"QHM",{"$f":"VLOOKUP(P6386,'[1]CCG & RG names'!D:E,2,0)","v":"Cumbria and North East STP"},"16C",{"$f":"VLOOKUP(R6386,'[1]CCG & RG names'!A:B,2,0)","v":"NHS Tees Valley CCG"},"V000102","Miss J Mathiesons Dental Surgery, 22 Victoria Road, HARTLEPOOL, Cleveland, TS26 8DD","TS26 8DD","TS26"]
[null,null,null,null,null,null,null,null,null,null,null,null,null,null,null,"QHM",{"$f":"VLOOKUP(P6393,'[1]CCG & RG names'!D:E,2,0)","v":"Cumbria and North East STP"},"16C",{"$f":"VLOOKUP(R6393,'[1]CCG & RG names'!A:B,2,0)","v":"NHS Tees Valley CCG"},"V000118","Queensway Orthodontics, 156-170 Queensway, BILLINGHAM, Cleveland, TS23 2NT","TS23 2NT","TS23"]
[null,null,null,null,null,null,null,null,null,null,null,null,null,null,null,"QHM",{"$f":"VLOOKUP(P6396,'[1]CCG & RG names'!D:E,2,0)","v":"Cumbria and North East STP"},"16C",{"$f":"VLOOKUP(R6396,'[1]CCG & RG names'!A:B,2,0)","v":"NHS Tees Valley CCG"},"V000125","Ingleby Meadow Dental Practice, 19 Greenside, Lowfields, Ingleby Barwick, STOCKTON ON TEES, TS17 0RR","TS17 0RR","TS17"]
[null,null,null,null,null,null,null,null,null,null,null,null,null,null,null,"QHM",{"$f":"VLOOKUP(P6403,'[1]CCG & RG names'!D:E,2,0)","v":"Cumbria and North East STP"},"16C",{"$f":"VLOOKUP(R6403,'[1]CCG & RG names'!A:B,2,0)","v":"NHS Tees Valley CCG"},"V000133","Grace Dental Care, 49 Tunstall Avenue, BILLINGHAM, Cleveland, TS23 3QB","TS23 3QB",{"$f":"IF(MID(V6403,3,1) =\" \",LEFT(V6403,3),LEFT(V6403,4))","v":"TS23"}]
[null,null,null,null,null,null,null,null,null,null,null,null,null,null,null,"QHM",{"$f":"VLOOKUP(P6406,'[1]CCG & RG names'!D:E,2,0)","v":"Cumbria and North East STP"},"16C",{"$f":"VLOOKUP(R6406,'[1]CCG & RG names'!A:B,2,0)","v":"NHS Tees Valley CCG"},"V000136","Fairfield Dental Practice, 5A-6A Rimswell Parade, STOCKTON ON TEES, Cleveland, TS19 7LB","TS19 7LB","TS19"]
[null,null,null,null,null,null,null,null,null,null,null,null,null,null,null,"QHM",{"$f":"VLOOKUP(P6414,'[1]CCG & RG names'!D:E,2,0)","v":"Cumbria and North East STP"},"16C",{"$f":"VLOOKUP(R6414,'[1]CCG & RG names'!A:B,2,0)","v":"NHS Tees Valley CCG"},"V000724","Dental Surgery, 15 Jubilee Road, MIDDLESBROUGH, Cleveland, TS6 9EP","TS6 9EP","TS6 "]
[null,null,null,null,null,null,null,null,null,null,null,null,null,null,null,"QHM",{"$f":"VLOOKUP(P6421,'[1]CCG & RG names'!D:E,2,0)","v":"Cumbria and North East STP"},"16C",{"$f":"VLOOKUP(R6421,'[1]CCG & RG names'!A:B,2,0)","v":"NHS Tees Valley CCG"},"V001306","Dental Surgery, 18 Southend Avenue, DARLINGTON, County Durham, DL3 7HL","DL3 7HL","DL3 "]
[null,null,null,null,null,null,null,null,null,null,null,null,null,null,null,"QHM",{"$f":"VLOOKUP(P6424,'[1]CCG & RG names'!D:E,2,0)","v":"Cumbria and North East STP"},"16C",{"$f":"VLOOKUP(R6424,'[1]CCG & RG names'!A:B,2,0)","v":"NHS Tees Valley CCG"},"V001319","Wilson Alexander And Henley, Cleveland Terrace Dental, Practice, 8 Cleveland Terrace, DARLINGTON, County Durham, DL3 7HA","DL3 7HA","DL3 "]
[null,null,null,null,null,null,null,null,null,null,null,null,null,null,null,"QHM",{"$f":"VLOOKUP(P6430,'[1]CCG & RG names'!D:E,2,0)","v":"Cumbria and North East STP"},"16C",{"$f":"VLOOKUP(R6430,'[1]CCG & RG names'!A:B,2,0)","v":"NHS Tees Valley CCG"},"V012119","HMP Holme House, Holme House Road, STOCKTON ON TEES, Cleveland, TS18 2QU","TS18 2QU","TS18"]
[null,null,null,null,null,null,null,null,null,null,null,null,null,null,null,"QHM",{"$f":"VLOOKUP(P6439,'[1]CCG & RG names'!D:E,2,0)","v":"Cumbria and North East STP"},"16C",{"$f":"VLOOKUP(R6439,'[1]CCG & RG names'!A:B,2,0)","v":"NHS Tees Valley CCG"},"V024805","49 Tunstall Avenue, Billingham, Cleveland, TS23 3QB","TS23 3QB","TS23"]
[null,null,null,null,null,null,null,null,null,null,null,null,null,null,null,"QHM",{"$f":"VLOOKUP(P6442,'[1]CCG & RG names'!D:E,2,0)","v":"Cumbria and North East STP"},"16C",{"$f":"VLOOKUP(R6442,'[1]CCG & RG names'!A:B,2,0)","v":"NHS Tees Valley CCG"},"V098262","69-71 Queensway, Billingham, Stockton-on-Tees, TS23 2LU","TS23 2LU","TS23"]
[null,null,null,null,null,null,null,null,null,null,null,null,null,null,null,"QHM",{"$f":"VLOOKUP(P6449,'[1]CCG & RG names'!D:E,2,0)","v":"Cumbria and North East STP"},"84H",{"$f":"VLOOKUP(R6449,'[1]CCG & RG names'!A:B,2,0)","v":"NHS County Durham CCG"},"V000214","Dental Surgery, 2-4 Faulkner Road, NEWTON AYCLIFFE, County Durham, DL5 4NW","DL5 4NW","DL5 "]
[null,null,null,null,null,null,null,null,null,null,null,null,null,null,null,"QHM",{"$f":"VLOOKUP(P6455,'[1]CCG & RG names'!D:E,2,0)","v":"Cumbria and North East STP"},"84H",{"$f":"VLOOKUP(R6455,'[1]CCG & RG names'!A:B,2,0)","v":"NHS County Durham CCG"},"V000227","Market Place Dental Surgery, 6 Market Place, BISHOP AUCKLAND, County Durham, DL14 7NJ","DL14 7NJ","DL14"]
[null,null,null,null,null,null,null,null,null,null,null,null,null,null,null,"QHM",{"$f":"VLOOKUP(P6460,'[1]CCG & RG names'!D:E,2,0)","v":"Cumbria and North East STP"},"84H",{"$f":"VLOOKUP(R6460,'[1]CCG & RG names'!A:B,2,0)","v":"NHS County Durham CCG"},"V000243","Stanhope Health Centre, Dales Street, Stanhope, BISHOP AUCKLAND, County Durham, DL13 2XD","DL13 2XD","DL13"]
[null,null,null,null,null,null,null,null,null,null,null,null,null,null,null,"QHM",{"$f":"VLOOKUP(P6467,'[1]CCG & RG names'!D:E,2,0)","v":"Cumbria and North East STP"},"84H",{"$f":"VLOOKUP(R6467,'[1]CCG & RG names'!A:B,2,0)","v":"NHS County Durham CCG"},"V001263","Ferryhill Dental Surgery, Old Sorting Office, Durham Road, FERRYHILL, County Durham, DL17 8LG","DL17 8LG",{"$f":"IF(MID(V6467,3,1) =\" \",LEFT(V6467,3),LEFT(V6467,4))","v":"DL17"}]
[null,null,null,null,null,null,null,null,null,null,null,null,null,null,null,"QHM",{"$f":"VLOOKUP(P6470,'[1]CCG & RG names'!D:E,2,0)","v":"Cumbria and North East STP"},"84H",{"$f":"VLOOKUP(R6470,'[1]CCG & RG names'!A:B,2,0)","v":"NHS County Durham CCG"},"V001349","Wheldon Terrace Dental Practice P'ship, 2 Wheldon Terrace, Pelton, CHESTER LE STREET, County Durham, DH2 1DA","DH2 1DA","DH2 "]
[null,null,null,null,null,null,null,null,null,null,null,null,null,null,null,"QHM",{"$f":"VLOOKUP(P6475,'[1]CCG & RG names'!D:E,2,0)","v":"Cumbria and North East STP"},"84H",{"$f":"VLOOKUP(R6475,'[1]CCG & RG names'!A:B,2,0)","v":"NHS County Durham CCG"},"V001367","Dental Surgery, 6 Weardale Terrace, CHESTER LE STREET, County Durham, DH3 3PQ","DH3 3PQ","DH3 "]
[null,null,null,null,null,null,null,null,null,null,null,null,null,null,null,"QHM",{"$f":"VLOOKUP(P6485,'[1]CCG & RG names'!D:E,2,0)","v":"Cumbria and North East STP"},"84H",{"$f":"VLOOKUP(R6485,'[1]CCG & RG names'!A:B,2,0)","v":"NHS County Durham CCG"},"V004677","Dental Surgery, 1A Clifford Road, STANLEY, County Durham, DH9 0AB","DH9 0AB","DH9 "]
[null,null,null,null,null,null,null,null,null,null,null,null,null,null,null,"QHM",{"$f":"VLOOKUP(P6488,'[1]CCG & RG names'!D:E,2,0)","v":"Cumbria and North East STP"},"84H",{"$f":"VLOOKUP(R6488,'[1]CCG & RG names'!A:B,2,0)","v":"NHS County Durham CCG"},"V004687","307 Durham Road, CONSETT, County Durham, DH8 5NW","DH8 5NW","DH8 "]
[null,null,null,null,null,null,null,null,null,null,null,null,null,null,null,"QHM",{"$f":"VLOOKUP(P6495,'[1]CCG & RG names'!D:E,2,0)","v":"Cumbria and North East STP"},"84H",{"$f":"VLOOKUP(R6495,'[1]CCG & RG names'!A:B,2,0)","v":"NHS County Durham CCG"},"V012515","Bennison's Dental Practice, Lowland Road, Brandon, Co Durham, DH7 8NN","DH7 8NN","DH7 "]
[null,null,null,null,null,null,null,null,null,null,null,null,null,null,null,"QHM",{"$f":"VLOOKUP(P6499,'[1]CCG & RG names'!D:E,2,0)","v":"Cumbria and North East STP"},"84H",{"$f":"VLOOKUP(R6499,'[1]CCG & RG names'!A:B,2,0)","v":"NHS County Durham CCG"},"V014574","21 Front Street, Framwellgate Moor, DURHAM, County Durham, DH1 5EJ","DH1 5EJ","DH1 "]
[null,null,null,null,null,null,null,null,null,null,null,null,null,null,null,"QHM",{"$f":"VLOOKUP(P6506,'[1]CCG & RG names'!D:E,2,0)","v":"Cumbria and North East STP"},"84H",{"$f":"VLOOKUP(R6506,'[1]CCG & RG names'!A:B,2,0)","v":"NHS County Durham CCG"},"V213970","Falchion Orthodontics Limited, Harrison House, Hawthorn Terrace, Durham, DH1 4EL","DH1 4EL","DH1 "]
[null,null,null,null,null,null,null,null,null,null,null,null,null,null,null,"QHM",{"$f":"VLOOKUP(P6513,'[1]CCG & RG names'!D:E,2,0)","v":"Cumbria and North East STP"},"99C",{"$f":"VLOOKUP(R6513,'[1]CCG & RG names'!A:B,2,0)","v":"NHS North Tyneside CCG"},"V001634","The Dental Practice 24, 24 Northumberland Square, NORTH SHIELDS, Tyne And Wear, NE30 1PW","NE30 1PW","NE30"]
[null,null,null,null,null,null,null,null,null,null,null,null,null,null,null,"QHM",{"$f":"VLOOKUP(P6517,'[1]CCG & RG names'!D:E,2,0)","v":"Cumbria and North East STP"},"99C",{"$f":"VLOOKUP(R6517,'[1]CCG & RG names'!A:B,2,0)","v":"NHS North Tyneside CCG"},"V001656","Park Dental Practice, 97 Park Road, WALLSEND, Tyne And Wear, NE28 7LP","NE28 7LP","NE28"]
[null,null,null,null,null,null,null,null,null,null,null,null,null,null,null,"QHM",{"$f":"VLOOKUP(P6522,'[1]CCG & RG names'!D:E,2,0)","v":"Cumbria and North East STP"},"99C",{"$f":"VLOOKUP(R6522,'[1]CCG & RG names'!A:B,2,0)","v":"NHS North Tyneside CCG"},"V001688","The Whitley Dental Clinic, 48 Roxburgh Terrace, WHITLEY BAY, Tyne And Wear, NE26 1DS","NE26 1DS","NE26"]
[null,null,null,null,null,null,null,null,null,null,null,null,null,null,null,"QOQ",{"$f":"VLOOKUP(P6531,'[1]CCG & RG names'!D:E,2,0)","v":"Humber, Coast and Vale STP"},"02Y",{"$f":"VLOOKUP(R6531,'[1]CCG & RG names'!A:B,2,0)","v":"NHS East Riding of Yorkshire CCG"},"V004026","6 New Road, DRIFFIELD, North Humberside, YO25 5DL","YO25 5DL",{"$f":"IF(MID(V6531,3,1) =\" \",LEFT(V6531,3),LEFT(V6531,4))","v":"YO25"}]
[null,null,null,null,null,null,null,null,null,null,null,null,null,null,null,"QOQ",{"$f":"VLOOKUP(P6534,'[1]CCG & RG names'!D:E,2,0)","v":"Humber, Coast and Vale STP"},"02Y",{"$f":"VLOOKUP(R6534,'[1]CCG & RG names'!A:B,2,0)","v":"NHS East Riding of Yorkshire CCG"},"V005231","Kingston Road Dental Practice, 134 Kingston Road, Willerby, HULL, North Humberside, HU10 6LN","HU10 6LN","HU10"]
[null,null,null,null,null,null,null,null,null,null,null,null,null,null,null,"QOQ",{"$f":"VLOOKUP(P6542,'[1]CCG & RG names'!D:E,2,0)","v":"Humber, Coast and Vale STP"},"02Y",{"$f":"VLOOKUP(R6542,'[1]CCG & RG names'!A:B,2,0)","v":"NHS East Riding of Yorkshire CCG"},"V008315","Dental Surgery, 10 - 11 Swabys Yard, Walkergate, BEVERLEY, North Humberside, HU17 9BZ","HU17 9BZ","HU17"]
[null,null,null,null,null,null,null,null,null,null,null,null,null,null,null,"QOQ",{"$f":"VLOOKUP(P6543,'[1]CCG & RG names'!D:E,2,0)","v":"Humber, Coast and Vale STP"},"02Y",{"$f":"VLOOKUP(R6543,'[1]CCG & RG names'!A:B,2,0)","v":"NHS East Riding of Yorkshire CCG"},"V008537","Dental Surgery, 40 - 44 Church Street, South Cave, BROUGH, North Humberside, HU15 2EP","HU15 2EP","HU15"]
[null,null,null,null,null,null,null,null,null,null,null,null,null,null,null,"QOQ",{"$f":"VLOOKUP(P6552,'[1]CCG & RG names'!D:E,2,0)","v":"Humber, Coast and Vale STP"},"02Y",{"$f":"VLOOKUP(R6552,'[1]CCG & RG names'!A:B,2,0)","v":"NHS East Riding of Yorkshire CCG"},"V011439","Suite 2A & B Bridlington House, Bridlington Business Park, Bessingby Industrial Estate, BRIDLINGTON, North Humberside, YO16 4SJ","YO16 4SJ","YO16"]
[null,null,null,null,null,null,null,null,null,null,null,null,null,null,null,"QOQ",{"$f":"VLOOKUP(P6559,'[1]CCG & RG names'!D:E,2,0)","v":"Humber, Coast and Vale STP"},"02Y",{"$f":"VLOOKUP(R6559,'[1]CCG & RG names'!A:B,2,0)","v":"NHS East Riding of Yorkshire CCG"},"V012844","69 Quay Road, BRIDLINGTON, North Humberside, YO16 4EL","YO16 4EL","YO16"]
[null,null,null,null,null,null,null,null,null,null,null,null,null,null,null,"QOQ",{"$f":"VLOOKUP(P6561,'[1]CCG & RG names'!D:E,2,0)","v":"Humber, Coast and Vale STP"},"02Y",{"$f":"VLOOKUP(R6561,'[1]CCG & RG names'!A:B,2,0)","v":"NHS East Riding of Yorkshire CCG"},"V013014","4 Hull Road, WITHERNSEA, North Humberside, HU19 2DZ","HU19 2DZ","HU19"]
[null,null,null,null,null,null,null,null,null,null,null,null,null,null,null,"QOQ",{"$f":"VLOOKUP(P6568,'[1]CCG & RG names'!D:E,2,0)","v":"Humber, Coast and Vale STP"},"03F",{"$f":"VLOOKUP(R6568,'[1]CCG & RG names'!A:B,2,0)","v":"NHS Hull CCG"},"V004391","Dental Surgery, 396 Anlaby Road, HULL, North Humberside, HU3 6PB","HU3 6PB","HU3 "]
[null,null,null,null,null,null,null,null,null,null,null,null,null,null,null,"QOQ",{"$f":"VLOOKUP(P6577,'[1]CCG & RG names'!D:E,2,0)","v":"Humber, Coast and Vale STP"},"03F",{"$f":"VLOOKUP(R6577,'[1]CCG & RG names'!A:B,2,0)","v":"NHS Hull CCG"},"V008865","Freetown Way Dental Surgery, Suite Two, 15 Freetown Way, Kingston Upon Hull, HU2 8JQ","HU2 8JQ","HU2 "]
[null,null,null,null,null,null,null,null,null,null,null,null,null,null,null,"QOQ",{"$f":"VLOOKUP(P6580,'[1]CCG & RG names'!D:E,2,0)","v":"Humber, Coast and Vale STP"},"03F",{"$f":"VLOOKUP(R6580,'[1]CCG & RG names'!A:B,2,0)","v":"NHS Hull CCG"},"V009139","882 Spring Bank West, HULL, North Humberside, HU5 5AW","HU5 5AW","HU5 "]
[null,null,null,null,null,null,null,null,null,null,null,null,null,null,null,"QOQ",{"$f":"VLOOKUP(P6586,'[1]CCG & RG names'!D:E,2,0)","v":"Humber, Coast and Vale STP"},"03F",{"$f":"VLOOKUP(R6586,'[1]CCG & RG names'!A:B,2,0)","v":"NHS Hull CCG"},"V012202","Pierce & Geddes Limited, The East Hull Dental Centre, 822 Holderness Road, Hull, HU9 3LP","HU9 3LP","HU9 "]
[null,null,null,null,null,null,null,null,null,null,null,null,null,null,null,"QOQ",{"$f":"VLOOKUP(P6589,'[1]CCG & RG names'!D:E,2,0)","v":"Humber, Coast and Vale STP"},"03F",{"$f":"VLOOKUP(R6589,'[1]CCG & RG names'!A:B,2,0)","v":"NHS Hull CCG"},"V012881","Genesis Dental Care, Unit H, North Point Shopping Centre, Bransholme, Hull, HU7 4EE","HU7 4EE","HU7 "]
[null,null,null,null,null,null,null,null,null,null,null,null,null,null,null,"QOQ",{"$f":"VLOOKUP(P6596,'[1]CCG & RG names'!D:E,2,0)","v":"Humber, Coast and Vale STP"},"03H",{"$f":"VLOOKUP(R6596,'[1]CCG & RG names'!A:B,2,0)","v":"NHS North East Lincolnshire CCG"},"V005456","17 - 19 Osborne Street, GRIMSBY, South Humberside, DN31 1EY","DN31 1EY","DN31"]
[null,null,null,null,null,null,null,null,null,null,null,null,null,null,null,"QOQ",{"$f":"VLOOKUP(P6605,'[1]CCG & RG names'!D:E,2,0)","v":"Humber, Coast and Vale STP"},"03H",{"$f":"VLOOKUP(R6605,'[1]CCG & RG names'!A:B,2,0)","v":"NHS North East Lincolnshire CCG"},"V007200","The Corner Dental Practice, Princess Street, IMMINGHAM, South Humberside, DN40 1LR","DN40 1LR","DN40"]
[null,null,null,null,null,null,null,null,null,null,null,null,null,null,null,"QOQ",{"$f":"VLOOKUP(P6610,'[1]CCG & RG names'!D:E,2,0)","v":"Humber, Coast and Vale STP"},"03H",{"$f":"VLOOKUP(R6610,'[1]CCG & RG names'!A:B,2,0)","v":"NHS North East Lincolnshire CCG"},"V012092","Mr K Dobbs & Associates, St Andrews Lane, Immingham, North East Lincolnshire, DN40 2EU","DN40 2EU","DN40"]
[null,null,null,null,null,null,null,null,null,null,null,null,null,null,null,"QOQ",{"$f":"VLOOKUP(P6614,'[1]CCG & RG names'!D:E,2,0)","v":"Humber, Coast and Vale STP"},"03K",{"$f":"VLOOKUP(R6614,'[1]CCG & RG names'!A:B,2,0)","v":"NHS North Lincolnshire CCG"},"V007439","Dental Health Club, 37 39 Oswald Road, SCUNTHORPE, South Humberside, DN15 7PN","DN15 7PN","DN15"]
[null,null,null,null,null,null,null,null,null,null,null,null,null,null,null,"QOQ",{"$f":"VLOOKUP(P6623,'[1]CCG & RG names'!D:E,2,0)","v":"Humber, Coast and Vale STP"},"03K",{"$f":"VLOOKUP(R6623,'[1]CCG & RG names'!A:B,2,0)","v":"NHS North Lincolnshire CCG"},"V007556","The Dental Design Studio, 215 Ashby Road, SCUNTHORPE, South Humberside, DN16 2AA","DN16 2AA","DN16"]
[null,null,null,null,null,null,null,null,null,null,null,null,null,null,null,"QOQ",{"$f":"VLOOKUP(P6626,'[1]CCG & RG names'!D:E,2,0)","v":"Humber, Coast and Vale STP"},"03K",{"$f":"VLOOKUP(R6626,'[1]CCG & RG names'!A:B,2,0)","v":"NHS North Lincolnshire CCG"},"V008211","Campbell Dental Health, 36 Doncaster Road, SCUNTHORPE, South Humberside, DN15 7RQ","DN15 7RQ","DN15"]
[null,null,null,null,null,null,null,null,null,null,null,null,null,null,null,"QOQ",{"$f":"VLOOKUP(P6630,'[1]CCG & RG names'!D:E,2,0)","v":"Humber, Coast and Vale STP"},"03K",{"$f":"VLOOKUP(R6630,'[1]CCG & RG names'!A:B,2,0)","v":"NHS North Lincolnshire CCG"},"V043611","10 KING STREET, WINTERTON, SCUNTHORPE, DN15 9RN","DN15 9RN","DN15"]
[null,null,null,null,null,null,null,null,null,null,null,null,null,null,null,"QOQ",{"$f":"VLOOKUP(P6635,'[1]CCG & RG names'!D:E,2,0)","v":"Humber, Coast and Vale STP"},"03Q",{"$f":"VLOOKUP(R6635,'[1]CCG & RG names'!A:B,2,0)","v":"NHS Vale of York CCG"},"V007179","Dental Surgery, 37 West End, Kirkbymoorside, YORK, North Yorkshire, YO62 6AD","YO62 6AD","YO62"]
[null,null,null,null,null,null,null,null,null,null,null,null,null,null,null,"QOQ",{"$f":"VLOOKUP(P6642,'[1]CCG & RG names'!D:E,2,0)","v":"Humber, Coast and Vale STP"},"03Q",{"$f":"VLOOKUP(R6642,'[1]CCG & RG names'!A:B,2,0)","v":"NHS Vale of York CCG"},"V007673","Dental Surgery, 29 High Petergate, YORK, North Yorkshire, YO1 7HP","YO1 7HP","YO1 "]
[null,null,null,null,null,null,null,null,null,null,null,null,null,null,null,"QOQ",{"$f":"VLOOKUP(P6651,'[1]CCG & RG names'!D:E,2,0)","v":"Humber, Coast and Vale STP"},"03Q",{"$f":"VLOOKUP(R6651,'[1]CCG & RG names'!A:B,2,0)","v":"NHS Vale of York CCG"},"V008051","Dental Surgery, 39 Stonegate, YORK, North Yorkshire, YO1 8AW","YO1 8AW","YO1 "]
[null,null,null,null,null,null,null,null,null,null,null,null,null,null,null,"QOQ",{"$f":"VLOOKUP(P6654,'[1]CCG & RG names'!D:E,2,0)","v":"Humber, Coast and Vale STP"},"03Q",{"$f":"VLOOKUP(R6654,'[1]CCG & RG names'!A:B,2,0)","v":"NHS Vale of York CCG"},"V008220","Oasis Dental Care Ltd, Swinson House, 5 Station Business Park, Holgate Park Drive, York, YO26 4GG","YO26 4GG","YO26"]
[null,null,null,null,null,null,null,null,null,null,null,null,null,null,null,"QOQ",{"$f":"VLOOKUP(P6660,'[1]CCG & RG names'!D:E,2,0)","v":"Humber, Coast and Vale STP"},"03Q",{"$f":"VLOOKUP(R6660,'[1]CCG & RG names'!A:B,2,0)","v":"NHS Vale of York CCG"},"V011312","1 Pioneer Business Park, Amy Johnson Way, Clifton Moor, York, YO30 4TN","YO30 4TN","YO30"]
[null,null,null,null,null,null,null,null,null,null,null,null,null,null,null,"QOQ",{"$f":"VLOOKUP(P6669,'[1]CCG & RG names'!D:E,2,0)","v":"Humber, Coast and Vale STP"},"42D",{"$f":"VLOOKUP(R6669,'[1]CCG & RG names'!A:B,2,0)","v":"NHS North Yorkshire CCG"},"V004401","Mount Parade Dental Surgery, 14 Mount Parade, HARROGATE, North Yorkshire, HG1 1BX","HG1 1BX","HG1 "]
[null,null,null,null,null,null,null,null,null,null,null,null,null,null,null,"QOQ",{"$f":"VLOOKUP(P6670,'[1]CCG & RG names'!D:E,2,0)","v":"Humber, Coast and Vale STP"},"42D",{"$f":"VLOOKUP(R6670,'[1]CCG & RG names'!A:B,2,0)","v":"NHS North Yorkshire CCG"},"V004402","Dental Surgery, 8/10 Victoria Avenue, Harrogate, North Yorkshire, HG1 1ED","HG1 1ED","HG1 "]
[null,null,null,null,null,null,null,null,null,null,null,null,null,null,null,"QOQ",{"$f":"VLOOKUP(P6679,'[1]CCG & RG names'!D:E,2,0)","v":"Humber, Coast and Vale STP"},"42D",{"$f":"VLOOKUP(R6679,'[1]CCG & RG names'!A:B,2,0)","v":"NHS North Yorkshire CCG"},"V004425","Oasis Dental Care Ltd, 4 Finkle Street, RIPON, North Yorkshire, HG4 1LA","HG4 1LA","HG4 "]
[null,null,null,null,null,null,null,null,null,null,null,null,null,null,null,"QOQ",{"$f":"VLOOKUP(P6681,'[1]CCG & RG names'!D:E,2,0)","v":"Humber, Coast and Vale STP"},"42D",{"$f":"VLOOKUP(R6681,'[1]CCG & RG names'!A:B,2,0)","v":"NHS North Yorkshire CCG"},"V004432","Boroughbridge Dental Centre, Wetherby Road, Boroughbridge, YORK, YO51 9HS","YO51 9HS","YO51"]
[null,null,null,null,null,null,null,null,null,null,null,null,null,null,null,"QOQ",{"$f":"VLOOKUP(P6688,'[1]CCG & RG names'!D:E,2,0)","v":"Humber, Coast and Vale STP"},"42D",{"$f":"VLOOKUP(R6688,'[1]CCG & RG names'!A:B,2,0)","v":"NHS North Yorkshire CCG"},"V006666","Stokesley Dental Practice, 6 East End, Stokesley, MIDDLESBROUGH, Cleveland, TS9 5DP","TS9 5DP","TS9 "]
[null,null,null,null,null,null,null,null,null,null,null,null,null,null,null,"QOQ",{"$f":"VLOOKUP(P6697,'[1]CCG & RG names'!D:E,2,0)","v":"Humber, Coast and Vale STP"},"42D",{"$f":"VLOOKUP(R6697,'[1]CCG & RG names'!A:B,2,0)","v":"NHS North Yorkshire CCG"},"V007173","Dental Surgery, Old Police House, Victoria Road, MALTON, North Yorkshire, YO17 7JJ","YO17 7JJ","YO17"]
[null,null,null,null,null,null,null,null,null,null,null,null,null,null,null,"QOQ",{"$f":"VLOOKUP(P6703,'[1]CCG & RG names'!D:E,2,0)","v":"Humber, Coast and Vale STP"},"42D",{"$f":"VLOOKUP(R6703,'[1]CCG & RG names'!A:B,2,0)","v":"NHS North Yorkshire CCG"},"V010382","14 Wetherby Road, HARROGATE, North Yorkshire, HG2 7SA","HG2 7SA","HG2 "]
[null,null,null,null,null,null,null,null,null,null,null,null,null,null,null,"QOQ",{"$f":"VLOOKUP(P6706,'[1]CCG & RG names'!D:E,2,0)","v":"Humber, Coast and Vale STP"},"42D",{"$f":"VLOOKUP(R6706,'[1]CCG & RG names'!A:B,2,0)","v":"NHS North Yorkshire CCG"},"V012704","Alpha Dental Studio, Brompton Road, NORTHALLERTON, North Yorkshire, DL6 1DY","DL6 1DY","DL6 "]
[null,null,null,null,null,null,null,null,null,null,null,null,null,null,null,"QOQ",{"$f":"VLOOKUP(P6715,'[1]CCG & RG names'!D:E,2,0)","v":"Humber, Coast and Vale STP"},"42D",{"$f":"VLOOKUP(R6715,'[1]CCG & RG names'!A:B,2,0)","v":"NHS North Yorkshire CCG"},"V025549","2 Hookstone Park, Hookstone Chase, Harrogate, HG2 7DB","HG2 7DB","HG2 "]
[null,null,null,null,null,null,null,null,null,null,null,null,null,null,null,"QOQ",{"$f":"VLOOKUP(P6716,'[1]CCG & RG names'!D:E,2,0)","v":"Humber, Coast and Vale STP"},"71E",{"$f":"VLOOKUP(R6716,'[1]CCG & RG names'!A:B,2,0)","v":"NHS Lincolnshire CCG"},"V011464","The Forum, Vanessa Drive, GAINSBOROUGH, Lincolnshire, DN21 2UQ","DN21 2UQ","DN21"]
[null,null,null,null,null,null,null,null,null,null,null,null,null,null,null,"QWO",{"$f":"VLOOKUP(P6723,'[1]CCG & RG names'!D:E,2,0)","v":"West Yorkshire and Harrogate Health & Care Partnership (STP)"},"02T",{"$f":"VLOOKUP(R6723,'[1]CCG & RG names'!A:B,2,0)","v":"NHS Calderdale CCG"},"V001996","Blanc Dental Care, 8 Hall Street, TODMORDEN, Lancashire, OL14 7AD","OL14 7AD",{"$f":"IF(MID(V6723,3,1) =\" \",LEFT(V6723,3),LEFT(V6723,4))","v":"OL14"}]
[null,null,null,null,null,null,null,null,null,null,null,null,null,null,null,"QWO",{"$f":"VLOOKUP(P6727,'[1]CCG & RG names'!D:E,2,0)","v":"West Yorkshire and Harrogate Health & Care Partnership (STP)"},"02T",{"$f":"VLOOKUP(R6727,'[1]CCG & RG names'!A:B,2,0)","v":"NHS Calderdale CCG"},"V002005","Dental Surgery, Carr Wood House, Carr House Road, HALIFAX, West Yorkshire, HX3 7RJ","HX3 7RJ","HX3 "]
[null,null,null,null,null,null,null,null,null,null,null,null,null,null,null,"QWO",{"$f":"VLOOKUP(P6734,'[1]CCG & RG names'!D:E,2,0)","v":"West Yorkshire and Harrogate Health & Care Partnership (STP)"},"02T",{"$f":"VLOOKUP(R6734,'[1]CCG & RG names'!A:B,2,0)","v":"NHS Calderdale CCG"},"V002626","Grange Dene, Mytholmroyd, HEBDEN BRIDGE, West Yorkshire, HX7 5LL","HX7 5LL","HX7 "]
[null,null,null,null,null,null,null,null,null,null,null,null,null,null,null,"QWO",{"$f":"VLOOKUP(P6743,'[1]CCG & RG names'!D:E,2,0)","v":"West Yorkshire and Harrogate Health & Care Partnership (STP)"},"03R",{"$f":"VLOOKUP(R6743,'[1]CCG & RG names'!A:B,2,0)","v":"NHS Wakefield CCG"},"V001854","Dental Surgery, 11 Station Lane, Featherstone, PONTEFRACT, West Yorkshire, WF7 5BE","WF7 5BE","WF7 "]
[null,null,null,null,null,null,null,null,null,null,null,null,null,null,null,"QWO",{"$f":"VLOOKUP(P6745,'[1]CCG & RG names'!D:E,2,0)","v":"West Yorkshire and Harrogate Health & Care Partnership (STP)"},"03R",{"$f":"VLOOKUP(R6745,'[1]CCG & RG names'!A:B,2,0)","v":"NHS Wakefield CCG"},"V001855","Oasis Dental Care, 28 32 Market Place, PONTEFRACT, West Yorkshire, WF8 1AT","WF8 1AT","WF8 "]
[null,null,null,null,null,null,null,null,null,null,null,null,null,null,null,"QWO",{"$f":"VLOOKUP(P6746,'[1]CCG & RG names'!D:E,2,0)","v":"West Yorkshire and Harrogate Health & Care Partnership (STP)"},"03R",{"$f":"VLOOKUP(R6746,'[1]CCG & RG names'!A:B,2,0)","v":"NHS Wakefield CCG"},"V001863","Airedale Dental Practice, The Square, CASTLEFORD, West Yorkshire, WF10 3JJ","WF10 3JJ","WF10"]
[null,null,null,null,null,null,null,null,null,null,null,null,null,null,null,"QWO",{"$f":"VLOOKUP(P6747,'[1]CCG & RG names'!D:E,2,0)","v":"West Yorkshire and Harrogate Health & Care Partnership (STP)"},"03R",{"$f":"VLOOKUP(R6747,'[1]CCG & RG names'!A:B,2,0)","v":"NHS Wakefield CCG"},"V001886","Cheethams Dental Surgery, 21 High Street, NORMANTON, West Yorkshire, WF6 2AD","WF6 2AD","WF6 "]
[null,null,null,null,null,null,null,null,null,null,null,null,null,null,null,"QWO",{"$f":"VLOOKUP(P6748,'[1]CCG & RG names'!D:E,2,0)","v":"West Yorkshire and Harrogate Health & Care Partnership (STP)"},"03R",{"$f":"VLOOKUP(R6748,'[1]CCG & RG names'!A:B,2,0)","v":"NHS Wakefield CCG"},"V001887","Dental Surgery, 105 Station Lane, Featherstone, PONTEFRACT, West Yorkshire, WF7 5BA","WF7 5BA","WF7 "]
[null,null,null,null,null,null,null,null,null,null,null,null,null,null,null,"QWO",{"$f":"VLOOKUP(P6749,'[1]CCG & RG names'!D:E,2,0)","v":"West Yorkshire and Harrogate Health & Care Partnership (STP)"},"03R",{"$f":"VLOOKUP(R6749,'[1]CCG & RG names'!A:B,2,0)","v":"NHS Wakefield CCG"},"V001890","Ropergate Dental Practice, 47 Ropergate, PONTEFRACT, West Yorkshire, WF8 1JY","WF8 1JY","WF8 "]
[null,null,null,null,null,null,null,null,null,null,null,null,null,null,null,"QWO",{"$f":"VLOOKUP(P6750,'[1]CCG & RG names'!D:E,2,0)","v":"West Yorkshire and Harrogate Health & Care Partnership (STP)"},"03R",{"$f":"VLOOKUP(R6750,'[1]CCG & RG names'!A:B,2,0)","v":"NHS Wakefield CCG"},"V001892","Dental Surgery, Belks Court, PONTEFRACT, West Yorkshire, WF8 1DF","WF8 1DF","WF8 "]
[null,null,null,null,null,null,null,null,null,null,null,null,null,null,null,"QWO",{"$f":"VLOOKUP(P6751,'[1]CCG & RG names'!D:E,2,0)","v":"West Yorkshire and Harrogate Health & Care Partnership (STP)"},"03R",{"$f":"VLOOKUP(R6751,'[1]CCG & RG names'!A:B,2,0)","v":"NHS Wakefield CCG"},"V001893","P R Jones And Associates, 134 Southgate, PONTEFRACT, West Yorkshire, WF8 1QT","WF8 1QT","WF8 "]
[null,null,null,null,null,null,null,null,null,null,null,null,null,null,null,"QWO",{"$f":"VLOOKUP(P6752,'[1]CCG & RG names'!D:E,2,0)","v":"West Yorkshire and Harrogate Health & Care Partnership (STP)"},"03R",{"$f":"VLOOKUP(R6752,'[1]CCG & RG names'!A:B,2,0)","v":"NHS Wakefield CCG"},"V001896","Armstrong Haire And Associates, 38 Bank Street, CASTLEFORD, West Yorkshire, WF10 1JD","WF10 1JD","WF10"]
[null,null,null,null,null,null,null,null,null,null,null,null,null,null,null,"QWO",{"$f":"VLOOKUP(P6753,'[1]CCG & RG names'!D:E,2,0)","v":"West Yorkshire and Harrogate Health & Care Partnership (STP)"},"03R",{"$f":"VLOOKUP(R6753,'[1]CCG & RG names'!A:B,2,0)","v":"NHS Wakefield CCG"},"V001897","James Taylor and Partners, Elizabeth House, Bradley Street, CASTLEFORD, West Yorkshire, WF10 1HS","WF10 1HS","WF10"]
[null,null,null,null,null,null,null,null,null,null,null,null,null,null,null,"QWO",{"$f":"VLOOKUP(P6754,'[1]CCG & RG names'!D:E,2,0)","v":"West Yorkshire and Harrogate Health & Care Partnership (STP)"},"03R",{"$f":"VLOOKUP(R6754,'[1]CCG & RG names'!A:B,2,0)","v":"NHS Wakefield CCG"},"V001899","Market Dental Care, Barnsley Road, South Elmsall, Pontefract, West Yorkshire, WF9 2SE","WF9 2SE","WF9 "]
[null,null,null,null,null,null,null,null,null,null,null,null,null,null,null,"QWO",{"$f":"VLOOKUP(P6755,'[1]CCG & RG names'!D:E,2,0)","v":"West Yorkshire and Harrogate Health & Care Partnership (STP)"},"03R",{"$f":"VLOOKUP(R6755,'[1]CCG & RG names'!A:B,2,0)","v":"NHS Wakefield CCG"},"V001901","Dental Surgery, 11 - 11A Hill Top, KNOTTINGLEY, West Yorkshire, WF11 8EB","WF11 8EB","WF11"]
[null,null,null,null,null,null,null,null,null,null,null,null,null,null,null,"QWO",{"$f":"VLOOKUP(P6756,'[1]CCG & RG names'!D:E,2,0)","v":"West Yorkshire and Harrogate Health & Care Partnership (STP)"},"03R",{"$f":"VLOOKUP(R6756,'[1]CCG & RG names'!A:B,2,0)","v":"NHS Wakefield CCG"},"V002345","Outwood Dental Practice, 569 Leeds Road, WAKEFIELD, West Yorkshire, WF1 2JL","WF1 2JL","WF1 "]
[null,null,null,null,null,null,null,null,null,null,null,null,null,null,null,"QWO",{"$f":"VLOOKUP(P6757,'[1]CCG & RG names'!D:E,2,0)","v":"West Yorkshire and Harrogate Health & Care Partnership (STP)"},"03R",{"$f":"VLOOKUP(R6757,'[1]CCG & RG names'!A:B,2,0)","v":"NHS Wakefield CCG"},"V002346","Dental Surgery, 39 - 41 Peterson Road, WAKEFIELD, West Yorkshire, WF1 4DU","WF1 4DU","WF1 "]
[null,null,null,null,null,null,null,null,null,null,null,null,null,null,null,"QWO",{"$f":"VLOOKUP(P6758,'[1]CCG & RG names'!D:E,2,0)","v":"West Yorkshire and Harrogate Health & Care Partnership (STP)"},"03R",{"$f":"VLOOKUP(R6758,'[1]CCG & RG names'!A:B,2,0)","v":"NHS Wakefield CCG"},"V002353","Trinity House Orthodontics, Trinity House, Borough Road, WAKEFIELD, West Yorkshire, WF1 3AZ","WF1 3AZ","WF1 "]
[null,null,null,null,null,null,null,null,null,null,null,null,null,null,null,"QWO",{"$f":"VLOOKUP(P6759,'[1]CCG & RG names'!D:E,2,0)","v":"West Yorkshire and Harrogate Health & Care Partnership (STP)"},"03R",{"$f":"VLOOKUP(R6759,'[1]CCG & RG names'!A:B,2,0)","v":"NHS Wakefield CCG"},"V002357","Dental Surgery, 155 Dewsbury Road, WAKEFIELD, West Yorkshire, WF2 9BQ","WF2 9BQ","WF2 "]
[null,null,null,null,null,null,null,null,null,null,null,null,null,null,null,"QWO",{"$f":"VLOOKUP(P6760,'[1]CCG & RG names'!D:E,2,0)","v":"West Yorkshire and Harrogate Health & Care Partnership (STP)"},"03R",{"$f":"VLOOKUP(R6760,'[1]CCG & RG names'!A:B,2,0)","v":"NHS Wakefield CCG"},"V002359","Wrenthorpe Dental Care, Wrenthorpe Health Centre, Wrenthorpe Lane, Wrenthorpe, WAKEFIELD, West Yorkshire, WF2 0NL","WF2 0NL","WF2 "]
[null,null,null,null,null,null,null,null,null,null,null,null,null,null,null,"QWO",{"$f":"VLOOKUP(P6761,'[1]CCG & RG names'!D:E,2,0)","v":"West Yorkshire and Harrogate Health & Care Partnership (STP)"},"03R",{"$f":"VLOOKUP(R6761,'[1]CCG & RG names'!A:B,2,0)","v":"NHS Wakefield CCG"},"V002365","R S Nicholson's Dental Surgery, 27 High Street, Crofton, WAKEFIELD, West Yorkshire, WF4 1NF","WF4 1NF","WF4 "]
[null,null,null,null,null,null,null,null,null,null,null,null,null,null,null,"QWO",{"$f":"VLOOKUP(P6762,'[1]CCG & RG names'!D:E,2,0)","v":"West Yorkshire and Harrogate Health & Care Partnership (STP)"},"03R",{"$f":"VLOOKUP(R6762,'[1]CCG & RG names'!A:B,2,0)","v":"NHS Wakefield CCG"},"V002367","The Bungalow Dental Practice, 29 Upper Lane, Netherton, WAKEFIELD, West Yorkshire, WF4 4NQ","WF4 4NQ","WF4 "]
[null,null,null,null,null,null,null,null,null,null,null,null,null,null,null,"QWO",{"$f":"VLOOKUP(P6763,'[1]CCG & RG names'!D:E,2,0)","v":"West Yorkshire and Harrogate Health & Care Partnership (STP)"},"03R",{"$f":"VLOOKUP(R6763,'[1]CCG & RG names'!A:B,2,0)","v":"NHS Wakefield CCG"},"V002369","Dental Surgery, 102 High Street, Crigglestone, WAKEFIELD, West Yorkshire, WF4 3EF","WF4 3EF","WF4 "]
[null,null,null,null,null,null,null,null,null,null,null,null,null,null,null,"QWO",{"$f":"VLOOKUP(P6764,'[1]CCG & RG names'!D:E,2,0)","v":"West Yorkshire and Harrogate Health & Care Partnership (STP)"},"03R",{"$f":"VLOOKUP(R6764,'[1]CCG & RG names'!A:B,2,0)","v":"NHS Wakefield CCG"},"V002372","Horbury Dental Care, Vincent House, Queen Street, Horbury, WAKEFIELD, WF4 6LP","WF4 6LP","WF4 "]
[null,null,null,null,null,null,null,null,null,null,null,null,null,null,null,"QWO",{"$f":"VLOOKUP(P6765,'[1]CCG & RG names'!D:E,2,0)","v":"West Yorkshire and Harrogate Health & Care Partnership (STP)"},"03R",{"$f":"VLOOKUP(R6765,'[1]CCG & RG names'!A:B,2,0)","v":"NHS Wakefield CCG"},"V002378","Dental Practice, 46 Bank Street, OSSETT, West Yorkshire, WF5 8NW","WF5 8NW","WF5 "]
[null,null,null,null,null,null,null,null,null,null,null,null,null,null,null,"QWO",{"$f":"VLOOKUP(P6766,'[1]CCG & RG names'!D:E,2,0)","v":"West Yorkshire and Harrogate Health & Care Partnership (STP)"},"03R",{"$f":"VLOOKUP(R6766,'[1]CCG & RG names'!A:B,2,0)","v":"NHS Wakefield CCG"},"V009006","Newstead House, 11 Bond Street, WAKEFIELD, West Yorkshire, WF1 2QJ","WF1 2QJ","WF1 "]
[null,null,null,null,null,null,null,null,null,null,null,null,null,null,null,"QWO",{"$f":"VLOOKUP(P6767,'[1]CCG & RG names'!D:E,2,0)","v":"West Yorkshire and Harrogate Health & Care Partnership (STP)"},"03R",{"$f":"VLOOKUP(R6767,'[1]CCG & RG names'!A:B,2,0)","v":"NHS Wakefield CCG"},"V010090","Castleford Dental Clinic, Castleford Health Centre, Welbeck Street, CASTLEFORD, West Yorkshire, WF10 1HB","WF10 1HB","WF10"]
[null,null,null,null,null,null,null,null,null,null,null,null,null,null,null,"QWO",{"$f":"VLOOKUP(P6768,'[1]CCG & RG names'!D:E,2,0)","v":"West Yorkshire and Harrogate Health & Care Partnership (STP)"},"03R",{"$f":"VLOOKUP(R6768,'[1]CCG & RG names'!A:B,2,0)","v":"NHS Wakefield CCG"},"V010091","Pontefract Dental Clinic, Pontefract Health Centre, Trinity Street, PONTEFRACT, West Yorkshire, WF8 1EY","WF8 1EY","WF8 "]
[null,null,null,null,null,null,null,null,null,null,null,null,null,null,null,"QWO",{"$f":"VLOOKUP(P6769,'[1]CCG & RG names'!D:E,2,0)","v":"West Yorkshire and Harrogate Health & Care Partnership (STP)"},"03R",{"$f":"VLOOKUP(R6769,'[1]CCG & RG names'!A:B,2,0)","v":"NHS Wakefield CCG"},"V010106","Dental Surgery, Newton Lodge, Forensic Phychiatry Unit, Fieldhead Hospital, Ouchthorpe Lane, Wakefield, WF1 3SP","WF1 3SP","WF1 "]
[null,null,null,null,null,null,null,null,null,null,null,null,null,null,null,"QWO",{"$f":"VLOOKUP(P6770,'[1]CCG & RG names'!D:E,2,0)","v":"West Yorkshire and Harrogate Health & Care Partnership (STP)"},"03R",{"$f":"VLOOKUP(R6770,'[1]CCG & RG names'!A:B,2,0)","v":"NHS Wakefield CCG"},"V010107","HMP & YOI New Hall, Dial Wood, Flockton, Wakefield, WF4 4AX","WF4 4AX","WF4 "]
[null,null,null,null,null,null,null,null,null,null,null,null,null,null,null,"QWO",{"$f":"VLOOKUP(P6771,'[1]CCG & RG names'!D:E,2,0)","v":"West Yorkshire and Harrogate Health & Care Partnership (STP)"},"03R",{"$f":"VLOOKUP(R6771,'[1]CCG & RG names'!A:B,2,0)","v":"NHS Wakefield CCG"},"V010466","The Mount Dental Practice, 1 Highfield Road, Hemsworth, Pontefract, West Yorkshire, WF9 4DP","WF9 4DP","WF9 "]
[null,null,null,null,null,null,null,null,null,null,null,null,null,null,null,"QWO",{"$f":"VLOOKUP(P6772,'[1]CCG & RG names'!D:E,2,0)","v":"West Yorkshire and Harrogate Health & Care Partnership (STP)"},"03R",{"$f":"VLOOKUP(R6772,'[1]CCG & RG names'!A:B,2,0)","v":"NHS Wakefield CCG"},"V011188","Wesley Dental Care, 68 Bank Street, Ossett, West Yorkshire, WF5 8NW","WF5 8NW","WF5 "]
[null,null,null,null,null,null,null,null,null,null,null,null,null,null,null,"QWO",{"$f":"VLOOKUP(P6773,'[1]CCG & RG names'!D:E,2,0)","v":"West Yorkshire and Harrogate Health & Care Partnership (STP)"},"03R",{"$f":"VLOOKUP(R6773,'[1]CCG & RG names'!A:B,2,0)","v":"NHS Wakefield CCG"},"V011373","Jackro Healthcare Services Ltd, 28 Bond Street, Wakefield, WF1 2QP","WF1 2QP","WF1 "]
[null,null,null,null,null,null,null,null,null,null,null,null,null,null,null,"QWO",{"$f":"VLOOKUP(P6774,'[1]CCG & RG names'!D:E,2,0)","v":"West Yorkshire and Harrogate Health & Care Partnership (STP)"},"03R",{"$f":"VLOOKUP(R6774,'[1]CCG & RG names'!A:B,2,0)","v":"NHS Wakefield CCG"},"V011837","11B Hill Top, Knottingley, West Yorkshire, WF11 8EB","WF11 8EB","WF11"]
[null,null,null,null,null,null,null,null,null,null,null,null,null,null,null,"QWO",{"$f":"VLOOKUP(P6775,'[1]CCG & RG names'!D:E,2,0)","v":"West Yorkshire and Harrogate Health & Care Partnership (STP)"},"03R",{"$f":"VLOOKUP(R6775,'[1]CCG & RG names'!A:B,2,0)","v":"NHS Wakefield CCG"},"V013030","Dental Surgery, Kings Medical Centre, King Edward Street, Normanton, West Yorkshire, WF6 2AZ","WF6 2AZ","WF6 "]
[null,null,null,null,null,null,null,null,null,null,null,null,null,null,null,"QWO",{"$f":"VLOOKUP(P6776,'[1]CCG & RG names'!D:E,2,0)","v":"West Yorkshire and Harrogate Health & Care Partnership (STP)"},"03R",{"$f":"VLOOKUP(R6776,'[1]CCG & RG names'!A:B,2,0)","v":"NHS Wakefield CCG"},"V013174","Citrine House, Borough Road, WAKEFIELD, West Yorkshire, WF1 3AZ","WF1 3AZ","WF1 "]
[null,null,null,null,null,null,null,null,null,null,null,null,null,null,null,"QWO",{"$f":"VLOOKUP(P6777,'[1]CCG & RG names'!D:E,2,0)","v":"West Yorkshire and Harrogate Health & Care Partnership (STP)"},"03R",{"$f":"VLOOKUP(R6777,'[1]CCG & RG names'!A:B,2,0)","v":"NHS Wakefield CCG"},"V025576","Community Dental Clinic, Church View Health Centre, Langthwaite Road, South Kirkby, WF9 3AP","WF9 3AP","WF9 "]
[null,null,null,null,null,null,null,null,null,null,null,null,null,null,null,"QWO",{"$f":"VLOOKUP(P6778,'[1]CCG & RG names'!D:E,2,0)","v":"West Yorkshire and Harrogate Health & Care Partnership (STP)"},"03R",{"$f":"VLOOKUP(R6778,'[1]CCG & RG names'!A:B,2,0)","v":"NHS Wakefield CCG"},"V032671","53 Wakefield Road, Pontefract, West Yorkshire, WF7 7AA","WF7 7AA","WF7 "]
[null,null,null,null,null,null,null,null,null,null,null,null,null,null,null,"QWO",{"$f":"VLOOKUP(P6779,'[1]CCG & RG names'!D:E,2,0)","v":"West Yorkshire and Harrogate Health & Care Partnership (STP)"},"03R",{"$f":"VLOOKUP(R6779,'[1]CCG & RG names'!A:B,2,0)","v":"NHS Wakefield CCG"},"V042304","51 BARNSLEY ROAD, SOUTH ELMSALL, PONTEFRACT, WF9 2RN","WF9 2RN","WF9 "]
[null,null,null,null,null,null,null,null,null,null,null,null,null,null,null,"QWO",{"$f":"VLOOKUP(P6780,'[1]CCG & RG names'!D:E,2,0)","v":"West Yorkshire and Harrogate Health & Care Partnership (STP)"},"03R",{"$f":"VLOOKUP(R6780,'[1]CCG & RG names'!A:B,2,0)","v":"NHS Wakefield CCG"},"V216380","18 BEASTFAIR, PONTEFRACT, WF8 1AW","WF8 1AW","WF8 "]
[null,null,null,null,null,null,null,null,null,null,null,null,null,null,null,"QWO",{"$f":"VLOOKUP(P6781,'[1]CCG & RG names'!D:E,2,0)","v":"West Yorkshire and Harrogate Health & Care Partnership (STP)"},"15F",{"$f":"VLOOKUP(R6781,'[1]CCG & RG names'!A:B,2,0)","v":"NHS Leeds CCG"},"V000058","380 Broad Lane, LEEDS, West Yorkshire, LS13 2HS","LS13 2HS","LS13"]
[null,null,null,null,null,null,null,null,null,null,null,null,null,null,null,"QWO",{"$f":"VLOOKUP(P6782,'[1]CCG & RG names'!D:E,2,0)","v":"West Yorkshire and Harrogate Health & Care Partnership (STP)"},"15F",{"$f":"VLOOKUP(R6782,'[1]CCG & RG names'!A:B,2,0)","v":"NHS Leeds CCG"},"V000356","3A Windsor Court, Morley, Leeds, LS27 9BG","LS27 9BG","LS27"]
[null,null,null,null,null,null,null,null,null,null,null,null,null,null,null,"QWO",{"$f":"VLOOKUP(P6783,'[1]CCG & RG names'!D:E,2,0)","v":"West Yorkshire and Harrogate Health & Care Partnership (STP)"},"15F",{"$f":"VLOOKUP(R6783,'[1]CCG & RG names'!A:B,2,0)","v":"NHS Leeds CCG"},"V002479","Dental Surgery, Fraternity House, 50 Church Street, Hunslet, LEEDS, LS10 2AR","LS10 2AR","LS10"]
[null,null,null,null,null,null,null,null,null,null,null,null,null,null,null,"QWO",{"$f":"VLOOKUP(P6784,'[1]CCG & RG names'!D:E,2,0)","v":"West Yorkshire and Harrogate Health & Care Partnership (STP)"},"15F",{"$f":"VLOOKUP(R6784,'[1]CCG & RG names'!A:B,2,0)","v":"NHS Leeds CCG"},"V002479","Dental Surgery, Fraternity House, 50 Church Street, Hunslet, LEEDS, LS10 2AR","LS10 2AR","LS10"]
[null,null,null,null,null,null,null,null,null,null,null,null,null,null,null,"QWO",{"$f":"VLOOKUP(P6785,'[1]CCG & RG names'!D:E,2,0)","v":"West Yorkshire and Harrogate Health & Care Partnership (STP)"},"15F",{"$f":"VLOOKUP(R6785,'[1]CCG & RG names'!A:B,2,0)","v":"NHS Leeds CCG"},"V002495","Town Street Dental Practice, 75 Town Street, Middleton, LEEDS, West Yorkshire, LS10 3NG","LS10 3NG","LS10"]
[null,null,null,null,null,null,null,null,null,null,null,null,null,null,null,"QWO",{"$f":"VLOOKUP(P6786,'[1]CCG & RG names'!D:E,2,0)","v":"West Yorkshire and Harrogate Health & Care Partnership (STP)"},"15F",{"$f":"VLOOKUP(R6786,'[1]CCG & RG names'!A:B,2,0)","v":"NHS Leeds CCG"},"V002526","Oasis Dental Care, 87 Old Lane, LEEDS, West Yorkshire, LS11 7AB","LS11 7AB","LS11"]
[null,null,null,null,null,null,null,null,null,null,null,null,null,null,null,"QWO",{"$f":"VLOOKUP(P6787,'[1]CCG & RG names'!D:E,2,0)","v":"West Yorkshire and Harrogate Health & Care Partnership (STP)"},"15F",{"$f":"VLOOKUP(R6787,'[1]CCG & RG names'!A:B,2,0)","v":"NHS Leeds CCG"},"V002574","Dental Surgery, 220 Dewsbury Road, LEEDS, West Yorkshire, LS11 6ER","LS11 6ER",{"$f":"IF(MID(V6787,3,1) =\" \",LEFT(V6787,3),LEFT(V6787,4))","v":"LS11"}]
[null,null,null,null,null,null,null,null,null,null,null,null,null,null,null,"QWO",{"$f":"VLOOKUP(P6788,'[1]CCG & RG names'!D:E,2,0)","v":"West Yorkshire and Harrogate Health & Care Partnership (STP)"},"15F",{"$f":"VLOOKUP(R6788,'[1]CCG & RG names'!A:B,2,0)","v":"NHS Leeds CCG"},"V002589","Leeds City Dentalcare, 159 Beeston Road, Beeston, Leeds, West Yorkshire, LS11 6AW","LS11 6AW","LS11"]
[null,null,null,null,null,null,null,null,null,null,null,null,null,null,null,"QWO",{"$f":"VLOOKUP(P6789,'[1]CCG & RG names'!D:E,2,0)","v":"West Yorkshire and Harrogate Health & Care Partnership (STP)"},"15F",{"$f":"VLOOKUP(R6789,'[1]CCG & RG names'!A:B,2,0)","v":"NHS Leeds CCG"},"V002593","2 Lady Pit Lane, LEEDS, West Yorkshire, LS11 6AJ","LS11 6AJ","LS11"]
[null,null,null,null,null,null,null,null,null,null,null,null,null,null,null,"QWO",{"$f":"VLOOKUP(P6790,'[1]CCG & RG names'!D:E,2,0)","v":"West Yorkshire and Harrogate Health & Care Partnership (STP)"},"15F",{"$f":"VLOOKUP(R6790,'[1]CCG & RG names'!A:B,2,0)","v":"NHS Leeds CCG"},"V002594","Dental Surgery, 73 Domestic Street, LEEDS, West Yorkshire, LS11 9NS","LS11 9NS","LS11"]
[null,null,null,null,null,null,null,null,null,null,null,null,null,null,null,"QWO",{"$f":"VLOOKUP(P6791,'[1]CCG & RG names'!D:E,2,0)","v":"West Yorkshire and Harrogate Health & Care Partnership (STP)"},"15F",{"$f":"VLOOKUP(R6791,'[1]CCG & RG names'!A:B,2,0)","v":"NHS Leeds CCG"},"V002599","Dental Surgery, 4 Butcher Lane, Rothwell, LEEDS, West Yorkshire, LS26 0DB","LS26 0DB","LS26"]
[null,null,null,null,null,null,null,null,null,null,null,null,null,null,null,"QWO",{"$f":"VLOOKUP(P6792,'[1]CCG & RG names'!D:E,2,0)","v":"West Yorkshire and Harrogate Health & Care Partnership (STP)"},"15F",{"$f":"VLOOKUP(R6792,'[1]CCG & RG names'!A:B,2,0)","v":"NHS Leeds CCG"},"V002627","Gillett Bungalow Dental Surgery, Gillett Lane, Rothwell, LEEDS, West Yorkshire, LS26 0EG","LS26 0EG","LS26"]
[null,null,null,null,null,null,null,null,null,null,null,null,null,null,null,"QWO",{"$f":"VLOOKUP(P6793,'[1]CCG & RG names'!D:E,2,0)","v":"West Yorkshire and Harrogate Health & Care Partnership (STP)"},"15F",{"$f":"VLOOKUP(R6793,'[1]CCG & RG names'!A:B,2,0)","v":"NHS Leeds CCG"},"V002628","Quarry House Dental Practice, Quarry House, Quarry Hill, LEEDS, West Yorkshire, LS2 7PD","LS2 7PD","LS2 "]
[null,null,null,null,null,null,null,null,null,null,null,null,null,null,null,"QWO",{"$f":"VLOOKUP(P6794,'[1]CCG & RG names'!D:E,2,0)","v":"West Yorkshire and Harrogate Health & Care Partnership (STP)"},"15F",{"$f":"VLOOKUP(R6794,'[1]CCG & RG names'!A:B,2,0)","v":"NHS Leeds CCG"},"V002629","Dental Surgery, 210 214 Harehills Lane, LEEDS, West Yorkshire, LS8 5DH","LS8 5DH","LS8 "]
[null,null,null,null,null,null,null,null,null,null,null,null,null,null,null,"QWO",{"$f":"VLOOKUP(P6795,'[1]CCG & RG names'!D:E,2,0)","v":"West Yorkshire and Harrogate Health & Care Partnership (STP)"},"15F",{"$f":"VLOOKUP(R6795,'[1]CCG & RG names'!A:B,2,0)","v":"NHS Leeds CCG"},"V002630","Rothwell Dental Care, 22 Royds Lane, Rothwell, LEEDS, West Yorkshire, LS26 0BE","LS26 0BE","LS26"]
[null,null,null,null,null,null,null,null,null,null,null,null,null,null,null,"QWO",{"$f":"VLOOKUP(P6796,'[1]CCG & RG names'!D:E,2,0)","v":"West Yorkshire and Harrogate Health & Care Partnership (STP)"},"15F",{"$f":"VLOOKUP(R6796,'[1]CCG & RG names'!A:B,2,0)","v":"NHS Leeds CCG"},"V002631","Dental Surgery, The Fountain Medical Centre, Little Fountain Street, Morley, LEEDS, West Yorkshire, LS27 9EN","LS27 9EN","LS27"]
[null,null,null,null,null,null,null,null,null,null,null,null,null,null,null,"QWO",{"$f":"VLOOKUP(P6797,'[1]CCG & RG names'!D:E,2,0)","v":"West Yorkshire and Harrogate Health & Care Partnership (STP)"},"15F",{"$f":"VLOOKUP(R6797,'[1]CCG & RG names'!A:B,2,0)","v":"NHS Leeds CCG"},"V002634","Dental Surgery, 386 York Road, LEEDS, West Yorkshire, LS9 9ED","LS9 9ED","LS9 "]
[null,null,null,null,null,null,null,null,null,null,null,null,null,null,null,"QWO",{"$f":"VLOOKUP(P6798,'[1]CCG & RG names'!D:E,2,0)","v":"West Yorkshire and Harrogate Health & Care Partnership (STP)"},"15F",{"$f":"VLOOKUP(R6798,'[1]CCG & RG names'!A:B,2,0)","v":"NHS Leeds CCG"},"V002635","Dental Surgery, 401 Harehills Lane, LEEDS, West Yorkshire, LS9 6AP","LS9 6AP","LS9 "]
[null,null,null,null,null,null,null,null,null,null,null,null,null,null,null,"QWO",{"$f":"VLOOKUP(P6799,'[1]CCG & RG names'!D:E,2,0)","v":"West Yorkshire and Harrogate Health & Care Partnership (STP)"},"15F",{"$f":"VLOOKUP(R6799,'[1]CCG & RG names'!A:B,2,0)","v":"NHS Leeds CCG"},"V002636","East Park Medical Centre, 5 - 7 East Park Road, LEEDS, West Yorkshire, LS9 9JD","LS9 9JD","LS9 "]
[null,null,null,null,null,null,null,null,null,null,null,null,null,null,null,"QWO",{"$f":"VLOOKUP(P6800,'[1]CCG & RG names'!D:E,2,0)","v":"West Yorkshire and Harrogate Health & Care Partnership (STP)"},"15F",{"$f":"VLOOKUP(R6800,'[1]CCG & RG names'!A:B,2,0)","v":"NHS Leeds CCG"},"V002645","S J Barrett And Associates, 896 York Road, LEEDS, West Yorkshire, LS14 6HT","LS14 6HT","LS14"]
[null,null,null,null,null,null,null,null,null,null,null,null,null,null,null,"QWO",{"$f":"VLOOKUP(P6801,'[1]CCG & RG names'!D:E,2,0)","v":"West Yorkshire and Harrogate Health & Care Partnership (STP)"},"15F",{"$f":"VLOOKUP(R6801,'[1]CCG & RG names'!A:B,2,0)","v":"NHS Leeds CCG"},"V002646","Dental Surgery, 130 Cross Gates Lane, LEEDS, West Yorkshire, LS15 7PH","LS15 7PH","LS15"]
[null,null,null,null,null,null,null,null,null,null,null,null,null,null,null,"QWO",{"$f":"VLOOKUP(P6802,'[1]CCG & RG names'!D:E,2,0)","v":"West Yorkshire and Harrogate Health & Care Partnership (STP)"},"15F",{"$f":"VLOOKUP(R6802,'[1]CCG & RG names'!A:B,2,0)","v":"NHS Leeds CCG"},"V002647","Church View Dental Care, 39 41 Austhorpe Road, LEEDS, West Yorkshire, LS15 8BA","LS15 8BA","LS15"]
[null,null,null,null,null,null,null,null,null,null,null,null,null,null,null,"QWO",{"$f":"VLOOKUP(P6803,'[1]CCG & RG names'!D:E,2,0)","v":"West Yorkshire and Harrogate Health & Care Partnership (STP)"},"15F",{"$f":"VLOOKUP(R6803,'[1]CCG & RG names'!A:B,2,0)","v":"NHS Leeds CCG"},"V002649","Dental Surgery, 68 Austhorpe Road, LEEDS, West Yorkshire, LS15 8DZ","LS15 8DZ","LS15"]
[null,null,null,null,null,null,null,null,null,null,null,null,null,null,null,"QWO",{"$f":"VLOOKUP(P6804,'[1]CCG & RG names'!D:E,2,0)","v":"West Yorkshire and Harrogate Health & Care Partnership (STP)"},"15F",{"$f":"VLOOKUP(R6804,'[1]CCG & RG names'!A:B,2,0)","v":"NHS Leeds CCG"},"V002652","Crossgates Dental Centre, 2 Manston Lane, LEEDS, West Yorkshire, LS15 8HZ","LS15 8HZ","LS15"]
[null,null,null,null,null,null,null,null,null,null,null,null,null,null,null,"QWO",{"$f":"VLOOKUP(P6805,'[1]CCG & RG names'!D:E,2,0)","v":"West Yorkshire and Harrogate Health & Care Partnership (STP)"},"15F",{"$f":"VLOOKUP(R6805,'[1]CCG & RG names'!A:B,2,0)","v":"NHS Leeds CCG"},"V002657","Dental 192, 192 Selby Road, Halton, LEEDS, West Yorkshire, LS15 0LF","LS15 0LF","LS15"]
[null,null,null,null,null,null,null,null,null,null,null,null,null,null,null,"QWO",{"$f":"VLOOKUP(P6806,'[1]CCG & RG names'!D:E,2,0)","v":"West Yorkshire and Harrogate Health & Care Partnership (STP)"},"15F",{"$f":"VLOOKUP(R6806,'[1]CCG & RG names'!A:B,2,0)","v":"NHS Leeds CCG"},"V002659","Selby Road Dental Practice, 95 Selby Road, LEEDS, West Yorkshire, LS15 7JL","LS15 7JL","LS15"]
[null,null,null,null,null,null,null,null,null,null,null,null,null,null,null,"QWO",{"$f":"VLOOKUP(P6807,'[1]CCG & RG names'!D:E,2,0)","v":"West Yorkshire and Harrogate Health & Care Partnership (STP)"},"15F",{"$f":"VLOOKUP(R6807,'[1]CCG & RG names'!A:B,2,0)","v":"NHS Leeds CCG"},"V002664","Holme Lea Dental Surgery, 13 Watson Street, Morley, LEEDS, West Yorkshire, LS27 0AH","LS27 0AH","LS27"]
[null,null,null,null,null,null,null,null,null,null,null,null,null,null,null,"QWO",{"$f":"VLOOKUP(P6808,'[1]CCG & RG names'!D:E,2,0)","v":"West Yorkshire and Harrogate Health & Care Partnership (STP)"},"15F",{"$f":"VLOOKUP(R6808,'[1]CCG & RG names'!A:B,2,0)","v":"NHS Leeds CCG"},"V002669","Kippax Dental Centre, 271 Gibson Lane, Kippax, LEEDS, West Yorkshire, LS25 7JN","LS25 7JN","LS25"]
[null,null,null,null,null,null,null,null,null,null,null,null,null,null,null,"QWO",{"$f":"VLOOKUP(P6809,'[1]CCG & RG names'!D:E,2,0)","v":"West Yorkshire and Harrogate Health & Care Partnership (STP)"},"15F",{"$f":"VLOOKUP(R6809,'[1]CCG & RG names'!A:B,2,0)","v":"NHS Leeds CCG"},"V002671","Dental Surgery, 35A Main Street, Garforth, LEEDS, West Yorkshire, LS25 1DS","LS25 1DS","LS25"]
[null,null,null,null,null,null,null,null,null,null,null,null,null,null,null,"QWO",{"$f":"VLOOKUP(P6810,'[1]CCG & RG names'!D:E,2,0)","v":"West Yorkshire and Harrogate Health & Care Partnership (STP)"},"15F",{"$f":"VLOOKUP(R6810,'[1]CCG & RG names'!A:B,2,0)","v":"NHS Leeds CCG"},"V002675","Dental Surgery, 54 Main Street, Garforth, LEEDS, West Yorkshire, LS25 1AA","LS25 1AA","LS25"]
[null,null,null,null,null,null,null,null,null,null,null,null,null,null,null,"QWO",{"$f":"VLOOKUP(P6811,'[1]CCG & RG names'!D:E,2,0)","v":"West Yorkshire and Harrogate Health & Care Partnership (STP)"},"15F",{"$f":"VLOOKUP(R6811,'[1]CCG & RG names'!A:B,2,0)","v":"NHS Leeds CCG"},"V002677","Dental Surgery, 67A Wakefield Road, Garforth, LEEDS, West Yorkshire, LS25 1AR","LS25 1AR","LS25"]
[null,null,null,null,null,null,null,null,null,null,null,null,null,null,null,"QWO",{"$f":"VLOOKUP(P6812,'[1]CCG & RG names'!D:E,2,0)","v":"West Yorkshire and Harrogate Health & Care Partnership (STP)"},"15F",{"$f":"VLOOKUP(R6812,'[1]CCG & RG names'!A:B,2,0)","v":"NHS Leeds CCG"},"V002681","M R Hanson & Associates Dental, York House, 16 Main Street, Garforth, LEEDS, LS25 1EZ","LS25 1EZ","LS25"]
[null,null,null,null,null,null,null,null,null,null,null,null,null,null,null,"QWO",{"$f":"VLOOKUP(P6813,'[1]CCG & RG names'!D:E,2,0)","v":"West Yorkshire and Harrogate Health & Care Partnership (STP)"},"15F",{"$f":"VLOOKUP(R6813,'[1]CCG & RG names'!A:B,2,0)","v":"NHS Leeds CCG"},"V002685","Dental Surgery, 12 Corporation Street, Morley, LEEDS, West Yorkshire, LS27 9NB","LS27 9NB","LS27"]
[null,null,null,null,null,null,null,null,null,null,null,null,null,null,null,"QWO",{"$f":"VLOOKUP(P6814,'[1]CCG & RG names'!D:E,2,0)","v":"West Yorkshire and Harrogate Health & Care Partnership (STP)"},"15F",{"$f":"VLOOKUP(R6814,'[1]CCG & RG names'!A:B,2,0)","v":"NHS Leeds CCG"},"V002715","Dental Surgery, 4 Hall Road, LEEDS, West Yorkshire, LS12 1XB","LS12 1XB","LS12"]
[null,null,null,null,null,null,null,null,null,null,null,null,null,null,null,"QWO",{"$f":"VLOOKUP(P6815,'[1]CCG & RG names'!D:E,2,0)","v":"West Yorkshire and Harrogate Health & Care Partnership (STP)"},"15F",{"$f":"VLOOKUP(R6815,'[1]CCG & RG names'!A:B,2,0)","v":"NHS Leeds CCG"},"V002718","Whingate Dental Care, 268 Tong Road, LEEDS, West Yorkshire, LS12 3BG","LS12 3BG","LS12"]
[null,null,null,null,null,null,null,null,null,null,null,null,null,null,null,"QWO",{"$f":"VLOOKUP(P6816,'[1]CCG & RG names'!D:E,2,0)","v":"West Yorkshire and Harrogate Health & Care Partnership (STP)"},"15F",{"$f":"VLOOKUP(R6816,'[1]CCG & RG names'!A:B,2,0)","v":"NHS Leeds CCG"},"V002728","Dental Surgery, 97 Armley Ridge Road, LEEDS, West Yorkshire, LS12 3PE","LS12 3PE","LS12"]
[null,null,null,null,null,null,null,null,null,null,null,null,null,null,null,"QWO",{"$f":"VLOOKUP(P6817,'[1]CCG & RG names'!D:E,2,0)","v":"West Yorkshire and Harrogate Health & Care Partnership (STP)"},"15F",{"$f":"VLOOKUP(R6817,'[1]CCG & RG names'!A:B,2,0)","v":"NHS Leeds CCG"},"V002747","Dental Surgery, 106A Dixon Lane, LEEDS, West Yorkshire, LS12 4AD","LS12 4AD","LS12"]
[null,null,null,null,null,null,null,null,null,null,null,null,null,null,null,"QWO",{"$f":"VLOOKUP(P6818,'[1]CCG & RG names'!D:E,2,0)","v":"West Yorkshire and Harrogate Health & Care Partnership (STP)"},"15F",{"$f":"VLOOKUP(R6818,'[1]CCG & RG names'!A:B,2,0)","v":"NHS Leeds CCG"},"V002770","Dental Surgery, 8 Montreal Avenue, LEEDS, West Yorkshire, LS7 4LF","LS7 4LF","LS7 "]
[null,null,null,null,null,null,null,null,null,null,null,null,null,null,null,"QWO",{"$f":"VLOOKUP(P6819,'[1]CCG & RG names'!D:E,2,0)","v":"West Yorkshire and Harrogate Health & Care Partnership (STP)"},"15F",{"$f":"VLOOKUP(R6819,'[1]CCG & RG names'!A:B,2,0)","v":"NHS Leeds CCG"},"V002782","Stainbeck Dental Surgery, 58 Stainbeck Road, LEEDS, West Yorkshire, LS7 2PW","LS7 2PW","LS7 "]
[null,null,null,null,null,null,null,null,null,null,null,null,null,null,null,"QWO",{"$f":"VLOOKUP(P6820,'[1]CCG & RG names'!D:E,2,0)","v":"West Yorkshire and Harrogate Health & Care Partnership (STP)"},"15F",{"$f":"VLOOKUP(R6820,'[1]CCG & RG names'!A:B,2,0)","v":"NHS Leeds CCG"},"V002787","241 Green Hill Road, LEEDS, West Yorkshire, LS13 4AJ","LS13 4AJ","LS13"]
[null,null,null,null,null,null,null,null,null,null,null,null,null,null,null,"QWO",{"$f":"VLOOKUP(P6821,'[1]CCG & RG names'!D:E,2,0)","v":"West Yorkshire and Harrogate Health & Care Partnership (STP)"},"15F",{"$f":"VLOOKUP(R6821,'[1]CCG & RG names'!A:B,2,0)","v":"NHS Leeds CCG"},"V002790","Bramley Dental Care, 226 Stanningley Road, LEEDS, West Yorkshire, LS13 3BA","LS13 3BA","LS13"]
[null,null,null,null,null,null,null,null,null,null,null,null,null,null,null,"QWO",{"$f":"VLOOKUP(P6822,'[1]CCG & RG names'!D:E,2,0)","v":"West Yorkshire and Harrogate Health & Care Partnership (STP)"},"15F",{"$f":"VLOOKUP(R6822,'[1]CCG & RG names'!A:B,2,0)","v":"NHS Leeds CCG"},"V002794","The Poplars Dental Surgery, 43 Rodley Lane, Rodley, LEEDS, West Yorkshire, LS13 1LT","LS13 1LT","LS13"]
[null,null,null,null,null,null,null,null,null,null,null,null,null,null,null,"QWO",{"$f":"VLOOKUP(P6823,'[1]CCG & RG names'!D:E,2,0)","v":"West Yorkshire and Harrogate Health & Care Partnership (STP)"},"15F",{"$f":"VLOOKUP(R6823,'[1]CCG & RG names'!A:B,2,0)","v":"NHS Leeds CCG"},"V002799","Dental Surgery, 51 Richardshaw Lane, PUDSEY, West Yorkshire, LS28 7NB","LS28 7NB","LS28"]
[null,null,null,null,null,null,null,null,null,null,null,null,null,null,null,"QWO",{"$f":"VLOOKUP(P6824,'[1]CCG & RG names'!D:E,2,0)","v":"West Yorkshire and Harrogate Health & Care Partnership (STP)"},"15F",{"$f":"VLOOKUP(R6824,'[1]CCG & RG names'!A:B,2,0)","v":"NHS Leeds CCG"},"V002801","Eastleigh Dental Health Practice, 103 Old Road, Farsley, PUDSEY, West Yorkshire, LS28 5BR","LS28 5BR","LS28"]
[null,null,null,null,null,null,null,null,null,null,null,null,null,null,null,"QWO",{"$f":"VLOOKUP(P6825,'[1]CCG & RG names'!D:E,2,0)","v":"West Yorkshire and Harrogate Health & Care Partnership (STP)"},"15F",{"$f":"VLOOKUP(R6825,'[1]CCG & RG names'!A:B,2,0)","v":"NHS Leeds CCG"},"V002802","Farsley Dental Practice, Town Street, Farsley, PUDSEY, West Yorkshire, LS28 5HX","LS28 5HX","LS28"]
[null,null,null,null,null,null,null,null,null,null,null,null,null,null,null,"QWO",{"$f":"VLOOKUP(P6826,'[1]CCG & RG names'!D:E,2,0)","v":"West Yorkshire and Harrogate Health & Care Partnership (STP)"},"15F",{"$f":"VLOOKUP(R6826,'[1]CCG & RG names'!A:B,2,0)","v":"NHS Leeds CCG"},"V002910","Briggate Dental Practice, 4 Briggate, LEEDS, West Yorkshire, LS1 4AF","LS1 4AF","LS1 "]
[null,null,null,null,null,null,null,null,null,null,null,null,null,null,null,"QWO",{"$f":"VLOOKUP(P6827,'[1]CCG & RG names'!D:E,2,0)","v":"West Yorkshire and Harrogate Health & Care Partnership (STP)"},"15F",{"$f":"VLOOKUP(R6827,'[1]CCG & RG names'!A:B,2,0)","v":"NHS Leeds CCG"},"V002950","NewSmile Dentalcare, 176-178 Woodhouse Lane, LEEDS, West Yorkshire, LS2 9HB","LS2 9HB","LS2 "]
[null,null,null,null,null,null,null,null,null,null,null,null,null,null,null,"QWO",{"$f":"VLOOKUP(P6828,'[1]CCG & RG names'!D:E,2,0)","v":"West Yorkshire and Harrogate Health & Care Partnership (STP)"},"15F",{"$f":"VLOOKUP(R6828,'[1]CCG & RG names'!A:B,2,0)","v":"NHS Leeds CCG"},"V002955","Dental Surgery, 327 Kirkstall Road, LEEDS, West Yorkshire, LS4 2HD","LS4 2HD","LS4 "]
[null,null,null,null,null,null,null,null,null,null,null,null,null,null,null,"QWO",{"$f":"VLOOKUP(P6829,'[1]CCG & RG names'!D:E,2,0)","v":"West Yorkshire and Harrogate Health & Care Partnership (STP)"},"15F",{"$f":"VLOOKUP(R6829,'[1]CCG & RG names'!A:B,2,0)","v":"NHS Leeds CCG"},"V002968","1 St Michaels Lane, LEEDS, West Yorkshire, LS6 3AN","LS6 3AN","LS6 "]
[null,null,null,null,null,null,null,null,null,null,null,null,null,null,null,"QWO",{"$f":"VLOOKUP(P6830,'[1]CCG & RG names'!D:E,2,0)","v":"West Yorkshire and Harrogate Health & Care Partnership (STP)"},"15F",{"$f":"VLOOKUP(R6830,'[1]CCG & RG names'!A:B,2,0)","v":"NHS Leeds CCG"},"V002972","Meanwood Dental Surgery, 583 Meanwood Road, LEEDS, West Yorkshire, LS6 4AY","LS6 4AY","LS6 "]
[null,null,null,null,null,null,null,null,null,null,null,null,null,null,null,"QWO",{"$f":"VLOOKUP(P6831,'[1]CCG & RG names'!D:E,2,0)","v":"West Yorkshire and Harrogate Health & Care Partnership (STP)"},"15F",{"$f":"VLOOKUP(R6831,'[1]CCG & RG names'!A:B,2,0)","v":"NHS Leeds CCG"},"V002973","Dental Surgery, 58 Brudenell Road, LEEDS, West Yorkshire, LS6 1EG","LS6 1EG","LS6 "]
[null,null,null,null,null,null,null,null,null,null,null,null,null,null,null,"QWO",{"$f":"VLOOKUP(P6832,'[1]CCG & RG names'!D:E,2,0)","v":"West Yorkshire and Harrogate Health & Care Partnership (STP)"},"15F",{"$f":"VLOOKUP(R6832,'[1]CCG & RG names'!A:B,2,0)","v":"NHS Leeds CCG"},"V002975","Dental Surgery, 1 Moor View, Hyde Park Road, Headingley, LEEDS, West Yorkshire, LS6 1AQ","LS6 1AQ","LS6 "]
[null,null,null,null,null,null,null,null,null,null,null,null,null,null,null,"QWO",{"$f":"VLOOKUP(P6833,'[1]CCG & RG names'!D:E,2,0)","v":"West Yorkshire and Harrogate Health & Care Partnership (STP)"},"15F",{"$f":"VLOOKUP(R6833,'[1]CCG & RG names'!A:B,2,0)","v":"NHS Leeds CCG"},"V002987","Dental Surgery, 188 Butcher Hill, LEEDS, West Yorkshire, LS16 5BG","LS16 5BG","LS16"]
[null,null,null,null,null,null,null,null,null,null,null,null,null,null,null,"QWO",{"$f":"VLOOKUP(P6834,'[1]CCG & RG names'!D:E,2,0)","v":"West Yorkshire and Harrogate Health & Care Partnership (STP)"},"15F",{"$f":"VLOOKUP(R6834,'[1]CCG & RG names'!A:B,2,0)","v":"NHS Leeds CCG"},"V002993","Dental Surgery, 21 Chelwood Drive, LEEDS, West Yorkshire, LS8 2AT","LS8 2AT","LS8 "]
[null,null,null,null,null,null,null,null,null,null,null,null,null,null,null,"QWO",{"$f":"VLOOKUP(P6835,'[1]CCG & RG names'!D:E,2,0)","v":"West Yorkshire and Harrogate Health & Care Partnership (STP)"},"15F",{"$f":"VLOOKUP(R6835,'[1]CCG & RG names'!A:B,2,0)","v":"NHS Leeds CCG"},"V002995","Dental Surgery, 68 Otley Old Road, LEEDS, West Yorkshire, LS16 6LQ","LS16 6LQ","LS16"]
[null,null,null,null,null,null,null,null,null,null,null,null,null,null,null,"QWO",{"$f":"VLOOKUP(P6836,'[1]CCG & RG names'!D:E,2,0)","v":"West Yorkshire and Harrogate Health & Care Partnership (STP)"},"15F",{"$f":"VLOOKUP(R6836,'[1]CCG & RG names'!A:B,2,0)","v":"NHS Leeds CCG"},"V002998","Precious Dental Practice, 20 Gledhow Avenue, LEEDS, West Yorkshire, LS8 1NU","LS8 1NU","LS8 "]
[null,null,null,null,null,null,null,null,null,null,null,null,null,null,null,"QWO",{"$f":"VLOOKUP(P6837,'[1]CCG & RG names'!D:E,2,0)","v":"West Yorkshire and Harrogate Health & Care Partnership (STP)"},"15F",{"$f":"VLOOKUP(R6837,'[1]CCG & RG names'!A:B,2,0)","v":"NHS Leeds CCG"},"V003000","Horsforth Smile Clinic, 2 Town Street, Horsforth, LEEDS, West Yorkshire, LS18 4RJ","LS18 4RJ","LS18"]
[null,null,null,null,null,null,null,null,null,null,null,null,null,null,null,"QWO",{"$f":"VLOOKUP(P6838,'[1]CCG & RG names'!D:E,2,0)","v":"West Yorkshire and Harrogate Health & Care Partnership (STP)"},"15F",{"$f":"VLOOKUP(R6838,'[1]CCG & RG names'!A:B,2,0)","v":"NHS Leeds CCG"},"V003004","Dental Surgery, 2A Marshall Street, Yeadon, LEEDS, West Yorkshire, LS19 7SR","LS19 7SR","LS19"]
[null,null,null,null,null,null,null,null,null,null,null,null,null,null,null,"QWO",{"$f":"VLOOKUP(P6839,'[1]CCG & RG names'!D:E,2,0)","v":"West Yorkshire and Harrogate Health & Care Partnership (STP)"},"15F",{"$f":"VLOOKUP(R6839,'[1]CCG & RG names'!A:B,2,0)","v":"NHS Leeds CCG"},"V003009","Guiseley Dental Care, 8 The Green, Guiseley, LEEDS, West Yorkshire, LS20 9BT","LS20 9BT","LS20"]
[null,null,null,null,null,null,null,null,null,null,null,null,null,null,null,"QWO",{"$f":"VLOOKUP(P6840,'[1]CCG & RG names'!D:E,2,0)","v":"West Yorkshire and Harrogate Health & Care Partnership (STP)"},"15F",{"$f":"VLOOKUP(R6840,'[1]CCG & RG names'!A:B,2,0)","v":"NHS Leeds CCG"},"V003010","Dental Surgery, 313A Roundhay Road, LEEDS, West Yorkshire, LS8 4HT","LS8 4HT","LS8 "]
[null,null,null,null,null,null,null,null,null,null,null,null,null,null,null,"QWO",{"$f":"VLOOKUP(P6841,'[1]CCG & RG names'!D:E,2,0)","v":"West Yorkshire and Harrogate Health & Care Partnership (STP)"},"15F",{"$f":"VLOOKUP(R6841,'[1]CCG & RG names'!A:B,2,0)","v":"NHS Leeds CCG"},"V003016","Oakwood Dental Practice, 611 Roundhay Road, LEEDS, West Yorkshire, LS8 4AR","LS8 4AR","LS8 "]
[null,null,null,null,null,null,null,null,null,null,null,null,null,null,null,"QWO",{"$f":"VLOOKUP(P6842,'[1]CCG & RG names'!D:E,2,0)","v":"West Yorkshire and Harrogate Health & Care Partnership (STP)"},"15F",{"$f":"VLOOKUP(R6842,'[1]CCG & RG names'!A:B,2,0)","v":"NHS Leeds CCG"},"V003027","Dental Surgery, 1B Bridge Street, OTLEY, West Yorkshire, LS21 1BQ","LS21 1BQ","LS21"]
[null,null,null,null,null,null,null,null,null,null,null,null,null,null,null,"QWO",{"$f":"VLOOKUP(P6843,'[1]CCG & RG names'!D:E,2,0)","v":"West Yorkshire and Harrogate Health & Care Partnership (STP)"},"15F",{"$f":"VLOOKUP(R6843,'[1]CCG & RG names'!A:B,2,0)","v":"NHS Leeds CCG"},"V003029","69 Boroughgate, Otley, West Yorkshire, West Yorkshire, LS21 1AE","LS21 1AE","LS21"]
[null,null,null,null,null,null,null,null,null,null,null,null,null,null,null,"QWO",{"$f":"VLOOKUP(P6844,'[1]CCG & RG names'!D:E,2,0)","v":"West Yorkshire and Harrogate Health & Care Partnership (STP)"},"15F",{"$f":"VLOOKUP(R6844,'[1]CCG & RG names'!A:B,2,0)","v":"NHS Leeds CCG"},"V003030","Dental Surgery, 10 Manor Square, OTLEY, West Yorkshire, LS21 3AP","LS21 3AP","LS21"]
[null,null,null,null,null,null,null,null,null,null,null,null,null,null,null,"QWO",{"$f":"VLOOKUP(P6845,'[1]CCG & RG names'!D:E,2,0)","v":"West Yorkshire and Harrogate Health & Care Partnership (STP)"},"15F",{"$f":"VLOOKUP(R6845,'[1]CCG & RG names'!A:B,2,0)","v":"NHS Leeds CCG"},"V003036","467 - 467A Otley Road, Adel, Leeds, LS16 7NR","LS16 7NR","LS16"]
[null,null,null,null,null,null,null,null,null,null,null,null,null,null,null,"QWO",{"$f":"VLOOKUP(P6846,'[1]CCG & RG names'!D:E,2,0)","v":"West Yorkshire and Harrogate Health & Care Partnership (STP)"},"15F",{"$f":"VLOOKUP(R6846,'[1]CCG & RG names'!A:B,2,0)","v":"NHS Leeds CCG"},"V003042","Orthosolutions, Unit A, Moor Allerton Centre, LEEDS, West Yorkshire, LS17 5NY","LS17 5NY","LS17"]
[null,null,null,null,null,null,null,null,null,null,null,null,null,null,null,"QWO",{"$f":"VLOOKUP(P6847,'[1]CCG & RG names'!D:E,2,0)","v":"West Yorkshire and Harrogate Health & Care Partnership (STP)"},"15F",{"$f":"VLOOKUP(R6847,'[1]CCG & RG names'!A:B,2,0)","v":"NHS Leeds CCG"},"V003057","457 Street Lane, LEEDS, West Yorkshire, LS17 6HQ","LS17 6HQ","LS17"]
[null,null,null,null,null,null,null,null,null,null,null,null,null,null,null,"QWO",{"$f":"VLOOKUP(P6848,'[1]CCG & RG names'!D:E,2,0)","v":"West Yorkshire and Harrogate Health & Care Partnership (STP)"},"15F",{"$f":"VLOOKUP(R6848,'[1]CCG & RG names'!A:B,2,0)","v":"NHS Leeds CCG"},"V003064","High Ash Dental Surgery, 88 High Ash Drive, LEEDS, West Yorkshire, LS17 8RE","LS17 8RE","LS17"]
[null,null,null,null,null,null,null,null,null,null,null,null,null,null,null,"QWO",{"$f":"VLOOKUP(P6849,'[1]CCG & RG names'!D:E,2,0)","v":"West Yorkshire and Harrogate Health & Care Partnership (STP)"},"15F",{"$f":"VLOOKUP(R6849,'[1]CCG & RG names'!A:B,2,0)","v":"NHS Leeds CCG"},"V003070","King Lane Dental Care, 87 King Lane, LEEDS, West Yorkshire, LS17 5AX","LS17 5AX","LS17"]
[null,null,null,null,null,null,null,null,null,null,null,null,null,null,null,"QWO",{"$f":"VLOOKUP(P6850,'[1]CCG & RG names'!D:E,2,0)","v":"West Yorkshire and Harrogate Health & Care Partnership (STP)"},"15F",{"$f":"VLOOKUP(R6850,'[1]CCG & RG names'!A:B,2,0)","v":"NHS Leeds CCG"},"V003075","Glen Lea, 20 York Road, WETHERBY, West Yorkshire, LS22 6SL","LS22 6SL","LS22"]
[null,null,null,null,null,null,null,null,null,null,null,null,null,null,null,"QWO",{"$f":"VLOOKUP(P6851,'[1]CCG & RG names'!D:E,2,0)","v":"West Yorkshire and Harrogate Health & Care Partnership (STP)"},"15F",{"$f":"VLOOKUP(R6851,'[1]CCG & RG names'!A:B,2,0)","v":"NHS Leeds CCG"},"V003077","York Place Dental Practice, 3 York Place, WETHERBY, West Yorkshire, LS22 6NZ","LS22 6NZ",{"$f":"IF(MID(V6851,3,1) =\" \",LEFT(V6851,3),LEFT(V6851,4))","v":"LS22"}]
[null,null,null,null,null,null,null,null,null,null,null,null,null,null,null,"QWO",{"$f":"VLOOKUP(P6852,'[1]CCG & RG names'!D:E,2,0)","v":"West Yorkshire and Harrogate Health & Care Partnership (STP)"},"15F",{"$f":"VLOOKUP(R6852,'[1]CCG & RG names'!A:B,2,0)","v":"NHS Leeds CCG"},"V003087","H M Young Offenders Institute, York Road, WETHERBY, West Yorkshire, LS22 5ED","LS22 5ED","LS22"]
[null,null,null,null,null,null,null,null,null,null,null,null,null,null,null,"QWO",{"$f":"VLOOKUP(P6853,'[1]CCG & RG names'!D:E,2,0)","v":"West Yorkshire and Harrogate Health & Care Partnership (STP)"},"15F",{"$f":"VLOOKUP(R6853,'[1]CCG & RG names'!A:B,2,0)","v":"NHS Leeds CCG"},"V003088","Dental Department, H M Prison Wealstun, Walton Road, WETHERBY, West Yorkshire, LS23 7AZ","LS23 7AZ","LS23"]
[null,null,null,null,null,null,null,null,null,null,null,null,null,null,null,"QWO",{"$f":"VLOOKUP(P6854,'[1]CCG & RG names'!D:E,2,0)","v":"West Yorkshire and Harrogate Health & Care Partnership (STP)"},"15F",{"$f":"VLOOKUP(R6854,'[1]CCG & RG names'!A:B,2,0)","v":"NHS Leeds CCG"},"V003273","176 Nursery Lane, Leeds, West Yorkshire, LS17 7AQ","LS17 7AQ","LS17"]
[null,null,null,null,null,null,null,null,null,null,null,null,null,null,null,"QWO",{"$f":"VLOOKUP(P6855,'[1]CCG & RG names'!D:E,2,0)","v":"West Yorkshire and Harrogate Health & Care Partnership (STP)"},"15F",{"$f":"VLOOKUP(R6855,'[1]CCG & RG names'!A:B,2,0)","v":"NHS Leeds CCG"},"V003459","Corner House Dental Practice, 5 6 Corner House Shops, Moortown Corner, LEEDS, West Yorkshire, LS17 6LD","LS17 6LD","LS17"]
[null,null,null,null,null,null,null,null,null,null,null,null,null,null,null,"QWO",{"$f":"VLOOKUP(P6856,'[1]CCG & RG names'!D:E,2,0)","v":"West Yorkshire and Harrogate Health & Care Partnership (STP)"},"15F",{"$f":"VLOOKUP(R6856,'[1]CCG & RG names'!A:B,2,0)","v":"NHS Leeds CCG"},"V003460","210 Dental Clinic, 1st Floor, 210 High Street, Boston Spa, Wetherby, LS23 6BT","LS23 6BT","LS23"]
[null,null,null,null,null,null,null,null,null,null,null,null,null,null,null,"QWO",{"$f":"VLOOKUP(P6857,'[1]CCG & RG names'!D:E,2,0)","v":"West Yorkshire and Harrogate Health & Care Partnership (STP)"},"15F",{"$f":"VLOOKUP(R6857,'[1]CCG & RG names'!A:B,2,0)","v":"NHS Leeds CCG"},"V004491","Dental Surgery, 74 Avenue Hill, LEEDS, West Yorkshire, LS8 4EZ","LS8 4EZ","LS8 "]
[null,null,null,null,null,null,null,null,null,null,null,null,null,null,null,"QWO",{"$f":"VLOOKUP(P6858,'[1]CCG & RG names'!D:E,2,0)","v":"West Yorkshire and Harrogate Health & Care Partnership (STP)"},"15F",{"$f":"VLOOKUP(R6858,'[1]CCG & RG names'!A:B,2,0)","v":"NHS Leeds CCG"},"V008198","Belle Isle Family Dental Surgery, Middleton Road, Belle Isle, Leeds, LS10 3DZ","LS10 3DZ","LS10"]
[null,null,null,null,null,null,null,null,null,null,null,null,null,null,null,"QWO",{"$f":"VLOOKUP(P6859,'[1]CCG & RG names'!D:E,2,0)","v":"West Yorkshire and Harrogate Health & Care Partnership (STP)"},"15F",{"$f":"VLOOKUP(R6859,'[1]CCG & RG names'!A:B,2,0)","v":"NHS Leeds CCG"},"V009160","Armley Moor Health Centre, 93 Town Street, Armley,, Leeds,, West Yorkshire, LS12 3HD","LS12 3HD","LS12"]
[null,null,null,null,null,null,null,null,null,null,null,null,null,null,null,"QWO",{"$f":"VLOOKUP(P6860,'[1]CCG & RG names'!D:E,2,0)","v":"West Yorkshire and Harrogate Health & Care Partnership (STP)"},"15F",{"$f":"VLOOKUP(R6860,'[1]CCG & RG names'!A:B,2,0)","v":"NHS Leeds CCG"},"V009427","Dental Surgery, 599 Harehills Lane, LEEDS, West Yorkshire, LS9 6NQ","LS9 6NQ","LS9 "]
[null,null,null,null,null,null,null,null,null,null,null,null,null,null,null,"QWO",{"$f":"VLOOKUP(P6861,'[1]CCG & RG names'!D:E,2,0)","v":"West Yorkshire and Harrogate Health & Care Partnership (STP)"},"15F",{"$f":"VLOOKUP(R6861,'[1]CCG & RG names'!A:B,2,0)","v":"NHS Leeds CCG"},"V009588","Middleton Community Health Centr, Middleton Park Avenue, LEEDS, West Yorkshire, LS10 4HT","LS10 4HT","LS10"]
[null,null,null,null,null,null,null,null,null,null,null,null,null,null,null,"QWO",{"$f":"VLOOKUP(P6862,'[1]CCG & RG names'!D:E,2,0)","v":"West Yorkshire and Harrogate Health & Care Partnership (STP)"},"15F",{"$f":"VLOOKUP(R6862,'[1]CCG & RG names'!A:B,2,0)","v":"NHS Leeds CCG"},"V010780","Beeston Community Clinic, 123 Cemetery Road, Beestpm, Leeds, LS11 8LH","LS11 8LH","LS11"]
[null,null,null,null,null,null,null,null,null,null,null,null,null,null,null,"QWO",{"$f":"VLOOKUP(P6863,'[1]CCG & RG names'!D:E,2,0)","v":"West Yorkshire and Harrogate Health & Care Partnership (STP)"},"15F",{"$f":"VLOOKUP(R6863,'[1]CCG & RG names'!A:B,2,0)","v":"NHS Leeds CCG"},"V011225","Yeadon Health Centre, 17 South View Road, Yeadon, LEEDS, West Yorkshire, LS19 7PS","LS19 7PS","LS19"]
[null,null,null,null,null,null,null,null,null,null,null,null,null,null,null,"QWO",{"$f":"VLOOKUP(P6864,'[1]CCG & RG names'!D:E,2,0)","v":"West Yorkshire and Harrogate Health & Care Partnership (STP)"},"15F",{"$f":"VLOOKUP(R6864,'[1]CCG & RG names'!A:B,2,0)","v":"NHS Leeds CCG"},"V011285","Lingwell Croft Dental Surgery, 18 Shelldrake Drive, LEEDS, West Yorkshire, LS10 3NB","LS10 3NB","LS10"]
[null,null,null,null,null,null,null,null,null,null,null,null,null,null,null,"QWO",{"$f":"VLOOKUP(P6865,'[1]CCG & RG names'!D:E,2,0)","v":"West Yorkshire and Harrogate Health & Care Partnership (STP)"},"15F",{"$f":"VLOOKUP(R6865,'[1]CCG & RG names'!A:B,2,0)","v":"NHS Leeds CCG"},"V012058","Clarendon Dental Spa, 9 Woodhouse Square, LEEDS, West Yorkshire, LS3 1AD","LS3 1AD","LS3 "]
[null,null,null,null,null,null,null,null,null,null,null,null,null,null,null,"QWO",{"$f":"VLOOKUP(P6866,'[1]CCG & RG names'!D:E,2,0)","v":"West Yorkshire and Harrogate Health & Care Partnership (STP)"},"15F",{"$f":"VLOOKUP(R6866,'[1]CCG & RG names'!A:B,2,0)","v":"NHS Leeds CCG"},"V012078","Perfect Smile, 252 254 Easterly Road, LEEDS, West Yorkshire, LS8 3ES","LS8 3ES","LS8 "]
[null,null,null,null,null,null,null,null,null,null,null,null,null,null,null,"QWO",{"$f":"VLOOKUP(P6867,'[1]CCG & RG names'!D:E,2,0)","v":"West Yorkshire and Harrogate Health & Care Partnership (STP)"},"15F",{"$f":"VLOOKUP(R6867,'[1]CCG & RG names'!A:B,2,0)","v":"NHS Leeds CCG"},"V012146","2 Springfield Road, Guiseley, LEEDS, West Yorkshire, LS20 8AL","LS20 8AL","LS20"]
[null,null,null,null,null,null,null,null,null,null,null,null,null,null,null,"QWO",{"$f":"VLOOKUP(P6868,'[1]CCG & RG names'!D:E,2,0)","v":"West Yorkshire and Harrogate Health & Care Partnership (STP)"},"15F",{"$f":"VLOOKUP(R6868,'[1]CCG & RG names'!A:B,2,0)","v":"NHS Leeds CCG"},"V012967","Holt Park Dental Practice, Unit 16, Holt Park Shopping Centre, Holt Road, Holt Park, Leeds, LS16 7SR","LS16 7SR","LS16"]
[null,null,null,null,null,null,null,null,null,null,null,null,null,null,null,"QWO",{"$f":"VLOOKUP(P6869,'[1]CCG & RG names'!D:E,2,0)","v":"West Yorkshire and Harrogate Health & Care Partnership (STP)"},"15F",{"$f":"VLOOKUP(R6869,'[1]CCG & RG names'!A:B,2,0)","v":"NHS Leeds CCG"},"V013003","Burmantofts Dental Practice, 7 & 8 Skinner Lane, Leeds, LS7 1BB","LS7 1BB","LS7 "]
[null,null,null,null,null,null,null,null,null,null,null,null,null,null,null,"QWO",{"$f":"VLOOKUP(P6870,'[1]CCG & RG names'!D:E,2,0)","v":"West Yorkshire and Harrogate Health & Care Partnership (STP)"},"15F",{"$f":"VLOOKUP(R6870,'[1]CCG & RG names'!A:B,2,0)","v":"NHS Leeds CCG"},"V013209","Unit 1 and 2, Windmill House, 277 Tong Road, Leeds, West Yorkshire, LS12 4NQ","LS12 4NQ","LS12"]
[null,null,null,null,null,null,null,null,null,null,null,null,null,null,null,"QWO",{"$f":"VLOOKUP(P6871,'[1]CCG & RG names'!D:E,2,0)","v":"West Yorkshire and Harrogate Health & Care Partnership (STP)"},"15F",{"$f":"VLOOKUP(R6871,'[1]CCG & RG names'!A:B,2,0)","v":"NHS Leeds CCG"},"V013307","Horsforth Dental Practice, 2 Troy Road, Horsforth, LEEDS, West Yorkshire, LS18 5NQ","LS18 5NQ","LS18"]
[null,null,null,null,null,null,null,null,null,null,null,null,null,null,null,"QWO",{"$f":"VLOOKUP(P6872,'[1]CCG & RG names'!D:E,2,0)","v":"West Yorkshire and Harrogate Health & Care Partnership (STP)"},"15F",{"$f":"VLOOKUP(R6872,'[1]CCG & RG names'!A:B,2,0)","v":"NHS Leeds CCG"},"V013596","5A Low Road, LEEDS, West Yorkshire, LS10 1QR","LS10 1QR","LS10"]
[null,null,null,null,null,null,null,null,null,null,null,null,null,null,null,"QWO",{"$f":"VLOOKUP(P6873,'[1]CCG & RG names'!D:E,2,0)","v":"West Yorkshire and Harrogate Health & Care Partnership (STP)"},"15F",{"$f":"VLOOKUP(R6873,'[1]CCG & RG names'!A:B,2,0)","v":"NHS Leeds CCG"},"V014366","Leeds Community Dental Services, 263 Chapeltown Road, Leeds, West Yorkshire, LS7 3EX","LS7 3EX","LS7 "]
[null,null,null,null,null,null,null,null,null,null,null,null,null,null,null,"QWO",{"$f":"VLOOKUP(P6874,'[1]CCG & RG names'!D:E,2,0)","v":"West Yorkshire and Harrogate Health & Care Partnership (STP)"},"15F",{"$f":"VLOOKUP(R6874,'[1]CCG & RG names'!A:B,2,0)","v":"NHS Leeds CCG"},"V017979","7-9, Branch Road, Leeds, LS12 3AQ","LS12 3AQ","LS12"]
[null,null,null,null,null,null,null,null,null,null,null,null,null,null,null,"QWO",{"$f":"VLOOKUP(P6875,'[1]CCG & RG names'!D:E,2,0)","v":"West Yorkshire and Harrogate Health & Care Partnership (STP)"},"15F",{"$f":"VLOOKUP(R6875,'[1]CCG & RG names'!A:B,2,0)","v":"NHS Leeds CCG"},"V025011","375-377, Harrogate Road, Leeds, LS17 6DW","LS17 6DW","LS17"]
[null,null,null,null,null,null,null,null,null,null,null,null,null,null,null,"QWO",{"$f":"VLOOKUP(P6876,'[1]CCG & RG names'!D:E,2,0)","v":"West Yorkshire and Harrogate Health & Care Partnership (STP)"},"15F",{"$f":"VLOOKUP(R6876,'[1]CCG & RG names'!A:B,2,0)","v":"NHS Leeds CCG"},"V183264","251 NEW ROAD SIDE, HORSFORTH, LEEDS, LS18 4DR","LS18 4DR","LS18"]
[null,null,null,null,null,null,null,null,null,null,null,null,null,null,null,"QWO",{"$f":"VLOOKUP(P6877,'[1]CCG & RG names'!D:E,2,0)","v":"West Yorkshire and Harrogate Health & Care Partnership (STP)"},"36J",{"$f":"VLOOKUP(R6877,'[1]CCG & RG names'!A:B,2,0)","v":"NHS Bradford District and Craven CCG"},"V001999","Dental Practice, 1 Park Road, BINGLEY, West Yorkshire, BD16 4BD","BD16 4BD","BD16"]
[null,null,null,null,null,null,null,null,null,null,null,null,null,null,null,"QWO",{"$f":"VLOOKUP(P6878,'[1]CCG & RG names'!D:E,2,0)","v":"West Yorkshire and Harrogate Health & Care Partnership (STP)"},"36J",{"$f":"VLOOKUP(R6878,'[1]CCG & RG names'!A:B,2,0)","v":"NHS Bradford District and Craven CCG"},"V002001","Oasis Dental Care Ltd, 43 Park Road, BINGLEY, West Yorkshire, BD16 4BL","BD16 4BL","BD16"]
[null,null,null,null,null,null,null,null,null,null,null,null,null,null,null,"QWO",{"$f":"VLOOKUP(P6879,'[1]CCG & RG names'!D:E,2,0)","v":"West Yorkshire and Harrogate Health & Care Partnership (STP)"},"36J",{"$f":"VLOOKUP(R6879,'[1]CCG & RG names'!A:B,2,0)","v":"NHS Bradford District and Craven CCG"},"V002004","Plum Dental & Facial Clinic, 30 Devonshire Street, KEIGHLEY, West Yorkshire, BD21 2AU","BD21 2AU","BD21"]
[null,null,null,null,null,null,null,null,null,null,null,null,null,null,null,"QWO",{"$f":"VLOOKUP(P6880,'[1]CCG & RG names'!D:E,2,0)","v":"West Yorkshire and Harrogate Health & Care Partnership (STP)"},"36J",{"$f":"VLOOKUP(R6880,'[1]CCG & RG names'!A:B,2,0)","v":"NHS Bradford District and Craven CCG"},"V002025","Ilkley Dental Care, 39 Leeds Road, ILKLEY, West Yorkshire, LS29 8DP","LS29 8DP","LS29"]
[null,null,null,null,null,null,null,null,null,null,null,null,null,null,null,"QWO",{"$f":"VLOOKUP(P6881,'[1]CCG & RG names'!D:E,2,0)","v":"West Yorkshire and Harrogate Health & Care Partnership (STP)"},"36J",{"$f":"VLOOKUP(R6881,'[1]CCG & RG names'!A:B,2,0)","v":"NHS Bradford District and Craven CCG"},"V002027","Dental Surgery, 11 Wells Road, ILKLEY, West Yorkshire, LS29 9JB","LS29 9JB","LS29"]
[null,null,null,null,null,null,null,null,null,null,null,null,null,null,null,"QWO",{"$f":"VLOOKUP(P6882,'[1]CCG & RG names'!D:E,2,0)","v":"West Yorkshire and Harrogate Health & Care Partnership (STP)"},"36J",{"$f":"VLOOKUP(R6882,'[1]CCG & RG names'!A:B,2,0)","v":"NHS Bradford District and Craven CCG"},"V002049","Acorn Dental Centre, 64 The Grove, ILKLEY, West Yorkshire, LS29 9PA","LS29 9PA","LS29"]
[null,null,null,null,null,null,null,null,null,null,null,null,null,null,null,"QWO",{"$f":"VLOOKUP(P6883,'[1]CCG & RG names'!D:E,2,0)","v":"West Yorkshire and Harrogate Health & Care Partnership (STP)"},"36J",{"$f":"VLOOKUP(R6883,'[1]CCG & RG names'!A:B,2,0)","v":"NHS Bradford District and Craven CCG"},"V002067","Regent Orthodontics, 2A Regent Road, ILKLEY, West Yorkshire, LS29 9EA","LS29 9EA","LS29"]
[null,null,null,null,null,null,null,null,null,null,null,null,null,null,null,"QWO",{"$f":"VLOOKUP(P6884,'[1]CCG & RG names'!D:E,2,0)","v":"West Yorkshire and Harrogate Health & Care Partnership (STP)"},"36J",{"$f":"VLOOKUP(R6884,'[1]CCG & RG names'!A:B,2,0)","v":"NHS Bradford District and Craven CCG"},"V002174","Leeds Road Dental Practice, 649 Leeds Road, BRADFORD, West Yorkshire, BD3 8EL","BD3 8EL","BD3 "]
[null,null,null,null,null,null,null,null,null,null,null,null,null,null,null,"QWO",{"$f":"VLOOKUP(P6885,'[1]CCG & RG names'!D:E,2,0)","v":"West Yorkshire and Harrogate Health & Care Partnership (STP)"},"36J",{"$f":"VLOOKUP(R6885,'[1]CCG & RG names'!A:B,2,0)","v":"NHS Bradford District and Craven CCG"},"V002190","Thornbury Dental Practice, 1 Roydstone Road, BRADFORD, West Yorkshire, BD3 7EH","BD3 7EH","BD3 "]
[null,null,null,null,null,null,null,null,null,null,null,null,null,null,null,"QWO",{"$f":"VLOOKUP(P6886,'[1]CCG & RG names'!D:E,2,0)","v":"West Yorkshire and Harrogate Health & Care Partnership (STP)"},"36J",{"$f":"VLOOKUP(R6886,'[1]CCG & RG names'!A:B,2,0)","v":"NHS Bradford District and Craven CCG"},"V002205","Dental Surgery, 812A Leeds Road, BRADFORD, West Yorkshire, BD3 9TY","BD3 9TY","BD3 "]
[null,null,null,null,null,null,null,null,null,null,null,null,null,null,null,"QWO",{"$f":"VLOOKUP(P6887,'[1]CCG & RG names'!D:E,2,0)","v":"West Yorkshire and Harrogate Health & Care Partnership (STP)"},"36J",{"$f":"VLOOKUP(R6887,'[1]CCG & RG names'!A:B,2,0)","v":"NHS Bradford District and Craven CCG"},"V002235","207 Otley Road, BRADFORD, West Yorkshire, BD3 0JF","BD3 0JF","BD3 "]
[null,null,null,null,null,null,null,null,null,null,null,null,null,null,null,"QWO",{"$f":"VLOOKUP(P6888,'[1]CCG & RG names'!D:E,2,0)","v":"West Yorkshire and Harrogate Health & Care Partnership (STP)"},"36J",{"$f":"VLOOKUP(R6888,'[1]CCG & RG names'!A:B,2,0)","v":"NHS Bradford District and Craven CCG"},"V002248","Wakefield Road Surgery, 773-775 Wakefield Road, BRADFORD, West Yorkshire, BD4 7PT","BD4 7PT","BD4 "]
[null,null,null,null,null,null,null,null,null,null,null,null,null,null,null,"QWO",{"$f":"VLOOKUP(P6889,'[1]CCG & RG names'!D:E,2,0)","v":"West Yorkshire and Harrogate Health & Care Partnership (STP)"},"36J",{"$f":"VLOOKUP(R6889,'[1]CCG & RG names'!A:B,2,0)","v":"NHS Bradford District and Craven CCG"},"V002253","Dental Surgeon, 586 Little Horton Lane, BRADFORD, West Yorkshire, BD5 0PD","BD5 0PD","BD5 "]
[null,null,null,null,null,null,null,null,null,null,null,null,null,null,null,"QWO",{"$f":"VLOOKUP(P6890,'[1]CCG & RG names'!D:E,2,0)","v":"West Yorkshire and Harrogate Health & Care Partnership (STP)"},"36J",{"$f":"VLOOKUP(R6890,'[1]CCG & RG names'!A:B,2,0)","v":"NHS Bradford District and Craven CCG"},"V002267","Dental Surgery, 10 Southbrook Terrace, BRADFORD, West Yorkshire, BD7 1AD","BD7 1AD","BD7 "]
[null,null,null,null,null,null,null,null,null,null,null,null,null,null,null,"QWO",{"$f":"VLOOKUP(P6891,'[1]CCG & RG names'!D:E,2,0)","v":"West Yorkshire and Harrogate Health & Care Partnership (STP)"},"36J",{"$f":"VLOOKUP(R6891,'[1]CCG & RG names'!A:B,2,0)","v":"NHS Bradford District and Craven CCG"},"V002275","J C And A A Rayner, 21 Whetley Lane, BRADFORD, West Yorkshire, BD8 9EH","BD8 9EH","BD8 "]
[null,null,null,null,null,null,null,null,null,null,null,null,null,null,null,"QWO",{"$f":"VLOOKUP(P6892,'[1]CCG & RG names'!D:E,2,0)","v":"West Yorkshire and Harrogate Health & Care Partnership (STP)"},"36J",{"$f":"VLOOKUP(R6892,'[1]CCG & RG names'!A:B,2,0)","v":"NHS Bradford District and Craven CCG"},"V002305","Manningham Lane Dental Practice, 259 Manningham Lane, BRADFORD, West Yorkshire, BD8 7EP","BD8 7EP","BD8 "]
[null,null,null,null,null,null,null,null,null,null,null,null,null,null,null,"QWO",{"$f":"VLOOKUP(P6893,'[1]CCG & RG names'!D:E,2,0)","v":"West Yorkshire and Harrogate Health & Care Partnership (STP)"},"36J",{"$f":"VLOOKUP(R6893,'[1]CCG & RG names'!A:B,2,0)","v":"NHS Bradford District and Craven CCG"},"V002424","Dental Surgery, 65 Duckworth Lane, BRADFORD, West Yorkshire, BD9 5EU","BD9 5EU","BD9 "]
[null,null,null,null,null,null,null,null,null,null,null,null,null,null,null,"QWO",{"$f":"VLOOKUP(P6894,'[1]CCG & RG names'!D:E,2,0)","v":"West Yorkshire and Harrogate Health & Care Partnership (STP)"},"36J",{"$f":"VLOOKUP(R6894,'[1]CCG & RG names'!A:B,2,0)","v":"NHS Bradford District and Craven CCG"},"V002458","Dental Surgery, 1 Hothfield Street, Silsden, KEIGHLEY, West Yorkshire, BD20 0PP","BD20 0PP","BD20"]
[null,null,null,null,null,null,null,null,null,null,null,null,null,null,null,"QWO",{"$f":"VLOOKUP(P6895,'[1]CCG & RG names'!D:E,2,0)","v":"West Yorkshire and Harrogate Health & Care Partnership (STP)"},"36J",{"$f":"VLOOKUP(R6895,'[1]CCG & RG names'!A:B,2,0)","v":"NHS Bradford District and Craven CCG"},"V002539","Oasis Dental Care Ltd, 32 - 34 Devonshire Street, KEIGHLEY, West Yorkshire, BD21 2AU","BD21 2AU","BD21"]
[null,null,null,null,null,null,null,null,null,null,null,null,null,null,null,"QWO",{"$f":"VLOOKUP(P6896,'[1]CCG & RG names'!D:E,2,0)","v":"West Yorkshire and Harrogate Health & Care Partnership (STP)"},"36J",{"$f":"VLOOKUP(R6896,'[1]CCG & RG names'!A:B,2,0)","v":"NHS Bradford District and Craven CCG"},"V002563","Dental Surgery, 1 Springwells, Wheathead Lane, KEIGHLEY, West Yorkshire, BD22 6NL","BD22 6NL","BD22"]
[null,null,null,null,null,null,null,null,null,null,null,null,null,null,null,"QWO",{"$f":"VLOOKUP(P6897,'[1]CCG & RG names'!D:E,2,0)","v":"West Yorkshire and Harrogate Health & Care Partnership (STP)"},"36J",{"$f":"VLOOKUP(R6897,'[1]CCG & RG names'!A:B,2,0)","v":"NHS Bradford District and Craven CCG"},"V002571","Petrie Tucker & Partners Ltd, 165 Skipton Road, Keighley, West Yorkshire, BD21 3BG","BD21 3BG","BD21"]
[null,null,null,null,null,null,null,null,null,null,null,null,null,null,null,"QWO",{"$f":"VLOOKUP(P6898,'[1]CCG & RG names'!D:E,2,0)","v":"West Yorkshire and Harrogate Health & Care Partnership (STP)"},"36J",{"$f":"VLOOKUP(R6898,'[1]CCG & RG names'!A:B,2,0)","v":"NHS Bradford District and Craven CCG"},"V002595","5 Lister Avenue, Bradford, West Yorkshire, BD4 7QP","BD4 7QP","BD4 "]
[null,null,null,null,null,null,null,null,null,null,null,null,null,null,null,"QWO",{"$f":"VLOOKUP(P6899,'[1]CCG & RG names'!D:E,2,0)","v":"West Yorkshire and Harrogate Health & Care Partnership (STP)"},"36J",{"$f":"VLOOKUP(R6899,'[1]CCG & RG names'!A:B,2,0)","v":"NHS Bradford District and Craven CCG"},"V002596","Westend Apex Dental Surgery, 40 Little Horton Lane, BRADFORD, West Yorkshire, BD5 0AL","BD5 0AL","BD5 "]
[null,null,null,null,null,null,null,null,null,null,null,null,null,null,null,"QWO",{"$f":"VLOOKUP(P6900,'[1]CCG & RG names'!D:E,2,0)","v":"West Yorkshire and Harrogate Health & Care Partnership (STP)"},"36J",{"$f":"VLOOKUP(R6900,'[1]CCG & RG names'!A:B,2,0)","v":"NHS Bradford District and Craven CCG"},"V002606","Dental Surgery, 206 Toller Lane, BRADFORD, West Yorkshire, BD9 5BU","BD9 5BU","BD9 "]
[null,null,null,null,null,null,null,null,null,null,null,null,null,null,null,"QWO",{"$f":"VLOOKUP(P6901,'[1]CCG & RG names'!D:E,2,0)","v":"West Yorkshire and Harrogate Health & Care Partnership (STP)"},"36J",{"$f":"VLOOKUP(R6901,'[1]CCG & RG names'!A:B,2,0)","v":"NHS Bradford District and Craven CCG"},"V002614","Dental Surgery, 95 Oak Lane, BRADFORD, West Yorkshire, BD9 4QU","BD9 4QU","BD9 "]
[null,null,null,null,null,null,null,null,null,null,null,null,null,null,null,"QWO",{"$f":"VLOOKUP(P6902,'[1]CCG & RG names'!D:E,2,0)","v":"West Yorkshire and Harrogate Health & Care Partnership (STP)"},"36J",{"$f":"VLOOKUP(R6902,'[1]CCG & RG names'!A:B,2,0)","v":"NHS Bradford District and Craven CCG"},"V002623","Parkside Road Dental Care Unit, 29 Parkside Road, BRADFORD, West Yorkshire, BD5 8DN","BD5 8DN","BD5 "]
[null,null,null,null,null,null,null,null,null,null,null,null,null,null,null,"QWO",{"$f":"VLOOKUP(P6903,'[1]CCG & RG names'!D:E,2,0)","v":"West Yorkshire and Harrogate Health & Care Partnership (STP)"},"36J",{"$f":"VLOOKUP(R6903,'[1]CCG & RG names'!A:B,2,0)","v":"NHS Bradford District and Craven CCG"},"V002625","Dental Surgery, 101 St Enochs Road, BRADFORD, West Yorkshire, BD6 3AD","BD6 3AD","BD6 "]
[null,null,null,null,null,null,null,null,null,null,null,null,null,null,null,"QWO",{"$f":"VLOOKUP(P6904,'[1]CCG & RG names'!D:E,2,0)","v":"West Yorkshire and Harrogate Health & Care Partnership (STP)"},"36J",{"$f":"VLOOKUP(R6904,'[1]CCG & RG names'!A:B,2,0)","v":"NHS Bradford District and Craven CCG"},"V002639","Great Horton Dental Practice, 784 Great Horton Road, BRADFORD, West Yorkshire, BD7 4PY","BD7 4PY","BD7 "]
[null,null,null,null,null,null,null,null,null,null,null,null,null,null,null,"QWO",{"$f":"VLOOKUP(P6905,'[1]CCG & RG names'!D:E,2,0)","v":"West Yorkshire and Harrogate Health & Care Partnership (STP)"},"36J",{"$f":"VLOOKUP(R6905,'[1]CCG & RG names'!A:B,2,0)","v":"NHS Bradford District and Craven CCG"},"V002639","Great Horton Dental Practice, 784 Great Horton Road, BRADFORD, West Yorkshire, BD7 4PY","BD7 4PY","BD7 "]
[null,null,null,null,null,null,null,null,null,null,null,null,null,null,null,"QWO",{"$f":"VLOOKUP(P6906,'[1]CCG & RG names'!D:E,2,0)","v":"West Yorkshire and Harrogate Health & Care Partnership (STP)"},"36J",{"$f":"VLOOKUP(R6906,'[1]CCG & RG names'!A:B,2,0)","v":"NHS Bradford District and Craven CCG"},"V002642","Dental Surgery, 12 Beckside Road, BRADFORD, West Yorkshire, BD7 2LS","BD7 2LS","BD7 "]
[null,null,null,null,null,null,null,null,null,null,null,null,null,null,null,"QWO",{"$f":"VLOOKUP(P6907,'[1]CCG & RG names'!D:E,2,0)","v":"West Yorkshire and Harrogate Health & Care Partnership (STP)"},"36J",{"$f":"VLOOKUP(R6907,'[1]CCG & RG names'!A:B,2,0)","v":"NHS Bradford District and Craven CCG"},"V002655","Dental Surgery, 261 Southfield Lane, BRADFORD, West Yorkshire, BD7 3NN","BD7 3NN","BD7 "]
[null,null,null,null,null,null,null,null,null,null,null,null,null,null,null,"QWO",{"$f":"VLOOKUP(P6908,'[1]CCG & RG names'!D:E,2,0)","v":"West Yorkshire and Harrogate Health & Care Partnership (STP)"},"36J",{"$f":"VLOOKUP(R6908,'[1]CCG & RG names'!A:B,2,0)","v":"NHS Bradford District and Craven CCG"},"V002694","Dental Surgery, 11A West End, Queensbury, BRADFORD, West Yorkshire, BD13 2BD","BD13 2BD","BD13"]
[null,null,null,null,null,null,null,null,null,null,null,null,null,null,null,"QWO",{"$f":"VLOOKUP(P6909,'[1]CCG & RG names'!D:E,2,0)","v":"West Yorkshire and Harrogate Health & Care Partnership (STP)"},"36J",{"$f":"VLOOKUP(R6909,'[1]CCG & RG names'!A:B,2,0)","v":"NHS Bradford District and Craven CCG"},"V002695","Dental Surgery, 90A Market Street, Thornton, BRADFORD, West Yorkshire, BD13 3EY","BD13 3EY","BD13"]
[null,null,null,null,null,null,null,null,null,null,null,null,null,null,null,"QWO",{"$f":"VLOOKUP(P6910,'[1]CCG & RG names'!D:E,2,0)","v":"West Yorkshire and Harrogate Health & Care Partnership (STP)"},"36J",{"$f":"VLOOKUP(R6910,'[1]CCG & RG names'!A:B,2,0)","v":"NHS Bradford District and Craven CCG"},"V002697","Dental Surgery, 78 High Street, Queensbury, BRADFORD, West Yorkshire, BD13 2PA","BD13 2PA","BD13"]
[null,null,null,null,null,null,null,null,null,null,null,null,null,null,null,"QWO",{"$f":"VLOOKUP(P6911,'[1]CCG & RG names'!D:E,2,0)","v":"West Yorkshire and Harrogate Health & Care Partnership (STP)"},"36J",{"$f":"VLOOKUP(R6911,'[1]CCG & RG names'!A:B,2,0)","v":"NHS Bradford District and Craven CCG"},"V002700","Dental Surgery, 1 Cambridge Street, Clayton, BRADFORD, West Yorkshire, BD14 6RH","BD14 6RH","BD14"]
[null,null,null,null,null,null,null,null,null,null,null,null,null,null,null,"QWO",{"$f":"VLOOKUP(P6912,'[1]CCG & RG names'!D:E,2,0)","v":"West Yorkshire and Harrogate Health & Care Partnership (STP)"},"36J",{"$f":"VLOOKUP(R6912,'[1]CCG & RG names'!A:B,2,0)","v":"NHS Bradford District and Craven CCG"},"V002703","Allerton Dental Practice, 254 - 256 Allerton Road, Allerton, BRADFORD, West Yorkshire, BD15 7RA","BD15 7RA","BD15"]
[null,null,null,null,null,null,null,null,null,null,null,null,null,null,null,"QWO",{"$f":"VLOOKUP(P6913,'[1]CCG & RG names'!D:E,2,0)","v":"West Yorkshire and Harrogate Health & Care Partnership (STP)"},"36J",{"$f":"VLOOKUP(R6913,'[1]CCG & RG names'!A:B,2,0)","v":"NHS Bradford District and Craven CCG"},"V002704","Oasis Dental Care, 136 Main Street, Wilsden, BRADFORD, West Yorkshire, BD15 0AS","BD15 0AS","BD15"]
[null,null,null,null,null,null,null,null,null,null,null,null,null,null,null,"QWO",{"$f":"VLOOKUP(P6914,'[1]CCG & RG names'!D:E,2,0)","v":"West Yorkshire and Harrogate Health & Care Partnership (STP)"},"36J",{"$f":"VLOOKUP(R6914,'[1]CCG & RG names'!A:B,2,0)","v":"NHS Bradford District and Craven CCG"},"V002708","Dental Surgery, 460 Idle Road, BRADFORD, West Yorkshire, BD2 2AR","BD2 2AR","BD2 "]
[null,null,null,null,null,null,null,null,null,null,null,null,null,null,null,"QWO",{"$f":"VLOOKUP(P6915,'[1]CCG & RG names'!D:E,2,0)","v":"West Yorkshire and Harrogate Health & Care Partnership (STP)"},"36J",{"$f":"VLOOKUP(R6915,'[1]CCG & RG names'!A:B,2,0)","v":"NHS Bradford District and Craven CCG"},"V002710","Five Lane Ends Dental Practice, 9 Wrose Road, BRADFORD, West Yorkshire, BD2 1LN","BD2 1LN",{"$f":"IF(MID(V6915,3,1) =\" \",LEFT(V6915,3),LEFT(V6915,4))","v":"BD2 "}]
[null,null,null,null,null,null,null,null,null,null,null,null,null,null,null,"QWO",{"$f":"VLOOKUP(P6916,'[1]CCG & RG names'!D:E,2,0)","v":"West Yorkshire and Harrogate Health & Care Partnership (STP)"},"36J",{"$f":"VLOOKUP(R6916,'[1]CCG & RG names'!A:B,2,0)","v":"NHS Bradford District and Craven CCG"},"V002713","Dental Surgery, 179 New Line, BRADFORD, West Yorkshire, BD10 0BN","BD10 0BN","BD10"]
[null,null,null,null,null,null,null,null,null,null,null,null,null,null,null,"QWO",{"$f":"VLOOKUP(P6917,'[1]CCG & RG names'!D:E,2,0)","v":"West Yorkshire and Harrogate Health & Care Partnership (STP)"},"36J",{"$f":"VLOOKUP(R6917,'[1]CCG & RG names'!A:B,2,0)","v":"NHS Bradford District and Craven CCG"},"V002720","Baildon Dental Centre, 8 Northgate, Baildon, SHIPLEY, West Yorkshire, BD17 6JX","BD17 6JX","BD17"]
[null,null,null,null,null,null,null,null,null,null,null,null,null,null,null,"QWO",{"$f":"VLOOKUP(P6918,'[1]CCG & RG names'!D:E,2,0)","v":"West Yorkshire and Harrogate Health & Care Partnership (STP)"},"36J",{"$f":"VLOOKUP(R6918,'[1]CCG & RG names'!A:B,2,0)","v":"NHS Bradford District and Craven CCG"},"V002723","Saltaire Dental Practice, 203 Bingley Road, SHIPLEY, West Yorkshire, BD18 4DH","BD18 4DH","BD18"]
[null,null,null,null,null,null,null,null,null,null,null,null,null,null,null,"QWO",{"$f":"VLOOKUP(P6919,'[1]CCG & RG names'!D:E,2,0)","v":"West Yorkshire and Harrogate Health & Care Partnership (STP)"},"36J",{"$f":"VLOOKUP(R6919,'[1]CCG & RG names'!A:B,2,0)","v":"NHS Bradford District and Craven CCG"},"V002727","Dental Surgery, 204 Bradford Road, SHIPLEY, West Yorkshire, BD18 3AP","BD18 3AP","BD18"]
[null,null,null,null,null,null,null,null,null,null,null,null,null,null,null,"QWO",{"$f":"VLOOKUP(P6920,'[1]CCG & RG names'!D:E,2,0)","v":"West Yorkshire and Harrogate Health & Care Partnership (STP)"},"36J",{"$f":"VLOOKUP(R6920,'[1]CCG & RG names'!A:B,2,0)","v":"NHS Bradford District and Craven CCG"},"V002948","Avondale Dental Practice, 54 Bradford Road, SHIPLEY, West Yorkshire, BD18 3NT","BD18 3NT","BD18"]
[null,null,null,null,null,null,null,null,null,null,null,null,null,null,null,"QWO",{"$f":"VLOOKUP(P6921,'[1]CCG & RG names'!D:E,2,0)","v":"West Yorkshire and Harrogate Health & Care Partnership (STP)"},"36J",{"$f":"VLOOKUP(R6921,'[1]CCG & RG names'!A:B,2,0)","v":"NHS Bradford District and Craven CCG"},"V002960","A One Dental Practice, 983 Leeds Road, Bradford, West Yorkshire, BD3 7ND","BD3 7ND","BD3 "]
[null,null,null,null,null,null,null,null,null,null,null,null,null,null,null,"QWO",{"$f":"VLOOKUP(P6922,'[1]CCG & RG names'!D:E,2,0)","v":"West Yorkshire and Harrogate Health & Care Partnership (STP)"},"36J",{"$f":"VLOOKUP(R6922,'[1]CCG & RG names'!A:B,2,0)","v":"NHS Bradford District and Craven CCG"},"V004384","2 Albert Road, Cross Hills, KEIGHLEY, West Yorkshire, BD20 7LE","BD20 7LE","BD20"]
[null,null,null,null,null,null,null,null,null,null,null,null,null,null,null,"QWO",{"$f":"VLOOKUP(P6923,'[1]CCG & RG names'!D:E,2,0)","v":"West Yorkshire and Harrogate Health & Care Partnership (STP)"},"36J",{"$f":"VLOOKUP(R6923,'[1]CCG & RG names'!A:B,2,0)","v":"NHS Bradford District and Craven CCG"},"V004387","Dental Surgery, 33 Otley Street, SKIPTON, North Yorkshire, BD23 1EL","BD23 1EL","BD23"]
[null,null,null,null,null,null,null,null,null,null,null,null,null,null,null,"QWO",{"$f":"VLOOKUP(P6924,'[1]CCG & RG names'!D:E,2,0)","v":"West Yorkshire and Harrogate Health & Care Partnership (STP)"},"36J",{"$f":"VLOOKUP(R6924,'[1]CCG & RG names'!A:B,2,0)","v":"NHS Bradford District and Craven CCG"},"V004388","Muirhead And Associates, 52 - 54 Otley Street, SKIPTON, North Yorkshire, BD23 1ET","BD23 1ET","BD23"]
[null,null,null,null,null,null,null,null,null,null,null,null,null,null,null,"QWO",{"$f":"VLOOKUP(P6925,'[1]CCG & RG names'!D:E,2,0)","v":"West Yorkshire and Harrogate Health & Care Partnership (STP)"},"36J",{"$f":"VLOOKUP(R6925,'[1]CCG & RG names'!A:B,2,0)","v":"NHS Bradford District and Craven CCG"},"V004392","Belle Vue Dental Practice, 32 Belle Vue Terrace, SKIPTON, North Yorkshire, BD23 1RU","BD23 1RU","BD23"]
[null,null,null,null,null,null,null,null,null,null,null,null,null,null,null,"QWO",{"$f":"VLOOKUP(P6926,'[1]CCG & RG names'!D:E,2,0)","v":"West Yorkshire and Harrogate Health & Care Partnership (STP)"},"36J",{"$f":"VLOOKUP(R6926,'[1]CCG & RG names'!A:B,2,0)","v":"NHS Bradford District and Craven CCG"},"V004393","Dental Surgery, 18 East Street, Gargrave, SKIPTON, North Yorkshire, BD23 3RS","BD23 3RS","BD23"]
[null,null,null,null,null,null,null,null,null,null,null,null,null,null,null,"QWO",{"$f":"VLOOKUP(P6927,'[1]CCG & RG names'!D:E,2,0)","v":"West Yorkshire and Harrogate Health & Care Partnership (STP)"},"36J",{"$f":"VLOOKUP(R6927,'[1]CCG & RG names'!A:B,2,0)","v":"NHS Bradford District and Craven CCG"},"V004397","Dental Surgery, Grassington Medical Centre, 9 Station Road, Grassington, SKIPTON, BD23 5LS","BD23 5LS","BD23"]
[null,null,null,null,null,null,null,null,null,null,null,null,null,null,null,"QWO",{"$f":"VLOOKUP(P6928,'[1]CCG & RG names'!D:E,2,0)","v":"West Yorkshire and Harrogate Health & Care Partnership (STP)"},"36J",{"$f":"VLOOKUP(R6928,'[1]CCG & RG names'!A:B,2,0)","v":"NHS Bradford District and Craven CCG"},"V004398","Oasis Dental Care Ltd, Station Road, SETTLE, North Yorkshire, BD24 9AA","BD24 9AA","BD24"]
[null,null,null,null,null,null,null,null,null,null,null,null,null,null,null,"QWO",{"$f":"VLOOKUP(P6929,'[1]CCG & RG names'!D:E,2,0)","v":"West Yorkshire and Harrogate Health & Care Partnership (STP)"},"36J",{"$f":"VLOOKUP(R6929,'[1]CCG & RG names'!A:B,2,0)","v":"NHS Bradford District and Craven CCG"},"V005677","Unit 4, Acorn Business Park, Keighley Road, SKIPTON, North Yorkshire, BD23 2UE","BD23 2UE","BD23"]
[null,null,null,null,null,null,null,null,null,null,null,null,null,null,null,"QWO",{"$f":"VLOOKUP(P6930,'[1]CCG & RG names'!D:E,2,0)","v":"West Yorkshire and Harrogate Health & Care Partnership (STP)"},"36J",{"$f":"VLOOKUP(R6930,'[1]CCG & RG names'!A:B,2,0)","v":"NHS Bradford District and Craven CCG"},"V008344","Saltaire Orthodontics, 3 - 4 Victoria Road, SHIPLEY, West Yorkshire, BD18 3LA","BD18 3LA","BD18"]
[null,null,null,null,null,null,null,null,null,null,null,null,null,null,null,"QWO",{"$f":"VLOOKUP(P6931,'[1]CCG & RG names'!D:E,2,0)","v":"West Yorkshire and Harrogate Health & Care Partnership (STP)"},"36J",{"$f":"VLOOKUP(R6931,'[1]CCG & RG names'!A:B,2,0)","v":"NHS Bradford District and Craven CCG"},"V009177","Dental Department, Horton Park Centre, 99 Horton Park Avenue, BRADFORD, West Yorkshire, BD7 3EG","BD7 3EG","BD7 "]
[null,null,null,null,null,null,null,null,null,null,null,null,null,null,null,"QWO",{"$f":"VLOOKUP(P6932,'[1]CCG & RG names'!D:E,2,0)","v":"West Yorkshire and Harrogate Health & Care Partnership (STP)"},"36J",{"$f":"VLOOKUP(R6932,'[1]CCG & RG names'!A:B,2,0)","v":"NHS Bradford District and Craven CCG"},"V009483","Skipton General Hospital, Keighley Road, SKIPTON, North Yorkshire, BD23 2RJ","BD23 2RJ","BD23"]
[null,null,null,null,null,null,null,null,null,null,null,null,null,null,null,"QWO",{"$f":"VLOOKUP(P6933,'[1]CCG & RG names'!D:E,2,0)","v":"West Yorkshire and Harrogate Health & Care Partnership (STP)"},"36J",{"$f":"VLOOKUP(R6933,'[1]CCG & RG names'!A:B,2,0)","v":"NHS Bradford District and Craven CCG"},"V010590","5 Marlborough Road, Manningham, Bradford, BD8 7LD","BD8 7LD","BD8 "]
[null,null,null,null,null,null,null,null,null,null,null,null,null,null,null,"QWO",{"$f":"VLOOKUP(P6934,'[1]CCG & RG names'!D:E,2,0)","v":"West Yorkshire and Harrogate Health & Care Partnership (STP)"},"36J",{"$f":"VLOOKUP(R6934,'[1]CCG & RG names'!A:B,2,0)","v":"NHS Bradford District and Craven CCG"},"V011005","9-13 Leeds Road, Shipley, BD18 1BP","BD18 1BP","BD18"]
[null,null,null,null,null,null,null,null,null,null,null,null,null,null,null,"QWO",{"$f":"VLOOKUP(P6935,'[1]CCG & RG names'!D:E,2,0)","v":"West Yorkshire and Harrogate Health & Care Partnership (STP)"},"36J",{"$f":"VLOOKUP(R6935,'[1]CCG & RG names'!A:B,2,0)","v":"NHS Bradford District and Craven CCG"},"V012642","Dentistry@BD4, 134 Holme Lane, Bradford, West Yorkshire, BD4 0PY","BD4 0PY","BD4 "]
[null,null,null,null,null,null,null,null,null,null,null,null,null,null,null,"QWO",{"$f":"VLOOKUP(P6936,'[1]CCG & RG names'!D:E,2,0)","v":"West Yorkshire and Harrogate Health & Care Partnership (STP)"},"36J",{"$f":"VLOOKUP(R6936,'[1]CCG & RG names'!A:B,2,0)","v":"NHS Bradford District and Craven CCG"},"V013072","Genesis Dental Care, 19-21 Springs Lane, Ilkley, West Yorkshire, LS29 8UA","LS29 8UA","LS29"]
[null,null,null,null,null,null,null,null,null,null,null,null,null,null,null,"QWO",{"$f":"VLOOKUP(P6937,'[1]CCG & RG names'!D:E,2,0)","v":"West Yorkshire and Harrogate Health & Care Partnership (STP)"},"36J",{"$f":"VLOOKUP(R6937,'[1]CCG & RG names'!A:B,2,0)","v":"NHS Bradford District and Craven CCG"},"V014084","Grange Interlink Community Centr, Summerville Road, BRADFORD, West Yorkshire, BD7 1PX","BD7 1PX","BD7 "]
[null,null,null,null,null,null,null,null,null,null,null,null,null,null,null,"QWO",{"$f":"VLOOKUP(P6938,'[1]CCG & RG names'!D:E,2,0)","v":"West Yorkshire and Harrogate Health & Care Partnership (STP)"},"36J",{"$f":"VLOOKUP(R6938,'[1]CCG & RG names'!A:B,2,0)","v":"NHS Bradford District and Craven CCG"},"V014865","1 Bateman Street, Bradford, West Yorkshire, BD8 7DH","BD8 7DH","BD8 "]
[null,null,null,null,null,null,null,null,null,null,null,null,null,null,null,"QWO",{"$f":"VLOOKUP(P6939,'[1]CCG & RG names'!D:E,2,0)","v":"West Yorkshire and Harrogate Health & Care Partnership (STP)"},"36J",{"$f":"VLOOKUP(R6939,'[1]CCG & RG names'!A:B,2,0)","v":"NHS Bradford District and Craven CCG"},"V016878","Sunnybank House, 506 Huddersfield Road, Bradford, West Yorkshire, BD12 8AD","BD12 8AD","BD12"]
[null,null,null,null,null,null,null,null,null,null,null,null,null,null,null,"QWO",{"$f":"VLOOKUP(P6940,'[1]CCG & RG names'!D:E,2,0)","v":"West Yorkshire and Harrogate Health & Care Partnership (STP)"},"36J",{"$f":"VLOOKUP(R6940,'[1]CCG & RG names'!A:B,2,0)","v":"NHS Bradford District and Craven CCG"},"V018170","165-167 SKIPTON ROAD, KEIGHLEY, WEST YORKSHIRE, BD21 3BG","BD21 3BG","BD21"]
[null,null,null,null,null,null,null,null,null,null,null,null,null,null,null,"QWO",{"$f":"VLOOKUP(P6941,'[1]CCG & RG names'!D:E,2,0)","v":"West Yorkshire and Harrogate Health & Care Partnership (STP)"},"36J",{"$f":"VLOOKUP(R6941,'[1]CCG & RG names'!A:B,2,0)","v":"NHS Bradford District and Craven CCG"},"V028991","Brunel House, Ground Floor, 87 Manningham Lane, Bradford, BD1 3BN","BD1 3BN","BD1 "]
[null,null,null,null,null,null,null,null,null,null,null,null,null,null,null,"QWO",{"$f":"VLOOKUP(P6942,'[1]CCG & RG names'!D:E,2,0)","v":"West Yorkshire and Harrogate Health & Care Partnership (STP)"},"36J",{"$f":"VLOOKUP(R6942,'[1]CCG & RG names'!A:B,2,0)","v":"NHS Bradford District and Craven CCG"},"V255729","RILLINGTON MEAD, ECCLESHILL, BRADFORD, BD10 0ED","BD10 0ED","BD10"]
[null,null,null,null,null,null,null,null,null,null,null,null,null,null,null,"QWO",{"$f":"VLOOKUP(P6943,'[1]CCG & RG names'!D:E,2,0)","v":"West Yorkshire and Harrogate Health & Care Partnership (STP)"},"X2C4Y",{"$f":"VLOOKUP(R6943,'[1]CCG & RG names'!A:B,2,0)","v":"NHS KIRKLEES CCG"},"V002562","Northgate Dental Practice, 5 Northgate, CLECKHEATON, West Yorkshire, BD19 3HH","BD19 3HH","BD19"]
[null,null,null,null,null,null,null,null,null,null,null,null,null,null,null,"QWO",{"$f":"VLOOKUP(P6944,'[1]CCG & RG names'!D:E,2,0)","v":"West Yorkshire and Harrogate Health & Care Partnership (STP)"},"X2C4Y",{"$f":"VLOOKUP(R6944,'[1]CCG & RG names'!A:B,2,0)","v":"NHS KIRKLEES CCG"},"V002564","Greenside Dental Clinic, 1 Mortimer Street, CLECKHEATON, West Yorkshire, BD19 5AR","BD19 5AR","BD19"]
[null,null,null,null,null,null,null,null,null,null,null,null,null,null,null,"QWO",{"$f":"VLOOKUP(P6945,'[1]CCG & RG names'!D:E,2,0)","v":"West Yorkshire and Harrogate Health & Care Partnership (STP)"},"X2C4Y",{"$f":"VLOOKUP(R6945,'[1]CCG & RG names'!A:B,2,0)","v":"NHS KIRKLEES CCG"},"V002566","Dental Surgery, 17 Hick Lane, BATLEY, West Yorkshire, WF17 5TD","WF17 5TD","WF17"]
[null,null,null,null,null,null,null,null,null,null,null,null,null,null,null,"QWO",{"$f":"VLOOKUP(P6946,'[1]CCG & RG names'!D:E,2,0)","v":"West Yorkshire and Harrogate Health & Care Partnership (STP)"},"X2C4Y",{"$f":"VLOOKUP(R6946,'[1]CCG & RG names'!A:B,2,0)","v":"NHS KIRKLEES CCG"},"V002570","Mount Pleasant Dentist, 67A Purlwell Lane, BATLEY, West Yorkshire, WF17 7QF","WF17 7QF","WF17"]
[null,null,null,null,null,null,null,null,null,null,null,null,null,null,null,"QWO",{"$f":"VLOOKUP(P6947,'[1]CCG & RG names'!D:E,2,0)","v":"West Yorkshire and Harrogate Health & Care Partnership (STP)"},"X2C4Y",{"$f":"VLOOKUP(R6947,'[1]CCG & RG names'!A:B,2,0)","v":"NHS KIRKLEES CCG"},"V002573","Dental Surgery, 1 High Street, Birstall, BATLEY, West Yorkshire, WF17 9ES","WF17 9ES","WF17"]
[null,null,null,null,null,null,null,null,null,null,null,null,null,null,null,"QWO",{"$f":"VLOOKUP(P6948,'[1]CCG & RG names'!D:E,2,0)","v":"West Yorkshire and Harrogate Health & Care Partnership (STP)"},"X2C4Y",{"$f":"VLOOKUP(R6948,'[1]CCG & RG names'!A:B,2,0)","v":"NHS KIRKLEES CCG"},"V002583","Dewsbury Dental Care, 43 Savile Road, DEWSBURY, West Yorkshire, WF12 9PJ","WF12 9PJ","WF12"]
[null,null,null,null,null,null,null,null,null,null,null,null,null,null,null,"QWO",{"$f":"VLOOKUP(P6949,'[1]CCG & RG names'!D:E,2,0)","v":"West Yorkshire and Harrogate Health & Care Partnership (STP)"},"X2C4Y",{"$f":"VLOOKUP(R6949,'[1]CCG & RG names'!A:B,2,0)","v":"NHS KIRKLEES CCG"},"V002584","Dental Surgery, 98 Huddersfield Road, MIRFIELD, West Yorkshire, WF14 8AF","WF14 8AF","WF14"]
[null,null,null,null,null,null,null,null,null,null,null,null,null,null,null,"QWO",{"$f":"VLOOKUP(P6950,'[1]CCG & RG names'!D:E,2,0)","v":"West Yorkshire and Harrogate Health & Care Partnership (STP)"},"X2C4Y",{"$f":"VLOOKUP(R6950,'[1]CCG & RG names'!A:B,2,0)","v":"NHS KIRKLEES CCG"},"V002585","Baker And Rigby Dental Surgeons, 10 Church Street, DEWSBURY, West Yorkshire, WF13 1LB","WF13 1LB","WF13"]
[null,null,null,null,null,null,null,null,null,null,null,null,null,null,null,"QWO",{"$f":"VLOOKUP(P6951,'[1]CCG & RG names'!D:E,2,0)","v":"West Yorkshire and Harrogate Health & Care Partnership (STP)"},"X2C4Y",{"$f":"VLOOKUP(R6951,'[1]CCG & RG names'!A:B,2,0)","v":"NHS KIRKLEES CCG"},"V002590","57 Bradford Road, CLECKHEATON, West Yorkshire, BD19 3LB","BD19 3LB","BD19"]
[null,null,null,null,null,null,null,null,null,null,null,null,null,null,null,"QWO",{"$f":"VLOOKUP(P6952,'[1]CCG & RG names'!D:E,2,0)","v":"West Yorkshire and Harrogate Health & Care Partnership (STP)"},"X2C4Y",{"$f":"VLOOKUP(R6952,'[1]CCG & RG names'!A:B,2,0)","v":"NHS KIRKLEES CCG"},"V002591","Oasis Dental Care, 19 Cemetery Road, HECKMONDWIKE, West Yorkshire, WF16 9QS","WF16 9QS","WF16"]
[null,null,null,null,null,null,null,null,null,null,null,null,null,null,null,"QWO",{"$f":"VLOOKUP(P6953,'[1]CCG & RG names'!D:E,2,0)","v":"West Yorkshire and Harrogate Health & Care Partnership (STP)"},"X2C4Y",{"$f":"VLOOKUP(R6953,'[1]CCG & RG names'!A:B,2,0)","v":"NHS KIRKLEES CCG"},"V002938","Empire House Dental Surgery, Unit 10, Empire House, Wakefield Road, DEWSBURY, WF12 8DJ","WF12 8DJ","WF12"]
[null,null,null,null,null,null,null,null,null,null,null,null,null,null,null,"QWO",{"$f":"VLOOKUP(P6954,'[1]CCG & RG names'!D:E,2,0)","v":"West Yorkshire and Harrogate Health & Care Partnership (STP)"},"X2C4Y",{"$f":"VLOOKUP(R6954,'[1]CCG & RG names'!A:B,2,0)","v":"NHS KIRKLEES CCG"},"V002939","Thornhill Dental Surgery, 4 Edge Lane, DEWSBURY, West Yorkshire, WF12 0QR","WF12 0QR","WF12"]
[null,null,null,null,null,null,null,null,null,null,null,null,null,null,null,"QWO",{"$f":"VLOOKUP(P6955,'[1]CCG & RG names'!D:E,2,0)","v":"West Yorkshire and Harrogate Health & Care Partnership (STP)"},"X2C4Y",{"$f":"VLOOKUP(R6955,'[1]CCG & RG names'!A:B,2,0)","v":"NHS KIRKLEES CCG"},"V002942","37, 39 and 41 Town Street, Batley Carr, DEWSBURY, WF13 2HQ","WF13 2HQ","WF13"]
[null,null,null,null,null,null,null,null,null,null,null,null,null,null,null,"QWO",{"$f":"VLOOKUP(P6956,'[1]CCG & RG names'!D:E,2,0)","v":"West Yorkshire and Harrogate Health & Care Partnership (STP)"},"X2C4Y",{"$f":"VLOOKUP(R6956,'[1]CCG & RG names'!A:B,2,0)","v":"NHS KIRKLEES CCG"},"V002944","Dental Care Centre, 4 Taylor Hall Lane, MIRFIELD, West Yorkshire, WF14 0HW","WF14 0HW","WF14"]
[null,null,null,null,null,null,null,null,null,null,null,null,null,null,null,"QWO",{"$f":"VLOOKUP(P6957,'[1]CCG & RG names'!D:E,2,0)","v":"West Yorkshire and Harrogate Health & Care Partnership (STP)"},"X2C4Y",{"$f":"VLOOKUP(R6957,'[1]CCG & RG names'!A:B,2,0)","v":"NHS KIRKLEES CCG"},"V002946","Dental Surgery, 169 - 171 High Street, HECKMONDWIKE, West Yorkshire, WF16 0DY","WF16 0DY","WF16"]
[null,null,null,null,null,null,null,null,null,null,null,null,null,null,null,"QWO",{"$f":"VLOOKUP(P6958,'[1]CCG & RG names'!D:E,2,0)","v":"West Yorkshire and Harrogate Health & Care Partnership (STP)"},"X2C4Y",{"$f":"VLOOKUP(R6958,'[1]CCG & RG names'!A:B,2,0)","v":"NHS KIRKLEES CCG"},"V002947","Mr & Mrs Odai, Dental Practice, 12 Market Street, Heckmondwike, WF16 0JU","WF16 0JU","WF16"]
[null,null,null,null,null,null,null,null,null,null,null,null,null,null,null,"QWO",{"$f":"VLOOKUP(P6959,'[1]CCG & RG names'!D:E,2,0)","v":"West Yorkshire and Harrogate Health & Care Partnership (STP)"},"X2C4Y",{"$f":"VLOOKUP(R6959,'[1]CCG & RG names'!A:B,2,0)","v":"NHS KIRKLEES CCG"},"V002949","Eclipse Dental Care, Branch Road Dental Surgery, 27 Branch Road, Batley, WF17 5SB","WF17 5SB","WF17"]
[null,null,null,null,null,null,null,null,null,null,null,null,null,null,null,"QWO",{"$f":"VLOOKUP(P6960,'[1]CCG & RG names'!D:E,2,0)","v":"West Yorkshire and Harrogate Health & Care Partnership (STP)"},"X2C4Y",{"$f":"VLOOKUP(R6960,'[1]CCG & RG names'!A:B,2,0)","v":"NHS KIRKLEES CCG"},"V003190","Dental Surgery, 613 Manchester Road, Linthwaite, HUDDERSFIELD, HD7 5QX","HD7 5QX","HD7 "]
[null,null,null,null,null,null,null,null,null,null,null,null,null,null,null,"QWO",{"$f":"VLOOKUP(P6961,'[1]CCG & RG names'!D:E,2,0)","v":"West Yorkshire and Harrogate Health & Care Partnership (STP)"},"X2C4Y",{"$f":"VLOOKUP(R6961,'[1]CCG & RG names'!A:B,2,0)","v":"NHS KIRKLEES CCG"},"V003191","The Dental Practice, 4 Huddersfield Road, Skelmanthorpe, HUDDERSFIELD, West Yorkshire, HD8 9AE","HD8 9AE","HD8 "]
[null,null,null,null,null,null,null,null,null,null,null,null,null,null,null,"QWO",{"$f":"VLOOKUP(P6962,'[1]CCG & RG names'!D:E,2,0)","v":"West Yorkshire and Harrogate Health & Care Partnership (STP)"},"X2C4Y",{"$f":"VLOOKUP(R6962,'[1]CCG & RG names'!A:B,2,0)","v":"NHS KIRKLEES CCG"},"V003192","Osborne And Oboyle, 147 Wakefield Road, Scissett, HUDDERSFIELD, West Yorkshire, HD8 9HR","HD8 9HR","HD8 "]
[null,null,null,null,null,null,null,null,null,null,null,null,null,null,null,"QWO",{"$f":"VLOOKUP(P6963,'[1]CCG & RG names'!D:E,2,0)","v":"West Yorkshire and Harrogate Health & Care Partnership (STP)"},"X2C4Y",{"$f":"VLOOKUP(R6963,'[1]CCG & RG names'!A:B,2,0)","v":"NHS KIRKLEES CCG"},"V003193","Dental Surgery, 21 Marsh Lane, Shepley, HUDDERSFIELD, HD8 8AQ","HD8 8AQ","HD8 "]
[null,null,null,null,null,null,null,null,null,null,null,null,null,null,null,"QWO",{"$f":"VLOOKUP(P6964,'[1]CCG & RG names'!D:E,2,0)","v":"West Yorkshire and Harrogate Health & Care Partnership (STP)"},"X2C4Y",{"$f":"VLOOKUP(R6964,'[1]CCG & RG names'!A:B,2,0)","v":"NHS KIRKLEES CCG"},"V003194","Kirkburton Dental Care, 125 - 127 North Road, Kirkburton, HUDDERSFIELD, West Yorkshire, HD8 0RN","HD8 0RN","HD8 "]
[null,null,null,null,null,null,null,null,null,null,null,null,null,null,null,"QWO",{"$f":"VLOOKUP(P6965,'[1]CCG & RG names'!D:E,2,0)","v":"West Yorkshire and Harrogate Health & Care Partnership (STP)"},"X2C4Y",{"$f":"VLOOKUP(R6965,'[1]CCG & RG names'!A:B,2,0)","v":"NHS KIRKLEES CCG"},"V003195","Dental Surgery, 30 Highgate Lane, Lepton, HUDDERSFIELD, West Yorkshire, HD8 0HB","HD8 0HB","HD8 "]
[null,null,null,null,null,null,null,null,null,null,null,null,null,null,null,"QWO",{"$f":"VLOOKUP(P6966,'[1]CCG & RG names'!D:E,2,0)","v":"West Yorkshire and Harrogate Health & Care Partnership (STP)"},"X2C4Y",{"$f":"VLOOKUP(R6966,'[1]CCG & RG names'!A:B,2,0)","v":"NHS KIRKLEES CCG"},"V003200","Honley Dental Practice, 12 Southgate, Honley, HOLMFIRTH, West Yorkshire, HD9 6NT","HD9 6NT","HD9 "]
[null,null,null,null,null,null,null,null,null,null,null,null,null,null,null,"QWO",{"$f":"VLOOKUP(P6967,'[1]CCG & RG names'!D:E,2,0)","v":"West Yorkshire and Harrogate Health & Care Partnership (STP)"},"X2C4Y",{"$f":"VLOOKUP(R6967,'[1]CCG & RG names'!A:B,2,0)","v":"NHS KIRKLEES CCG"},"V003278","Fartown Dental Practice, 306 Bradford Road, HUDDERSFIELD, West Yorkshire, HD1 6LQ","HD1 6LQ","HD1 "]
[null,null,null,null,null,null,null,null,null,null,null,null,null,null,null,"QWO",{"$f":"VLOOKUP(P6968,'[1]CCG & RG names'!D:E,2,0)","v":"West Yorkshire and Harrogate Health & Care Partnership (STP)"},"X2C4Y",{"$f":"VLOOKUP(R6968,'[1]CCG & RG names'!A:B,2,0)","v":"NHS KIRKLEES CCG"},"V003279","Dental Surgery, 60 Bradford Road, HUDDERSFIELD, West Yorkshire, HD1 6JE","HD1 6JE","HD1 "]
[null,null,null,null,null,null,null,null,null,null,null,null,null,null,null,"QWO",{"$f":"VLOOKUP(P6969,'[1]CCG & RG names'!D:E,2,0)","v":"West Yorkshire and Harrogate Health & Care Partnership (STP)"},"X2C4Y",{"$f":"VLOOKUP(R6969,'[1]CCG & RG names'!A:B,2,0)","v":"NHS KIRKLEES CCG"},"V003280","Dental Surgery, Croydon House, 25 Queensgate, HUDDERSFIELD, West Yorkshire, HD1 2RD","HD1 2RD","HD1 "]
[null,null,null,null,null,null,null,null,null,null,null,null,null,null,null,"QWO",{"$f":"VLOOKUP(P6970,'[1]CCG & RG names'!D:E,2,0)","v":"West Yorkshire and Harrogate Health & Care Partnership (STP)"},"X2C4Y",{"$f":"VLOOKUP(R6970,'[1]CCG & RG names'!A:B,2,0)","v":"NHS KIRKLEES CCG"},"V003284","Marsh Dental Care, 116 Westbourne Road, HUDDERSFIELD, West Yorkshire, HD1 4LF","HD1 4LF","HD1 "]
[null,null,null,null,null,null,null,null,null,null,null,null,null,null,null,"QWO",{"$f":"VLOOKUP(P6971,'[1]CCG & RG names'!D:E,2,0)","v":"West Yorkshire and Harrogate Health & Care Partnership (STP)"},"X2C4Y",{"$f":"VLOOKUP(R6971,'[1]CCG & RG names'!A:B,2,0)","v":"NHS KIRKLEES CCG"},"V003291","Parkview Dental Practice, 122 Trinity Street, HUDDERSFIELD, West Yorkshire, HD1 4DT","HD1 4DT","HD1 "]
[null,null,null,null,null,null,null,null,null,null,null,null,null,null,null,"QWO",{"$f":"VLOOKUP(P6972,'[1]CCG & RG names'!D:E,2,0)","v":"West Yorkshire and Harrogate Health & Care Partnership (STP)"},"X2C4Y",{"$f":"VLOOKUP(R6972,'[1]CCG & RG names'!A:B,2,0)","v":"NHS KIRKLEES CCG"},"V003300","215-219 Lockwood Road, Lockwood, HUDDERSFIELD, West Yorkshire, HD1 3TG","HD1 3TG","HD1 "]
[null,null,null,null,null,null,null,null,null,null,null,null,null,null,null,"QWO",{"$f":"VLOOKUP(P6973,'[1]CCG & RG names'!D:E,2,0)","v":"West Yorkshire and Harrogate Health & Care Partnership (STP)"},"X2C4Y",{"$f":"VLOOKUP(R6973,'[1]CCG & RG names'!A:B,2,0)","v":"NHS KIRKLEES CCG"},"V003303","Dental Surgery, 73 Market Street, Milnsbridge, HUDDERSFIELD, West Yorkshire, HD3 4HZ","HD3 4HZ","HD3 "]
[null,null,null,null,null,null,null,null,null,null,null,null,null,null,null,"QWO",{"$f":"VLOOKUP(P6974,'[1]CCG & RG names'!D:E,2,0)","v":"West Yorkshire and Harrogate Health & Care Partnership (STP)"},"X2C4Y",{"$f":"VLOOKUP(R6974,'[1]CCG & RG names'!A:B,2,0)","v":"NHS KIRKLEES CCG"},"V003304","Pennine Dental, Unit 7, 144 Moor Hill Road, Salindine Nook, Huddersfield, HD3 3XA","HD3 3XA","HD3 "]
[null,null,null,null,null,null,null,null,null,null,null,null,null,null,null,"QWO",{"$f":"VLOOKUP(P6975,'[1]CCG & RG names'!D:E,2,0)","v":"West Yorkshire and Harrogate Health & Care Partnership (STP)"},"X2C4Y",{"$f":"VLOOKUP(R6975,'[1]CCG & RG names'!A:B,2,0)","v":"NHS KIRKLEES CCG"},"V003305","Dental Surgery, 99 East Street, HUDDERSFIELD, West Yorkshire, HD3 3NF","HD3 3NF","HD3 "]
[null,null,null,null,null,null,null,null,null,null,null,null,null,null,null,"QWO",{"$f":"VLOOKUP(P6976,'[1]CCG & RG names'!D:E,2,0)","v":"West Yorkshire and Harrogate Health & Care Partnership (STP)"},"X2C4Y",{"$f":"VLOOKUP(R6976,'[1]CCG & RG names'!A:B,2,0)","v":"NHS KIRKLEES CCG"},"V003308","Crosland Moor Dental Clinic, 122 Blackmoorfoot Road, HUDDERSFIELD, West Yorkshire, HD4 5RL","HD4 5RL","HD4 "]
[null,null,null,null,null,null,null,null,null,null,null,null,null,null,null,"QWO",{"$f":"VLOOKUP(P6977,'[1]CCG & RG names'!D:E,2,0)","v":"West Yorkshire and Harrogate Health & Care Partnership (STP)"},"X2C4Y",{"$f":"VLOOKUP(R6977,'[1]CCG & RG names'!A:B,2,0)","v":"NHS KIRKLEES CCG"},"V003309","Newsome Dental Practice, 9 Church Lane, Newsome, HUDDERSFIELD, West Yorkshire, HD4 6JE","HD4 6JE","HD4 "]
[null,null,null,null,null,null,null,null,null,null,null,null,null,null,null,"QWO",{"$f":"VLOOKUP(P6978,'[1]CCG & RG names'!D:E,2,0)","v":"West Yorkshire and Harrogate Health & Care Partnership (STP)"},"X2C4Y",{"$f":"VLOOKUP(R6978,'[1]CCG & RG names'!A:B,2,0)","v":"NHS KIRKLEES CCG"},"V003311","Almondbury Dental Practice, 5 Benomley Road, HUDDERSFIELD, West Yorkshire, HD5 8LR","HD5 8LR","HD5 "]
[null,null,null,null,null,null,null,null,null,null,null,null,null,null,null,"QWO",{"$f":"VLOOKUP(P6979,'[1]CCG & RG names'!D:E,2,0)","v":"West Yorkshire and Harrogate Health & Care Partnership (STP)"},"X2C4Y",{"$f":"VLOOKUP(R6979,'[1]CCG & RG names'!A:B,2,0)","v":"NHS KIRKLEES CCG"},"V003312","Dental Surgery, 13 Bankfield Lane, HUDDERSFIELD, West Yorkshire, HD5 0JE","HD5 0JE",{"$f":"IF(MID(V6979,3,1) =\" \",LEFT(V6979,3),LEFT(V6979,4))","v":"HD5 "}]
[null,null,null,null,null,null,null,null,null,null,null,null,null,null,null,"QWO",{"$f":"VLOOKUP(P6980,'[1]CCG & RG names'!D:E,2,0)","v":"West Yorkshire and Harrogate Health & Care Partnership (STP)"},"X2C4Y",{"$f":"VLOOKUP(R6980,'[1]CCG & RG names'!A:B,2,0)","v":"NHS KIRKLEES CCG"},"V003313","Grayes Dental Care, 626 Wakefield Road, HUDDERSFIELD, West Yorkshire, HD5 8PZ","HD5 8PZ","HD5 "]
[null,null,null,null,null,null,null,null,null,null,null,null,null,null,null,"QWO",{"$f":"VLOOKUP(P6981,'[1]CCG & RG names'!D:E,2,0)","v":"West Yorkshire and Harrogate Health & Care Partnership (STP)"},"X2C4Y",{"$f":"VLOOKUP(R6981,'[1]CCG & RG names'!A:B,2,0)","v":"NHS KIRKLEES CCG"},"V003314","Dental Surgery, 17 Broad Lane, HUDDERSFIELD, West Yorkshire, HD5 9BU","HD5 9BU","HD5 "]
[null,null,null,null,null,null,null,null,null,null,null,null,null,null,null,"QWO",{"$f":"VLOOKUP(P6982,'[1]CCG & RG names'!D:E,2,0)","v":"West Yorkshire and Harrogate Health & Care Partnership (STP)"},"X2C4Y",{"$f":"VLOOKUP(R6982,'[1]CCG & RG names'!A:B,2,0)","v":"NHS KIRKLEES CCG"},"V003315","Dental Surgery, 409 Wakefield Road, HUDDERSFIELD, West Yorkshire, HD5 8DB","HD5 8DB","HD5 "]
[null,null,null,null,null,null,null,null,null,null,null,null,null,null,null,"QWO",{"$f":"VLOOKUP(P6983,'[1]CCG & RG names'!D:E,2,0)","v":"West Yorkshire and Harrogate Health & Care Partnership (STP)"},"X2C4Y",{"$f":"VLOOKUP(R6983,'[1]CCG & RG names'!A:B,2,0)","v":"NHS KIRKLEES CCG"},"V003349","Dental Surgery, 80 New North Road, Huddersfield, HD1 5NE","HD1 5NE","HD1 "]
[null,null,null,null,null,null,null,null,null,null,null,null,null,null,null,"QWO",{"$f":"VLOOKUP(P6984,'[1]CCG & RG names'!D:E,2,0)","v":"West Yorkshire and Harrogate Health & Care Partnership (STP)"},"X2C4Y",{"$f":"VLOOKUP(R6984,'[1]CCG & RG names'!A:B,2,0)","v":"NHS KIRKLEES CCG"},"V011259","Dewsbury Dental Centre, 15 Halifax Road,, DEWSBURY, West Yorkshire, WF13 2JH","WF13 2JH","WF13"]
[null,null,null,null,null,null,null,null,null,null,null,null,null,null,null,"QWO",{"$f":"VLOOKUP(P6985,'[1]CCG & RG names'!D:E,2,0)","v":"West Yorkshire and Harrogate Health & Care Partnership (STP)"},"X2C4Y",{"$f":"VLOOKUP(R6985,'[1]CCG & RG names'!A:B,2,0)","v":"NHS KIRKLEES CCG"},"V011619","Britannia Buildings, St Georges Square, Huddersfield, West Yorkshire, HD1 1LG","HD1 1LG","HD1 "]
[null,null,null,null,null,null,null,null,null,null,null,null,null,null,null,"QWO",{"$f":"VLOOKUP(P6986,'[1]CCG & RG names'!D:E,2,0)","v":"West Yorkshire and Harrogate Health & Care Partnership (STP)"},"X2C4Y",{"$f":"VLOOKUP(R6986,'[1]CCG & RG names'!A:B,2,0)","v":"NHS KIRKLEES CCG"},"V012131","Greenhead Dental Practice Ltd, 29, Greenhead Road, Huddersfield, HD1 4EN","HD1 4EN","HD1 "]
[null,null,null,null,null,null,null,null,null,null,null,null,null,null,null,"QWO",{"$f":"VLOOKUP(P6987,'[1]CCG & RG names'!D:E,2,0)","v":"West Yorkshire and Harrogate Health & Care Partnership (STP)"},"X2C4Y",{"$f":"VLOOKUP(R6987,'[1]CCG & RG names'!A:B,2,0)","v":"NHS KIRKLEES CCG"},"V012315","Saltaire Orthodontics, 84 New North Road, HUDDERSFIELD, West Yorkshire, HD1 5NE","HD1 5NE","HD1 "]
[null,null,null,null,null,null,null,null,null,null,null,null,null,null,null,"QWO",{"$f":"VLOOKUP(P6988,'[1]CCG & RG names'!D:E,2,0)","v":"West Yorkshire and Harrogate Health & Care Partnership (STP)"},"X2C4Y",{"$f":"VLOOKUP(R6988,'[1]CCG & RG names'!A:B,2,0)","v":"NHS KIRKLEES CCG"},"V012428","Holmfirth Dental Surgery, Oaklands, Huddersfield Road, Holmfirth, Huddersfield, HD9 3TP","HD9 3TP","HD9 "]
[null,null,null,null,null,null,null,null,null,null,null,null,null,null,null,"QWO",{"$f":"VLOOKUP(P6989,'[1]CCG & RG names'!D:E,2,0)","v":"West Yorkshire and Harrogate Health & Care Partnership (STP)"},"X2C4Y",{"$f":"VLOOKUP(R6989,'[1]CCG & RG names'!A:B,2,0)","v":"NHS KIRKLEES CCG"},"V017614","13 Station Street, Holmfirth, HD9 5NX","HD9 5NX","HD9 "]
[null,null,null,null,null,null,null,null,null,null,null,null,null,null,null,"QWO",{"$f":"VLOOKUP(P6990,'[1]CCG & RG names'!D:E,2,0)","v":"West Yorkshire and Harrogate Health & Care Partnership (STP)"},"X2C4Y",{"$f":"VLOOKUP(R6990,'[1]CCG & RG names'!A:B,2,0)","v":"NHS KIRKLEES CCG"},"V021985","VICTORIA COURT, 91 HUDDERSFIELD ROAD, HOLMFIRTH, HD9 3JA","HD9 3JA","HD9 "]
[null,null,null,null,null,null,null,null,null,null,null,null,null,null,null,"QWO",{"$f":"VLOOKUP(P6991,'[1]CCG & RG names'!D:E,2,0)","v":"West Yorkshire and Harrogate Health & Care Partnership (STP)"},"X2C4Y",{"$f":"VLOOKUP(R6991,'[1]CCG & RG names'!A:B,2,0)","v":"NHS KIRKLEES CCG"},"V032182","CLECKHEATON HEALTH CENTRE, GREENSIDE, CLECKHEATON, WEST YORKSHIRE, BD19 5AP","BD19 5AP","BD19"]
[null,null,null,null,null,null,null,null,null,null,null,null,null,null,null,"QWO",{"$f":"VLOOKUP(P6992,'[1]CCG & RG names'!D:E,2,0)","v":"West Yorkshire and Harrogate Health & Care Partnership (STP)"},"X2C4Y",{"$f":"VLOOKUP(R6992,'[1]CCG & RG names'!A:B,2,0)","v":"NHS KIRKLEES CCG"},"V055676","Night Dental Limited, 23 New North Parade, Huddersfield, HD1 5JU","HD1 5JU","HD1 "]
[null,null,null,null,null,null,null,null,null,null,null,null,null,null,null,"QWO",{"$f":"VLOOKUP(P6993,'[1]CCG & RG names'!D:E,2,0)","v":"West Yorkshire and Harrogate Health & Care Partnership (STP)"},"X2C4Y",{"$f":"VLOOKUP(R6993,'[1]CCG & RG names'!A:B,2,0)","v":"NHS KIRKLEES CCG"},"V084440","Birkby Dental Care, 2 Grimscar Avenue, Birkby, Huddersfield, HD2 2TW","HD2 2TW","HD2 "]
[null,null,null,null,null,null,null,null,null,null,null,null,null,null,null,"QWO",{"$f":"VLOOKUP(P6994,'[1]CCG & RG names'!D:E,2,0)","v":"West Yorkshire and Harrogate Health & Care Partnership (STP)"},"X2C4Y",{"$f":"VLOOKUP(R6994,'[1]CCG & RG names'!A:B,2,0)","v":"NHS KIRKLEES CCG"},"V180318","215 BRADFORD ROAD, DEWSBURY, West Yorkshire, WF13 2HD","WF13 2HD","WF13"]